Workbook

Sheet pozyczki_3Q2023
A1: Związek Polskiego Leasingu
A3: Wartość środków _ pożyczki (netto w tys. PLN ) | C3: 01.01.2023-30.09.2023
A6: Lp. | B6: Spółka | C6: POJAZDY | D6: Osobowe | E6: osobowe - zeroemisyjne | F6: osobowe - hybryda plug-in | G6: Cięzarowe: | H6: o masie do 3,5 tony | I6: o masie do 3,5 tony - zeroemisyjne | J6: o masie do 3,5 tony - hybryda plug-in | K6: o masie powyzej 3,5 tony | L6: o masie powyżej 3,5 tony - zeroemisyjne | M6: o masie powyżej 3,5 tony - hybryda plug-in | N6: ciagniki siodlowe | O6: ciągniki siodłowe - zeroemisyjne | P6: ciągniki siodłowe - hybryda plug-in | Q6: naczepy / przyczepy | R6: autobusy | S6: autobusy - zeroemisyjne | T6: autobusy - hybryda plug-in | U6: inne | V6: inne - zeroemisyjne | W6: inne - hybryda plug-in | X6: MiU | Y6: Sprzęt Budowlany | Z6: Maszyny Rolnicze | AA6: Maszyny Poligraf. | AB6: maszyny do produkcji tworzyw sztucznych | AC6: maszyny i urządzenia do obróbki metali | AD6: maszyny dla przemysłu spożywczego | AE6: Sprzęt Medyczny | AF6: Sprzęt Gastronom. | AG6: Wózki Widłowe | AH6: fotowoltaika | AI6: wiatraki i turbiny wiatrowe | AJ6: stacje ładowania pojazdów elektrycznych (na użytek własny i komercyjny) | AK6: inne MiU | AL6: IT | AM6: Sprzęt | AN6: Oprogram. | AO6: inne IT | AP6: POZOSTAŁE ŚRODKI TRANSPORTU | AQ6: Powietrzne | AR6: Wodne | AS6: Kolejowe | AT6: Inne ruchomości | AU6: RUCHOMOŚCI | AV6: Nieruchomości | AW6: budynki przemysłowe | AX6: obiekty handlowe i usługowe | AY6: obiekty biurowe | AZ6: hotele i obiekty rekreacyjne | BA6: inne | BB6: OGÓŁEM
A7: 1 | B7: Alior Leasing Sp. z o. o. | C7: 188812.5 | D7: 101157.09 | G7: 19772.729 | H7: 13876.771 | K7: 5895.957 | N7: 40606.098 | Q7: 21711.014 | R7: 924.65576 | U7: 4640.9203 | X7: 42159.644 | Y7: 5405.3748 | Z7: 12786.65 | AA7: 429.375 | AB7: 1192.49 | AC7: 1756.3572 | AD7: 291.83407 | AE7: 15930.397 | AG7: 269.49832 | AH7: 525.21159 | AK7: 3572.4565 | AL7: 4563.2961 | AM7: 4563.2961 | AP7: 0 | AU7: 235535.44 | AV7: 0 | BB7: 235535.44
A8: 2 | B8: BNP Paribas Lease Group Sp. z o.o. | C8: 103128.89 | D8: 10971.446 | E8: 349.50544 | F8: 0 | G8: 53643.823 | H8: 30797.288 | I8: 0 | J8: 0 | K8: 22846.535 | L8: 0 | M8: 0 | N8: 21277.741 | O8: 0 | P8: 0 | Q8: 17196.282 | R8: 0 | S8: 0 | T8: 0 | U8: 39.5978 | V8: 0 | W8: 0 | X8: 1115780.7 | Y8: 27903.386 | Z8: 1002008.9 | AA8: 23.502 | AB8: 0 | AC8: 4265.0418 | AD8: 1474.9652 | AE8: 26172.632 | AF8: 0 | AG8: 1470.8125 | AH8: 8533.493 | AI8: 0 | AJ8: 0 | AK8: 43927.946 | AL8: 15221.412 | AM8: 578.39233 | AN8: 14208.602 | AO8: 434.4181 | AP8: 0 | AQ8: 0 | AR8: 0 | AS8: 0 | AT8: 0 | AU8: 1234131 | AV8: 0 | AW8: 0 | AX8: 0 | AY8: 0 | AZ8: 0 | BA8: 0 | BB8: 1234131
A9: 3 | B9: BOŚ Leasing - EKO Profit S.A. | C9: 66.31999 | G9: 0 | U9: 66.31999 | X9: 2816.6953 | Y9: 924.14377 | Z9: 1000.7228 | AE9: 149.99256 | AH9: 624.85109 | AK9: 116.985 | AL9: 0 | AP9: 0 | AU9: 2883.0152 | AV9: 0 | BB9: 2883.0152
A10: 4 | B10: BPS Leasing Spółka Akcyjna (BPS Leasing S.A.) | C10: 0 | G10: 0 | X10: 0 | AL10: 0 | AP10: 0 | AU10: 0 | AV10: 0 | BB10: 0
A11: 5 | B11: Caterpillar Financial Services Poland Sp. z o.o. | C11: 0 | G11: 0 | X11: 41154.881 | Y11: 41154.881 | AL11: 0 | AP11: 0 | AU11: 41154.881 | AV11: 0 | BB11: 41154.881
A12: 6 | B12: De Lage Landen Leasing Polska S.A. | C12: 7194 | D12: 615 | G12: 0 | N12: 544 | Q12: 6035 | X12: 501556 | Y12: 5194 | Z12: 471550 | AE12: 16804 | AH12: 2769 | AK12: 5239 | AL12: 15239 | AM12: 5206 | AN12: 10033 | AP12: 0 | AU12: 523989 | AV12: 0 | BB12: 523989
A13: 7 | B13: Deutsche Leasing Polska S.A. | C13: 75034 | D13: 356 | G13: 326 | H13: 326 | N13: 12426 | Q13: 61926 | X13: 56341 | Y13: 1330 | Z13: 49273 | AA13: 0 | AB13: 2212 | AC13: 840 | AD13: 0 | AE13: 0 | AF13: 0 | AG13: 0 | AK13: 2686 | AL13: 0 | AP13: 0 | AU13: 131375 | AV13: 0 | BB13: 131375
A14: 8 | B14: Europejski Fundusz Leasingowy S.A. | C14: 89899.43 | D14: 25800.173 | E14: 1005.4228 | F14: 0 | G14: 12079.898 | H14: 10808.045 | I14: 269.5935 | J14: 0 | K14: 1271.8529 | N14: 28527.833 | Q14: 23046.526 | R14: 445 | X14: 581085.98 | Y14: 19847.039 | Z14: 504386.56 | AA14: 646.91594 | AB14: 940.23316 | AC14: 6318.2034 | AD14: 11741.229 | AE14: 15706.212 | AF14: 957.84478 | AG14: 2331.2141 | AH14: 4740.2852 | AK14: 13470.239 | AL14: 1965.4475 | AM14: 435.17374 | AN14: 1339.318 | AO14: 190.95573 | AP14: 5767.5236 | AQ14: 392.17986 | AR14: 5375.3438 | AU14: 678718.38 | AV14: 0 | BB14: 678718.38
A15: 9 | B15: Grupa VB Leasing | C15: 149949.95 | D15: 39814.758 | E15: 723.80532 | F15: 4276.1673 | G15: 23727.15 | H15: 7489.1413 | J15: 429.93182 | K15: 16238.009 | M15: 261.77792 | N15: 48518.713 | P15: 3382.9378 | Q15: 32724.857 | R15: 2109.1946 | U15: 3055.2754 | X15: 174026.85 | Y15: 9533.7435 | Z15: 131014.35 | AA15: 439.34234 | AB15: 7.62331 | AC15: 5053.0037 | AD15: 1417.4186 | AE15: 16802.397 | AF15: 542.74709 | AG15: 351.41572 | AH15: 1536.2534 | AK15: 7328.5478 | AL15: 88.76335 | AM15: 88.76335 | AN15: 0 | AO15: 0 | AP15: 8037.6618 | AQ15: 21.945 | AR15: 8015.7168 | AS15: 0 | AT15: 3525.3243 | AU15: 335628.54 | AV15: 0 | BB15: 335628.54
A16: 10 | B16: Impuls-Leasing Polska Sp. z o. o. | C16: 101081.23 | D16: 35162.92 | E16: 2476.64 | F16: 235.8 | G16: 9614.13 | H16: 6651.34 | I16: 124.72 | K16: 2962.79 | N16: 35348.52 | Q16: 19253.23 | R16: 290 | U16: 1412.43 | X16: 16544.91 | Y16: 5131.24 | Z16: 1305.97 | AA16: 979.28 | AC16: 1324.81 | AE16: 2172.42 | AF16: 495.69 | AG16: 504.88 | AH16: 59.04 | AK16: 4571.58 | AL16: 0 | AP16: 0 | AU16: 117626.14 | AV16: 0 | BB16: 117626.14
A17: 11 | B17: ING Lease (Polska) Sp. z o.o. | C17: 11140 | D17: 11140 | G17: 0 | H17: 0 | K17: 0 | N17: 0 | Q17: 0 | R17: 0 | U17: 0 | X17: 77829 | Y17: 2053 | Z17: 3015 | AA17: 30098 | AB17: 4666 | AC17: 448 | AD17: 0 | AE17: 11530 | AF17: 0 | AG17: 0 | AH17: 0 | AK17: 26019 | AL17: 0 | AM17: 0 | AN17: 0 | AO17: 0 | AP17: 0 | AQ17: 0 | AR17: 0 | AS17: 0 | AT17: 14884 | AU17: 103853 | AV17: 0 | AW17: 0 | AX17: 0 | AY17: 0 | AZ17: 0 | BA17: 0 | BB17: 103853
A18: 12 | B18: Leasing Polski Sp. z o. o. | C18: 0 | G18: 0 | X18: 0 | AL18: 0 | AP18: 0 | AU18: 0 | AV18: 0 | BB18: 0
A19: 13 | B19: Mercedes-Benz Leasing Polska Sp. z o.o. | C19: 436647.95 | D19: 206246.26 | E19: 5480.6786 | F19: 8815.0251 | G19: 60599.11 | H19: 37157.106 | I19: 265.2495 | K19: 23442.004 | N19: 159223.91 | Q19: 5078.4862 | R19: 5500.1909 | X19: 0 | AL19: 0 | AP19: 0 | AU19: 436647.95 | AV19: 0 | BB19: 436647.95
A20: 14 | B20: Millennium Leasing Sp. z o.o. | C20: 0 | G20: 0 | X20: 0 | AL20: 0 | AP20: 0 | AU20: 0 | AV20: 0 | BB20: 0
A21: 15 | B21: mLeasing Sp. z o.o. | C21: 84282.111 | G21: 13067.121 | K21: 13067.121 | N21: 53939.6 | Q21: 9317.485 | R21: 2452.5752 | U21: 5505.3299 | X21: 313143.62 | Y21: 6232.8685 | Z21: 5227.1911 | AA21: 3474.6305 | AB21: 37542.002 | AC21: 18734.427 | AD21: 14924.862 | AE21: 118891.66 | AF21: 115.75944 | AG21: 1923.1945 | AK21: 106077.03 | AL21: 1555.4807 | AM21: 1555.4807 | AP21: 18779.361 | AQ21: 514.42082 | AR21: 18264.94 | AT21: 46814.215 | AU21: 464574.79 | AV21: 0 | BB21: 464574.79
A22: 16 | B22: PEAC (Poland) Sp. z o.o. | C22: 18714 | D22: 6643 | F22: 88 | G22: 2116 | H22: 2116 | N22: 704 | Q22: 7971 | U22: 1280 | X22: 22998 | Y22: 1148 | Z22: 11895 | AB22: 145 | AC22: 281 | AE22: 109 | AG22: 246 | AK22: 9174 | AL22: 0 | AP22: 0 | AU22: 41712 | AV22: 0 | BB22: 41712
A23: 17 | B23: PEKAO Leasing Sp. z o.o. | C23: 206990.49 | D23: 60696.339 | E23: 263.76848 | F23: 0 | G23: 8806.3731 | H23: 5677.0005 | I23: 0 | J23: 0 | K23: 3129.3726 | L23: 0 | M23: 0 | N23: 104278.04 | O23: 0 | P23: 0 | Q23: 21849.335 | R23: 6000 | S23: 0 | T23: 0 | U23: 5360.4034 | V23: 0 | W23: 0 | X23: 382004.08 | Y23: 31492.876 | Z23: 110827.56 | AA23: 14546.799 | AB23: 25268.488 | AC23: 69033.361 | AD23: 21992.29 | AE23: 9898.0958 | AF23: 0 | AG23: 1866.8395 | AH23: 4446.0522 | AI23: 0 | AJ23: 0 | AK23: 92631.722 | AL23: 8045.2544 | AM23: 7970.0901 | AN23: 75.16432 | AO23: 0 | AP23: 113052.04 | AQ23: 2066.9492 | AR23: 29323.58 | AS23: 81661.512 | AT23: 1403.1017 | AU23: 711494.97 | AV23: 3049.06 | AW23: 221.154 | AX23: 2827.906 | AY23: 0 | AZ23: 0 | BA23: 0 | BB23: 714544.03
A24: 18 | B24: PKO Leasing S.A. | C24: 532593.32 | D24: 246479.52 | E24: 1669.4559 | F24: 1734.4 | G24: 46904.86 | H24: 29027.831 | I24: 325.4211 | K24: 17877.029 | N24: 142771.75 | Q24: 66715.783 | R24: 28257.752 | U24: 1463.656 | X24: 652489.02 | Y24: 20907.715 | Z24: 342527.03 | AA24: 7575.192 | AB24: 20724.116 | AC24: 34014.718 | AD24: 15917.966 | AE24: 57668.373 | AF24: 56.45651 | AG24: 3262.2663 | AH24: 59858.979 | AK24: 89976.211 | AL24: 717.32167 | AM24: 32.114133 | AN24: 545.27878 | AO24: 139.92876 | AP24: 28644.436 | AQ24: 28400 | AR24: 244.43601 | AU24: 1214444.1 | AV24: 0 | BB24: 1214444.1
A25: 19 | B25: Santander Consumer Multirent Sp.z o.o. | C25: 370011.27 | D25: 333700.92 | G25: 35239.579 | H25: 35239.579 | U25: 1070.778 | X25: 0 | AL25: 0 | AP25: 0 | AU25: 370011.27 | AV25: 0 | BB25: 370011.27
A26: 20 | B26: Santander Leasing S.A. | C26: 411063.23 | D26: 243089.38 | E26: 4352.6212 | F26: 5984.3475 | G26: 41649.357 | H26: 20789.787 | I26: 0 | J26: 0 | K26: 20859.571 | L26: 0 | M26: 0 | N26: 79649.733 | O26: 0 | P26: 0 | Q26: 39947.411 | R26: 2940.8606 | S26: 0 | T26: 0 | U26: 3786.4868 | V26: 3 | W26: 0 | X26: 1194488.1 | Y26: 16022.482 | Z26: 760624.67 | AA26: 31380.115 | AB26: 40657.057 | AC26: 38471.95 | AD26: 341.2322 | AE26: 88707.615 | AF26: 367.3258 | AG26: 1781.7574 | AH26: 77399.956 | AI26: 0 | AJ26: 0 | AK26: 138733.9 | AL26: 29759.274 | AM26: 29759.274 | AN26: 0 | AO26: 0 | AP26: 8628.5777 | AQ26: 6877.8487 | AR26: 1750.729 | AS26: 0 | AT26: 848.3 | AU26: 1644787.4 | AV26: 14996.987 | AW26: 0 | AX26: 0 | AY26: 0 | AZ26: 0 | BA26: 14996.987 | BB26: 1659784.4
A27: 21 | B27: Scania Finance Polska Sp. z o.o. | C27: 48970 | D27: 260 | G27: 0 | N27: 47410 | Q27: 1300 | X27: 0 | AL27: 0 | AP27: 0 | AU27: 48970 | AV27: 0 | BB27: 48970
A28: 22 | B28: SG Equipment Leasing Polska Sp. z o.o. | C28: 3226.3203 | G28: 0 | N28: 1756.5222 | Q28: 1469.7981 | X28: 72321.614 | Y28: 13354.861 | Z28: 46948.482 | AE28: 132.594 | AG28: 4451.7464 | AH28: 215.68 | AK28: 7218.2504 | AL28: 87575.799 | AM28: 71938.762 | AN28: 15637.037 | AP28: 0 | AU28: 163123.73 | AV28: 0 | BB28: 163123.73
A29: 23 | B29: SGB Leasing Sp. z o.o. | C29: 8612 | D29: 2656 | F29: 288 | G29: 4872 | H29: 4872 | Q29: 790 | U29: 294 | X29: 40541 | Y29: 2897 | Z29: 21750 | AD29: 432 | AE29: 1751 | AH29: 3562 | AK29: 10149 | AL29: 124 | AM29: 98 | AN29: 26 | AP29: 0 | AU29: 49277 | AV29: 0 | BB29: 49277
A30: 24 | B30: Siemens Finance Sp. z o.o. | C30: 0 | G30: 0 | X30: 0 | AL30: 0 | AP30: 0 | AU30: 0 | AV30: 0 | BB30: 0
A31: 25 | B31: Razem | C31: 2847417 | D31: 1324788.8 | E31: 16321.898 | F31: 21421.74 | G31: 332418.13 | H31: 204827.89 | I31: 984.9841 | J31: 429.93182 | K31: 127590.24 | L31: 0 | M31: 261.77792 | N31: 776982.46 | O31: 0 | P31: 3382.9378 | Q31: 336332.21 | R31: 48920.229 | S31: 0 | T31: 0 | U31: 27975.197 | V31: 3 | W31: 0 | X31: 5287281 | Y31: 210532.61 | Z31: 3476141.1 | AA31: 89593.152 | AB31: 133355.01 | AC31: 180540.87 | AD31: 68533.798 | AE31: 382426.39 | AF31: 2535.8236 | AG31: 18459.625 | AH31: 164270.8 | AI31: 0 | AJ31: 0 | AK31: 560891.87 | AL31: 164855.05 | AM31: 122225.35 | AN31: 41864.4 | AO31: 765.30259 | AP31: 182909.6 | AQ31: 38273.344 | AR31: 62974.746 | AS31: 81661.512 | AT31: 67474.941 | AU31: 8549937.6 | AV31: 18046.047 | AW31: 221.154 | AX31: 2827.906 | AY31: 0 | AZ31: 0 | BA31: 14996.987 | BB31: 8567983.7
A33: Ilość środków _pożyczki/. | C33: 01.01.2023-30.09.2023
A36: Lp. | B36: Spółka | C36: POJAZDY | D36: Osobowe | E36: osobowe - zeroemisyjne | F36: osobowe - hybryda plug-in | G36: Cięzarowe: | H36: o masie do 3,5 tony | I36: o masie do 3,5 tony - zeroemisyjne | J36: o masie do 3,5 tony - hybryda plug-in | K36: o masie powyzej 3,5 tony | L36: o masie powyżej 3,5 tony - zeroemisyjne | M36: o masie powyżej 3,5 tony - hybryda plug-in | N36: ciagniki siodlowe | O36: ciągniki siodłowe - zeroemisyjne | P36: ciągniki siodłowe - hybryda plug-in | Q36: naczepy / przyczepy | R36: autobusy | S36: autobusy - zeroemisyjne | T36: autobusy - hybryda plug-in | U36: inne | V36: inne - zeroemisyjne | W36: inne - hybryda plug-in | X36: MiU | Y36: Sprzęt Budowlany | Z36: Maszyny Rolnicze | AA36: Maszyny Poligraf. | AB36: maszyny do produkcji tworzyw sztucznych | AC36: maszyny i urządzenia do obróbki metali | AD36: maszyny dla przemysłu spożywczego | AE36: Sprzęt Medyczny | AF36: Sprzęt Gastronom. | AG36: Wózki Widłowe | AH36: fotowoltaika | AI36: wiatraki i turbiny wiatrowe | AJ36: stacje ładowania pojazdów elektrycznych (na użytek własny i komercyjny) | AK36: inne MiU | AL36: IT | AM36: Sprzęt | AN36: Oprogram. | AO36: inne IT | AP36: POZOSTAŁE ŚRODKI TRANSPORTU | AQ36: Powietrzne | AR36: Wodne | AS36: Kolejowe | AT36: Inne ruchomości | AU36: RUCHOMOŚCI | AV36: Nieruchomości | AW36: budynki przemysłowe | AX36: obiekty handlowe i usługowe | AY36: obiekty biurowe | AZ36: hotele i obiekty rekreacyjne | BA36: inne | BB36: OGÓŁEM
A37: 1 | B37: Alior Leasing Sp. z o. o. | C37: 1571 | D37: 954 | G37: 221 | H37: 185 | K37: 36 | N37: 158 | Q37: 192 | R37: 6 | U37: 40 | X37: 265 | Y37: 33 | Z37: 76 | AA37: 5 | AB37: 4 | AC37: 17 | AD37: 8 | AE37: 79 | AG37: 3 | AH37: 4 | AK37: 36 | AL37: 1 | AM37: 1 | AP37: 0 | AU37: 1837 | AV37: 0 | BB37: 1837
A38: 2 | B38: BNP Paribas Lease Group Sp. z o.o. | C38: 494 | D38: 114 | E38: 2 | F38: 0 | G38: 226 | H38: 166 | I38: 0 | J38: 0 | K38: 60 | L38: 0 | M38: 0 | N38: 46 | O38: 0 | P38: 0 | Q38: 106 | R38: 0 | S38: 0 | T38: 0 | U38: 2 | V38: 0 | W38: 0 | X38: 3311 | Y38: 77 | Z38: 2600 | AA38: 1 | AB38: 0 | AC38: 2 | AD38: 2 | AE38: 463 | AF38: 0 | AG38: 11 | AH38: 57 | AI38: 0 | AJ38: 0 | AK38: 98 | AL38: 237 | AM38: 3 | AN38: 230 | AO38: 4 | AP38: 0 | AQ38: 0 | AR38: 0 | AS38: 0 | AT38: 0 | AU38: 4042 | AV38: 0 | AW38: 0 | AX38: 0 | AY38: 0 | AZ38: 0 | BA38: 0 | BB38: 4042
A39: 3 | B39: BOŚ Leasing - EKO Profit S.A. | C39: 1 | G39: 0 | U39: 1 | X39: 10 | Y39: 2 | Z39: 3 | AE39: 1 | AH39: 3 | AK39: 1 | AL39: 0 | AP39: 0 | AU39: 11 | AV39: 0 | BB39: 11
A40: 4 | B40: BPS Leasing Spółka Akcyjna (BPS Leasing S.A.) | C40: 0 | G40: 0 | X40: 0 | AL40: 0 | AP40: 0 | AU40: 0 | AV40: 0 | BB40: 0
A41: 5 | B41: Caterpillar Financial Services Poland Sp. z o.o. | C41: 0 | G41: 0 | X41: 96 | Y41: 96 | AL41: 0 | AP41: 0 | AU41: 96 | AV41: 0 | BB41: 96
A42: 6 | B42: De Lage Landen Leasing Polska S.A. | C42: 41 | D42: 3 | G42: 0 | N42: 1 | Q42: 37 | X42: 1457 | Y42: 15 | Z42: 1235 | AE42: 166 | AH42: 24 | AK42: 17 | AL42: 11 | AM42: 4 | AN42: 7 | AP42: 0 | AU42: 1509 | AV42: 0 | BB42: 1509
A43: 7 | B43: Deutsche Leasing Polska S.A. | C43: 389 | D43: 2 | G43: 1 | H43: 1 | N43: 25 | Q43: 361 | X43: 98 | Y43: 2 | Z43: 83 | AA43: 0 | AB43: 6 | AC43: 1 | AD43: 0 | AE43: 0 | AF43: 0 | AG43: 0 | AK43: 6 | AL43: 0 | AP43: 0 | AU43: 487 | AV43: 0 | BB43: 487
A44: 8 | B44: Europejski Fundusz Leasingowy S.A. | C44: 541 | D44: 193 | E44: 4 | F44: 0 | G44: 64 | H44: 57 | I44: 1 | J44: 0 | K44: 7 | N44: 113 | Q44: 170 | R44: 1 | X44: 1502 | Y44: 97 | Z44: 1019 | AA44: 7 | AB44: 4 | AC44: 16 | AD44: 9 | AE44: 155 | AF44: 22 | AG44: 9 | AH44: 41 | AK44: 123 | AL44: 44 | AM44: 12 | AN44: 21 | AO44: 11 | AP44: 43 | AQ44: 2 | AR44: 41 | AU44: 2130 | AV44: 0 | BB44: 2130
A45: 9 | B45: Grupa VB Leasing | C45: 1043 | D45: 380 | E45: 6 | F45: 32 | G45: 152 | H45: 81 | J45: 4 | K45: 71 | M45: 2 | N45: 199 | P45: 12 | Q45: 260 | R45: 9 | U45: 43 | X45: 1062 | Y45: 44 | Z45: 689 | AA45: 3 | AB45: 1 | AC45: 14 | AD45: 13 | AE45: 190 | AF45: 7 | AG45: 7 | AH45: 15 | AK45: 79 | AL45: 4 | AM45: 4 | AN45: 0 | AO45: 0 | AP45: 40 | AQ45: 1 | AR45: 39 | AS45: 0 | AT45: 53 | AU45: 2202 | AV45: 0 | BB45: 2202
A46: 10 | B46: Impuls-Leasing Polska Sp. z o. o. | C46: 384 | D46: 150 | E46: 11 | F46: 1 | G46: 32 | H46: 29 | I46: 1 | K46: 3 | N46: 78 | Q46: 115 | R46: 1 | U46: 8 | X46: 71 | Y46: 8 | Z46: 9 | AA46: 8 | AC46: 1 | AE46: 20 | AF46: 2 | AG46: 2 | AH46: 1 | AK46: 20 | AL46: 0 | AP46: 0 | AU46: 455 | AV46: 0 | BB46: 455
...

Sheet leasing_3Q2023
A1: Związek Polskiego Leasingu
C3: 01.01.20223- 30.09.2023
A4: Wartość środków oddanych w leasing ( netto w tys. PLN)
A6: Lp. | B6: Spółka | C6: POJAZDY | D6: Osobowe | E6: osobowe - zeroemisyjne | F6: osobowe - hybryda plug-in | G6: Cięzarowe: | H6: o masie do 3,5 tony | I6: o masie do 3,5 tony - zeroemisyjne | J6: o masie do 3,5 tony - hybryda plug-in | K6: o masie powyzej 3,5 tony | L6: o masie powyżej 3,5 tony - zeroemisyjne | M6: o masie powyżej 3,5 tony - hybryda plug-in | N6: ciagniki siodlowe | O6: ciągniki siodłowe - zeroemisyjne | P6: ciągniki siodłowe - hybryda plug-in | Q6: naczepy / przyczepy | R6: autobusy | S6: autobusy - zeroemisyjne | T6: autobusy - hybryda plug-in | U6: inne | V6: inne - zeroemisyjne | W6: inne - hybryda plug-in | X6: MiU | Y6: Sprzęt Budowlany | Z6: Maszyny Rolnicze | AA6: Maszyny Poligraf. | AB6: maszyny do produkcji tworzyw sztucznych | AC6: maszyny i urządzenia do obróbki metali | AD6: maszyny dla przemysłu spożywczego | AE6: Sprzęt Medyczny | AF6: Sprzęt Gastronom. | AG6: Wózki Widłowe | AH6: fotowoltaika | AI6: wiatraki i turbiny wiatrowe | AJ6: stacje ładowania pojazdów elektrycznych (na użytek własny i komercyjny) | AK6: inne MiU | AL6: IT | AM6: Sprzęt | AN6: Oprogram. | AO6: inne IT | AP6: POZOSTAŁE ŚRODKI TRANSPORTU | AQ6: Powietrzne | AR6: Wodne | AS6: Kolejowe | AT6: Inne ruchomości | AU6: RUCHOMOŚCI | AV6: Nieruchomości | AW6: budynki przemysłowe | AX6: obiekty handlowe i usługowe | AY6: obiekty biurowe | AZ6: hotele i obiekty rekreacyjne | BA6: inne | BB6: OGÓŁEM
A7: 1 | B7: Alior Leasing Sp. z o. o. | C7: 1691567.2 | D7: 652792.15 | G7: 327593.27 | H7: 184996.5 | K7: 142596.77 | N7: 382568.27 | Q7: 208838.01 | R7: 85823.756 | U7: 33951.729 | X7: 284032.78 | Y7: 108813.11 | Z7: 59162.245 | AA7: 3245.8634 | AB7: 3452.0626 | AC7: 36157.63 | AD7: 4405.6758 | AE7: 9710.202 | AF7: 88.94 | AG7: 6083.1591 | AH7: 2589.5044 | AK7: 50324.392 | AL7: 5814.7117 | AM7: 5814.7117 | AP7: 33860.319 | AS7: 33860.319 | AU7: 2015275 | AV7: 0 | BB7: 2015275
A8: 2 | B8: BNP Paribas Lease Group Sp. z o.o. | C8: 1840814.9 | D8: 1228395.3 | E8: 47043.805 | F8: 0 | G8: 336964.57 | H8: 233303.12 | I8: 4880.5735 | J8: 0 | K8: 103661.45 | L8: 0 | M8: 0 | N8: 188072.98 | O8: 0 | P8: 0 | Q8: 64463.145 | R8: 4062.205 | S8: 0 | T8: 0 | U8: 18856.714 | V8: 217.76432 | W8: 0 | X8: 918663.55 | Y8: 193319.41 | Z8: 150127.69 | AA8: 3342.089 | AB8: 7603.7688 | AC8: 10589.549 | AD8: 26668.236 | AE8: 7916.9111 | AF8: 1494.6152 | AG8: 129636.72 | AH8: 19736.699 | AI8: 0 | AJ8: 694.03628 | AK8: 367533.82 | AL8: 65349.766 | AM8: 36803.142 | AN8: 10435.377 | AO8: 18111.246 | AP8: 40.65041 | AQ8: 0 | AR8: 40.65041 | AS8: 0 | AU8: 2824868.9 | AV8: 152640.18 | AW8: 12211.075 | AX8: 140429.1 | AY8: 0 | AZ8: 0 | BA8: 0 | BB8: 2977509.1
A9: 3 | B9: BOŚ Leasing - EKO Profit S.A. | C9: 33567.025 | D9: 8107.28 | G9: 3779.67 | H9: 1386.3 | K9: 2393.37 | N9: 3687.5195 | Q9: 6628.9096 | R9: 2415.1581 | U9: 8948.4881 | X9: 68567.751 | Y9: 9248.5405 | Z9: 4666.44 | AA9: 883.14358 | AB9: 5137.4591 | AC9: 4135.165 | AD9: 637.99006 | AE9: 1122.8946 | AG9: 1486.3136 | AH9: 8444.2576 | AK9: 32805.547 | AL9: 203.5 | AM9: 203.5 | AP9: 12810.733 | AQ9: 12136.935 | AR9: 673.79753 | AU9: 115149.01 | AV9: 0 | BB9: 115149.01
A10: 4 | B10: BPS Leasing Spółka Akcyjna (BPS Leasing S.A.) | C10: 191410.77 | D10: 48698.01 | E10: 994.49 | F10: 15488.55 | G10: 30473.65 | H10: 7779.45 | K10: 22694.2 | N10: 60476.58 | Q10: 23717.37 | R10: 24809.99 | U10: 3235.17 | X10: 24262.61 | Y10: 10808.96 | Z10: 2534.42 | AA10: 753.17 | AB10: 448.16 | AC10: 703.27 | AD10: 2395.76 | AE10: 645.22 | AG10: 1902.86 | AH10: 891.8 | AK10: 3178.99 | AL10: 110.39 | AM10: 110.39 | AP10: 1908.9 | AQ10: 1310.35 | AR10: 598.55 | AT10: 4431.33 | AU10: 222124 | AV10: 0 | BB10: 222124
A11: 5 | B11: Caterpillar Financial Services Poland Sp. z o.o. | C11: 0 | G11: 0 | X11: 366804.18 | Y11: 366804.18 | AL11: 0 | AP11: 0 | AU11: 366804.18 | AV11: 0 | BB11: 366804.18
A12: 6 | B12: De Lage Landen Leasing Polska S.A. | C12: 4401 | D12: 333 | G12: 0 | N12: 3338 | Q12: 494 | U12: 236 | X12: 40567 | Y12: 4797 | Z12: 18628 | AE12: 1213 | AG12: 7182 | AH12: 680 | AK12: 8067 | AL12: 9696 | AM12: 9696 | AP12: 0 | AU12: 54664 | AV12: 0 | BB12: 54664
A13: 7 | B13: Deutsche Leasing Polska S.A. | C13: 197714 | D13: 1483 | G13: 0 | N13: 43053 | Q13: 152402 | U13: 776 | X13: 524075 | Y13: 5644 | Z13: 8213 | AA13: 3174 | AB13: 10797 | AC13: 69354 | AD13: 14291 | AE13: 9056 | AF13: 0 | AG13: 317407 | AK13: 86139 | AL13: 0 | AP13: 0 | AU13: 721789 | AV13: 0 | BB13: 721789
A14: 8 | B14: Europejski Fundusz Leasingowy S.A. | C14: 4176146.5 | D14: 1694751.4 | E14: 71691.942 | F14: 22718.983 | G14: 1048306.6 | H14: 523632.11 | I14: 45942.195 | K14: 524674.53 | N14: 843517.39 | Q14: 485690.64 | R14: 72823.876 | U14: 31056.497 | V14: 201.86095 | X14: 1608175.7 | Y14: 590333.99 | Z14: 206012.66 | AA14: 27710.153 | AB14: 36575.952 | AC14: 112774.92 | AD14: 22831.858 | AE14: 15898.307 | AF14: 63607.975 | AG14: 44445.763 | AH14: 74213.261 | AI14: 0 | AJ14: 875.53228 | AK14: 412895.31 | AL14: 89260.041 | AM14: 38917.133 | AN14: 13440.296 | AO14: 36902.613 | AP14: 15872.92 | AQ14: 4380.9669 | AR14: 11491.953 | AU14: 5889455.1 | AV14: 0 | BB14: 5889455.1
A15: 9 | B15: Grupa VB Leasing | C15: 813877.75 | D15: 293696.18 | E15: 10477.403 | F15: 50559.075 | G15: 146477.11 | H15: 86743.531 | I15: 401.93089 | J15: 0 | K15: 59733.579 | M15: 4378.9852 | N15: 201432.65 | P15: 17571.656 | Q15: 114983.46 | R15: 24172.591 | T15: 295 | U15: 33115.772 | X15: 209676.71 | Y15: 51082.604 | Z15: 91822.097 | AA15: 3342.4001 | AB15: 3383.994 | AC15: 9551.3185 | AD15: 3781.1112 | AE15: 10196.538 | AF15: 2117.9304 | AG15: 5131.9968 | AH15: 9147.1316 | AK15: 20119.59 | AL15: 2307.3335 | AM15: 970.2551 | AN15: 0 | AO15: 1337.0784 | AP15: 9070.6164 | AQ15: 0 | AR15: 9070.6164 | AS15: 0 | AT15: 15662.581 | AU15: 1050595 | AV15: 0 | BB15: 1050595
A16: 10 | B16: Impuls-Leasing Polska Sp. z o. o. | C16: 656767.23 | D16: 330594.54 | E16: 11562.97 | F16: 4900.2 | G16: 100124.02 | H16: 71959.05 | I16: 484 | K16: 28164.97 | N16: 131623.98 | Q16: 79628.75 | R16: 5863.65 | U16: 8932.29 | V16: 43.21 | X16: 161958.92 | Y16: 44625.04 | Z16: 20514.45 | AA16: 3446.36 | AB16: 8503.7 | AC16: 16582.84 | AE16: 2178.12 | AF16: 6784.71 | AG16: 10153.16 | AH16: 2679.4 | AK16: 46491.14 | AL16: 804.77 | AM16: 804.77 | AP16: 1415.04 | AR16: 1415.04 | AU16: 820945.96 | AV16: 0 | BB16: 820945.96
A17: 11 | B17: ING Lease (Polska) Sp. z o.o. | C17: 2942263 | D17: 1171342 | E17: 59621 | F17: 30396 | G17: 603615 | H17: 329400 | I17: 8415 | J17: 0 | K17: 274215 | L17: 3858 | M17: 0 | N17: 676709 | O17: 0 | P17: 0 | Q17: 355352 | R17: 50614 | S17: 350 | T17: 0 | U17: 84631 | V17: 4965 | W17: 0 | X17: 1479036 | Y17: 204001 | Z17: 27410 | AA17: 49886 | AB17: 126205 | AC17: 371513 | AD17: 111864 | AE17: 25128 | AF17: 38163 | AG17: 108127 | AH17: 34973 | AI17: 0 | AJ17: 724 | AK17: 381042 | AL17: 50283 | AM17: 50283 | AN17: 0 | AO17: 0 | AP17: 265191 | AQ17: 1787 | AR17: 1332 | AS17: 262072 | AT17: 129269 | AU17: 4866042 | AV17: 28897 | AW17: 0 | AX17: 0 | AY17: 28897 | AZ17: 0 | BA17: 0 | BB17: 4894939
A18: 12 | B18: Leasing Polski Sp. z o. o. | C18: 135793.81 | D18: 23324.668 | E18: 446.73252 | F18: 1392.538 | G18: 28086.097 | H18: 14624.799 | K18: 13461.298 | N18: 42994.437 | Q18: 18870.345 | R18: 5394.413 | U18: 17123.856 | X18: 24356.258 | Y18: 16425.758 | Z18: 3483.25 | AC18: 300 | AG18: 487.9 | AK18: 3659.35 | AL18: 0 | AP18: 97.56098 | AR18: 97.56098 | AT18: 180.8 | AU18: 160428.43 | AV18: 835.7 | AX18: 200 | AZ18: 445.7 | BA18: 190 | BB18: 161264.13
A19: 13 | B19: Mercedes-Benz Leasing Polska Sp. z o.o. | C19: 1849532.8 | D19: 1367588.8 | E19: 76895.271 | F19: 99844.213 | G19: 220762.92 | H19: 174998.64 | I19: 7669.7962 | K19: 45764.281 | N19: 221382.87 | Q19: 5361.685 | R19: 30476.728 | U19: 3959.8094 | X19: 0 | AL19: 0 | AP19: 0 | AU19: 1849532.8 | AV19: 0 | BB19: 1849532.8
A20: 14 | B20: Millennium Leasing Sp. z o.o. | C20: 1442297.5 | D20: 603761.14 | E20: 27767.29 | F20: 7703.2074 | G20: 206394.31 | H20: 117952.87 | I20: 1708.2688 | K20: 88441.438 | N20: 368366.93 | O20: 853.73305 | P20: 607.5552 | Q20: 227329.6 | R20: 5165.5224 | S20: 2180 | T20: 1928 | U20: 31280.027 | V20: 26.82927 | X20: 733210.58 | Y20: 137483.3 | Z20: 5688.8859 | AA20: 50905.62 | AB20: 125365.41 | AD20: 68335.043 | AE20: 11118.501 | AG20: 68130.297 | AH20: 85315.67 | AK20: 180867.86 | AL20: 9696.7342 | AM20: 9696.7342 | AP20: 16885.963 | AQ20: 479.57848 | AR20: 8769.3847 | AS20: 7637 | AU20: 2202090.8 | AV20: 64096.182 | AY20: 2151.7 | BA20: 61944.482 | BB20: 2266187
A21: 15 | B21: mLeasing Sp. z o.o. | C21: 3710965 | D21: 2771751.2 | G21: 353010.55 | H21: 214082.51 | K21: 138928.03 | N21: 308153.59 | Q21: 165956.94 | R21: 46793.783 | U21: 65298.904 | X21: 898472.45 | Y21: 137759.86 | Z21: 47780.728 | AA21: 27878.929 | AB21: 63429.111 | AC21: 128113.07 | AD21: 51488.309 | AE21: 11757.819 | AF21: 3703.9651 | AG21: 53905.611 | AK21: 372655.05 | AL21: 26658.339 | AM21: 26653.275 | AN21: 5.0643465 | AP21: 111160.3 | AQ21: 11164.441 | AR21: 73702.556 | AS21: 26293.301 | AT21: 64513.313 | AU21: 4811769.4 | AV21: 157212.45 | AX21: 157212.45 | BB21: 4968981.8
A22: 16 | B22: PEAC (Poland) Sp. z o.o. | C22: 81068 | D22: 15395 | G22: 5698 | H22: 2380 | K22: 3318 | N22: 18004 | Q22: 16202 | R22: 23103 | U22: 2666 | V22: 540 | X22: 97699 | Y22: 6838 | Z22: 19279 | AA22: 3582 | AB22: 21123 | AC22: 2042 | AD22: 733 | AE22: 6574 | AF22: 63 | AG22: 1781 | AH22: 555 | AK22: 35129 | AL22: 2878 | AM22: 2878 | AP22: 320 | AR22: 320 | AU22: 181965 | AV22: 0 | BB22: 181965
A23: 17 | B23: PEKAO Leasing Sp. z o.o. | C23: 2739612.7 | D23: 962955.65 | E23: 35430.336 | F23: 14896.246 | G23: 403018.06 | H23: 153645.04 | I23: 2668.3072 | J23: 0 | K23: 249373.02 | L23: 279.43089 | M23: 0 | N23: 777540.14 | O23: 0 | P23: 0 | Q23: 368914.18 | R23: 176032.65 | S23: 0 | T23: 0 | U23: 51152.072 | V23: 343.36669 | W23: 0 | X23: 1317937.4 | Y23: 179502.76 | Z23: 61490.909 | AA23: 78338.382 | AB23: 64775.349 | AC23: 233935.07 | AD23: 65457.862 | AE23: 15844.787 | AF23: 3942.3996 | AG23: 51689.456 | AH23: 63364.485 | AI23: 0 | AJ23: 97.52111 | AK23: 499498.39 | AL23: 42694.893 | AM23: 28997.743 | AN23: 0 | AO23: 13697.15 | AP23: 237878.5 | AQ23: 15477.237 | AR23: 113866.93 | AS23: 108534.33 | AT23: 51206.73 | AU23: 4389330.2 | AV23: 72175.221 | AW23: 19789.7 | AX23: 51575.457 | AY23: 0 | AZ23: 0 | BA23: 810.06419 | BB23: 4461505.5
A24: 18 | B24: PKO Leasing S.A. | C24: 6344271.9 | D24: 3489621.6 | E24: 216853 | F24: 49908.897 | G24: 1033732.1 | H24: 620903.62 | I24: 28383.974 | J24: 243.90244 | K24: 412828.48 | L24: 1989 | N24: 1070261.3 | Q24: 589335.64 | R24: 100582.36 | S24: 3500 | U24: 60738.837 | V24: 2343.8067 | X24: 1846190.9 | Y24: 394477.44 | Z24: 182595.39 | AA24: 43012.186 | AB24: 47801.24 | AC24: 207292.74 | AD24: 120179.77 | AE24: 38061.945 | AF24: 10140.699 | AG24: 76022.262 | AH24: 51886.571 | AJ24: 92.67 | AK24: 674627.98 | AL24: 80350.095 | AM24: 57870.871 | AN24: 857.027 | AO24: 21622.197 | AP24: 304969.03 | AQ24: 15969.708 | AR24: 12206.334 | AS24: 276792.98 | AU24: 8575781.9 | AV24: 0 | BB24: 8575781.9
A25: 19 | B25: Santander Consumer Multirent Sp.z o.o. | C25: 1307766.2 | D25: 1104106.8 | G25: 166092.29 | H25: 166092.29 | U25: 37567.151 | X25: 0 | AL25: 0 | AP25: 0 | AU25: 1307766.2 | AV25: 0 | BB25: 1307766.2
A26: 20 | B26: Santander Leasing S.A. | C26: 3023306.4 | D26: 1753101.2 | E26: 92556.805 | F26: 56210.834 | G26: 541299.99 | H26: 362439.36 | I26: 6430.6795 | J26: 0 | K26: 178860.63 | L26: 0 | M26: 0 | N26: 503559.44 | O26: 0 | P26: 0 | Q26: 179911.47 | R26: 25830.94 | S26: 0 | T26: 0 | U26: 19603.414 | V26: 362.5869 | W26: 0 | X26: 1056603 | Y26: 131423.04 | Z26: 111182.91 | AA26: 47589.021 | AB26: 50013.169 | AC26: 84318.942 | AD26: 38501.104 | AE26: 23820.072 | AF26: 9215.9046 | AG26: 97322.261 | AH26: 52512.454 | AI26: 0 | AJ26: 2036.5583 | AK26: 408667.6 | AL26: 21382.093 | AM26: 21382.093 | AN26: 0 | AO26: 0 | AP26: 31370.049 | AQ26: 24202.459 | AR26: 6613.5676 | AS26: 554.0222 | AT26: 0 | AU26: 4132661.6 | AV26: 0 | AW26: 0 | AX26: 0 | AY26: 0 | AZ26: 0 | BA26: 0 | BB26: 4132661.6
A27: 21 | B27: Scania Finance Polska Sp. z o.o. | C27: 1087849 | D27: 1955 | G27: 102189 | H27: 4206 | K27: 97983 | L27: 1147 | N27: 910914 | Q27: 63915 | R27: 8526 | U27: 350 | X27: 0 | AL27: 0 | AP27: 0 | AU27: 1087849 | AV27: 0 | BB27: 1087849
A28: 22 | B28: SG Equipment Leasing Polska Sp. z o.o. | C28: 143521.91 | D28: 4888.2805 | G28: 40302.496 | H28: 2554.6057 | K28: 37747.89 | N28: 57713.607 | Q28: 37323.228 | U28: 3294.3028 | X28: 125650.46 | Y28: 77344.551 | Z28: 14659.337 | AA28: 1854.3426 | AC28: 12414.426 | AD28: 271.8 | AG28: 3796.6365 | AH28: 6838.92 | AK28: 8470.445 | AL28: 11469.326 | AM28: 11469.326 | AP28: 16193.353 | AQ28: 16193.353 | AU28: 296835.05 | AV28: 0 | BB28: 296835.05
A29: 23 | B29: SGB Leasing Sp. z o.o. | C29: 39175 | D29: 18679 | E29: 120 | G29: 11657 | H29: 9026 | K29: 2631 | N29: 2763 | Q29: 4181 | R29: 562 | U29: 1333 | X29: 38419 | Y29: 4332 | Z29: 15772 | AB29: 362 | AC29: 423 | AD29: 1223 | AE29: 36 | AF29: 308 | AG29: 187 | AH29: 3866 | AK29: 11910 | AL29: 19 | AM29: 19 | AP29: 18060 | AS29: 18060 | AU29: 95673 | AV29: 0 | BB29: 95673
A30: 24 | B30: Siemens Finance Sp. z o.o. | C30: 21182 | D30: 1535 | G30: 23438 | H30: 458 | K30: 22980 | N30: 1421 | Q30: 2587 | U30: -7799 | X30: 556573 | Y30: 83593 | Z30: 13124 | AA30: 25048 | AB30: 927 | AC30: 81433 | AD30: 471 | AE30: 298321 | AG30: 2947 | AH30: 45 | AK30: 50664 | AL30: 39019 | AM30: 34794 | AN30: 4225 | AP30: 0 | AU30: 616774 | AV30: 0 | BB30: 616774
A31: 25 | B31: Razem | C31: 34474872 | D31: 17548856 | E31: 651461.05 | F31: 354018.74 | G31: 5733014.7 | H31: 3282563.8 | I31: 106984.73 | J31: 243.90244 | K31: 2450450.9 | L31: 7273.4309 | M31: 4378.9852 | N31: 6817553.7 | O31: 853.73305 | P31: 18179.211 | Q31: 3172086.4 | R31: 693052.62 | S31: 6030 | T31: 2223 | U31: 510308.03 | V31: 9044.4248 | W31: 0 | X31: 12380932 | Y31: 2758657.5 | Z31: 1064147.4 | AA31: 373991.66 | AB31: 575903.38 | AC31: 1381633.9 | AD31: 533536.52 | AE31: 488599.32 | AF31: 139631.14 | AG31: 987825.4 | AH31: 417739.15 | AI31: 0 | AJ31: 4520.318 | AK31: 3654746.5 | AL31: 457996.99 | AM31: 337363.94 | AN31: 28962.764 | AO31: 91670.285 | AP31: 1077104.9 | AQ31: 103102.03 | AR31: 240198.94 | AS31: 733803.96 | AT31: 265263.75 | AU31: 48656170 | AV31: 475856.74 | AW31: 32000.775 | AX31: 349417.01 | AY31: 31048.7 | AZ31: 445.7 | BA31: 62944.546 | BB31: 49132026
A33: Ilość środków oddanych w leasing w | C33: 01.01.20223- 30.09.2023
A36: Lp. | B36: Spółka | C36: POJAZDY | D36: Osobowe | E36: osobowe - zeroemisyjne | F36: osobowe - hybryda plug-in | G36: Cięzarowe: | H36: o masie do 3,5 tony | I36: o masie do 3,5 tony - zeroemisyjne | J36: o masie do 3,5 tony - hybryda plug-in | K36: o masie powyzej 3,5 tony | L36: o masie powyżej 3,5 tony - zeroemisyjne | M36: o masie powyżej 3,5 tony - hybryda plug-in | N36: ciagniki siodlowe | O36: ciągniki siodłowe - zeroemisyjne | P36: ciągniki siodłowe - hybryda plug-in | Q36: naczepy / przyczepy | R36: autobusy | S36: autobusy - zeroemisyjne | T36: autobusy - hybryda plug-in | U36: inne | V36: inne - zeroemisyjne | W36: inne - hybryda plug-in | X36: MiU | Y36: Sprzęt Budowlany | Z36: Maszyny Rolnicze | AA36: Maszyny Poligraf. | AB36: maszyny do produkcji tworzyw sztucznych | AC36: maszyny i urządzenia do obróbki metali | AD36: maszyny dla przemysłu spożywczego | AE36: Sprzęt Medyczny | AF36: Sprzęt Gastronom. | AG36: Wózki Widłowe | AH36: fotowoltaika | AI36: wiatraki i turbiny wiatrowe | AJ36: stacje ładowania pojazdów elektrycznych (na użytek własny i komercyjny) | AK36: inne MiU | AL36: IT | AM36: Sprzęt | AN36: Oprogram. | AO36: inne IT | AP36: POZOSTAŁE ŚRODKI TRANSPORTU | AQ36: Powietrzne | AR36: Wodne | AS36: Kolejowe | AT36: Inne ruchomości | AU36: RUCHOMOŚCI | AV36: Nieruchomości | AW36: budynki przemysłowe | AX36: obiekty handlowe i usługowe | AY36: obiekty biurowe | AZ36: hotele i obiekty rekreacyjne | BA36: inne | BB36: OGÓŁEM
A37: 1 | B37: Alior Leasing Sp. z o. o. | C37: 10963 | D37: 5009 | G37: 2447 | H37: 1927 | K37: 520 | N37: 1414 | Q37: 1544 | R37: 255 | U37: 294 | X37: 1990 | Y37: 603 | Z37: 348 | AA37: 29 | AB37: 50 | AC37: 193 | AD37: 58 | AE37: 149 | AF37: 4 | AG37: 68 | AH37: 30 | AK37: 458 | AL37: 21 | AM37: 21 | AP37: 55 | AS37: 55 | AU37: 13029 | AV37: 0 | BB37: 13029
A38: 2 | B38: BNP Paribas Lease Group Sp. z o.o. | C38: 12452 | D38: 9530 | E38: 249 | F38: 0 | G38: 1850 | H38: 1512 | I38: 25 | J38: 0 | K38: 338 | L38: 0 | M38: 0 | N38: 417 | O38: 0 | P38: 0 | Q38: 316 | R38: 8 | S38: 0 | T38: 0 | U38: 331 | V38: 5 | W38: 0 | X38: 3258 | Y38: 630 | Z38: 311 | AA38: 3 | AB38: 3 | AC38: 21 | AD38: 16 | AE38: 89 | AF38: 10 | AG38: 1196 | AH38: 123 | AI38: 0 | AJ38: 6 | AK38: 850 | AL38: 563 | AM38: 287 | AN38: 23 | AO38: 253 | AP38: 1 | AQ38: 0 | AR38: 1 | AS38: 0 | AU38: 16274 | AV38: 7 | AW38: 2 | AX38: 5 | AY38: 0 | AZ38: 0 | BA38: 0 | BB38: 16281
A39: 3 | B39: BOŚ Leasing - EKO Profit S.A. | C39: 152 | D39: 40 | G39: 24 | H39: 14 | K39: 10 | N39: 14 | Q39: 46 | R39: 7 | U39: 21 | X39: 183 | Y39: 31 | Z39: 10 | AA39: 3 | AB39: 2 | AC39: 8 | AD39: 12 | AE39: 4 | AG39: 15 | AH39: 45 | AK39: 53 | AL39: 1 | AM39: 1 | AP39: 7 | AQ39: 2 | AR39: 5 | AU39: 343 | AV39: 0 | BB39: 343
A40: 4 | B40: BPS Leasing Spółka Akcyjna (BPS Leasing S.A.) | C40: 821 | D40: 380 | E40: 4 | F40: 114 | G40: 126 | H40: 69 | K40: 57 | N40: 149 | Q40: 116 | R40: 38 | U40: 12 | X40: 82 | Y40: 35 | Z40: 8 | AA40: 1 | AB40: 1 | AC40: 2 | AD40: 7 | AE40: 4 | AG40: 8 | AH40: 8 | AK40: 8 | AL40: 1 | AM40: 1 | AP40: 4 | AQ40: 1 | AR40: 3 | AT40: 25 | AU40: 933 | AV40: 0 | BB40: 933
A41: 5 | B41: Caterpillar Financial Services Poland Sp. z o.o. | C41: 0 | G41: 0 | X41: 730 | Y41: 730 | AL41: 0 | AP41: 0 | AU41: 730 | AV41: 0 | BB41: 730
A42: 6 | B42: De Lage Landen Leasing Polska S.A. | C42: 14 | D42: 2 | G42: 0 | N42: 7 | Q42: 4 | U42: 1 | X42: 152 | Y42: 24 | Z42: 38 | AE42: 22 | AG42: 33 | AH42: 8 | AK42: 27 | AL42: 133 | AM42: 133 | AP42: 0 | AU42: 299 | AV42: 0 | BB42: 299
A43: 7 | B43: Deutsche Leasing Polska S.A. | C43: 1207 | D43: 10 | G43: 0 | N43: 88 | Q43: 1107 | U43: 2 | X43: 3629 | Y43: 10 | Z43: 14 | AA43: 4 | AB43: 5 | AC43: 63 | AD43: 4 | AE43: 7 | AF43: 0 | AG43: 3458 | AK43: 64 | AL43: 0 | AP43: 0 | AU43: 4836 | AV43: 0 | BB43: 4836
A44: 8 | B44: Europejski Fundusz Leasingowy S.A. | C44: 23661 | D44: 11542 | E44: 287 | F44: 119 | G44: 5404 | H44: 3909 | I44: 192 | K44: 1495 | N44: 2562 | Q44: 3323 | R44: 123 | U44: 707 | V44: 8 | X44: 10303 | Y44: 2827 | Z44: 1097 | AA44: 122 | AB44: 123 | AC44: 403 | AD44: 134 | AE44: 209 | AF44: 1053 | AG44: 441 | AH44: 575 | AI44: 0 | AJ44: 8 | AK44: 3311 | AL44: 1014 | AM44: 515 | AN44: 196 | AO44: 303 | AP44: 67 | AQ44: 16 | AR44: 51 | AU44: 35045 | AV44: 0 | BB44: 35045
A45: 9 | B45: Grupa VB Leasing | C45: 5594 | D45: 2505 | E45: 44 | F45: 304 | G45: 1104 | H45: 838 | I45: 3 | J45: 0 | K45: 266 | M45: 16 | N45: 747 | P45: 52 | Q45: 822 | R45: 93 | T45: 2 | U45: 323 | X45: 1120 | Y45: 242 | Z45: 261 | AA45: 34 | AB45: 17 | AC45: 33 | AD45: 41 | AE45: 136 | AF45: 34 | AG45: 49 | AH45: 91 | AK45: 182 | AL45: 33 | AM45: 25 | AN45: 0 | AO45: 8 | AP45: 27 | AQ45: 0 | AR45: 27 | AS45: 0 | AT45: 198 | AU45: 6972 | AV45: 0 | BB45: 6972
...

Sheet suma leasing+pożyczki 3Q2023
A1: Związek Polskiego Leasingu
C3: 01.01.20223- 30.09.2023
A4: Wartość środków_ leasing + pożyczka ( netto w tys. PLN)
A6: Lp. | B6: Spółka | C6: POJAZDY | D6: Osobowe | E6: osobowe - zeroemisyjne | F6: osobowe - hybryda plug-in | G6: Cięzarowe: | H6: o masie do 3,5 tony | I6: o masie do 3,5 tony - zeroemisyjne | J6: o masie do 3,5 tony - hybryda plug-in | K6: o masie powyzej 3,5 tony | L6: o masie powyżej 3,5 tony - zeroemisyjne | M6: o masie powyżej 3,5 tony - hybryda plug-in | N6: ciagniki siodlowe | O6: ciągniki siodłowe - zeroemisyjne | P6: ciągniki siodłowe - hybryda plug-in | Q6: naczepy / przyczepy | R6: autobusy | S6: autobusy - zeroemisyjne | T6: autobusy - hybryda plug-in | U6: inne | V6: inne - zeroemisyjne | W6: inne - hybryda plug-in | X6: MiU | Y6: Sprzęt Budowlany | Z6: Maszyny Rolnicze | AA6: Maszyny Poligraf. | AB6: maszyny do produkcji tworzyw sztucznych | AC6: maszyny i urządzenia do obróbki metali | AD6: maszyny dla przemysłu spożywczego | AE6: Sprzęt Medyczny | AF6: Sprzęt Gastronom. | AG6: Wózki Widłowe | AH6: fotowoltaika | AI6: wiatraki i turbiny wiatrowe | AJ6: stacje ładowania pojazdów elektrycznych (na użytek własny i komercyjny) | AK6: inne MiU | AL6: IT | AM6: Sprzęt | AN6: Oprogram. | AO6: inne IT | AP6: POZOSTAŁE ŚRODKI TRANSPORTU | AQ6: Powietrzne | AR6: Wodne | AS6: Kolejowe | AT6: Inne ruchomości | AU6: RUCHOMOŚCI | AV6: Nieruchomości | AW6: budynki przemysłowe | AX6: obiekty handlowe i usługowe | AY6: obiekty biurowe | AZ6: hotele i obiekty rekreacyjne | BA6: inne | BB6: OGÓŁEM
A7: 1 | B7: Alior Leasing Sp. z o. o. | C7: =pozyczki_3Q2023!C7+leasing_3Q2023!C7 -> 1880379.7 | D7: =pozyczki_3Q2023!D7+leasing_3Q2023!D7 -> 753949.24 | E7: =pozyczki_3Q2023!E7+leasing_3Q2023!E7 -> 0 | F7: =pozyczki_3Q2023!F7+leasing_3Q2023!F7 -> 0 | G7: =pozyczki_3Q2023!G7+leasing_3Q2023!G7 -> 347366 | H7: =pozyczki_3Q2023!H7+leasing_3Q2023!H7 -> 198873.27 | I7: =pozyczki_3Q2023!I7+leasing_3Q2023!I7 -> 0 | J7: =pozyczki_3Q2023!J7+leasing_3Q2023!J7 -> 0 | ... BB7: =pozyczki_3Q2023!BB7+leasing_3Q2023!BB7 -> 2250810.4
A8: 2 | B8: BNP Paribas Lease Group Sp. z o.o. | C8: =pozyczki_3Q2023!C8+leasing_3Q2023!C8 -> 1943943.8 | D8: =pozyczki_3Q2023!D8+leasing_3Q2023!D8 -> 1239366.8 | E8: =pozyczki_3Q2023!E8+leasing_3Q2023!E8 -> 47393.311 | F8: =pozyczki_3Q2023!F8+leasing_3Q2023!F8 -> 0 | G8: =pozyczki_3Q2023!G8+leasing_3Q2023!G8 -> 390608.39 | H8: =pozyczki_3Q2023!H8+leasing_3Q2023!H8 -> 264100.41 | I8: =pozyczki_3Q2023!I8+leasing_3Q2023!I8 -> 4880.5735 | J8: =pozyczki_3Q2023!J8+leasing_3Q2023!J8 -> 0 | ... BB8: =pozyczki_3Q2023!BB8+leasing_3Q2023!BB8 -> 4211640
A9: 3 | B9: BOŚ Leasing - EKO Profit S.A. | C9: =pozyczki_3Q2023!C9+leasing_3Q2023!C9 -> 33633.345 | D9: =pozyczki_3Q2023!D9+leasing_3Q2023!D9 -> 8107.28 | E9: =pozyczki_3Q2023!E9+leasing_3Q2023!E9 -> 0 | F9: =pozyczki_3Q2023!F9+leasing_3Q2023!F9 -> 0 | G9: =pozyczki_3Q2023!G9+leasing_3Q2023!G9 -> 3779.67 | H9: =pozyczki_3Q2023!H9+leasing_3Q2023!H9 -> 1386.3 | I9: =pozyczki_3Q2023!I9+leasing_3Q2023!I9 -> 0 | J9: =pozyczki_3Q2023!J9+leasing_3Q2023!J9 -> 0 | ... BB9: =pozyczki_3Q2023!BB9+leasing_3Q2023!BB9 -> 118032.02
A10: 4 | B10: BPS Leasing Spółka Akcyjna (BPS Leasing S.A.) | C10: =pozyczki_3Q2023!C10+leasing_3Q2023!C10 -> 191410.77 | D10: =pozyczki_3Q2023!D10+leasing_3Q2023!D10 -> 48698.01 | E10: =pozyczki_3Q2023!E10+leasing_3Q2023!E10 -> 994.49 | F10: =pozyczki_3Q2023!F10+leasing_3Q2023!F10 -> 15488.55 | G10: =pozyczki_3Q2023!G10+leasing_3Q2023!G10 -> 30473.65 | H10: =pozyczki_3Q2023!H10+leasing_3Q2023!H10 -> 7779.45 | I10: =pozyczki_3Q2023!I10+leasing_3Q2023!I10 -> 0 | J10: =pozyczki_3Q2023!J10+leasing_3Q2023!J10 -> 0 | ... BB10: =pozyczki_3Q2023!BB10+leasing_3Q2023!BB10 -> 222124
A11: 5 | B11: Caterpillar Financial Services Poland Sp. z o.o. | C11: =pozyczki_3Q2023!C11+leasing_3Q2023!C11 -> 0 | D11: =pozyczki_3Q2023!D11+leasing_3Q2023!D11 -> 0 | E11: =pozyczki_3Q2023!E11+leasing_3Q2023!E11 -> 0 | F11: =pozyczki_3Q2023!F11+leasing_3Q2023!F11 -> 0 | G11: =pozyczki_3Q2023!G11+leasing_3Q2023!G11 -> 0 | H11: =pozyczki_3Q2023!H11+leasing_3Q2023!H11 -> 0 | I11: =pozyczki_3Q2023!I11+leasing_3Q2023!I11 -> 0 | J11: =pozyczki_3Q2023!J11+leasing_3Q2023!J11 -> 0 | ... BB11: =pozyczki_3Q2023!BB11+leasing_3Q2023!BB11 -> 407959.07
A12: 6 | B12: De Lage Landen Leasing Polska S.A. | C12: =pozyczki_3Q2023!C12+leasing_3Q2023!C12 -> 11595 | D12: =pozyczki_3Q2023!D12+leasing_3Q2023!D12 -> 948 | E12: =pozyczki_3Q2023!E12+leasing_3Q2023!E12 -> 0 | F12: =pozyczki_3Q2023!F12+leasing_3Q2023!F12 -> 0 | G12: =pozyczki_3Q2023!G12+leasing_3Q2023!G12 -> 0 | H12: =pozyczki_3Q2023!H12+leasing_3Q2023!H12 -> 0 | I12: =pozyczki_3Q2023!I12+leasing_3Q2023!I12 -> 0 | J12: =pozyczki_3Q2023!J12+leasing_3Q2023!J12 -> 0 | ... BB12: =pozyczki_3Q2023!BB12+leasing_3Q2023!BB12 -> 578653
A13: 7 | B13: Deutsche Leasing Polska S.A. | C13: =pozyczki_3Q2023!C13+leasing_3Q2023!C13 -> 272748 | D13: =pozyczki_3Q2023!D13+leasing_3Q2023!D13 -> 1839 | E13: =pozyczki_3Q2023!E13+leasing_3Q2023!E13 -> 0 | F13: =pozyczki_3Q2023!F13+leasing_3Q2023!F13 -> 0 | G13: =pozyczki_3Q2023!G13+leasing_3Q2023!G13 -> 326 | H13: =pozyczki_3Q2023!H13+leasing_3Q2023!H13 -> 326 | I13: =pozyczki_3Q2023!I13+leasing_3Q2023!I13 -> 0 | J13: =pozyczki_3Q2023!J13+leasing_3Q2023!J13 -> 0 | ... BB13: =pozyczki_3Q2023!BB13+leasing_3Q2023!BB13 -> 853164
A14: 8 | B14: Europejski Fundusz Leasingowy S.A. | C14: =pozyczki_3Q2023!C14+leasing_3Q2023!C14 -> 4266045.9 | D14: =pozyczki_3Q2023!D14+leasing_3Q2023!D14 -> 1720551.6 | E14: =pozyczki_3Q2023!E14+leasing_3Q2023!E14 -> 72697.365 | F14: =pozyczki_3Q2023!F14+leasing_3Q2023!F14 -> 22718.983 | G14: =pozyczki_3Q2023!G14+leasing_3Q2023!G14 -> 1060386.5 | H14: =pozyczki_3Q2023!H14+leasing_3Q2023!H14 -> 534440.16 | I14: =pozyczki_3Q2023!I14+leasing_3Q2023!I14 -> 46211.789 | J14: =pozyczki_3Q2023!J14+leasing_3Q2023!J14 -> 0 | ... BB14: =pozyczki_3Q2023!BB14+leasing_3Q2023!BB14 -> 6568173.5
A15: 9 | B15: Grupa VB Leasing | C15: =pozyczki_3Q2023!C15+leasing_3Q2023!C15 -> 963827.7 | D15: =pozyczki_3Q2023!D15+leasing_3Q2023!D15 -> 333510.93 | E15: =pozyczki_3Q2023!E15+leasing_3Q2023!E15 -> 11201.209 | F15: =pozyczki_3Q2023!F15+leasing_3Q2023!F15 -> 54835.243 | G15: =pozyczki_3Q2023!G15+leasing_3Q2023!G15 -> 170204.26 | H15: =pozyczki_3Q2023!H15+leasing_3Q2023!H15 -> 94232.672 | I15: =pozyczki_3Q2023!I15+leasing_3Q2023!I15 -> 401.93089 | J15: =pozyczki_3Q2023!J15+leasing_3Q2023!J15 -> 429.93182 | ... BB15: =pozyczki_3Q2023!BB15+leasing_3Q2023!BB15 -> 1386223.5
A16: 10 | B16: Impuls-Leasing Polska Sp. z o. o. | C16: =pozyczki_3Q2023!C16+leasing_3Q2023!C16 -> 757848.46 | D16: =pozyczki_3Q2023!D16+leasing_3Q2023!D16 -> 365757.46 | E16: =pozyczki_3Q2023!E16+leasing_3Q2023!E16 -> 14039.61 | F16: =pozyczki_3Q2023!F16+leasing_3Q2023!F16 -> 5136 | G16: =pozyczki_3Q2023!G16+leasing_3Q2023!G16 -> 109738.15 | H16: =pozyczki_3Q2023!H16+leasing_3Q2023!H16 -> 78610.39 | I16: =pozyczki_3Q2023!I16+leasing_3Q2023!I16 -> 608.72 | J16: =pozyczki_3Q2023!J16+leasing_3Q2023!J16 -> 0 | ... BB16: =pozyczki_3Q2023!BB16+leasing_3Q2023!BB16 -> 938572.1
A17: 11 | B17: ING Lease (Polska) Sp. z o.o. | C17: =pozyczki_3Q2023!C17+leasing_3Q2023!C17 -> 2953403 | D17: =pozyczki_3Q2023!D17+leasing_3Q2023!D17 -> 1182482 | E17: =pozyczki_3Q2023!E17+leasing_3Q2023!E17 -> 59621 | F17: =pozyczki_3Q2023!F17+leasing_3Q2023!F17 -> 30396 | G17: =pozyczki_3Q2023!G17+leasing_3Q2023!G17 -> 603615 | H17: =pozyczki_3Q2023!H17+leasing_3Q2023!H17 -> 329400 | I17: =pozyczki_3Q2023!I17+leasing_3Q2023!I17 -> 8415 | J17: =pozyczki_3Q2023!J17+leasing_3Q2023!J17 -> 0 | ... BB17: =pozyczki_3Q2023!BB17+leasing_3Q2023!BB17 -> 4998792
A18: 12 | B18: Leasing Polski Sp. z o. o. | C18: =pozyczki_3Q2023!C18+leasing_3Q2023!C18 -> 135793.81 | D18: =pozyczki_3Q2023!D18+leasing_3Q2023!D18 -> 23324.668 | E18: =pozyczki_3Q2023!E18+leasing_3Q2023!E18 -> 446.73252 | F18: =pozyczki_3Q2023!F18+leasing_3Q2023!F18 -> 1392.538 | G18: =pozyczki_3Q2023!G18+leasing_3Q2023!G18 -> 28086.097 | H18: =pozyczki_3Q2023!H18+leasing_3Q2023!H18 -> 14624.799 | I18: =pozyczki_3Q2023!I18+leasing_3Q2023!I18 -> 0 | J18: =pozyczki_3Q2023!J18+leasing_3Q2023!J18 -> 0 | ... BB18: =pozyczki_3Q2023!BB18+leasing_3Q2023!BB18 -> 161264.13
... A30: 24 | B30: Siemens Finance Sp. z o.o. | C30: =pozyczki_3Q2023!C30+leasing_3Q2023!C30 -> 21182 | D30: =pozyczki_3Q2023!D30+leasing_3Q2023!D30 -> 1535 | E30: =pozyczki_3Q2023!E30+leasing_3Q2023!E30 -> 0 | F30: =pozyczki_3Q2023!F30+leasing_3Q2023!F30 -> 0 | G30: =pozyczki_3Q2023!G30+leasing_3Q2023!G30 -> 23438 | H30: =pozyczki_3Q2023!H30+leasing_3Q2023!H30 -> 458 | I30: =pozyczki_3Q2023!I30+leasing_3Q2023!I30 -> 0 | J30: =pozyczki_3Q2023!J30+leasing_3Q2023!J30 -> 0 | ... BB30: =pozyczki_3Q2023!BB30+leasing_3Q2023!BB30 -> 616774
B31: Razem | C31: =pozyczki_3Q2023!C31+leasing_3Q2023!C31 -> 37322289 | D31: =pozyczki_3Q2023!D31+leasing_3Q2023!D31 -> 18873645 | E31: =pozyczki_3Q2023!E31+leasing_3Q2023!E31 -> 667782.95 | F31: =pozyczki_3Q2023!F31+leasing_3Q2023!F31 -> 375440.48 | G31: =pozyczki_3Q2023!G31+leasing_3Q2023!G31 -> 6065432.9 | H31: =pozyczki_3Q2023!H31+leasing_3Q2023!H31 -> 3487391.7 | I31: =pozyczki_3Q2023!I31+leasing_3Q2023!I31 -> 107969.71 | J31: =pozyczki_3Q2023!J31+leasing_3Q2023!J31 -> 673.83426 | ... BB31: =pozyczki_3Q2023!BB31+leasing_3Q2023!BB31 -> 57700010
A33: Ilość środków _ leasing + pożyczka (szt.) | C33: 01.01.20223- 30.09.2023
A36: Lp. | B36: Spółka | C36: POJAZDY | D36: Osobowe | E36: osobowe - zeroemisyjne | F36: osobowe - hybryda plug-in | G36: Cięzarowe: | H36: o masie do 3,5 tony | I36: o masie do 3,5 tony - zeroemisyjne | J36: o masie do 3,5 tony - hybryda plug-in | K36: o masie powyzej 3,5 tony | L36: o masie powyżej 3,5 tony - zeroemisyjne | M36: o masie powyżej 3,5 tony - hybryda plug-in | N36: ciagniki siodlowe | O36: ciągniki siodłowe - zeroemisyjne | P36: ciągniki siodłowe - hybryda plug-in | Q36: naczepy / przyczepy | R36: autobusy | S36: autobusy - zeroemisyjne | T36: autobusy - hybryda plug-in | U36: inne | V36: inne - zeroemisyjne | W36: inne - hybryda plug-in | X36: MiU | Y36: Sprzęt Budowlany | Z36: Maszyny Rolnicze | AA36: Maszyny Poligraf. | AB36: maszyny do produkcji tworzyw sztucznych | AC36: maszyny i urządzenia do obróbki metali | AD36: maszyny dla przemysłu spożywczego | AE36: Sprzęt Medyczny | AF36: Sprzęt Gastronom. | AG36: Wózki Widłowe | AH36: fotowoltaika | AI36: wiatraki i turbiny wiatrowe | AJ36: stacje ładowania pojazdów elektrycznych (na użytek własny i komercyjny) | AK36: inne MiU | AL36: IT | AM36: Sprzęt | AN36: Oprogram. | AO36: inne IT | AP36: POZOSTAŁE ŚRODKI TRANSPORTU | AQ36: Powietrzne | AR36: Wodne | AS36: Kolejowe | AT36: Inne ruchomości | AU36: RUCHOMOŚCI | AV36: Nieruchomości | AW36: budynki przemysłowe | AX36: obiekty handlowe i usługowe | AY36: obiekty biurowe | AZ36: hotele i obiekty rekreacyjne | BA36: inne | BB36: OGÓŁEM
A37: 1 | B37: Alior Leasing Sp. z o. o. | C37: =pozyczki_3Q2023!C37+leasing_3Q2023!C37 -> 12534 | D37: =pozyczki_3Q2023!D37+leasing_3Q2023!D37 -> 5963 | E37: =pozyczki_3Q2023!E37+leasing_3Q2023!E37 -> 0 | F37: =pozyczki_3Q2023!F37+leasing_3Q2023!F37 -> 0 | G37: =pozyczki_3Q2023!G37+leasing_3Q2023!G37 -> 2668 | H37: =pozyczki_3Q2023!H37+leasing_3Q2023!H37 -> 2112 | I37: =pozyczki_3Q2023!I37+leasing_3Q2023!I37 -> 0 | J37: =pozyczki_3Q2023!J37+leasing_3Q2023!J37 -> 0 | ... BB37: =pozyczki_3Q2023!BB37+leasing_3Q2023!BB37 -> 14866
A38: 2 | B38: BNP Paribas Lease Group Sp. z o.o. | C38: =pozyczki_3Q2023!C38+leasing_3Q2023!C38 -> 12946 | D38: =pozyczki_3Q2023!D38+leasing_3Q2023!D38 -> 9644 | E38: =pozyczki_3Q2023!E38+leasing_3Q2023!E38 -> 251 | F38: =pozyczki_3Q2023!F38+leasing_3Q2023!F38 -> 0 | G38: =pozyczki_3Q2023!G38+leasing_3Q2023!G38 -> 2076 | H38: =pozyczki_3Q2023!H38+leasing_3Q2023!H38 -> 1678 | I38: =pozyczki_3Q2023!I38+leasing_3Q2023!I38 -> 25 | J38: =pozyczki_3Q2023!J38+leasing_3Q2023!J38 -> 0 | ... BB38: =pozyczki_3Q2023!BB38+leasing_3Q2023!BB38 -> 20323
A39: 3 | B39: BOŚ Leasing - EKO Profit S.A. | C39: =pozyczki_3Q2023!C39+leasing_3Q2023!C39 -> 153 | D39: =pozyczki_3Q2023!D39+leasing_3Q2023!D39 -> 40 | E39: =pozyczki_3Q2023!E39+leasing_3Q2023!E39 -> 0 | F39: =pozyczki_3Q2023!F39+leasing_3Q2023!F39 -> 0 | G39: =pozyczki_3Q2023!G39+leasing_3Q2023!G39 -> 24 | H39: =pozyczki_3Q2023!H39+leasing_3Q2023!H39 -> 14 | I39: =pozyczki_3Q2023!I39+leasing_3Q2023!I39 -> 0 | J39: =pozyczki_3Q2023!J39+leasing_3Q2023!J39 -> 0 | ... BB39: =pozyczki_3Q2023!BB39+leasing_3Q2023!BB39 -> 354
A40: 4 | B40: BPS Leasing Spółka Akcyjna (BPS Leasing S.A.) | C40: =pozyczki_3Q2023!C40+leasing_3Q2023!C40 -> 821 | D40: =pozyczki_3Q2023!D40+leasing_3Q2023!D40 -> 380 | E40: =pozyczki_3Q2023!E40+leasing_3Q2023!E40 -> 4 | F40: =pozyczki_3Q2023!F40+leasing_3Q2023!F40 -> 114 | G40: =pozyczki_3Q2023!G40+leasing_3Q2023!G40 -> 126 | H40: =pozyczki_3Q2023!H40+leasing_3Q2023!H40 -> 69 | I40: =pozyczki_3Q2023!I40+leasing_3Q2023!I40 -> 0 | J40: =pozyczki_3Q2023!J40+leasing_3Q2023!J40 -> 0 | ... BB40: =pozyczki_3Q2023!BB40+leasing_3Q2023!BB40 -> 933
A41: 5 | B41: Caterpillar Financial Services Poland Sp. z o.o. | C41: =pozyczki_3Q2023!C41+leasing_3Q2023!C41 -> 0 | D41: =pozyczki_3Q2023!D41+leasing_3Q2023!D41 -> 0 | E41: =pozyczki_3Q2023!E41+leasing_3Q2023!E41 -> 0 | F41: =pozyczki_3Q2023!F41+leasing_3Q2023!F41 -> 0 | G41: =pozyczki_3Q2023!G41+leasing_3Q2023!G41 -> 0 | H41: =pozyczki_3Q2023!H41+leasing_3Q2023!H41 -> 0 | I41: =pozyczki_3Q2023!I41+leasing_3Q2023!I41 -> 0 | J41: =pozyczki_3Q2023!J41+leasing_3Q2023!J41 -> 0 | ... BB41: =pozyczki_3Q2023!BB41+leasing_3Q2023!BB41 -> 826
A42: 6 | B42: De Lage Landen Leasing Polska S.A. | C42: =pozyczki_3Q2023!C42+leasing_3Q2023!C42 -> 55 | D42: =pozyczki_3Q2023!D42+leasing_3Q2023!D42 -> 5 | E42: =pozyczki_3Q2023!E42+leasing_3Q2023!E42 -> 0 | F42: =pozyczki_3Q2023!F42+leasing_3Q2023!F42 -> 0 | G42: =pozyczki_3Q2023!G42+leasing_3Q2023!G42 -> 0 | H42: =pozyczki_3Q2023!H42+leasing_3Q2023!H42 -> 0 | I42: =pozyczki_3Q2023!I42+leasing_3Q2023!I42 -> 0 | J42: =pozyczki_3Q2023!J42+leasing_3Q2023!J42 -> 0 | ... BB42: =pozyczki_3Q2023!BB42+leasing_3Q2023!BB42 -> 1808
A43: 7 | B43: Deutsche Leasing Polska S.A. | C43: =pozyczki_3Q2023!C43+leasing_3Q2023!C43 -> 1596 | D43: =pozyczki_3Q2023!D43+leasing_3Q2023!D43 -> 12 | E43: =pozyczki_3Q2023!E43+leasing_3Q2023!E43 -> 0 | F43: =pozyczki_3Q2023!F43+leasing_3Q2023!F43 -> 0 | G43: =pozyczki_3Q2023!G43+leasing_3Q2023!G43 -> 1 | H43: =pozyczki_3Q2023!H43+leasing_3Q2023!H43 -> 1 | I43: =pozyczki_3Q2023!I43+leasing_3Q2023!I43 -> 0 | J43: =pozyczki_3Q2023!J43+leasing_3Q2023!J43 -> 0 | ... BB43: =pozyczki_3Q2023!BB43+leasing_3Q2023!BB43 -> 5323
A44: 8 | B44: Europejski Fundusz Leasingowy S.A. | C44: =pozyczki_3Q2023!C44+leasing_3Q2023!C44 -> 24202 | D44: =pozyczki_3Q2023!D44+leasing_3Q2023!D44 -> 11735 | E44: =pozyczki_3Q2023!E44+leasing_3Q2023!E44 -> 291 | F44: =pozyczki_3Q2023!F44+leasing_3Q2023!F44 -> 119 | G44: =pozyczki_3Q2023!G44+leasing_3Q2023!G44 -> 5468 | H44: =pozyczki_3Q2023!H44+leasing_3Q2023!H44 -> 3966 | I44: =pozyczki_3Q2023!I44+leasing_3Q2023!I44 -> 193 | J44: =pozyczki_3Q2023!J44+leasing_3Q2023!J44 -> 0 | ... BB44: =pozyczki_3Q2023!BB44+leasing_3Q2023!BB44 -> 37175
A45: 9 | B45: Grupa VB Leasing | C45: =pozyczki_3Q2023!C45+leasing_3Q2023!C45 -> 6637 | D45: =pozyczki_3Q2023!D45+leasing_3Q2023!D45 -> 2885 | E45: =pozyczki_3Q2023!E45+leasing_3Q2023!E45 -> 50 | F45: =pozyczki_3Q2023!F45+leasing_3Q2023!F45 -> 336 | G45: =pozyczki_3Q2023!G45+leasing_3Q2023!G45 -> 1256 | H45: =pozyczki_3Q2023!H45+leasing_3Q2023!H45 -> 919 | I45: =pozyczki_3Q2023!I45+leasing_3Q2023!I45 -> 3 | J45: =pozyczki_3Q2023!J45+leasing_3Q2023!J45 -> 4 | ... BB45: =pozyczki_3Q2023!BB45+leasing_3Q2023!BB45 -> 9174
A46: 10 | B46: Impuls-Leasing Polska Sp. z o. o. | C46: =pozyczki_3Q2023!C46+leasing_3Q2023!C46 -> 4029 | D46: =pozyczki_3Q2023!D46+leasing_3Q2023!D46 -> 2207 | E46: =pozyczki_3Q2023!E46+leasing_3Q2023!E46 -> 66 | F46: =pozyczki_3Q2023!F46+leasing_3Q2023!F46 -> 27 | G46: =pozyczki_3Q2023!G46+leasing_3Q2023!G46 -> 643 | H46: =pozyczki_3Q2023!H46+leasing_3Q2023!H46 -> 555 | I46: =pozyczki_3Q2023!I46+leasing_3Q2023!I46 -> 4 | J46: =pozyczki_3Q2023!J46+leasing_3Q2023!J46 -> 0 | ... BB46: =pozyczki_3Q2023!BB46+leasing_3Q2023!BB46 -> 5065
A47: 11 | B47: ING Lease (Polska) Sp. z o.o. | C47: =pozyczki_3Q2023!C47+leasing_3Q2023!C47 -> 15348 | D47: =pozyczki_3Q2023!D47+leasing_3Q2023!D47 -> 8097 | E47: =pozyczki_3Q2023!E47+leasing_3Q2023!E47 -> 304 | F47: =pozyczki_3Q2023!F47+leasing_3Q2023!F47 -> 128 | G47: =pozyczki_3Q2023!G47+leasing_3Q2023!G47 -> 3175 | H47: =pozyczki_3Q2023!H47+leasing_3Q2023!H47 -> 2565 | I47: =pozyczki_3Q2023!I47+leasing_3Q2023!I47 -> 44 | J47: =pozyczki_3Q2023!J47+leasing_3Q2023!J47 -> 0 | ... BB47: =pozyczki_3Q2023!BB47+leasing_3Q2023!BB47 -> 20351
A48: 12 | B48: Leasing Polski Sp. z o. o. | C48: =pozyczki_3Q2023!C48+leasing_3Q2023!C48 -> 1196 | D48: =pozyczki_3Q2023!D48+leasing_3Q2023!D48 -> 247 | E48: =pozyczki_3Q2023!E48+leasing_3Q2023!E48 -> 2 | F48: =pozyczki_3Q2023!F48+leasing_3Q2023!F48 -> 14 | G48: =pozyczki_3Q2023!G48+leasing_3Q2023!G48 -> 292 | H48: =pozyczki_3Q2023!H48+leasing_3Q2023!H48 -> 198 | I48: =pozyczki_3Q2023!I48+leasing_3Q2023!I48 -> 0 | J48: =pozyczki_3Q2023!J48+leasing_3Q2023!J48 -> 0 | ... BB48: =pozyczki_3Q2023!BB48+leasing_3Q2023!BB48 -> 1307
... A60: 24 | B60: Siemens Finance Sp. z o.o. | C60: =pozyczki_3Q2023!C60+leasing_3Q2023!C60 -> 23 | D60: =pozyczki_3Q2023!D60+leasing_3Q2023!D60 -> 6 | E60: =pozyczki_3Q2023!E60+leasing_3Q2023!E60 -> 0 | F60: =pozyczki_3Q2023!F60+leasing_3Q2023!F60 -> 0 | G60: =pozyczki_3Q2023!G60+leasing_3Q2023!G60 -> 13 | H60: =pozyczki_3Q2023!H60+leasing_3Q2023!H60 -> 2 | I60: =pozyczki_3Q2023!I60+leasing_3Q2023!I60 -> 0 | J60: =pozyczki_3Q2023!J60+leasing_3Q2023!J60 -> 0 | ... BB60: =pozyczki_3Q2023!BB60+leasing_3Q2023!BB60 -> 6889
B61: Razem | C61: =pozyczki_3Q2023!C61+leasing_3Q2023!C61 -> 213754 | D61: =pozyczki_3Q2023!D61+leasing_3Q2023!D61 -> 130908 | E61: =pozyczki_3Q2023!E61+leasing_3Q2023!E61 -> 3123 | F61: =pozyczki_3Q2023!F61+leasing_3Q2023!F61 -> 1840 | G61: =pozyczki_3Q2023!G61+leasing_3Q2023!G61 -> 33712 | H61: =pozyczki_3Q2023!H61+leasing_3Q2023!H61 -> 26921 | I61: =pozyczki_3Q2023!I61+leasing_3Q2023!I61 -> 541 | J61: =pozyczki_3Q2023!J61+leasing_3Q2023!J61 -> 5 | ... BB61: =pozyczki_3Q2023!BB61+leasing_3Q2023!BB61 -> 309977
A64: Warszawa. 25.04.2024r.
