Workbook

Sheet pozyczki_3Q2023
A1: Związek Polskiego Leasingu
A3: Wartość środków _ pożyczki (netto w tys. PLN ) | C3: 01.01.2023-30.09.2023
A6: Lp. | B6: Spółka | C6: POJAZDY | D6: Osobowe | E6: osobowe - zeroemisyjne | F6: osobowe - hybryda plug-in | G6: Cięzarowe: | H6: o masie do 3,5 tony | I6: o masie do 3,5 tony - zeroemisyjne | J6: o masie do 3,5 tony - hybryda plug-in | K6: o masie powyzej 3,5 tony | L6: o masie powyżej 3,5 tony - zeroemisyjne | M6: o masie powyżej 3,5 tony - hybryda plug-in | N6: ciagniki siodlowe | O6: ciągniki siodłowe - zeroemisyjne | P6: ciągniki siodłowe - hybryda plug-in | Q6: naczepy / przyczepy | R6: autobusy | S6: autobusy - zeroemisyjne | T6: autobusy - hybryda plug-in | U6: inne | V6: inne - zeroemisyjne | W6: inne - hybryda plug-in | X6: MiU | Y6: Sprzęt Budowlany | Z6: Maszyny Rolnicze | AA6: Maszyny Poligraf. | AB6: maszyny do produkcji tworzyw sztucznych | AC6: maszyny i urządzenia do obróbki metali | AD6: maszyny dla przemysłu spożywczego | AE6: Sprzęt Medyczny | AF6: Sprzęt Gastronom. | AG6: Wózki Widłowe | AH6: fotowoltaika | AI6: wiatraki i turbiny wiatrowe | AJ6: stacje ładowania pojazdów elektrycznych (na użytek własny i komercyjny) | AK6: inne MiU | AL6: IT | AM6: Sprzęt | AN6: Oprogram. | AO6: inne IT | AP6: POZOSTAŁE ŚRODKI TRANSPORTU | AQ6: Powietrzne | AR6: Wodne | AS6: Kolejowe | AT6: Inne ruchomości | AU6: RUCHOMOŚCI | AV6: Nieruchomości | AW6: budynki przemysłowe | AX6: obiekty handlowe i usługowe | AY6: obiekty biurowe | AZ6: hotele i obiekty rekreacyjne | BA6: inne | BB6: OGÓŁEM
A7: 1 | B7: Alior Leasing Sp. z o. o. | C7: 188812.5 | D7: 101157.09 | G7: 19772.729 | H7: 13876.771 | K7: 5895.957 | N7: 40606.098 | Q7: 21711.014 | R7: 924.65576 | U7: 4640.9203 | X7: 42159.644 | Y7: 5405.3748 | Z7: 12786.65 | AA7: 429.375 | AB7: 1192.49 | AC7: 1756.3572 | AD7: 291.83407 | AE7: 15930.397 | AG7: 269.49832 | AH7: 525.21159 | AK7: 3572.4565 | AL7: 4563.2961 | AM7: 4563.2961 | AP7: 0 | AU7: 235535.44 | AV7: 0 | BB7: 235535.44
A8: 2 | B8: BNP Paribas Lease Group Sp. z o.o. | C8: 103128.89 | D8: 10971.446 | E8: 349.50544 | F8: 0 | G8: 53643.823 | H8: 30797.288 | I8: 0 | J8: 0 | K8: 22846.535 | L8: 0 | M8: 0 | N8: 21277.741 | O8: 0 | P8: 0 | Q8: 17196.282 | R8: 0 | S8: 0 | T8: 0 | U8: 39.5978 | V8: 0 | W8: 0 | X8: 1115780.7 | Y8: 27903.386 | Z8: 1002008.9 | AA8: 23.502 | AB8: 0 | AC8: 4265.0418 | AD8: 1474.9652 | AE8: 26172.632 | AF8: 0 | AG8: 1470.8125 | AH8: 8533.493 | AI8: 0 | AJ8: 0 | AK8: 43927.946 | AL8: 15221.412 | AM8: 578.39233 | AN8: 14208.602 | AO8: 434.4181 | AP8: 0 | AQ8: 0 | AR8: 0 | AS8: 0 | AT8: 0 | AU8: 1234131 | AV8: 0 | AW8: 0 | AX8: 0 | AY8: 0 | AZ8: 0 | BA8: 0 | BB8: 1234131
A9: 3 | B9: BOŚ Leasing - EKO Profit S.A. | C9: 66.31999 | G9: 0 | U9: 66.31999 | X9: 2816.6953 | Y9: 924.14377 | Z9: 1000.7228 | AE9: 149.99256 | AH9: 624.85109 | AK9: 116.985 | AL9: 0 | AP9: 0 | AU9: 2883.0152 | AV9: 0 | BB9: 2883.0152
A10: 4 | B10: BPS Leasing Spółka Akcyjna (BPS Leasing S.A.) | C10: 0 | G10: 0 | X10: 0 | AL10: 0 | AP10: 0 | AU10: 0 | AV10: 0 | BB10: 0
A11: 5 | B11: Caterpillar Financial Services Poland Sp. z o.o. | C11: 0 | G11: 0 | X11: 41154.881 | Y11: 41154.881 | AL11: 0 | AP11: 0 | AU11: 41154.881 | AV11: 0 | BB11: 41154.881
A12: 6 | B12: De Lage Landen Leasing Polska S.A. | C12: 7194 | D12: 615 | G12: 0 | N12: 544 | Q12: 6035 | X12: 501556 | Y12: 5194 | Z12: 471550 | AE12: 16804 | AH12: 2769 | AK12: 5239 | AL12: 15239 | AM12: 5206 | AN12: 10033 | AP12: 0 | AU12: 523989 | AV12: 0 | BB12: 523989
A13: 7 | B13: Deutsche Leasing Polska S.A. | C13: 75034 | D13: 356 | G13: 326 | H13: 326 | N13: 12426 | Q13: 61926 | X13: 56341 | Y13: 1330 | Z13: 49273 | AA13: 0 | AB13: 2212 | AC13: 840 | AD13: 0 | AE13: 0 | AF13: 0 | AG13: 0 | AK13: 2686 | AL13: 0 | AP13: 0 | AU13: 131375 | AV13: 0 | BB13: 131375
A14: 8 | B14: Europejski Fundusz Leasingowy S.A. | C14: 89899.43 | D14: 25800.173 | E14: 1005.4228 | F14: 0 | G14: 12079.898 | H14: 10808.045 | I14: 269.5935 | J14: 0 | K14: 1271.8529 | N14: 28527.833 | Q14: 23046.526 | R14: 445 | X14: 581085.98 | Y14: 19847.039 | Z14: 504386.56 | AA14: 646.91594 | AB14: 940.23316 | AC14: 6318.2034 | AD14: 11741.229 | AE14: 15706.212 | AF14: 957.84478 | AG14: 2331.2141 | AH14: 4740.2852 | AK14: 13470.239 | AL14: 1965.4475 | AM14: 435.17374 | AN14: 1339.318 | AO14: 190.95573 | AP14: 5767.5236 | AQ14: 392.17986 | AR14: 5375.3438 | AU14: 678718.38 | AV14: 0 | BB14: 678718.38
A15: 9 | B15: Grupa VB Leasing | C15: 149949.95 | D15: 39814.758 | E15: 723.80532 | F15: 4276.1673 | G15: 23727.15 | H15: 7489.1413 | J15: 429.93182 | K15: 16238.009 | M15: 261.77792 | N15: 48518.713 | P15: 3382.9378 | Q15: 32724.857 | R15: 2109.1946 | U15: 3055.2754 | X15: 174026.85 | Y15: 9533.7435 | Z15: 131014.35 | AA15: 439.34234 | AB15: 7.62331 | AC15: 5053.0037 | AD15: 1417.4186 | AE15: 16802.397 | AF15: 542.74709 | AG15: 351.41572 | AH15: 1536.2534 | AK15: 7328.5478 | AL15: 88.76335 | AM15: 88.76335 | AN15: 0 | AO15: 0 | AP15: 8037.6618 | AQ15: 21.945 | AR15: 8015.7168 | AS15: 0 | AT15: 3525.3243 | AU15: 335628.54 | AV15: 0 | BB15: 335628.54
A16: 10 | B16: Impuls-Leasing Polska Sp. z o. o. | C16: 101081.23 | D16: 35162.92 | E16: 2476.64 | F16: 235.8 | G16: 9614.13 | H16: 6651.34 | I16: 124.72 | K16: 2962.79 | N16: 35348.52 | Q16: 19253.23 | R16: 290 | U16: 1412.43 | X16: 16544.91 | Y16: 5131.24 | Z16: 1305.97 | AA16: 979.28 | AC16: 1324.81 | AE16: 2172.42 | AF16: 495.69 | AG16: 504.88 | AH16: 59.04 | AK16: 4571.58 | AL16: 0 | AP16: 0 | AU16: 117626.14 | AV16: 0 | BB16: 117626.14
A17: 11 | B17: ING Lease (Polska) Sp. z o.o. | C17: 11140 | D17: 11140 | G17: 0 | H17: 0 | K17: 0 | N17: 0 | Q17: 0 | R17: 0 | U17: 0 | X17: 77829 | Y17: 2053 | Z17: 3015 | AA17: 30098 | AB17: 4666 | AC17: 448 | AD17: 0 | AE17: 11530 | AF17: 0 | AG17: 0 | AH17: 0 | AK17: 26019 | AL17: 0 | AM17: 0 | AN17: 0 | AO17: 0 | AP17: 0 | AQ17: 0 | AR17: 0 | AS17: 0 | AT17: 14884 | AU17: 103853 | AV17: 0 | AW17: 0 | AX17: 0 | AY17: 0 | AZ17: 0 | BA17: 0 | BB17: 103853
A18: 12 | B18: Leasing Polski Sp. z o. o. | C18: 0 | G18: 0 | X18: 0 | AL18: 0 | AP18: 0 | AU18: 0 | AV18: 0 | BB18: 0
A19: 13 | B19: Mercedes-Benz Leasing Polska Sp. z o.o. | C19: 436647.95 | D19: 206246.26 | E19: 5480.6786 | F19: 8815.0251 | G19: 60599.11 | H19: 37157.106 | I19: 265.2495 | K19: 23442.004 | N19: 159223.91 | Q19: 5078.4862 | R19: 5500.1909 | X19: 0 | AL19: 0 | AP19: 0 | AU19: 436647.95 | AV19: 0 | BB19: 436647.95
A20: 14 | B20: Millennium Leasing Sp. z o.o. | C20: 0 | G20: 0 | X20: 0 | AL20: 0 | AP20: 0 | AU20: 0 | AV20: 0 | BB20: 0
A21: 15 | B21: mLeasing Sp. z o.o. | C21: 84282.111 | G21: 13067.121 | K21: 13067.121 | N21: 53939.6 | Q21: 9317.485 | R21: 2452.5752 | U21: 5505.3299 | X21: 313143.62 | Y21: 6232.8685 | Z21: 5227.1911 | AA21: 3474.6305 | AB21: 37542.002 | AC21: 18734.427 | AD21: 14924.862 | AE21: 118891.66 | AF21: 115.75944 | AG21: 1923.1945 | AK21: 106077.03 | AL21: 1555.4807 | AM21: 1555.4807 | AP21: 18779.361 | AQ21: 514.42082 | AR21: 18264.94 | AT21: 46814.215 | AU21: 464574.79 | AV21: 0 | BB21: 464574.79
A22: 16 | B22: PEAC (Poland) Sp. z o.o. | C22: 18714 | D22: 6643 | F22: 88 | G22: 2116 | H22: 2116 | N22: 704 | Q22: 7971 | U22: 1280 | X22: 22998 | Y22: 1148 | Z22: 11895 | AB22: 145 | AC22: 281 | AE22: 109 | AG22: 246 | AK22: 9174 | AL22: 0 | AP22: 0 | AU22: 41712 | AV22: 0 | BB22: 41712
A23: 17 | B23: PEKAO Leasing Sp. z o.o. | C23: 206990.49 | D23: 60696.339 | E23: 263.76848 | F23: 0 | G23: 8806.3731 | H23: 5677.0005 | I23: 0 | J23: 0 | K23: 3129.3726 | L23: 0 | M23: 0 | N23: 104278.04 | O23: 0 | P23: 0 | Q23: 21849.335 | R23: 6000 | S23: 0 | T23: 0 | U23: 5360.4034 | V23: 0 | W23: 0 | X23: 382004.08 | Y23: 31492.876 | Z23: 110827.56 | AA23: 14546.799 | AB23: 25268.488 | AC23: 69033.361 | AD23: 21992.29 | AE23: 9898.0958 | AF23: 0 | AG23: 1866.8395 | AH23: 4446.0522 | AI23: 0 | AJ23: 0 | AK23: 92631.722 | AL23: 8045.2544 | AM23: 7970.0901 | AN23: 75.16432 | AO23: 0 | AP23: 113052.04 | AQ23: 2066.9492 | AR23: 29323.58 | AS23: 81661.512 | AT23: 1403.1017 | AU23: 711494.97 | AV23: 3049.06 | AW23: 221.154 | AX23: 2827.906 | AY23: 0 | AZ23: 0 | BA23: 0 | BB23: 714544.03
A24: 18 | B24: PKO Leasing S.A. | C24: 532593.32 | D24: 246479.52 | E24: 1669.4559 | F24: 1734.4 | G24: 46904.86 | H24: 29027.831 | I24: 325.4211 | K24: 17877.029 | N24: 142771.75 | Q24: 66715.783 | R24: 28257.752 | U24: 1463.656 | X24: 652489.02 | Y24: 20907.715 | Z24: 342527.03 | AA24: 7575.192 | AB24: 20724.116 | AC24: 34014.718 | AD24: 15917.966 | AE24: 57668.373 | AF24: 56.45651 | AG24: 3262.2663 | AH24: 59858.979 | AK24: 89976.211 | AL24: 717.32167 | AM24: 32.114133 | AN24: 545.27878 | AO24: 139.92876 | AP24: 28644.436 | AQ24: 28400 | AR24: 244.43601 | AU24: 1214444.1 | AV24: 0 | BB24: 1214444.1
A25: 19 | B25: Santander Consumer Multirent Sp.z o.o. | C25: 370011.27 | D25: 333700.92 | G25: 35239.579 | H25: 35239.579 | U25: 1070.778 | X25: 0 | AL25: 0 | AP25: 0 | AU25: 370011.27 | AV25: 0 | BB25: 370011.27
A26: 20 | B26: Santander Leasing S.A. | C26: 411063.23 | D26: 243089.38 | E26: 4352.6212 | F26: 5984.3475 | G26: 41649.357 | H26: 20789.787 | I26: 0 | J26: 0 | K26: 20859.571 | L26: 0 | M26: 0 | N26: 79649.733 | O26: 0 | P26: 0 | Q26: 39947.411 | R26: 2940.8606 | S26: 0 | T26: 0 | U26: 3786.4868 | V26: 3 | W26: 0 | X26: 1194488.1 | Y26: 16022.482 | Z26: 760624.67 | AA26: 31380.115 | AB26: 40657.057 | AC26: 38471.95 | AD26: 341.2322 | AE26: 88707.615 | AF26: 367.3258 | AG26: 1781.7574 | AH26: 77399.956 | AI26: 0 | AJ26: 0 | AK26: 138733.9 | AL26: 29759.274 | AM26: 29759.274 | AN26: 0 | AO26: 0 | AP26: 8628.5777 | AQ26: 6877.8487 | AR26: 1750.729 | AS26: 0 | AT26: 848.3 | AU26: 1644787.4 | AV26: 14996.987 | AW26: 0 | AX26: 0 | AY26: 0 | AZ26: 0 | BA26: 14996.987 | BB26: 1659784.4
A27: 21 | B27: Scania Finance Polska Sp. z o.o. | C27: 48970 | D27: 260 | G27: 0 | N27: 47410 | Q27: 1300 | X27: 0 | AL27: 0 | AP27: 0 | AU27: 48970 | AV27: 0 | BB27: 48970
A28: 22 | B28: SG Equipment Leasing Polska Sp. z o.o. | C28: 3226.3203 | G28: 0 | N28: 1756.5222 | Q28: 1469.7981 | X28: 72321.614 | Y28: 13354.861 | Z28: 46948.482 | AE28: 132.594 | AG28: 4451.7464 | AH28: 215.68 | AK28: 7218.2504 | AL28: 87575.799 | AM28: 71938.762 | AN28: 15637.037 | AP28: 0 | AU28: 163123.73 | AV28: 0 | BB28: 163123.73
A29: 23 | B29: SGB Leasing Sp. z o.o. | C29: 8612 | D29: 2656 | F29: 288 | G29: 4872 | H29: 4872 | Q29: 790 | U29: 294 | X29: 40541 | Y29: 2897 | Z29: 21750 | AD29: 432 | AE29: 1751 | AH29: 3562 | AK29: 10149 | AL29: 124 | AM29: 98 | AN29: 26 | AP29: 0 | AU29: 49277 | AV29: 0 | BB29: 49277
A30: 24 | B30: Siemens Finance Sp. z o.o. | C30: 0 | G30: 0 | X30: 0 | AL30: 0 | AP30: 0 | AU30: 0 | AV30: 0 | BB30: 0
A31: 25 | B31: Razem | C31: 2847417 | D31: 1324788.8 | E31: 16321.898 | F31: 21421.74 | G31: 332418.13 | H31: 204827.89 | I31: 984.9841 | J31: 429.93182 | K31: 127590.24 | L31: 0 | M31: 261.77792 | N31: 776982.46 | O31: 0 | P31: 3382.9378 | Q31: 336332.21 | R31: 48920.229 | S31: 0 | T31: 0 | U31: 27975.197 | V31: 3 | W31: 0 | X31: 5287281 | Y31: 210532.61 | Z31: 3476141.1 | AA31: 89593.152 | AB31: 133355.01 | AC31: 180540.87 | AD31: 68533.798 | AE31: 382426.39 | AF31: 2535.8236 | AG31: 18459.625 | AH31: 164270.8 | AI31: 0 | AJ31: 0 | AK31: 560891.87 | AL31: 164855.05 | AM31: 122225.35 | AN31: 41864.4 | AO31: 765.30259 | AP31: 182909.6 | AQ31: 38273.344 | AR31: 62974.746 | AS31: 81661.512 | AT31: 67474.941 | AU31: 8549937.6 | AV31: 18046.047 | AW31: 221.154 | AX31: 2827.906 | AY31: 0 | AZ31: 0 | BA31: 14996.987 | BB31: 8567983.7
A33: Ilość środków _pożyczki/. | C33: 01.01.2023-30.09.2023
A36: Lp. | B36: Spółka | C36: POJAZDY | D36: Osobowe | E36: osobowe - zeroemisyjne | F36: osobowe - hybryda plug-in | G36: Cięzarowe: | H36: o masie do 3,5 tony | I36: o masie do 3,5 tony - zeroemisyjne | J36: o masie do 3,5 tony - hybryda plug-in | K36: o masie powyzej 3,5 tony | L36: o masie powyżej 3,5 tony - zeroemisyjne | M36: o masie powyżej 3,5 tony - hybryda plug-in | N36: ciagniki siodlowe | O36: ciągniki siodłowe - zeroemisyjne | P36: ciągniki siodłowe - hybryda plug-in | Q36: naczepy / przyczepy | R36: autobusy | S36: autobusy - zeroemisyjne | T36: autobusy - hybryda plug-in | U36: inne | V36: inne - zeroemisyjne | W36: inne - hybryda plug-in | X36: MiU | Y36: Sprzęt Budowlany | Z36: Maszyny Rolnicze | AA36: Maszyny Poligraf. | AB36: maszyny do produkcji tworzyw sztucznych | AC36: maszyny i urządzenia do obróbki metali | AD36: maszyny dla przemysłu spożywczego | AE36: Sprzęt Medyczny | AF36: Sprzęt Gastronom. | AG36: Wózki Widłowe | AH36: fotowoltaika | AI36: wiatraki i turbiny wiatrowe | AJ36: stacje ładowania pojazdów elektrycznych (na użytek własny i komercyjny) | AK36: inne MiU | AL36: IT | AM36: Sprzęt | AN36: Oprogram. | AO36: inne IT | AP36: POZOSTAŁE ŚRODKI TRANSPORTU | AQ36: Powietrzne | AR36: Wodne | AS36: Kolejowe | AT36: Inne ruchomości | AU36: RUCHOMOŚCI | AV36: Nieruchomości | AW36: budynki przemysłowe | AX36: obiekty handlowe i usługowe | AY36: obiekty biurowe | AZ36: hotele i obiekty rekreacyjne | BA36: inne | BB36: OGÓŁEM
A37: 1 | B37: Alior Leasing Sp. z o. o. | C37: 1571 | D37: 954 | G37: 221 | H37: 185 | K37: 36 | N37: 158 | Q37: 192 | R37: 6 | U37: 40 | X37: 265 | Y37: 33 | Z37: 76 | AA37: 5 | AB37: 4 | AC37: 17 | AD37: 8 | AE37: 79 | AG37: 3 | AH37: 4 | AK37: 36 | AL37: 1 | AM37: 1 | AP37: 0 | AU37: 1837 | AV37: 0 | BB37: 1837
A38: 2 | B38: BNP Paribas Lease Group Sp. z o.o. | C38: 494 | D38: 114 | E38: 2 | F38: 0 | G38: 226 | H38: 166 | I38: 0 | J38: 0 | K38: 60 | L38: 0 | M38: 0 | N38: 46 | O38: 0 | P38: 0 | Q38: 106 | R38: 0 | S38: 0 | T38: 0 | U38: 2 | V38: 0 | W38: 0 | X38: 3311 | Y38: 77 | Z38: 2600 | AA38: 1 | AB38: 0 | AC38: 2 | AD38: 2 | AE38: 463 | AF38: 0 | AG38: 11 | AH38: 57 | AI38: 0 | AJ38: 0 | AK38: 98 | AL38: 237 | AM38: 3 | AN38: 230 | AO38: 4 | AP38: 0 | AQ38: 0 | AR38: 0 | AS38: 0 | AT38: 0 | AU38: 4042 | AV38: 0 | AW38: 0 | AX38: 0 | AY38: 0 | AZ38: 0 | BA38: 0 | BB38: 4042
A39: 3 | B39: BOŚ Leasing - EKO Profit S.A. | C39: 1 | G39: 0 | U39: 1 | X39: 10 | Y39: 2 | Z39: 3 | AE39: 1 | AH39: 3 | AK39: 1 | AL39: 0 | AP39: 0 | AU39: 11 | AV39: 0 | BB39: 11
A40: 4 | B40: BPS Leasing Spółka Akcyjna (BPS Leasing S.A.) | C40: 0 | G40: 0 | X40: 0 | AL40: 0 | AP40: 0 | AU40: 0 | AV40: 0 | BB40: 0
A41: 5 | B41: Caterpillar Financial Services Poland Sp. z o.o. | C41: 0 | G41: 0 | X41: 96 | Y41: 96 | AL41: 0 | AP41: 0 | AU41: 96 | AV41: 0 | BB41: 96
A42: 6 | B42: De Lage Landen Leasing Polska S.A. | C42: 41 | D42: 3 | G42: 0 | N42: 1 | Q42: 37 | X42: 1457 | Y42: 15 | Z42: 1235 | AE42: 166 | AH42: 24 | AK42: 17 | AL42: 11 | AM42: 4 | AN42: 7 | AP42: 0 | AU42: 1509 | AV42: 0 | BB42: 1509
A43: 7 | B43: Deutsche Leasing Polska S.A. | C43: 389 | D43: 2 | G43: 1 | H43: 1 | N43: 25 | Q43: 361 | X43: 98 | Y43: 2 | Z43: 83 | AA43: 0 | AB43: 6 | AC43: 1 | AD43: 0 | AE43: 0 | AF43: 0 | AG43: 0 | AK43: 6 | AL43: 0 | AP43: 0 | AU43: 487 | AV43: 0 | BB43: 487
A44: 8 | B44: Europejski Fundusz Leasingowy S.A. | C44: 541 | D44: 193 | E44: 4 | F44: 0 | G44: 64 | H44: 57 | I44: 1 | J44: 0 | K44: 7 | N44: 113 | Q44: 170 | R44: 1 | X44: 1502 | Y44: 97 | Z44: 1019 | AA44: 7 | AB44: 4 | AC44: 16 | AD44: 9 | AE44: 155 | AF44: 22 | AG44: 9 | AH44: 41 | AK44: 123 | AL44: 44 | AM44: 12 | AN44: 21 | AO44: 11 | AP44: 43 | AQ44: 2 | AR44: 41 | AU44: 2130 | AV44: 0 | BB44: 2130
A45: 9 | B45: Grupa VB Leasing | C45: 1043 | D45: 380 | E45: 6 | F45: 32 | G45: 152 | H45: 81 | J45: 4 | K45: 71 | M45: 2 | N45: 199 | P45: 12 | Q45: 260 | R45: 9 | U45: 43 | X45: 1062 | Y45: 44 | Z45: 689 | AA45: 3 | AB45: 1 | AC45: 14 | AD45: 13 | AE45: 190 | AF45: 7 | AG45: 7 | AH45: 15 | AK45: 79 | AL45: 4 | AM45: 4 | AN45: 0 | AO45: 0 | AP45: 40 | AQ45: 1 | AR45: 39 | AS45: 0 | AT45: 53 | AU45: 2202 | AV45: 0 | BB45: 2202
A46: 10 | B46: Impuls-Leasing Polska Sp. z o. o. | C46: 384 | D46: 150 | E46: 11 | F46: 1 | G46: 32 | H46: 29 | I46: 1 | K46: 3 | N46: 78 | Q46: 115 | R46: 1 | U46: 8 | X46: 71 | Y46: 8 | Z46: 9 | AA46: 8 | AC46: 1 | AE46: 20 | AF46: 2 | AG46: 2 | AH46: 1 | AK46: 20 | AL46: 0 | AP46: 0 | AU46: 455 | AV46: 0 | BB46: 455
A47: 11 | B47: ING Lease (Polska) Sp. z o.o. | C47: 119 | D47: 119 | G47: 0 | H47: 0 | K47: 0 | N47: 0 | Q47: 0 | R47: 0 | U47: 0 | X47: 26 | Y47: 2 | Z47: 1 | AA47: 4 | AB47: 1 | AC47: 1 | AD47: 1 | AE47: 7 | AF47: 0 | AG47: 0 | AH47: 0 | AK47: 9 | AL47: 0 | AM47: 0 | AN47: 0 | AO47: 0 | AP47: 0 | AQ47: 0 | AR47: 0 | AS47: 0 | AT47: 0 | AU47: 145 | AV47: 1 | AW47: 0 | AX47: 0 | AY47: 0 | AZ47: 0 | BA47: 1 | BB47: 146
A48: 12 | B48: Leasing Polski Sp. z o. o. | C48: 0 | G48: 0 | X48: 0 | AL48: 0 | AP48: 0 | AU48: 0 | AV48: 0 | BB48: 0
A49: 13 | B49: Mercedes-Benz Leasing Polska Sp. z o.o. | C49: 1657 | D49: 871 | E49: 19 | F49: 32 | G49: 331 | H49: 264 | I49: 2 | K49: 67 | N49: 408 | Q49: 43 | R49: 4 | X49: 0 | AL49: 0 | AP49: 0 | AU49: 1657 | AV49: 0 | BB49: 1657
A50: 14 | B50: Millennium Leasing Sp. z o.o. | C50: 0 | G50: 0 | X50: 0 | AL50: 0 | AP50: 0 | AU50: 0 | AV50: 0 | BB50: 0
A51: 15 | B51: mLeasing Sp. z o.o. | C51: 172 | G51: 25 | K51: 25 | N51: 103 | Q51: 40 | R51: 2 | U51: 2 | X51: 945 | Y51: 12 | Z51: 5 | AA51: 4 | AB51: 7 | AC51: 13 | AD51: 9 | AE51: 750 | AF51: 1 | AG51: 15 | AK51: 129 | AL51: 34 | AM51: 34 | AP51: 6 | AQ51: 1 | AR51: 5 | AT51: 115 | AU51: 1272 | AV51: 0 | BB51: 1272
A52: 16 | B52: PEAC (Poland) Sp. z o.o. | C52: 134 | D52: 64 | F52: 1 | G52: 15 | H52: 15 | N52: 5 | Q52: 45 | U52: 5 | X52: 171 | Y52: 5 | Z52: 78 | AB52: 2 | AC52: 1 | AE52: 2 | AG52: 1 | AK52: 82 | AL52: 0 | AP52: 0 | AU52: 305 | AV52: 0 | BB52: 305
A53: 17 | B53: PEKAO Leasing Sp. z o.o. | C53: 906 | D53: 506 | E53: 1 | F53: 0 | G53: 43 | H53: 36 | I53: 0 | J53: 0 | K53: 7 | L53: 0 | M53: 0 | N53: 225 | O53: 0 | P53: 0 | Q53: 123 | R53: 6 | S53: 0 | T53: 0 | U53: 3 | V53: 0 | W53: 0 | X53: 549 | Y53: 42 | Z53: 245 | AA53: 5 | AB53: 17 | AC53: 42 | AD53: 20 | AE53: 40 | AF53: 0 | AG53: 2 | AH53: 22 | AI53: 0 | AJ53: 0 | AK53: 114 | AL53: 8 | AM53: 7 | AN53: 1 | AO53: 0 | AP53: 11 | AQ53: 1 | AR53: 3 | AS53: 7 | AT53: 1 | AU53: 1475 | AV53: 5 | AW53: 1 | AX53: 4 | AY53: 0 | AZ53: 0 | BA53: 0 | BB53: 1480
A54: 18 | B54: PKO Leasing S.A. | C54: 3347 | D54: 1849 | E54: 6 | F54: 6 | G54: 210 | H54: 167 | I54: 1 | K54: 43 | N54: 452 | Q54: 701 | R54: 113 | U54: 22 | X54: 2400 | Y54: 90 | Z54: 1374 | AA54: 6 | AB54: 26 | AC54: 44 | AD54: 33 | AE54: 484 | AF54: 1 | AG54: 20 | AH54: 47 | AK54: 275 | AL54: 15 | AM54: 3 | AN54: 7 | AO54: 5 | AP54: 2 | AQ54: 1 | AR54: 1 | AU54: 5764 | AV54: 0 | BB54: 5764
A55: 19 | B55: Santander Consumer Multirent Sp.z o.o. | C55: 7954 | D55: 7702 | G55: 229 | H55: 229 | U55: 23 | X55: 0 | AL55: 0 | AP55: 0 | AU55: 7954 | AV55: 0 | BB55: 7954
A56: 20 | B56: Santander Leasing S.A. | C56: 2769 | D56: 2027 | E56: 24 | F56: 31 | G56: 188 | H56: 133 | I56: 0 | J56: 0 | K56: 55 | L56: 0 | M56: 0 | N56: 184 | O56: 0 | P56: 0 | Q56: 236 | R56: 9 | S56: 0 | T56: 0 | U56: 125 | V56: 1 | W56: 0 | X56: 6344 | Y56: 56 | Z56: 4007 | AA56: 13 | AB56: 18 | AC56: 31 | AD56: 6 | AE56: 1241 | AF56: 33 | AG56: 18 | AH56: 372 | AI56: 0 | AJ56: 0 | AK56: 549 | AL56: 88 | AM56: 88 | AN56: 0 | AO56: 0 | AP56: 20 | AQ56: 4 | AR56: 16 | AS56: 0 | AT56: 26 | AU56: 9247 | AV56: 30 | AW56: 0 | AX56: 0 | AY56: 0 | AZ56: 0 | BA56: 30 | BB56: 9277
A57: 21 | B57: Scania Finance Polska Sp. z o.o. | C57: 103 | D57: 1 | G57: 0 | N57: 96 | Q57: 6 | X57: 0 | AL57: 0 | AP57: 0 | AU57: 103 | AV57: 0 | BB57: 103
A58: 22 | B58: SG Equipment Leasing Polska Sp. z o.o. | C58: 18 | G58: 0 | N58: 6 | Q58: 12 | X58: 212 | Y58: 34 | Z58: 148 | AE58: 1 | AG58: 4 | AH58: 1 | AK58: 24 | AL58: 113 | AM58: 108 | AN58: 5 | AP58: 0 | AU58: 343 | AV58: 0 | BB58: 343
A59: 23 | B59: SGB Leasing Sp. z o.o. | C59: 45 | D59: 11 | F59: 1 | G59: 29 | H59: 29 | Q59: 4 | U59: 1 | X59: 110 | Y59: 9 | Z59: 70 | AD59: 1 | AE59: 14 | AH59: 7 | AK59: 9 | AL59: 2 | AM59: 1 | AN59: 1 | AP59: 0 | AU59: 157 | AV59: 0 | BB59: 157
A60: 24 | B60: Siemens Finance Sp. z o.o. | C60: 0 | G60: 0 | X60: 0 | AL60: 0 | AP60: 0 | AU60: 0 | AV60: 0 | BB60: 0
A61: 25 | B61: Razem | C61: 21688 | D61: 14946 | E61: 73 | F61: 104 | G61: 1766 | H61: 1392 | I61: 5 | J61: 4 | K61: 374 | L61: 0 | M61: 2 | N61: 2099 | O61: 0 | P61: 12 | Q61: 2451 | R61: 151 | S61: 0 | T61: 0 | U61: 275 | V61: 1 | W61: 0 | X61: 18629 | Y61: 624 | Z61: 11642 | AA61: 56 | AB61: 86 | AC61: 183 | AD61: 102 | AE61: 3613 | AF61: 66 | AG61: 92 | AH61: 594 | AI61: 0 | AJ61: 0 | AK61: 1571 | AL61: 557 | AM61: 265 | AN61: 272 | AO61: 20 | AP61: 122 | AQ61: 10 | AR61: 105 | AS61: 7 | AT61: 195 | AU61: 41191 | AV61: 36 | AW61: 1 | AX61: 4 | AY61: 0 | AZ61: 0 | BA61: 31 | BB61: 41227
A63: Średnia wartość środków _pożyczki_(tys. PLN) | C63: 2023q3
C64: 01.01.2023-30.09.2023
A66: Lp. | B66: Spółka | C66: POJAZDY | D66: Osobowe | E66: osobowe - zeroemisyjne | F66: osobowe - hybryda plug-in | G66: Cięzarowe: | H66: o masie do 3,5 tony | I66: o masie do 3,5 tony - zeroemisyjne | J66: o masie do 3,5 tony - hybryda plug-in | K66: o masie powyzej 3,5 tony | L66: o masie powyżej 3,5 tony - zeroemisyjne | M66: o masie powyżej 3,5 tony - hybryda plug-in | N66: ciagniki siodlowe | O66: ciągniki siodłowe - zeroemisyjne | P66: ciągniki siodłowe - hybryda plug-in | Q66: naczepy / przyczepy | R66: autobusy | S66: autobusy - zeroemisyjne | T66: autobusy - hybryda plug-in | U66: inne | V66: inne - zeroemisyjne | W66: inne - hybryda plug-in | X66: MiU | Y66: Sprzęt Budowlany | Z66: Maszyny Rolnicze | AA66: Maszyny Poligraf. | AB66: maszyny do produkcji tworzyw sztucznych | AC66: maszyny i urządzenia do obróbki metali | AD66: maszyny dla przemysłu spożywczego | AE66: Sprzęt Medyczny | AF66: Sprzęt Gastronom. | AG66: Wózki Widłowe | AH66: fotowoltaika | AI66: wiatraki i turbiny wiatrowe | AJ66: stacje ładowania pojazdów elektrycznych (na użytek własny i komercyjny) | AK66: inne MiU | AL66: IT | AM66: Sprzęt | AN66: Oprogram. | AO66: inne IT | AP66: POZOSTAŁE ŚRODKI TRANSPORTU | AQ66: Powietrzne | AR66: Wodne | AS66: Kolejowe | AT66: Inne ruchomości | AU66: RUCHOMOŚCI | AV66: Nieruchomości | AW66: budynki przemysłowe | AX66: obiekty handlowe i usługowe | AY66: obiekty biurowe | AZ66: hotele i obiekty rekreacyjne | BA66: inne | BB66: OGÓŁEM
A67: 1 | B67: Alior Leasing Sp. z o. o. | C67: 120.18619 | D67: 106.03468 | G67: 89.46936 | H67: 75.009576 | K67: 163.77658 | N67: 257.00062 | Q67: 113.0782 | R67: 154.10929 | U67: 116.02301 | X67: 159.093 | Y67: 163.79924 | Z67: 168.2454 | AA67: 85.875 | AB67: 298.1225 | AC67: 103.31513 | AD67: 36.479259 | AE67: 201.65059 | AG67: 89.832773 | AH67: 131.3029 | AK67: 99.234903 | AL67: 4563.2961 | AM67: 4563.2961 | AU67: 128.21744 | BB67: 128.21744
A68: 2 | B68: BNP Paribas Lease Group Sp. z o.o. | C68: 208.76294 | D68: 96.240755 | E68: 174.75272 | G68: 237.36205 | H68: 185.52583 | K68: 380.77558 | N68: 462.55959 | Q68: 162.22908 | U68: 19.7989 | X68: 336.99204 | Y68: 362.38164 | Z68: 385.38803 | AA68: 23.502 | AC68: 2132.5209 | AD68: 737.48262 | AE68: 56.528363 | AG68: 133.71023 | AH68: 149.7104 | AK68: 448.24435 | AL68: 64.225369 | AM68: 192.79744 | AN68: 61.776531 | AO68: 108.60452 | AU68: 305.32681 | BB68: 305.32681
A69: 3 | B69: BOŚ Leasing - EKO Profit S.A. | C69: 66.31999 | U69: 66.31999 | X69: 281.66953 | Y69: 462.07189 | Z69: 333.57428 | AE69: 149.99256 | AH69: 208.2837 | AK69: 116.985 | AU69: 262.09229 | BB69: 262.09229
A70: 4 | B70: BPS Leasing Spółka Akcyjna (BPS Leasing S.A.)
A71: 5 | B71: Caterpillar Financial Services Poland Sp. z o.o. | X71: 428.69668 | Y71: 428.69668 | AU71: 428.69668 | BB71: 428.69668
A72: 6 | B72: De Lage Landen Leasing Polska S.A. | C72: 175.46341 | D72: 205 | N72: 544 | Q72: 163.10811 | X72: 344.23885 | Y72: 346.26667 | Z72: 381.82186 | AE72: 101.22892 | AH72: 115.375 | AK72: 308.17647 | AL72: 1385.3636 | AM72: 1301.5 | AN72: 1433.2857 | AU72: 347.24254 | BB72: 347.24254
A73: 7 | B73: Deutsche Leasing Polska S.A. | C73: 192.88946 | D73: 178 | G73: 326 | H73: 326 | N73: 497.04 | Q73: 171.54017 | X73: 574.90816 | Y73: 665 | Z73: 593.6506 | AB73: 368.66667 | AC73: 840 | AK73: 447.66667 | AU73: 269.76386 | BB73: 269.76386
A74: 8 | B74: Europejski Fundusz Leasingowy S.A. | C74: 166.1727 | D74: 133.67965 | E74: 251.35569 | G74: 188.74841 | H74: 189.61483 | I74: 269.5935 | K74: 181.69327 | N74: 252.4587 | Q74: 135.5678 | R74: 445 | X74: 386.87482 | Y74: 204.60865 | Z74: 494.98191 | AA74: 92.416563 | AB74: 235.05829 | AC74: 394.88771 | AD74: 1304.581 | AE74: 101.3304 | AF74: 43.538399 | AG74: 259.02379 | AH74: 115.61671 | AK74: 109.51413 | AL74: 44.669261 | AM74: 36.264478 | AN74: 63.777048 | AO74: 17.359612 | AP74: 134.12846 | AQ74: 196.08993 | AR74: 131.10595 | AU74: 318.64713 | BB74: 318.64713
A75: 9 | B75: Grupa VB Leasing | C75: 143.76793 | D75: 104.77568 | E75: 120.63422 | F75: 133.63023 | G75: 156.09967 | H75: 92.458534 | J75: 107.48296 | K75: 228.70435 | M75: 130.88896 | N75: 243.81263 | P75: 281.91148 | Q75: 125.86483 | R75: 234.35495 | U75: 71.052916 | X75: 163.86709 | Y75: 216.67599 | Z75: 190.15146 | AA75: 146.44745 | AB75: 7.62331 | AC75: 360.92884 | AD75: 109.0322 | AE75: 88.433671 | AF75: 77.535299 | AG75: 50.202246 | AH75: 102.4169 | AK75: 92.766428 | AL75: 22.190838 | AM75: 22.190838 | AP75: 200.94154 | AQ75: 21.945 | AR75: 205.5312 | AT75: 66.515552 | AU75: 152.41987 | BB75: 152.41987
A76: 10 | B76: Impuls-Leasing Polska Sp. z o. o. | C76: 263.23237 | D76: 234.41947 | E76: 225.14909 | F76: 235.8 | G76: 300.44156 | H76: 229.35655 | I76: 124.72 | K76: 987.59667 | N76: 453.18615 | Q76: 167.41939 | R76: 290 | U76: 176.55375 | X76: 233.0269 | Y76: 641.405 | Z76: 145.10778 | AA76: 122.41 | AC76: 1324.81 | AE76: 108.621 | AF76: 247.845 | AG76: 252.44 | AH76: 59.04 | AK76: 228.579 | AU76: 258.51899 | BB76: 258.51899
A77: 11 | B77: ING Lease (Polska) Sp. z o.o. | C77: 93.613445 | D77: 93.613445 | X77: 2993.4231 | Y77: 1026.5 | Z77: 3015 | AA77: 7524.5 | AB77: 4666 | AC77: 448 | AD77: 0 | AE77: 1647.1429 | AK77: 2891 | AU77: 716.22759 | AV77: 0 | BA77: 0 | BB77: 711.32192
A78: 12 | B78: Leasing Polski Sp. z o. o.
A79: 13 | B79: Mercedes-Benz Leasing Polska Sp. z o.o. | C79: 263.51717 | D79: 236.79249 | E79: 288.45677 | F79: 275.46953 | G79: 183.07888 | H79: 140.74661 | I79: 132.62475 | K79: 349.88066 | N79: 390.25467 | Q79: 118.10433 | R79: 1375.0477 | AU79: 263.51717 | BB79: 263.51717
A80: 14 | B80: Millennium Leasing Sp. z o.o.
A81: 15 | B81: mLeasing Sp. z o.o. | C81: 490.01228 | G81: 522.68485 | K81: 522.68485 | N81: 523.68544 | Q81: 232.93712 | R81: 1226.2876 | U81: 2752.6649 | X81: 331.36891 | Y81: 519.40571 | Z81: 1045.4382 | AA81: 868.65762 | AB81: 5363.1431 | AC81: 1441.1098 | AD81: 1658.3181 | AE81: 158.52221 | AF81: 115.75944 | AG81: 128.21297 | AK81: 822.30256 | AL81: 45.749434 | AM81: 45.749434 | AP81: 3129.8935 | AQ81: 514.42082 | AR81: 3652.9881 | AT81: 407.08013 | AU81: 365.23175 | BB81: 365.23175
A82: 16 | B82: PEAC (Poland) Sp. z o.o. | C82: 139.65672 | D82: 103.79688 | F82: 88 | G82: 141.06667 | H82: 141.06667 | N82: 140.8 | Q82: 177.13333 | U82: 256 | X82: 134.49123 | Y82: 229.6 | Z82: 152.5 | AB82: 72.5 | AC82: 281 | AE82: 54.5 | AG82: 246 | AK82: 111.87805 | AU82: 136.76066 | BB82: 136.76066
A83: 17 | B83: PEKAO Leasing Sp. z o.o. | C83: 228.46632 | D83: 119.95324 | E83: 263.76848 | G83: 204.79938 | H83: 157.69446 | K83: 447.05323 | N83: 463.45795 | Q83: 177.63687 | R83: 1000 | U83: 1786.8011 | X83: 695.818 | Y83: 749.83037 | Z83: 452.35739 | AA83: 2909.3598 | AB83: 1486.3816 | AC83: 1643.6514 | AD83: 1099.6145 | AE83: 247.4524 | AG83: 933.41975 | AH83: 202.09328 | AK83: 812.55897 | AL83: 1005.6568 | AM83: 1138.5843 | AN83: 75.16432 | AP83: 10277.458 | AQ83: 2066.9492 | AR83: 9774.5266 | AS83: 11665.93 | AT83: 1403.1017 | AU83: 482.36947 | AV83: 609.812 | AW83: 221.154 | AX83: 706.9765 | BB83: 482.80002
A84: 18 | B84: PKO Leasing S.A. | C84: 159.12558 | D84: 133.30423 | E84: 278.24265 | F84: 289.06667 | G84: 223.35648 | H84: 173.81934 | I84: 325.4211 | K84: 415.74487 | N84: 315.86671 | Q84: 95.172301 | R84: 250.0686 | U84: 66.529817 | X84: 271.87043 | Y84: 232.30795 | Z84: 249.29187 | AA84: 1262.532 | AB84: 797.0814 | AC84: 773.06178 | AD84: 482.36259 | AE84: 119.14953 | AF84: 56.45651 | AG84: 163.11331 | AH84: 1273.5953 | AK84: 327.18622 | AL84: 47.821445 | AM84: 10.704711 | AN84: 77.896968 | AO84: 27.985752 | AP84: 14322.218 | AQ84: 28400 | AR84: 244.43601 | AU84: 210.69467 | BB84: 210.69467
A85: 19 | B85: Santander Consumer Multirent Sp.z o.o. | C85: 46.518893 | D85: 43.326528 | G85: 153.88462 | H85: 153.88462 | U85: 46.555565 | AU85: 46.518893 | BB85: 46.518893
A86: 20 | B86: Santander Leasing S.A. | C86: 148.45187 | D86: 119.92569 | E86: 181.35922 | F86: 193.04347 | G86: 221.53913 | H86: 156.31419 | K86: 379.26492 | N86: 432.87898 | Q86: 169.26869 | R86: 326.76229 | U86: 30.291894 | V86: 3 | X86: 188.28626 | Y86: 286.11575 | Z86: 189.82398 | AA86: 2413.855 | AB86: 2258.7254 | AC86: 1241.0306 | AD86: 56.872033 | AE86: 71.480754 | AF86: 11.131085 | AG86: 98.986522 | AH86: 208.0644 | AK86: 252.70292 | AL86: 338.17357 | AM86: 338.17357 | AP86: 431.42888 | AQ86: 1719.4622 | AR86: 109.42056 | AT86: 32.626923 | AU86: 177.87255 | AV86: 499.89955 | BA86: 499.89955 | BB86: 178.91392
A87: 21 | B87: Scania Finance Polska Sp. z o.o. | C87: 475.43689 | D87: 260 | N87: 493.85417 | Q87: 216.66667 | AU87: 475.43689 | BB87: 475.43689
A88: 22 | B88: SG Equipment Leasing Polska Sp. z o.o. | C88: 179.24002 | N88: 292.7537 | Q88: 122.48318 | X88: 341.13969 | Y88: 392.79003 | Z88: 317.21948 | AE88: 132.594 | AG88: 1112.9366 | AH88: 215.68 | AK88: 300.76043 | AL88: 775.00707 | AM88: 666.09965 | AN88: 3127.4074 | AU88: 475.5794 | BB88: 475.5794
A89: 23 | B89: SGB Leasing Sp. z o.o. | C89: 191.37778 | D89: 241.45455 | F89: 288 | G89: 168 | H89: 168 | Q89: 197.5 | U89: 294 | X89: 368.55455 | Y89: 321.88889 | Z89: 310.71429 | AD89: 432 | AE89: 125.07143 | AH89: 508.85714 | AK89: 1127.6667 | AL89: 62 | AM89: 98 | AN89: 26 | AU89: 313.86624 | BB89: 313.86624
A90: 24 | B90: Siemens Finance Sp. z o.o.
A91: 25 | B91: Razem | C91: 131.28998 | D91: 88.638351 | E91: 223.58764 | F91: 205.97827 | G91: 188.23224 | H91: 147.14647 | I91: 196.99682 | J91: 107.48296 | K91: 341.15038 | M91: 130.88896 | N91: 370.16792 | P91: 281.91148 | Q91: 137.22244 | R91: 323.97503 | U91: 101.72799 | V91: 3 | X91: 283.81991 | Y91: 337.392 | Z91: 298.58625 | AA91: 1599.8777 | AB91: 1550.6396 | AC91: 986.56214 | AD91: 671.89998 | AE91: 105.84733 | AF91: 38.42157 | AG91: 200.6481 | AH91: 276.55017 | AK91: 357.02856 | AL91: 295.96957 | AM91: 461.22772 | AN91: 153.91324 | AO91: 38.265129 | AP91: 1499.259 | AQ91: 3827.3344 | AR91: 599.75948 | AS91: 11665.93 | AT91: 346.02534 | AU91: 207.5681 | AV91: 501.27907 | AW91: 221.154 | AX91: 706.9765 | BA91: 483.77376 | BB91: 207.82457
A93: Struktura wartościowa umów (ruchomości) | C93: 01.01.2023-30.09.2023
A96: Lp. | B96: Spółka | C96: POJAZDY | D96: Osobowe | E96: osobowe - zeroemisyjne | F96: osobowe - hybryda plug-in | G96: Cięzarowe: | H96: o masie do 3,5 tony | I96: o masie do 3,5 tony - zeroemisyjne | J96: o masie do 3,5 tony - hybryda plug-in | K96: o masie powyzej 3,5 tony | L96: o masie powyżej 3,5 tony - zeroemisyjne | M96: o masie powyżej 3,5 tony - hybryda plug-in | N96: ciagniki siodlowe | O96: ciągniki siodłowe - zeroemisyjne | P96: ciągniki siodłowe - hybryda plug-in | Q96: naczepy / przyczepy | R96: autobusy | S96: autobusy - zeroemisyjne | T96: autobusy - hybryda plug-in | U96: inne | V96: inne - zeroemisyjne | W96: inne - hybryda plug-in | X96: MiU | Y96: Sprzęt Budowlany | Z96: Maszyny Rolnicze | AA96: Maszyny Poligraf. | AB96: maszyny do produkcji tworzyw sztucznych | AC96: maszyny i urządzenia do obróbki metali | AD96: maszyny dla przemysłu spożywczego | AE96: Sprzęt Medyczny | AF96: Sprzęt Gastronom. | AG96: Wózki Widłowe | AH96: fotowoltaika | AI96: wiatraki i turbiny wiatrowe | AJ96: stacje ładowania pojazdów elektrycznych (na użytek własny i komercyjny) | AK96: inne MiU | AL96: IT | AM96: Sprzęt | AN96: Oprogram. | AO96: inne IT | AP96: POZOSTAŁE ŚRODKI TRANSPORTU | AQ96: Powietrzne | AR96: Wodne | AS96: Kolejowe | AT96: Inne ruchomości | AU96: RUCHOMOŚCI | AV96: Nieruchomości | AW96: budynki przemysłowe | AX96: obiekty handlowe i usługowe | AY96: obiekty biurowe | AZ96: hotele i obiekty rekreacyjne | BA96: inne | BB96: OGÓŁEM
A97: 1 | B97: Alior Leasing Sp. z o. o. | C97: 0.80163096 | D97: 0.42947713 | G97: 0.083947996 | H97: 0.058915852 | K97: 0.025032143 | N97: 0.1723991 | Q97: 0.092177269 | R97: 0.0039257606 | U97: 0.019703702 | X97: 0.1789949 | Y97: 0.022949305 | Z97: 0.054287583 | AA97: 0.001822974 | AB97: 0.0050628898 | AC97: 0.00745687 | AD97: 0.001239024 | AE97: 0.067634818 | AG97: 0.0011441943 | AH97: 0.0022298622 | AK97: 0.015167384 | AL97: 0.019374138 | AM97: 0.019374138 | AP97: 0 | AU97: 1 | AV97: 0 | BB97: 1
A98: 2 | B98: BNP Paribas Lease Group Sp. z o.o. | C98: 0.083563977 | D98: 0.0088900177 | E98: 0.00028319964 | F98: 0 | G98: 0.043466881 | H98: 0.024954636 | I98: 0 | J98: 0 | K98: 0.018512245 | L98: 0 | M98: 0 | N98: 0.017241072 | O98: 0 | P98: 0 | Q98: 0.01393392 | R98: 0 | S98: 0 | T98: 0 | U98: 3.2085574e-05 | V98: 0 | W98: 0 | X98: 0.90410231 | Y98: 0.022609745 | Z98: 0.81191455 | AA98: 1.904336e-05 | AB98: 0 | AC98: 0.003455907 | AD98: 0.0011951448 | AE98: 0.021207338 | AF98: 0 | AG98: 0.0011917799 | AH98: 0.0069145765 | AI98: 0 | AJ98: 0 | AK98: 0.035594234 | AL98: 0.012333709 | AM98: 0.00046866366 | AN98: 0.011513042 | AO98: 0.00035200324 | AP98: 0 | AQ98: 0 | AR98: 0 | AS98: 0 | AT98: 0 | AU98: 1 | AV98: 0 | AW98: 0 | AX98: 0 | AY98: 0 | AZ98: 0 | BA98: 0 | BB98: 1
A99: 3 | B99: BOŚ Leasing - EKO Profit S.A. | C99: 0.02300369 | G99: 0 | U99: 0.02300369 | X99: 0.97699631 | Y99: 0.32054765 | Z99: 0.3471098 | AE99: 0.052026281 | AH99: 0.21673527 | AK99: 0.040577309 | AL99: 0 | AP99: 0 | AU99: 1 | AV99: 0 | BB99: 1
A100: 4 | B100: BPS Leasing Spółka Akcyjna (BPS Leasing S.A.)
A101: 5 | B101: Caterpillar Financial Services Poland Sp. z o.o. | C101: 0 | G101: 0 | X101: 1 | Y101: 1 | AL101: 0 | AP101: 0 | AU101: 1 | AV101: 0 | BB101: 1
A102: 6 | B102: De Lage Landen Leasing Polska S.A. | C102: 0.013729296 | D102: 0.0011736888 | G102: 0 | N102: 0.0010381897 | Q102: 0.011517417 | X102: 0.95718803 | Y102: 0.0099124218 | Z102: 0.89992347 | AE102: 0.032069376 | AH102: 0.0052844621 | AK102: 0.0099983015 | AL102: 0.029082672 | AM102: 0.0099353231 | AN102: 0.019147349 | AP102: 0 | AU102: 1 | AV102: 0 | BB102: 1
A103: 7 | B103: Deutsche Leasing Polska S.A. | C103: 0.57114367 | D103: 0.0027098002 | G103: 0.0024814462 | H103: 0.0024814462 | N103: 0.094584206 | Q103: 0.47136822 | X103: 0.42885633 | Y103: 0.010123692 | Z103: 0.37505614 | AA103: 0 | AB103: 0.016837298 | AC103: 0.0063939106 | AD103: 0 | AE103: 0 | AF103: 0 | AG103: 0 | AK103: 0.02044529 | AL103: 0 | AP103: 0 | AU103: 1 | AV103: 0 | BB103: 1
A104: 8 | B104: Europejski Fundusz Leasingowy S.A. | C104: 0.13245469 | D104: 0.038013076 | E104: 0.0014813549 | F104: 0 | G104: 0.017798101 | H104: 0.015924197 | I104: 0.00039720966 | J104: 0 | K104: 0.0018739037 | N104: 0.042031915 | Q104: 0.033955947 | R104: 0.00065564749 | X104: 0.85615182 | Y104: 0.029241935 | Z104: 0.74314558 | AA104: 0.00095314339 | AB104: 0.0013853068 | AC104: 0.0093090206 | AD104: 0.017299118 | AE104: 0.023140985 | AF104: 0.0014112551 | AG104: 0.0034347297 | AH104: 0.0069841709 | AK104: 0.01984658 | AL104: 0.0028958218 | AM104: 0.00064116982 | AN104: 0.0019733045 | AO104: 0.00028134752 | AP104: 0.0084976682 | AQ104: 0.00057782413 | AR104: 0.0079198441 | AU104: 1 | AV104: 0 | BB104: 1
A105: 9 | B105: Grupa VB Leasing | C105: 0.44677353 | D105: 0.11862745 | E105: 0.0021565666 | F105: 0.012740774 | G105: 0.070694672 | H105: 0.022313779 | J105: 0.0012809751 | K105: 0.048380893 | M105: 0.00077996322 | N105: 0.14456075 | P105: 0.01007941 | Q105: 0.0975032 | R105: 0.0062843122 | U105: 0.0091031453 | X105: 0.51851027 | Y105: 0.02840564 | Z105: 0.39035522 | AA105: 0.0013090136 | AB105: 2.2713533e-05 | AC105: 0.015055346 | AD105: 0.0042231766 | AE105: 0.050062481 | AF105: 0.0016171065 | AG105: 0.0010470376 | AH105: 0.0045772431 | AK105: 0.021835294 | AL105: 0.00026446901 | AM105: 0.00026446901 | AN105: 0 | AO105: 0 | AP105: 0.023948088 | AQ105: 6.5384785e-05 | AR105: 0.023882703 | AS105: 0 | AT105: 0.010503649 | AU105: 1 | AV105: 0 | BB105: 1
A106: 10 | B106: Impuls-Leasing Polska Sp. z o. o. | C106: 0.85934325 | D106: 0.29893797 | E106: 0.021055184 | F106: 0.0020046564 | G106: 0.081734638 | H106: 0.056546445 | I106: 0.0010603085 | K106: 0.025188194 | N106: 0.30051585 | Q106: 0.16368156 | R106: 0.0024654384 | U106: 0.01200779 | X106: 0.14065675 | Y106: 0.043623297 | Z106: 0.011102719 | AA106: 0.0083253603 | AC106: 0.011262888 | AE106: 0.018468854 | AF106: 0.0042141143 | AG106: 0.0042922432 | AH106: 0.00050192925 | AK106: 0.038865341 | AL106: 0 | AP106: 0 | AU106: 1 | AV106: 0 | BB106: 1
A107: 11 | B107: ING Lease (Polska) Sp. z o.o. | C107: 0.107267 | D107: 0.107267 | G107: 0 | H107: 0 | K107: 0 | N107: 0 | Q107: 0 | R107: 0 | U107: 0 | X107: 0.74941504 | Y107: 0.019768326 | Z107: 0.029031419 | AA107: 0.28981349 | AB107: 0.04492889 | AC107: 0.0043137897 | AD107: 0 | AE107: 0.11102231 | AF107: 0 | AG107: 0 | AH107: 0 | AK107: 0.25053682 | AL107: 0 | AM107: 0 | AN107: 0 | AO107: 0 | AP107: 0 | AQ107: 0 | AR107: 0 | AS107: 0 | AT107: 0.14331796 | AU107: 1 | AV107: 0 | AW107: 0 | AX107: 0 | AY107: 0 | AZ107: 0 | BA107: 0 | BB107: 1
A108: 12 | B108: Leasing Polski Sp. z o. o.
A109: 13 | B109: Mercedes-Benz Leasing Polska Sp. z o.o. | C109: 1 | D109: 0.47233992 | E109: 0.01255171 | F109: 0.020187945 | G109: 0.13878254 | H109: 0.085096256 | I109: 0.00060746763 | K109: 0.053686279 | N109: 0.36465053 | Q109: 0.01163062 | R109: 0.012596397 | X109: 0 | AL109: 0 | AP109: 0 | AU109: 1 | AV109: 0 | BB109: 1
A110: 14 | B110: Millennium Leasing Sp. z o.o.
A111: 15 | B111: mLeasing Sp. z o.o. | C111: 0.18141775 | G111: 0.028127056 | K111: 0.028127056 | N111: 0.11610531 | Q111: 0.020055942 | R111: 0.0052791828 | U111: 0.011850255 | X111: 0.67404351 | Y111: 0.013416286 | Z111: 0.01125156 | AA111: 0.0074791628 | AB111: 0.080809382 | AC111: 0.040325966 | AD111: 0.032125855 | AE111: 0.255915 | AF111: 0.00024917287 | AG111: 0.0041396876 | AK111: 0.22833144 | AL111: 0.0033481815 | AM111: 0.0033481815 | AP111: 0.040422687 | AQ111: 0.0011072939 | AR111: 0.039315393 | AT111: 0.10076788 | AU111: 1 | AV111: 0 | BB111: 1
...

Sheet leasing_3Q2023
A1: Związek Polskiego Leasingu
C3: 01.01.20223- 30.09.2023
A4: Wartość środków oddanych w leasing ( netto w tys. PLN)
A6: Lp. | B6: Spółka | C6: POJAZDY | D6: Osobowe | E6: osobowe - zeroemisyjne | F6: osobowe - hybryda plug-in | G6: Cięzarowe: | H6: o masie do 3,5 tony | I6: o masie do 3,5 tony - zeroemisyjne | J6: o masie do 3,5 tony - hybryda plug-in | K6: o masie powyzej 3,5 tony | L6: o masie powyżej 3,5 tony - zeroemisyjne | M6: o masie powyżej 3,5 tony - hybryda plug-in | N6: ciagniki siodlowe | O6: ciągniki siodłowe - zeroemisyjne | P6: ciągniki siodłowe - hybryda plug-in | Q6: naczepy / przyczepy | R6: autobusy | S6: autobusy - zeroemisyjne | T6: autobusy - hybryda plug-in | U6: inne | V6: inne - zeroemisyjne | W6: inne - hybryda plug-in | X6: MiU | Y6: Sprzęt Budowlany | Z6: Maszyny Rolnicze | AA6: Maszyny Poligraf. | AB6: maszyny do produkcji tworzyw sztucznych | AC6: maszyny i urządzenia do obróbki metali | AD6: maszyny dla przemysłu spożywczego | AE6: Sprzęt Medyczny | AF6: Sprzęt Gastronom. | AG6: Wózki Widłowe | AH6: fotowoltaika | AI6: wiatraki i turbiny wiatrowe | AJ6: stacje ładowania pojazdów elektrycznych (na użytek własny i komercyjny) | AK6: inne MiU | AL6: IT | AM6: Sprzęt | AN6: Oprogram. | AO6: inne IT | AP6: POZOSTAŁE ŚRODKI TRANSPORTU | AQ6: Powietrzne | AR6: Wodne | AS6: Kolejowe | AT6: Inne ruchomości | AU6: RUCHOMOŚCI | AV6: Nieruchomości | AW6: budynki przemysłowe | AX6: obiekty handlowe i usługowe | AY6: obiekty biurowe | AZ6: hotele i obiekty rekreacyjne | BA6: inne | BB6: OGÓŁEM
A7: 1 | B7: Alior Leasing Sp. z o. o. | C7: 1691567.2 | D7: 652792.15 | G7: 327593.27 | H7: 184996.5 | K7: 142596.77 | N7: 382568.27 | Q7: 208838.01 | R7: 85823.756 | U7: 33951.729 | X7: 284032.78 | Y7: 108813.11 | Z7: 59162.245 | AA7: 3245.8634 | AB7: 3452.0626 | AC7: 36157.63 | AD7: 4405.6758 | AE7: 9710.202 | AF7: 88.94 | AG7: 6083.1591 | AH7: 2589.5044 | AK7: 50324.392 | AL7: 5814.7117 | AM7: 5814.7117 | AP7: 33860.319 | AS7: 33860.319 | AU7: 2015275 | AV7: 0 | BB7: 2015275
A8: 2 | B8: BNP Paribas Lease Group Sp. z o.o. | C8: 1840814.9 | D8: 1228395.3 | E8: 47043.805 | F8: 0 | G8: 336964.57 | H8: 233303.12 | I8: 4880.5735 | J8: 0 | K8: 103661.45 | L8: 0 | M8: 0 | N8: 188072.98 | O8: 0 | P8: 0 | Q8: 64463.145 | R8: 4062.205 | S8: 0 | T8: 0 | U8: 18856.714 | V8: 217.76432 | W8: 0 | X8: 918663.55 | Y8: 193319.41 | Z8: 150127.69 | AA8: 3342.089 | AB8: 7603.7688 | AC8: 10589.549 | AD8: 26668.236 | AE8: 7916.9111 | AF8: 1494.6152 | AG8: 129636.72 | AH8: 19736.699 | AI8: 0 | AJ8: 694.03628 | AK8: 367533.82 | AL8: 65349.766 | AM8: 36803.142 | AN8: 10435.377 | AO8: 18111.246 | AP8: 40.65041 | AQ8: 0 | AR8: 40.65041 | AS8: 0 | AU8: 2824868.9 | AV8: 152640.18 | AW8: 12211.075 | AX8: 140429.1 | AY8: 0 | AZ8: 0 | BA8: 0 | BB8: 2977509.1
A9: 3 | B9: BOŚ Leasing - EKO Profit S.A. | C9: 33567.025 | D9: 8107.28 | G9: 3779.67 | H9: 1386.3 | K9: 2393.37 | N9: 3687.5195 | Q9: 6628.9096 | R9: 2415.1581 | U9: 8948.4881 | X9: 68567.751 | Y9: 9248.5405 | Z9: 4666.44 | AA9: 883.14358 | AB9: 5137.4591 | AC9: 4135.165 | AD9: 637.99006 | AE9: 1122.8946 | AG9: 1486.3136 | AH9: 8444.2576 | AK9: 32805.547 | AL9: 203.5 | AM9: 203.5 | AP9: 12810.733 | AQ9: 12136.935 | AR9: 673.79753 | AU9: 115149.01 | AV9: 0 | BB9: 115149.01
A10: 4 | B10: BPS Leasing Spółka Akcyjna (BPS Leasing S.A.) | C10: 191410.77 | D10: 48698.01 | E10: 994.49 | F10: 15488.55 | G10: 30473.65 | H10: 7779.45 | K10: 22694.2 | N10: 60476.58 | Q10: 23717.37 | R10: 24809.99 | U10: 3235.17 | X10: 24262.61 | Y10: 10808.96 | Z10: 2534.42 | AA10: 753.17 | AB10: 448.16 | AC10: 703.27 | AD10: 2395.76 | AE10: 645.22 | AG10: 1902.86 | AH10: 891.8 | AK10: 3178.99 | AL10: 110.39 | AM10: 110.39 | AP10: 1908.9 | AQ10: 1310.35 | AR10: 598.55 | AT10: 4431.33 | AU10: 222124 | AV10: 0 | BB10: 222124
A11: 5 | B11: Caterpillar Financial Services Poland Sp. z o.o. | C11: 0 | G11: 0 | X11: 366804.18 | Y11: 366804.18 | AL11: 0 | AP11: 0 | AU11: 366804.18 | AV11: 0 | BB11: 366804.18
A12: 6 | B12: De Lage Landen Leasing Polska S.A. | C12: 4401 | D12: 333 | G12: 0 | N12: 3338 | Q12: 494 | U12: 236 | X12: 40567 | Y12: 4797 | Z12: 18628 | AE12: 1213 | AG12: 7182 | AH12: 680 | AK12: 8067 | AL12: 9696 | AM12: 9696 | AP12: 0 | AU12: 54664 | AV12: 0 | BB12: 54664
A13: 7 | B13: Deutsche Leasing Polska S.A. | C13: 197714 | D13: 1483 | G13: 0 | N13: 43053 | Q13: 152402 | U13: 776 | X13: 524075 | Y13: 5644 | Z13: 8213 | AA13: 3174 | AB13: 10797 | AC13: 69354 | AD13: 14291 | AE13: 9056 | AF13: 0 | AG13: 317407 | AK13: 86139 | AL13: 0 | AP13: 0 | AU13: 721789 | AV13: 0 | BB13: 721789
A14: 8 | B14: Europejski Fundusz Leasingowy S.A. | C14: 4176146.5 | D14: 1694751.4 | E14: 71691.942 | F14: 22718.983 | G14: 1048306.6 | H14: 523632.11 | I14: 45942.195 | K14: 524674.53 | N14: 843517.39 | Q14: 485690.64 | R14: 72823.876 | U14: 31056.497 | V14: 201.86095 | X14: 1608175.7 | Y14: 590333.99 | Z14: 206012.66 | AA14: 27710.153 | AB14: 36575.952 | AC14: 112774.92 | AD14: 22831.858 | AE14: 15898.307 | AF14: 63607.975 | AG14: 44445.763 | AH14: 74213.261 | AI14: 0 | AJ14: 875.53228 | AK14: 412895.31 | AL14: 89260.041 | AM14: 38917.133 | AN14: 13440.296 | AO14: 36902.613 | AP14: 15872.92 | AQ14: 4380.9669 | AR14: 11491.953 | AU14: 5889455.1 | AV14: 0 | BB14: 5889455.1
A15: 9 | B15: Grupa VB Leasing | C15: 813877.75 | D15: 293696.18 | E15: 10477.403 | F15: 50559.075 | G15: 146477.11 | H15: 86743.531 | I15: 401.93089 | J15: 0 | K15: 59733.579 | M15: 4378.9852 | N15: 201432.65 | P15: 17571.656 | Q15: 114983.46 | R15: 24172.591 | T15: 295 | U15: 33115.772 | X15: 209676.71 | Y15: 51082.604 | Z15: 91822.097 | AA15: 3342.4001 | AB15: 3383.994 | AC15: 9551.3185 | AD15: 3781.1112 | AE15: 10196.538 | AF15: 2117.9304 | AG15: 5131.9968 | AH15: 9147.1316 | AK15: 20119.59 | AL15: 2307.3335 | AM15: 970.2551 | AN15: 0 | AO15: 1337.0784 | AP15: 9070.6164 | AQ15: 0 | AR15: 9070.6164 | AS15: 0 | AT15: 15662.581 | AU15: 1050595 | AV15: 0 | BB15: 1050595
A16: 10 | B16: Impuls-Leasing Polska Sp. z o. o. | C16: 656767.23 | D16: 330594.54 | E16: 11562.97 | F16: 4900.2 | G16: 100124.02 | H16: 71959.05 | I16: 484 | K16: 28164.97 | N16: 131623.98 | Q16: 79628.75 | R16: 5863.65 | U16: 8932.29 | V16: 43.21 | X16: 161958.92 | Y16: 44625.04 | Z16: 20514.45 | AA16: 3446.36 | AB16: 8503.7 | AC16: 16582.84 | AE16: 2178.12 | AF16: 6784.71 | AG16: 10153.16 | AH16: 2679.4 | AK16: 46491.14 | AL16: 804.77 | AM16: 804.77 | AP16: 1415.04 | AR16: 1415.04 | AU16: 820945.96 | AV16: 0 | BB16: 820945.96
A17: 11 | B17: ING Lease (Polska) Sp. z o.o. | C17: 2942263 | D17: 1171342 | E17: 59621 | F17: 30396 | G17: 603615 | H17: 329400 | I17: 8415 | J17: 0 | K17: 274215 | L17: 3858 | M17: 0 | N17: 676709 | O17: 0 | P17: 0 | Q17: 355352 | R17: 50614 | S17: 350 | T17: 0 | U17: 84631 | V17: 4965 | W17: 0 | X17: 1479036 | Y17: 204001 | Z17: 27410 | AA17: 49886 | AB17: 126205 | AC17: 371513 | AD17: 111864 | AE17: 25128 | AF17: 38163 | AG17: 108127 | AH17: 34973 | AI17: 0 | AJ17: 724 | AK17: 381042 | AL17: 50283 | AM17: 50283 | AN17: 0 | AO17: 0 | AP17: 265191 | AQ17: 1787 | AR17: 1332 | AS17: 262072 | AT17: 129269 | AU17: 4866042 | AV17: 28897 | AW17: 0 | AX17: 0 | AY17: 28897 | AZ17: 0 | BA17: 0 | BB17: 4894939
A18: 12 | B18: Leasing Polski Sp. z o. o. | C18: 135793.81 | D18: 23324.668 | E18: 446.73252 | F18: 1392.538 | G18: 28086.097 | H18: 14624.799 | K18: 13461.298 | N18: 42994.437 | Q18: 18870.345 | R18: 5394.413 | U18: 17123.856 | X18: 24356.258 | Y18: 16425.758 | Z18: 3483.25 | AC18: 300 | AG18: 487.9 | AK18: 3659.35 | AL18: 0 | AP18: 97.56098 | AR18: 97.56098 | AT18: 180.8 | AU18: 160428.43 | AV18: 835.7 | AX18: 200 | AZ18: 445.7 | BA18: 190 | BB18: 161264.13
A19: 13 | B19: Mercedes-Benz Leasing Polska Sp. z o.o. | C19: 1849532.8 | D19: 1367588.8 | E19: 76895.271 | F19: 99844.213 | G19: 220762.92 | H19: 174998.64 | I19: 7669.7962 | K19: 45764.281 | N19: 221382.87 | Q19: 5361.685 | R19: 30476.728 | U19: 3959.8094 | X19: 0 | AL19: 0 | AP19: 0 | AU19: 1849532.8 | AV19: 0 | BB19: 1849532.8
A20: 14 | B20: Millennium Leasing Sp. z o.o. | C20: 1442297.5 | D20: 603761.14 | E20: 27767.29 | F20: 7703.2074 | G20: 206394.31 | H20: 117952.87 | I20: 1708.2688 | K20: 88441.438 | N20: 368366.93 | O20: 853.73305 | P20: 607.5552 | Q20: 227329.6 | R20: 5165.5224 | S20: 2180 | T20: 1928 | U20: 31280.027 | V20: 26.82927 | X20: 733210.58 | Y20: 137483.3 | Z20: 5688.8859 | AA20: 50905.62 | AB20: 125365.41 | AD20: 68335.043 | AE20: 11118.501 | AG20: 68130.297 | AH20: 85315.67 | AK20: 180867.86 | AL20: 9696.7342 | AM20: 9696.7342 | AP20: 16885.963 | AQ20: 479.57848 | AR20: 8769.3847 | AS20: 7637 | AU20: 2202090.8 | AV20: 64096.182 | AY20: 2151.7 | BA20: 61944.482 | BB20: 2266187
A21: 15 | B21: mLeasing Sp. z o.o. | C21: 3710965 | D21: 2771751.2 | G21: 353010.55 | H21: 214082.51 | K21: 138928.03 | N21: 308153.59 | Q21: 165956.94 | R21: 46793.783 | U21: 65298.904 | X21: 898472.45 | Y21: 137759.86 | Z21: 47780.728 | AA21: 27878.929 | AB21: 63429.111 | AC21: 128113.07 | AD21: 51488.309 | AE21: 11757.819 | AF21: 3703.9651 | AG21: 53905.611 | AK21: 372655.05 | AL21: 26658.339 | AM21: 26653.275 | AN21: 5.0643465 | AP21: 111160.3 | AQ21: 11164.441 | AR21: 73702.556 | AS21: 26293.301 | AT21: 64513.313 | AU21: 4811769.4 | AV21: 157212.45 | AX21: 157212.45 | BB21: 4968981.8
A22: 16 | B22: PEAC (Poland) Sp. z o.o. | C22: 81068 | D22: 15395 | G22: 5698 | H22: 2380 | K22: 3318 | N22: 18004 | Q22: 16202 | R22: 23103 | U22: 2666 | V22: 540 | X22: 97699 | Y22: 6838 | Z22: 19279 | AA22: 3582 | AB22: 21123 | AC22: 2042 | AD22: 733 | AE22: 6574 | AF22: 63 | AG22: 1781 | AH22: 555 | AK22: 35129 | AL22: 2878 | AM22: 2878 | AP22: 320 | AR22: 320 | AU22: 181965 | AV22: 0 | BB22: 181965
A23: 17 | B23: PEKAO Leasing Sp. z o.o. | C23: 2739612.7 | D23: 962955.65 | E23: 35430.336 | F23: 14896.246 | G23: 403018.06 | H23: 153645.04 | I23: 2668.3072 | J23: 0 | K23: 249373.02 | L23: 279.43089 | M23: 0 | N23: 777540.14 | O23: 0 | P23: 0 | Q23: 368914.18 | R23: 176032.65 | S23: 0 | T23: 0 | U23: 51152.072 | V23: 343.36669 | W23: 0 | X23: 1317937.4 | Y23: 179502.76 | Z23: 61490.909 | AA23: 78338.382 | AB23: 64775.349 | AC23: 233935.07 | AD23: 65457.862 | AE23: 15844.787 | AF23: 3942.3996 | AG23: 51689.456 | AH23: 63364.485 | AI23: 0 | AJ23: 97.52111 | AK23: 499498.39 | AL23: 42694.893 | AM23: 28997.743 | AN23: 0 | AO23: 13697.15 | AP23: 237878.5 | AQ23: 15477.237 | AR23: 113866.93 | AS23: 108534.33 | AT23: 51206.73 | AU23: 4389330.2 | AV23: 72175.221 | AW23: 19789.7 | AX23: 51575.457 | AY23: 0 | AZ23: 0 | BA23: 810.06419 | BB23: 4461505.5
A24: 18 | B24: PKO Leasing S.A. | C24: 6344271.9 | D24: 3489621.6 | E24: 216853 | F24: 49908.897 | G24: 1033732.1 | H24: 620903.62 | I24: 28383.974 | J24: 243.90244 | K24: 412828.48 | L24: 1989 | N24: 1070261.3 | Q24: 589335.64 | R24: 100582.36 | S24: 3500 | U24: 60738.837 | V24: 2343.8067 | X24: 1846190.9 | Y24: 394477.44 | Z24: 182595.39 | AA24: 43012.186 | AB24: 47801.24 | AC24: 207292.74 | AD24: 120179.77 | AE24: 38061.945 | AF24: 10140.699 | AG24: 76022.262 | AH24: 51886.571 | AJ24: 92.67 | AK24: 674627.98 | AL24: 80350.095 | AM24: 57870.871 | AN24: 857.027 | AO24: 21622.197 | AP24: 304969.03 | AQ24: 15969.708 | AR24: 12206.334 | AS24: 276792.98 | AU24: 8575781.9 | AV24: 0 | BB24: 8575781.9
A25: 19 | B25: Santander Consumer Multirent Sp.z o.o. | C25: 1307766.2 | D25: 1104106.8 | G25: 166092.29 | H25: 166092.29 | U25: 37567.151 | X25: 0 | AL25: 0 | AP25: 0 | AU25: 1307766.2 | AV25: 0 | BB25: 1307766.2
A26: 20 | B26: Santander Leasing S.A. | C26: 3023306.4 | D26: 1753101.2 | E26: 92556.805 | F26: 56210.834 | G26: 541299.99 | H26: 362439.36 | I26: 6430.6795 | J26: 0 | K26: 178860.63 | L26: 0 | M26: 0 | N26: 503559.44 | O26: 0 | P26: 0 | Q26: 179911.47 | R26: 25830.94 | S26: 0 | T26: 0 | U26: 19603.414 | V26: 362.5869 | W26: 0 | X26: 1056603 | Y26: 131423.04 | Z26: 111182.91 | AA26: 47589.021 | AB26: 50013.169 | AC26: 84318.942 | AD26: 38501.104 | AE26: 23820.072 | AF26: 9215.9046 | AG26: 97322.261 | AH26: 52512.454 | AI26: 0 | AJ26: 2036.5583 | AK26: 408667.6 | AL26: 21382.093 | AM26: 21382.093 | AN26: 0 | AO26: 0 | AP26: 31370.049 | AQ26: 24202.459 | AR26: 6613.5676 | AS26: 554.0222 | AT26: 0 | AU26: 4132661.6 | AV26: 0 | AW26: 0 | AX26: 0 | AY26: 0 | AZ26: 0 | BA26: 0 | BB26: 4132661.6
A27: 21 | B27: Scania Finance Polska Sp. z o.o. | C27: 1087849 | D27: 1955 | G27: 102189 | H27: 4206 | K27: 97983 | L27: 1147 | N27: 910914 | Q27: 63915 | R27: 8526 | U27: 350 | X27: 0 | AL27: 0 | AP27: 0 | AU27: 1087849 | AV27: 0 | BB27: 1087849
A28: 22 | B28: SG Equipment Leasing Polska Sp. z o.o. | C28: 143521.91 | D28: 4888.2805 | G28: 40302.496 | H28: 2554.6057 | K28: 37747.89 | N28: 57713.607 | Q28: 37323.228 | U28: 3294.3028 | X28: 125650.46 | Y28: 77344.551 | Z28: 14659.337 | AA28: 1854.3426 | AC28: 12414.426 | AD28: 271.8 | AG28: 3796.6365 | AH28: 6838.92 | AK28: 8470.445 | AL28: 11469.326 | AM28: 11469.326 | AP28: 16193.353 | AQ28: 16193.353 | AU28: 296835.05 | AV28: 0 | BB28: 296835.05
A29: 23 | B29: SGB Leasing Sp. z o.o. | C29: 39175 | D29: 18679 | E29: 120 | G29: 11657 | H29: 9026 | K29: 2631 | N29: 2763 | Q29: 4181 | R29: 562 | U29: 1333 | X29: 38419 | Y29: 4332 | Z29: 15772 | AB29: 362 | AC29: 423 | AD29: 1223 | AE29: 36 | AF29: 308 | AG29: 187 | AH29: 3866 | AK29: 11910 | AL29: 19 | AM29: 19 | AP29: 18060 | AS29: 18060 | AU29: 95673 | AV29: 0 | BB29: 95673
A30: 24 | B30: Siemens Finance Sp. z o.o. | C30: 21182 | D30: 1535 | G30: 23438 | H30: 458 | K30: 22980 | N30: 1421 | Q30: 2587 | U30: -7799 | X30: 556573 | Y30: 83593 | Z30: 13124 | AA30: 25048 | AB30: 927 | AC30: 81433 | AD30: 471 | AE30: 298321 | AG30: 2947 | AH30: 45 | AK30: 50664 | AL30: 39019 | AM30: 34794 | AN30: 4225 | AP30: 0 | AU30: 616774 | AV30: 0 | BB30: 616774
A31: 25 | B31: Razem | C31: 34474872 | D31: 17548856 | E31: 651461.05 | F31: 354018.74 | G31: 5733014.7 | H31: 3282563.8 | I31: 106984.73 | J31: 243.90244 | K31: 2450450.9 | L31: 7273.4309 | M31: 4378.9852 | N31: 6817553.7 | O31: 853.73305 | P31: 18179.211 | Q31: 3172086.4 | R31: 693052.62 | S31: 6030 | T31: 2223 | U31: 510308.03 | V31: 9044.4248 | W31: 0 | X31: 12380932 | Y31: 2758657.5 | Z31: 1064147.4 | AA31: 373991.66 | AB31: 575903.38 | AC31: 1381633.9 | AD31: 533536.52 | AE31: 488599.32 | AF31: 139631.14 | AG31: 987825.4 | AH31: 417739.15 | AI31: 0 | AJ31: 4520.318 | AK31: 3654746.5 | AL31: 457996.99 | AM31: 337363.94 | AN31: 28962.764 | AO31: 91670.285 | AP31: 1077104.9 | AQ31: 103102.03 | AR31: 240198.94 | AS31: 733803.96 | AT31: 265263.75 | AU31: 48656170 | AV31: 475856.74 | AW31: 32000.775 | AX31: 349417.01 | AY31: 31048.7 | AZ31: 445.7 | BA31: 62944.546 | BB31: 49132026
A33: Ilość środków oddanych w leasing w | C33: 01.01.20223- 30.09.2023
A36: Lp. | B36: Spółka | C36: POJAZDY | D36: Osobowe | E36: osobowe - zeroemisyjne | F36: osobowe - hybryda plug-in | G36: Cięzarowe: | H36: o masie do 3,5 tony | I36: o masie do 3,5 tony - zeroemisyjne | J36: o masie do 3,5 tony - hybryda plug-in | K36: o masie powyzej 3,5 tony | L36: o masie powyżej 3,5 tony - zeroemisyjne | M36: o masie powyżej 3,5 tony - hybryda plug-in | N36: ciagniki siodlowe | O36: ciągniki siodłowe - zeroemisyjne | P36: ciągniki siodłowe - hybryda plug-in | Q36: naczepy / przyczepy | R36: autobusy | S36: autobusy - zeroemisyjne | T36: autobusy - hybryda plug-in | U36: inne | V36: inne - zeroemisyjne | W36: inne - hybryda plug-in | X36: MiU | Y36: Sprzęt Budowlany | Z36: Maszyny Rolnicze | AA36: Maszyny Poligraf. | AB36: maszyny do produkcji tworzyw sztucznych | AC36: maszyny i urządzenia do obróbki metali | AD36: maszyny dla przemysłu spożywczego | AE36: Sprzęt Medyczny | AF36: Sprzęt Gastronom. | AG36: Wózki Widłowe | AH36: fotowoltaika | AI36: wiatraki i turbiny wiatrowe | AJ36: stacje ładowania pojazdów elektrycznych (na użytek własny i komercyjny) | AK36: inne MiU | AL36: IT | AM36: Sprzęt | AN36: Oprogram. | AO36: inne IT | AP36: POZOSTAŁE ŚRODKI TRANSPORTU | AQ36: Powietrzne | AR36: Wodne | AS36: Kolejowe | AT36: Inne ruchomości | AU36: RUCHOMOŚCI | AV36: Nieruchomości | AW36: budynki przemysłowe | AX36: obiekty handlowe i usługowe | AY36: obiekty biurowe | AZ36: hotele i obiekty rekreacyjne | BA36: inne | BB36: OGÓŁEM
A37: 1 | B37: Alior Leasing Sp. z o. o. | C37: 10963 | D37: 5009 | G37: 2447 | H37: 1927 | K37: 520 | N37: 1414 | Q37: 1544 | R37: 255 | U37: 294 | X37: 1990 | Y37: 603 | Z37: 348 | AA37: 29 | AB37: 50 | AC37: 193 | AD37: 58 | AE37: 149 | AF37: 4 | AG37: 68 | AH37: 30 | AK37: 458 | AL37: 21 | AM37: 21 | AP37: 55 | AS37: 55 | AU37: 13029 | AV37: 0 | BB37: 13029
A38: 2 | B38: BNP Paribas Lease Group Sp. z o.o. | C38: 12452 | D38: 9530 | E38: 249 | F38: 0 | G38: 1850 | H38: 1512 | I38: 25 | J38: 0 | K38: 338 | L38: 0 | M38: 0 | N38: 417 | O38: 0 | P38: 0 | Q38: 316 | R38: 8 | S38: 0 | T38: 0 | U38: 331 | V38: 5 | W38: 0 | X38: 3258 | Y38: 630 | Z38: 311 | AA38: 3 | AB38: 3 | AC38: 21 | AD38: 16 | AE38: 89 | AF38: 10 | AG38: 1196 | AH38: 123 | AI38: 0 | AJ38: 6 | AK38: 850 | AL38: 563 | AM38: 287 | AN38: 23 | AO38: 253 | AP38: 1 | AQ38: 0 | AR38: 1 | AS38: 0 | AU38: 16274 | AV38: 7 | AW38: 2 | AX38: 5 | AY38: 0 | AZ38: 0 | BA38: 0 | BB38: 16281
A39: 3 | B39: BOŚ Leasing - EKO Profit S.A. | C39: 152 | D39: 40 | G39: 24 | H39: 14 | K39: 10 | N39: 14 | Q39: 46 | R39: 7 | U39: 21 | X39: 183 | Y39: 31 | Z39: 10 | AA39: 3 | AB39: 2 | AC39: 8 | AD39: 12 | AE39: 4 | AG39: 15 | AH39: 45 | AK39: 53 | AL39: 1 | AM39: 1 | AP39: 7 | AQ39: 2 | AR39: 5 | AU39: 343 | AV39: 0 | BB39: 343
A40: 4 | B40: BPS Leasing Spółka Akcyjna (BPS Leasing S.A.) | C40: 821 | D40: 380 | E40: 4 | F40: 114 | G40: 126 | H40: 69 | K40: 57 | N40: 149 | Q40: 116 | R40: 38 | U40: 12 | X40: 82 | Y40: 35 | Z40: 8 | AA40: 1 | AB40: 1 | AC40: 2 | AD40: 7 | AE40: 4 | AG40: 8 | AH40: 8 | AK40: 8 | AL40: 1 | AM40: 1 | AP40: 4 | AQ40: 1 | AR40: 3 | AT40: 25 | AU40: 933 | AV40: 0 | BB40: 933
A41: 5 | B41: Caterpillar Financial Services Poland Sp. z o.o. | C41: 0 | G41: 0 | X41: 730 | Y41: 730 | AL41: 0 | AP41: 0 | AU41: 730 | AV41: 0 | BB41: 730
A42: 6 | B42: De Lage Landen Leasing Polska S.A. | C42: 14 | D42: 2 | G42: 0 | N42: 7 | Q42: 4 | U42: 1 | X42: 152 | Y42: 24 | Z42: 38 | AE42: 22 | AG42: 33 | AH42: 8 | AK42: 27 | AL42: 133 | AM42: 133 | AP42: 0 | AU42: 299 | AV42: 0 | BB42: 299
A43: 7 | B43: Deutsche Leasing Polska S.A. | C43: 1207 | D43: 10 | G43: 0 | N43: 88 | Q43: 1107 | U43: 2 | X43: 3629 | Y43: 10 | Z43: 14 | AA43: 4 | AB43: 5 | AC43: 63 | AD43: 4 | AE43: 7 | AF43: 0 | AG43: 3458 | AK43: 64 | AL43: 0 | AP43: 0 | AU43: 4836 | AV43: 0 | BB43: 4836
A44: 8 | B44: Europejski Fundusz Leasingowy S.A. | C44: 23661 | D44: 11542 | E44: 287 | F44: 119 | G44: 5404 | H44: 3909 | I44: 192 | K44: 1495 | N44: 2562 | Q44: 3323 | R44: 123 | U44: 707 | V44: 8 | X44: 10303 | Y44: 2827 | Z44: 1097 | AA44: 122 | AB44: 123 | AC44: 403 | AD44: 134 | AE44: 209 | AF44: 1053 | AG44: 441 | AH44: 575 | AI44: 0 | AJ44: 8 | AK44: 3311 | AL44: 1014 | AM44: 515 | AN44: 196 | AO44: 303 | AP44: 67 | AQ44: 16 | AR44: 51 | AU44: 35045 | AV44: 0 | BB44: 35045
A45: 9 | B45: Grupa VB Leasing | C45: 5594 | D45: 2505 | E45: 44 | F45: 304 | G45: 1104 | H45: 838 | I45: 3 | J45: 0 | K45: 266 | M45: 16 | N45: 747 | P45: 52 | Q45: 822 | R45: 93 | T45: 2 | U45: 323 | X45: 1120 | Y45: 242 | Z45: 261 | AA45: 34 | AB45: 17 | AC45: 33 | AD45: 41 | AE45: 136 | AF45: 34 | AG45: 49 | AH45: 91 | AK45: 182 | AL45: 33 | AM45: 25 | AN45: 0 | AO45: 8 | AP45: 27 | AQ45: 0 | AR45: 27 | AS45: 0 | AT45: 198 | AU45: 6972 | AV45: 0 | BB45: 6972
A46: 10 | B46: Impuls-Leasing Polska Sp. z o. o. | C46: 3645 | D46: 2057 | E46: 55 | F46: 26 | G46: 611 | H46: 526 | I46: 3 | K46: 85 | N46: 324 | Q46: 496 | R46: 19 | U46: 138 | V46: 1 | X46: 935 | Y46: 159 | Z46: 167 | AA46: 27 | AB46: 19 | AC46: 31 | AE46: 54 | AF46: 78 | AG46: 91 | AH46: 11 | AK46: 298 | AL46: 26 | AM46: 26 | AP46: 4 | AR46: 4 | AU46: 4610 | AV46: 0 | BB46: 4610
A47: 11 | B47: ING Lease (Polska) Sp. z o.o. | C47: 15229 | D47: 7978 | E47: 304 | F47: 128 | G47: 3175 | H47: 2565 | I47: 44 | J47: 0 | K47: 610 | L47: 5 | M47: 0 | N47: 1747 | O47: 0 | P47: 0 | Q47: 1921 | R47: 77 | S47: 1 | T47: 0 | U47: 331 | V47: 32 | W47: 0 | X47: 4048 | Y47: 580 | Z47: 82 | AA47: 133 | AB47: 124 | AC47: 541 | AD47: 150 | AE47: 169 | AF47: 138 | AG47: 845 | AH47: 232 | AI47: 0 | AJ47: 3 | AK47: 1051 | AL47: 178 | AM47: 178 | AN47: 0 | AO47: 0 | AP47: 219 | AQ47: 1 | AR47: 2 | AS47: 216 | AT47: 530 | AU47: 20204 | AV47: 1 | AW47: 0 | AX47: 0 | AY47: 1 | AZ47: 0 | BA47: 0 | BB47: 20205
A48: 12 | B48: Leasing Polski Sp. z o. o. | C48: 1196 | D48: 247 | E48: 2 | F48: 14 | G48: 292 | H48: 198 | K48: 94 | N48: 291 | Q48: 222 | R48: 43 | U48: 101 | X48: 102 | Y48: 73 | Z48: 19 | AC48: 1 | AG48: 8 | AK48: 1 | AL48: 0 | AP48: 1 | AR48: 1 | AT48: 2 | AU48: 1301 | AV48: 6 | AX48: 1 | AZ48: 4 | BA48: 1 | BB48: 1307
A49: 13 | B49: Mercedes-Benz Leasing Polska Sp. z o.o. | C49: 8098 | D49: 6252 | E49: 284 | F49: 435 | G49: 1234 | H49: 1115 | I49: 45 | K49: 119 | N49: 527 | Q49: 34 | R49: 34 | U49: 17 | X49: 0 | AL49: 0 | AP49: 0 | AU49: 8098 | AV49: 0 | BB49: 8098
A50: 14 | B50: Millennium Leasing Sp. z o.o. | C50: 7551 | D50: 3809 | E50: 118 | F50: 55 | G50: 1190 | H50: 944 | I50: 10 | K50: 246 | N50: 1052 | O50: 2 | P50: 2 | Q50: 1325 | R50: 5 | S50: 1 | T50: 1 | U50: 170 | V50: 1 | X50: 2772 | Y50: 410 | Z50: 34 | AA50: 101 | AB50: 254 | AD50: 107 | AE50: 103 | AG50: 329 | AH50: 731 | AK50: 703 | AL50: 54 | AM50: 54 | AP50: 26 | AQ50: 0 | AR50: 24 | AS50: 2 | AU50: 10403 | AV50: 2 | AY50: 1 | BA50: 1 | BB50: 10405
A51: 15 | B51: mLeasing Sp. z o.o. | C51: 21228 | D51: 17080 | G51: 2301 | H51: 1978 | K51: 323 | N51: 788 | Q51: 879 | R51: 75 | U51: 105 | X51: 4396 | Y51: 345 | Z51: 70 | AA51: 79 | AB51: 111 | AC51: 213 | AD51: 22 | AE51: 153 | AF51: 225 | AG51: 589 | AK51: 2589 | AL51: 737 | AM51: 736 | AN51: 1 | AP51: 152 | AQ51: 5 | AR51: 93 | AS51: 54 | AT51: 966 | AU51: 27479 | AV51: 14 | AX51: 14 | BB51: 27493
A52: 16 | B52: PEAC (Poland) Sp. z o.o. | C52: 424 | D52: 196 | G52: 28 | H52: 18 | K52: 10 | N52: 42 | Q52: 114 | R52: 22 | U52: 22 | V52: 19 | X52: 742 | Y52: 30 | Z52: 40 | AA52: 11 | AB52: 20 | AC52: 83 | AD52: 4 | AE52: 79 | AF52: 3 | AG52: 19 | AH52: 5 | AK52: 448 | AL52: 40 | AM52: 40 | AP52: 2 | AR52: 2 | AU52: 1208 | AV52: 0 | BB52: 1208
A53: 17 | B53: PEKAO Leasing Sp. z o.o. | C53: 11494 | D53: 5579 | E53: 165 | F53: 65 | G53: 1598 | H53: 1079 | I53: 15 | J53: 0 | K53: 519 | L53: 1 | M53: 0 | N53: 1890 | O53: 0 | P53: 0 | Q53: 1966 | R53: 248 | S53: 0 | T53: 0 | U53: 213 | V53: 12 | W53: 0 | X53: 3483 | Y53: 438 | Z53: 119 | AA53: 67 | AB53: 100 | AC53: 254 | AD53: 130 | AE53: 88 | AF53: 56 | AG53: 379 | AH53: 352 | AI53: 0 | AJ53: 2 | AK53: 1498 | AL53: 408 | AM53: 210 | AN53: 0 | AO53: 198 | AP53: 95 | AQ53: 9 | AR53: 53 | AS53: 33 | AT53: 215 | AU53: 15695 | AV53: 8 | AW53: 4 | AX53: 3 | AY53: 0 | AZ53: 0 | BA53: 1 | BB53: 15703
A54: 18 | B54: PKO Leasing S.A. | C54: 37727 | D54: 24232 | E54: 1116 | F54: 209 | G54: 5889 | H54: 4961 | I54: 165 | J54: 1 | K54: 928 | L54: 1 | N54: 2734 | Q54: 3580 | R54: 180 | S54: 2 | U54: 1112 | V54: 127 | X54: 10847 | Y54: 1416 | Z54: 676 | AA54: 163 | AB54: 117 | AC54: 537 | AD54: 808 | AE54: 432 | AF54: 404 | AG54: 629 | AH54: 517 | AJ54: 3 | AK54: 5145 | AL54: 7640 | AM54: 4923 | AN54: 8 | AO54: 2709 | AP54: 212 | AQ54: 8 | AR54: 31 | AS54: 173 | AU54: 56426 | AV54: 0 | BB54: 56426
A55: 19 | B55: Santander Consumer Multirent Sp.z o.o. | C55: 11003 | D55: 8681 | G55: 1479 | H55: 1479 | U55: 843 | X55: 0 | AL55: 0 | AP55: 0 | AU55: 11003 | AV55: 0 | BB55: 11003
A56: 20 | B56: Santander Leasing S.A. | C56: 16521 | D56: 10665 | E56: 421 | F56: 267 | G56: 2850 | H56: 2316 | I56: 34 | J56: 0 | K56: 534 | L56: 0 | M56: 0 | N56: 1304 | O56: 0 | P56: 0 | Q56: 1159 | R56: 54 | S56: 0 | T56: 0 | U56: 489 | V56: 14 | W56: 0 | X56: 6093 | Y56: 520 | Z56: 402 | AA56: 147 | AB56: 81 | AC56: 174 | AD56: 45 | AE56: 427 | AF56: 410 | AG56: 916 | AH56: 409 | AI56: 0 | AJ56: 18 | AK56: 2544 | AL56: 542 | AM56: 542 | AN56: 0 | AO56: 0 | AP56: 31 | AQ56: 7 | AR56: 13 | AS56: 11 | AT56: 0 | AU56: 23187 | AV56: 0 | AW56: 0 | AX56: 0 | AY56: 0 | AZ56: 0 | BA56: 0 | BB56: 23187
A57: 21 | B57: Scania Finance Polska Sp. z o.o. | C57: 2287 | D57: 7 | G57: 177 | H57: 6 | K57: 171 | L57: 1 | N57: 1742 | Q57: 340 | R57: 16 | U57: 5 | X57: 0 | AL57: 0 | AP57: 0 | AU57: 2287 | AV57: 0 | BB57: 2287
A58: 22 | B58: SG Equipment Leasing Polska Sp. z o.o. | C58: 541 | D58: 39 | G58: 91 | H58: 17 | K58: 74 | N58: 145 | Q58: 262 | U58: 4 | X58: 506 | Y58: 326 | Z58: 39 | AA58: 3 | AC58: 47 | AD58: 2 | AG58: 37 | AH58: 10 | AK58: 42 | AL58: 40 | AM58: 40 | AP58: 8 | AQ58: 8 | AU58: 1095 | AV58: 0 | BB58: 1095
A59: 23 | B59: SGB Leasing Sp. z o.o. | C59: 235 | D59: 116 | E59: 1 | G59: 63 | H59: 56 | K59: 7 | N59: 11 | Q59: 32 | R59: 3 | U59: 10 | X59: 125 | Y59: 26 | Z59: 21 | AB59: 1 | AC59: 4 | AD59: 6 | AE59: 1 | AF59: 4 | AG59: 4 | AH59: 20 | AK59: 38 | AL59: 1 | AM59: 1 | AP59: 5 | AS59: 5 | AU59: 366 | AV59: 0 | BB59: 366
A60: 24 | B60: Siemens Finance Sp. z o.o. | C60: 23 | D60: 6 | G60: 13 | H60: 2 | K60: 11 | N60: 2 | Q60: 4 | U60: -2 | X60: 1920 | Y60: 70 | Z60: 21 | AA60: 16 | AB60: 3 | AC60: 75 | AD60: 1 | AE60: 1082 | AG60: 10 | AH60: 2 | AK60: 640 | AL60: 4946 | AM60: 4896 | AN60: 50 | AP60: 0 | AU60: 6889 | AV60: 0 | BB60: 6889
A61: 25 | B61: Razem | C61: 192066 | D61: 115962 | E61: 3050 | F61: 1736 | G61: 31946 | H61: 25529 | I61: 536 | J61: 1 | K61: 6417 | L61: 8 | M61: 16 | N61: 17997 | O61: 2 | P61: 54 | Q61: 19612 | R61: 1300 | S61: 4 | T61: 3 | U61: 5249 | V61: 219 | W61: 0 | X61: 57416 | Y61: 9525 | Z61: 3777 | AA61: 943 | AB61: 1031 | AC61: 2683 | AD61: 1547 | AE61: 3208 | AF61: 2419 | AG61: 9124 | AH61: 3169 | AI61: 0 | AJ61: 40 | AK61: 19950 | AL61: 16378 | AM61: 12629 | AN61: 278 | AO61: 3471 | AP61: 916 | AQ61: 57 | AR61: 310 | AS61: 549 | AT61: 1936 | AU61: 268712 | AV61: 38 | AW61: 6 | AX61: 23 | AY61: 2 | AZ61: 4 | BA61: 3 | BB61: 268750
C63: 01.01.20223- 30.09.2023
A64: Średnia wartość środków oddanych w leasing (tys. PLN)
A66: Lp. | B66: Spółka | C66: POJAZDY | D66: Osobowe | E66: osobowe - zeroemisyjne | F66: osobowe - hybryda plug-in | G66: Cięzarowe: | H66: o masie do 3,5 tony | I66: o masie do 3,5 tony - zeroemisyjne | J66: o masie do 3,5 tony - hybryda plug-in | K66: o masie powyzej 3,5 tony | L66: o masie powyżej 3,5 tony - zeroemisyjne | M66: o masie powyżej 3,5 tony - hybryda plug-in | N66: ciagniki siodlowe | O66: ciągniki siodłowe - zeroemisyjne | P66: ciągniki siodłowe - hybryda plug-in | Q66: naczepy / przyczepy | R66: autobusy | S66: autobusy - zeroemisyjne | T66: autobusy - hybryda plug-in | U66: inne | V66: inne - zeroemisyjne | W66: inne - hybryda plug-in | X66: MiU | Y66: Sprzęt Budowlany | Z66: Maszyny Rolnicze | AA66: Maszyny Poligraf. | AB66: maszyny do produkcji tworzyw sztucznych | AC66: maszyny i urządzenia do obróbki metali | AD66: maszyny dla przemysłu spożywczego | AE66: Sprzęt Medyczny | AF66: Sprzęt Gastronom. | AG66: Wózki Widłowe | AH66: fotowoltaika | AI66: wiatraki i turbiny wiatrowe | AJ66: stacje ładowania pojazdów elektrycznych (na użytek własny i komercyjny) | AK66: inne MiU | AL66: IT | AM66: Sprzęt | AN66: Oprogram. | AO66: inne IT | AP66: POZOSTAŁE ŚRODKI TRANSPORTU | AQ66: Powietrzne | AR66: Wodne | AS66: Kolejowe | AT66: Inne ruchomości | AU66: RUCHOMOŚCI | AV66: Nieruchomości | AW66: budynki przemysłowe | AX66: obiekty handlowe i usługowe | AY66: obiekty biurowe | AZ66: hotele i obiekty rekreacyjne | BA66: inne | BB66: OGÓŁEM
A67: 1 | B67: Alior Leasing Sp. z o. o. | C67: 154.29784 | D67: 130.32385 | G67: 133.87547 | H67: 96.002335 | K67: 274.22456 | N67: 270.55747 | Q67: 135.25778 | R67: 336.56375 | U67: 115.48207 | X67: 142.73004 | Y67: 180.45291 | Z67: 170.00645 | AA67: 111.92632 | AB67: 69.041252 | AC67: 187.34524 | AD67: 75.959928 | AE67: 65.169141 | AF67: 22.235 | AG67: 89.458222 | AH67: 86.316812 | AK67: 109.87858 | AL67: 276.89103 | AM67: 276.89103 | AP67: 615.64217 | AS67: 615.64217 | AU67: 154.67611 | BB67: 154.67611
A68: 2 | B68: BNP Paribas Lease Group Sp. z o.o. | C68: 147.83287 | D68: 128.89772 | E68: 188.93095 | G68: 182.14301 | H68: 154.301 | I68: 195.22294 | K68: 306.69067 | N68: 451.01435 | Q68: 203.99729 | R68: 507.77562 | U68: 56.968925 | V68: 43.552864 | X68: 281.97162 | Y68: 306.85621 | Z68: 482.72568 | AA68: 1114.0297 | AB68: 2534.5896 | AC68: 504.26422 | AD68: 1666.7647 | AE68: 88.954058 | AF68: 149.46152 | AG68: 108.39191 | AH68: 160.46097 | AJ68: 115.67271 | AK68: 432.39273 | AL68: 116.07418 | AM68: 128.23395 | AN68: 453.71205 | AO68: 71.585952 | AP68: 40.65041 | AR68: 40.65041 | AU68: 173.58172 | AV68: 21805.74 | AW68: 6105.5376 | AX68: 28085.821 | BB68: 182.88244
A69: 3 | B69: BOŚ Leasing - EKO Profit S.A. | C69: 220.83569 | D69: 202.682 | G69: 157.48625 | H69: 99.021429 | K69: 239.337 | N69: 263.39425 | Q69: 144.10673 | R69: 345.02259 | U69: 426.11848 | X69: 374.68716 | Y69: 298.34001 | Z69: 466.644 | AA69: 294.38119 | AB69: 2568.7296 | AC69: 516.89563 | AD69: 53.165838 | AE69: 280.72366 | AG69: 99.087576 | AH69: 187.65017 | AK69: 618.97258 | AL69: 203.5 | AM69: 203.5 | AP69: 1830.1046 | AQ69: 6068.4675 | AR69: 134.75951 | AU69: 335.7114 | BB69: 335.7114
A70: 4 | B70: BPS Leasing Spółka Akcyjna (BPS Leasing S.A.) | C70: 233.14345 | D70: 128.15266 | E70: 248.6225 | F70: 135.86447 | G70: 241.85437 | H70: 112.74565 | K70: 398.14386 | N70: 405.88309 | Q70: 204.46009 | R70: 652.89447 | U70: 269.5975 | X70: 295.88549 | Y70: 308.82743 | Z70: 316.8025 | AA70: 753.17 | AB70: 448.16 | AC70: 351.635 | AD70: 342.25143 | AE70: 161.305 | AG70: 237.8575 | AH70: 111.475 | AK70: 397.37375 | AL70: 110.39 | AM70: 110.39 | AP70: 477.225 | AQ70: 1310.35 | AR70: 199.51667 | AT70: 177.2532 | AU70: 238.07503 | BB70: 238.07503
A71: 5 | B71: Caterpillar Financial Services Poland Sp. z o.o. | X71: 502.47149 | Y71: 502.47149 | AU71: 502.47149 | BB71: 502.47149
A72: 6 | B72: De Lage Landen Leasing Polska S.A. | C72: 314.35714 | D72: 166.5 | N72: 476.85714 | Q72: 123.5 | U72: 236 | X72: 266.88816 | Y72: 199.875 | Z72: 490.21053 | AE72: 55.136364 | AG72: 217.63636 | AH72: 85 | AK72: 298.77778 | AL72: 72.902256 | AM72: 72.902256 | AU72: 182.82274 | BB72: 182.82274
A73: 7 | B73: Deutsche Leasing Polska S.A. | C73: 163.80613 | D73: 148.3 | N73: 489.23864 | Q73: 137.67118 | U73: 388 | X73: 144.41306 | Y73: 564.4 | Z73: 586.64286 | AA73: 793.5 | AB73: 2159.4 | AC73: 1100.8571 | AD73: 3572.75 | AE73: 1293.7143 | AG73: 91.789184 | AK73: 1345.9219 | AU73: 149.25331 | BB73: 149.25331
A74: 8 | B74: Europejski Fundusz Leasingowy S.A. | C74: 176.49915 | D74: 146.83343 | E74: 249.79771 | F74: 190.91582 | G74: 193.98717 | H74: 133.95552 | I74: 239.28227 | K74: 350.95286 | N74: 329.24176 | Q74: 146.16029 | R74: 592.06404 | U74: 43.927152 | V74: 25.232619 | X74: 156.0881 | Y74: 208.81995 | Z74: 187.79641 | AA74: 227.1324 | AB74: 297.36547 | AC74: 279.8385 | AD74: 170.387 | AE74: 76.068452 | AF74: 60.406434 | AG74: 100.78404 | AH74: 129.06654 | AJ74: 109.44154 | AK74: 124.70411 | AL74: 88.027654 | AM74: 75.567248 | AN74: 68.572937 | AO74: 121.7908 | AP74: 236.90925 | AQ74: 273.81043 | AR74: 225.33241 | AU74: 168.05408 | BB74: 168.05408
A75: 9 | B75: Grupa VB Leasing | C75: 145.4912 | D75: 117.24398 | E75: 238.1228 | F75: 166.31275 | G75: 132.67854 | H75: 103.51257 | I75: 133.97696 | K75: 224.56233 | M75: 273.68658 | N75: 269.65549 | P75: 337.91646 | Q75: 139.88255 | R75: 259.92034 | T75: 147.5 | U75: 102.52561 | X75: 187.21135 | Y75: 211.08514 | Z75: 351.8088 | AA75: 98.305885 | AB75: 199.05847 | AC75: 289.43389 | AD75: 92.222223 | AE75: 74.974542 | AF75: 62.29207 | AG75: 104.73463 | AH75: 100.51793 | AK75: 110.5472 | AL75: 69.919198 | AM75: 38.810204 | AO75: 167.1348 | AP75: 335.94876 | AR75: 335.94876 | AT75: 79.103946 | AU75: 150.68775 | BB75: 150.68775
A76: 10 | B76: Impuls-Leasing Polska Sp. z o. o. | C76: 180.18305 | D76: 160.71684 | E76: 210.23582 | F76: 188.46923 | G76: 163.8691 | H76: 136.80428 | I76: 161.33333 | K76: 331.35259 | N76: 406.24685 | Q76: 160.54183 | R76: 308.61316 | U76: 64.726739 | V76: 43.21 | X76: 173.2181 | Y76: 280.66063 | Z76: 122.84102 | AA76: 127.64296 | AB76: 447.56316 | AC76: 534.93032 | AE76: 40.335556 | AF76: 86.983462 | AG76: 111.57319 | AH76: 243.58182 | AK76: 156.01054 | AL76: 30.952692 | AM76: 30.952692 | AP76: 353.76 | AR76: 353.76 | AU76: 178.07938 | BB76: 178.07938
A77: 11 | B77: ING Lease (Polska) Sp. z o.o. | C77: 193.20133 | D77: 146.82151 | E77: 196.12171 | F77: 237.46875 | G77: 190.11496 | H77: 128.42105 | I77: 191.25 | K77: 449.53279 | L77: 771.6 | N77: 387.35489 | Q77: 184.98282 | R77: 657.32468 | S77: 350 | U77: 255.68278 | V77: 155.15625 | X77: 365.37451 | Y77: 351.72586 | Z77: 334.26829 | AA77: 375.08271 | AB77: 1017.7823 | AC77: 686.71534 | AD77: 745.76 | AE77: 148.68639 | AF77: 276.54348 | AG77: 127.96095 | AH77: 150.74569 | AJ77: 241.33333 | AK77: 362.55186 | AL77: 282.48876 | AM77: 282.48876 | AP77: 1210.9178 | AQ77: 1787 | AR77: 666 | AS77: 1213.2963 | AT77: 243.90377 | AU77: 240.84548 | AV77: 28897 | AY77: 28897 | BB77: 242.26375
A78: 12 | B78: Leasing Polski Sp. z o. o. | C78: 113.53998 | D78: 94.431854 | E78: 223.36626 | F78: 99.466999 | G78: 96.185263 | H78: 73.862622 | K78: 143.20529 | N78: 147.74721 | Q78: 85.001552 | R78: 125.45146 | U78: 169.54313 | X78: 238.78684 | Y78: 225.01038 | Z78: 183.32895 | AC78: 300 | AG78: 60.9875 | AK78: 3659.35 | AP78: 97.56098 | AR78: 97.56098 | AT78: 90.4 | AU78: 123.31163 | AV78: 139.28333 | AX78: 200 | AZ78: 111.425 | BA78: 190 | BB78: 123.38495
A79: 13 | B79: Mercedes-Benz Leasing Polska Sp. z o.o. | C79: 228.39378 | D79: 218.74421 | E79: 270.758 | F79: 229.52693 | G79: 178.90026 | H79: 156.94945 | I79: 170.43992 | K79: 384.57379 | N79: 420.08135 | Q79: 157.69662 | R79: 896.37435 | U79: 232.92996 | AU79: 228.39378 | BB79: 228.39378
A80: 14 | B80: Millennium Leasing Sp. z o.o. | C80: 191.00749 | D80: 158.50909 | E80: 235.31602 | F80: 140.05832 | G80: 173.4406 | H80: 124.95007 | I80: 170.82688 | K80: 359.51804 | N80: 350.15868 | O80: 426.86652 | P80: 303.7776 | Q80: 171.56951 | R80: 1033.1045 | S80: 2180 | T80: 1928 | U80: 184.00016 | V80: 26.82927 | X80: 264.50598 | Y80: 335.32511 | Z80: 167.32018 | AA80: 504.01604 | AB80: 493.5646 | AD80: 638.64526 | AE80: 107.94661 | AG80: 207.08297 | AH80: 116.7109 | AK80: 257.28003 | AL80: 179.56915 | AM80: 179.56915 | AP80: 649.46012 | AR80: 365.39103 | AS80: 3818.5 | AU80: 211.67844 | AV80: 32048.091 | AY80: 2151.7 | BA80: 61944.482 | BB80: 217.79788
A81: 15 | B81: mLeasing Sp. z o.o. | C81: 174.81463 | D81: 162.28052 | G81: 153.41614 | H81: 108.23181 | K81: 430.11775 | N81: 391.05785 | Q81: 188.80198 | R81: 623.9171 | U81: 621.89432 | X81: 204.38409 | Y81: 399.30395 | Z81: 682.58183 | AA81: 352.89784 | AB81: 571.43343 | AC81: 601.46982 | AD81: 2340.3777 | AE81: 76.84849 | AF81: 16.462067 | AG81: 91.520561 | AK81: 143.93783 | AL81: 36.171424 | AM81: 36.213689 | AN81: 5.0643465 | AP81: 731.31775 | AQ81: 2232.8882 | AR81: 792.5006 | AS81: 486.91298 | AT81: 66.783968 | AU81: 175.10715 | AV81: 11229.461 | AX81: 11229.461 | BB81: 180.73625
A82: 16 | B82: PEAC (Poland) Sp. z o.o. | C82: 191.19811 | D82: 78.545918 | G82: 203.5 | H82: 132.22222 | K82: 331.8 | N82: 428.66667 | Q82: 142.12281 | R82: 1050.1364 | U82: 121.18182 | V82: 28.421053 | X82: 131.66981 | Y82: 227.93333 | Z82: 481.975 | AA82: 325.63636 | AB82: 1056.15 | AC82: 24.60241 | AD82: 183.25 | AE82: 83.21519 | AF82: 21 | AG82: 93.736842 | AH82: 111 | AK82: 78.412946 | AL82: 71.95 | AM82: 71.95 | AP82: 160 | AR82: 160 | AU82: 150.63328 | BB82: 150.63328
A83: 17 | B83: PEKAO Leasing Sp. z o.o. | C83: 238.35155 | D83: 172.60363 | E83: 214.72931 | F83: 229.17302 | G83: 252.20154 | H83: 142.39577 | I83: 177.88715 | K83: 480.48752 | L83: 279.43089 | N83: 411.3969 | Q83: 187.64709 | R83: 709.80907 | U83: 240.15057 | V83: 28.613891 | X83: 378.39143 | Y83: 409.82364 | Z83: 516.73033 | AA83: 1169.2296 | AB83: 647.75349 | AC83: 921.00421 | AD83: 503.52201 | AE83: 180.0544 | AF83: 70.399992 | AG83: 136.38379 | AH83: 180.01274 | AJ83: 48.760555 | AK83: 333.44352 | AL83: 104.64435 | AM83: 138.08449 | AO83: 69.177527 | AP83: 2503.9842 | AQ83: 1719.6931 | AR83: 2148.4326 | AS83: 3288.9192 | AT83: 238.17084 | AU83: 279.66424 | AV83: 9021.9026 | AW83: 4947.425 | AX83: 17191.819 | BA83: 810.06419 | BB83: 284.11803
A84: 18 | B84: PKO Leasing S.A. | C84: 168.16264 | D84: 144.00882 | E84: 194.31273 | F84: 238.79855 | G84: 175.5361 | H84: 125.15695 | I84: 172.02408 | J84: 243.90244 | K84: 444.85828 | L84: 1989 | N84: 391.46355 | Q84: 164.61889 | R84: 558.79087 | S84: 1750 | U84: 54.621256 | V84: 18.455171 | X84: 170.2029 | Y84: 278.58576 | Z84: 270.11152 | AA84: 263.87844 | AB84: 408.55761 | AC84: 386.02001 | AD84: 148.73734 | AE84: 88.106354 | AF84: 25.100741 | AG84: 120.8621 | AH84: 100.36087 | AJ84: 30.89 | AK84: 131.12303 | AL84: 10.517028 | AM84: 11.755204 | AN84: 107.12837 | AO84: 7.9816159 | AP84: 1438.5331 | AQ84: 1996.2135 | AR84: 393.7527 | AS84: 1599.9594 | AU84: 151.98281 | BB84: 151.98281
A85: 19 | B85: Santander Consumer Multirent Sp.z o.o. | C85: 118.85542 | D85: 127.18659 | G85: 112.3004 | H85: 112.3004 | U85: 44.563643 | AU85: 118.85542 | BB85: 118.85542
A86: 20 | B86: Santander Leasing S.A. | C86: 182.99779 | D86: 164.37892 | E86: 219.84989 | F86: 210.52747 | G86: 189.92982 | H86: 156.49368 | I86: 189.13763 | K86: 334.94499 | N86: 386.16521 | Q86: 155.22991 | R86: 478.35074 | U86: 40.08878 | V86: 25.899064 | X86: 173.41261 | Y86: 252.73662 | Z86: 276.5744 | AA86: 323.73484 | AB86: 617.44653 | AC86: 484.59162 | AD86: 855.58009 | AE86: 55.784713 | AF86: 22.477816 | AG86: 106.24701 | AH86: 128.39231 | AJ86: 113.14213 | AK86: 160.63978 | AL86: 39.450356 | AM86: 39.450356 | AP86: 1011.9371 | AQ86: 3457.4941 | AR86: 508.73597 | AS86: 50.365655 | AU86: 178.23184 | BB86: 178.23184
A87: 21 | B87: Scania Finance Polska Sp. z o.o. | C87: 475.66638 | D87: 279.28571 | G87: 577.33898 | H87: 701 | K87: 573 | L87: 1147 | N87: 522.91274 | Q87: 187.98529 | R87: 532.875 | U87: 70 | AU87: 475.66638 | BB87: 475.66638
A88: 22 | B88: SG Equipment Leasing Polska Sp. z o.o. | C88: 265.29005 | D88: 125.34053 | G88: 442.88457 | H88: 150.27092 | K88: 510.10662 | N88: 398.02488 | Q88: 142.45507 | U88: 823.5757 | X88: 248.32106 | Y88: 237.25322 | Z88: 375.88045 | AA88: 618.11419 | AC88: 264.13672 | AD88: 135.9 | AG88: 102.6118 | AH88: 683.892 | AK88: 201.67726 | AL88: 286.73315 | AM88: 286.73315 | AP88: 2024.1691 | AQ88: 2024.1691 | AU88: 271.08224 | BB88: 271.08224
A89: 23 | B89: SGB Leasing Sp. z o.o. | C89: 166.70213 | D89: 161.02586 | E89: 120 | G89: 185.03175 | H89: 161.17857 | K89: 375.85714 | N89: 251.18182 | Q89: 130.65625 | R89: 187.33333 | U89: 133.3 | X89: 307.352 | Y89: 166.61538 | Z89: 751.04762 | AB89: 362 | AC89: 105.75 | AD89: 203.83333 | AE89: 36 | AF89: 77 | AG89: 46.75 | AH89: 193.3 | AK89: 313.42105 | AL89: 19 | AM89: 19 | AP89: 3612 | AS89: 3612 | AU89: 261.40164 | BB89: 261.40164
A90: 24 | B90: Siemens Finance Sp. z o.o. | C90: 920.95652 | D90: 255.83333 | G90: 1802.9231 | H90: 229 | K90: 2089.0909 | N90: 710.5 | Q90: 646.75 | X90: 289.88177 | Y90: 1194.1857 | Z90: 624.95238 | AA90: 1565.5 | AB90: 309 | AC90: 1085.7733 | AD90: 471 | AE90: 275.71257 | AG90: 294.7 | AH90: 22.5 | AK90: 79.1625 | AL90: 7.8890012 | AM90: 7.1066176 | AN90: 84.5 | AU90: 89.530266 | BB90: 89.530266
A91: 25 | B91: Razem | C91: 179.49492 | D91: 151.33282 | E91: 213.59379 | F91: 203.92785 | G91: 179.45955 | H91: 128.58176 | I91: 199.59837 | J91: 243.90244 | K91: 381.86862 | L91: 909.17886 | M91: 273.68658 | N91: 378.81612 | O91: 426.86652 | P91: 336.65206 | Q91: 161.74212 | R91: 533.1174 | S91: 1507.5 | T91: 741 | U91: 97.220048 | V91: 41.298743 | X91: 215.63558 | Y91: 289.62284 | Z91: 281.74408 | AA91: 396.59773 | AB91: 558.58717 | AC91: 514.95861 | AD91: 344.88463 | AE91: 152.30652 | AF91: 57.72267 | AG91: 108.2667 | AH91: 131.8205 | AJ91: 113.00795 | AK91: 183.19531 | AL91: 27.964159 | AM91: 26.713433 | AN91: 104.18261 | AO91: 26.410338 | AP91: 1175.8787 | AQ91: 1808.8075 | AR91: 774.83528 | AS91: 1336.6192 | AT91: 137.0164 | AU91: 181.07182 | AV91: 12522.546 | AW91: 5333.4625 | AX91: 15192.044 | AY91: 15524.35 | AZ91: 111.425 | BA91: 20981.515 | BB91: 182.81684
A93: Struktura wartościowa umów (ruchomości) | C93: 01.01.20223- 30.09.2023
A96: Lp. | B96: Spółka | C96: POJAZDY | D96: Osobowe | E96: osobowe - zeroemisyjne | F96: osobowe - hybryda plug-in | G96: Cięzarowe: | H96: o masie do 3,5 tony | I96: o masie do 3,5 tony - zeroemisyjne | J96: o masie do 3,5 tony - hybryda plug-in | K96: o masie powyzej 3,5 tony | L96: o masie powyżej 3,5 tony - zeroemisyjne | M96: o masie powyżej 3,5 tony - hybryda plug-in | N96: ciagniki siodlowe | O96: ciągniki siodłowe - zeroemisyjne | P96: ciągniki siodłowe - hybryda plug-in | Q96: naczepy / przyczepy | R96: autobusy | S96: autobusy - zeroemisyjne | T96: autobusy - hybryda plug-in | U96: inne | V96: inne - zeroemisyjne | W96: inne - hybryda plug-in | X96: MiU | Y96: Sprzęt Budowlany | Z96: Maszyny Rolnicze | AA96: Maszyny Poligraf. | AB96: maszyny do produkcji tworzyw sztucznych | AC96: maszyny i urządzenia do obróbki metali | AD96: maszyny dla przemysłu spożywczego | AE96: Sprzęt Medyczny | AF96: Sprzęt Gastronom. | AG96: Wózki Widłowe | AH96: fotowoltaika | AI96: wiatraki i turbiny wiatrowe | AJ96: stacje ładowania pojazdów elektrycznych (na użytek własny i komercyjny) | AK96: inne MiU | AL96: IT | AM96: Sprzęt | AN96: Oprogram. | AO96: inne IT | AP96: POZOSTAŁE ŚRODKI TRANSPORTU | AQ96: Powietrzne | AR96: Wodne | AS96: Kolejowe | AT96: Inne ruchomości | AU96: RUCHOMOŚCI | AV96: Nieruchomości | AW96: budynki przemysłowe | AX96: obiekty handlowe i usługowe | AY96: obiekty biurowe | AZ96: hotele i obiekty rekreacyjne | BA96: inne | BB96: OGÓŁEM
A97: 1 | B97: Alior Leasing Sp. z o. o. | C97: 0.83937288 | D97: 0.32392212 | G97: 0.16255512 | H97: 0.091797149 | K97: 0.070757972 | N97: 0.18983428 | Q97: 0.10362755 | R97: 0.042586623 | U97: 0.016847194 | X97: 0.14093996 | Y97: 0.053994173 | Z97: 0.029356909 | AA97: 0.0016106305 | AB97: 0.0017129487 | AC97: 0.017941785 | AD97: 0.0021861413 | AE97: 0.0048183012 | AF97: 4.4132935e-05 | AG97: 0.0030185255 | AH97: 0.0012849385 | AK97: 0.024971476 | AL97: 0.0028853192 | AM97: 0.0028853192 | AP97: 0.016801836 | AS97: 0.016801836 | AU97: 1 | AV97: 0 | BB97: 1
A98: 2 | B98: BNP Paribas Lease Group Sp. z o.o. | C98: 0.65164614 | D98: 0.43485038 | E98: 0.016653447 | F98: 0 | G98: 0.11928503 | H98: 0.082589008 | I98: 0.0017277168 | J98: 0 | K98: 0.03669602 | L98: 0 | M98: 0 | N98: 0.066577598 | O98: 0 | P98: 0 | Q98: 0.022819871 | R98: 0.0014380154 | S98: 0 | T98: 0 | U98: 0.0066752529 | V98: 7.7088293e-05 | W98: 0 | X98: 0.32520573 | Y98: 0.068434827 | Z98: 0.05314501 | AA98: 0.0011830953 | AB98: 0.0026917245 | AC98: 0.0037486868 | AD98: 0.0094405216 | AE98: 0.0028025765 | AF98: 0.00052909189 | AG98: 0.045891236 | AH98: 0.0069867665 | AI98: 0 | AJ98: 0.00024568796 | AK98: 0.13010651 | AL98: 0.023133734 | AM98: 0.013028266 | AN98: 0.0036941103 | AO98: 0.0064113581 | AP98: 1.4390194e-05 | AQ98: 0 | AR98: 1.4390194e-05 | AS98: 0 | AU98: 1 | AV98: 0.054034429 | AW98: 0.0043227051 | AX98: 0.049711724 | AY98: 0 | AZ98: 0 | BA98: 0 | BB98: 1.0540344
A99: 3 | B99: BOŚ Leasing - EKO Profit S.A. | C99: 0.29150946 | D99: 0.070406859 | G99: 0.032824165 | H99: 0.012039183 | K99: 0.020784981 | N99: 0.032023893 | Q99: 0.0575681 | R99: 0.020974198 | U99: 0.077712246 | X99: 0.59546974 | Y99: 0.080318021 | Z99: 0.04052523 | AA99: 0.0076695717 | AB99: 0.044615748 | AC99: 0.035911425 | AD99: 0.0055405606 | AE99: 0.0097516656 | AG99: 0.012907742 | AH99: 0.073333307 | AK99: 0.28489647 | AL99: 0.0017672753 | AM99: 0.0017672753 | AP99: 0.11125352 | AQ99: 0.10540199 | AR99: 0.005851527 | AU99: 1 | AV99: 0 | BB99: 1
A100: 4 | B100: BPS Leasing Spółka Akcyjna (BPS Leasing S.A.) | C100: 0.86172935 | D100: 0.21923795 | E100: 0.0044771839 | F100: 0.069729295 | G100: 0.13719206 | H100: 0.035023005 | K100: 0.10216906 | N100: 0.27226495 | Q100: 0.10677536 | R100: 0.11169432 | U100: 0.014564703 | X100: 0.10923002 | Y100: 0.048661829 | Z100: 0.011409933 | AA100: 0.0033907637 | AB100: 0.0020176118 | AC100: 0.0031661144 | AD100: 0.010785687 | AE100: 0.0029047739 | AG100: 0.0085666565 | AH100: 0.0040148746 | AK100: 0.014311781 | AL100: 0.00049697466 | AM100: 0.00049697466 | AP100: 0.0085938485 | AQ100: 0.0058991824 | AR100: 0.002694666 | AT100: 0.019949803 | AU100: 1 | AV100: 0 | BB100: 1
A101: 5 | B101: Caterpillar Financial Services Poland Sp. z o.o. | C101: 0 | G101: 0 | X101: 1 | Y101: 1 | AL101: 0 | AP101: 0 | AU101: 1 | AV101: 0 | BB101: 1
A102: 6 | B102: De Lage Landen Leasing Polska S.A. | C102: 0.080510025 | D102: 0.0060917606 | G102: 0 | N102: 0.061063954 | Q102: 0.0090370262 | U102: 0.0043172838 | X102: 0.74211547 | Y102: 0.087754281 | Z102: 0.34077272 | AE102: 0.022190107 | AG102: 0.13138446 | AH102: 0.012439631 | AK102: 0.14757427 | AL102: 0.17737451 | AM102: 0.17737451 | AP102: 0 | AU102: 1 | AV102: 0 | BB102: 1
A103: 7 | B103: Deutsche Leasing Polska S.A. | C103: 0.27392216 | D103: 0.0020546171 | G103: 0 | N103: 0.059647626 | Q103: 0.21114481 | U103: 0.0010751064 | X103: 0.72607784 | Y103: 0.0078194597 | Z103: 0.011378672 | AA103: 0.004397407 | AB103: 0.014958665 | AC103: 0.096086252 | AD103: 0.019799415 | AE103: 0.012546603 | AF103: 0 | AG103: 0.4397504 | AK103: 0.11934097 | AL103: 0 | AP103: 0 | AU103: 1 | AV103: 0 | BB103: 1
A104: 8 | B104: Europejski Fundusz Leasingowy S.A. | C104: 0.70908877 | D104: 0.28776031 | E104: 0.012172933 | F104: 0.0038575696 | G104: 0.17799722 | H104: 0.088910112 | I104: 0.0078007549 | K104: 0.08908711 | N104: 0.14322503 | Q104: 0.08246784 | R104: 0.01236513 | U104: 0.0052732377 | V104: 3.4274979e-05 | X104: 0.27306018 | Y104: 0.10023576 | Z104: 0.034979918 | AA104: 0.0047050454 | AB104: 0.0062104136 | AC104: 0.019148616 | AD104: 0.0038767352 | AE104: 0.0026994529 | AF104: 0.010800316 | AG104: 0.0075466681 | AH104: 0.01260104 | AI104: 0 | AJ104: 0.000148661 | AK104: 0.070107557 | AL104: 0.015155908 | AM104: 0.0066079344 | AN104: 0.0022820949 | AO104: 0.0062658789 | AP104: 0.0026951423 | AQ104: 0.00074386626 | AR104: 0.0019512761 | AU104: 1 | AV104: 0 | BB104: 1
A105: 9 | B105: Grupa VB Leasing | C105: 0.77468269 | D105: 0.27955223 | E105: 0.0099728281 | F105: 0.04812423 | G105: 0.139423 | H105: 0.082566099 | I105: 0.00038257453 | J105: 0 | K105: 0.056856904 | M105: 0.0041681002 | N105: 0.19173197 | P105: 0.016725433 | Q105: 0.10944603 | R105: 0.023008478 | T105: 0.00028079327 | U105: 0.031520969 | X105: 0.19957901 | Y105: 0.048622546 | Z105: 0.08740009 | AA105: 0.0031814354 | AB105: 0.0032210262 | AC105: 0.0090913421 | AD105: 0.0035990188 | AE105: 0.0097054885 | AF105: 0.0020159342 | AG105: 0.004884848 | AH105: 0.0087066202 | AK105: 0.019150662 | AL105: 0.002196216 | AM105: 0.00092352915 | AN105: 0 | AO105: 0.0012726868 | AP105: 0.0086337898 | AQ105: 0 | AR105: 0.0086337898 | AS105: 0 | AT105: 0.014908296 | AU105: 1 | AV105: 0 | BB105: 1
A106: 10 | B106: Impuls-Leasing Polska Sp. z o. o. | C106: 0.80001274 | D106: 0.40269952 | E106: 0.014084934 | F106: 0.0059689678 | G106: 0.12196177 | H106: 0.087653821 | I106: 0.00058956378 | K106: 0.034307946 | N106: 0.16033209 | Q106: 0.096996336 | R106: 0.007142553 | U106: 0.010880485 | V106: 5.2634402e-05 | X106: 0.19728329 | Y106: 0.054358072 | Z106: 0.024988795 | AA106: 0.0041980352 | AB106: 0.010358416 | AC106: 0.020199673 | AE106: 0.0026531832 | AF106: 0.0082645026 | AG106: 0.012367635 | AH106: 0.0032637958 | AK106: 0.056631182 | AL106: 0.00098029595 | AM106: 0.00098029595 | AP106: 0.0017236701 | AR106: 0.0017236701 | AU106: 1 | AV106: 0 | BB106: 1
A107: 11 | B107: ING Lease (Polska) Sp. z o.o. | C107: 0.6046522 | D107: 0.24071761 | E107: 0.012252463 | F107: 0.0062465552 | G107: 0.1240464 | H107: 0.06769362 | I107: 0.0017293316 | J107: 0 | K107: 0.056352781 | L107: 0.00079284149 | M107: 0 | N107: 0.13906764 | O107: 0 | P107: 0 | Q107: 0.073026908 | R107: 0.010401472 | S107: 7.192704e-05 | T107: 0 | U107: 0.017392164 | V107: 0.0010203364 | W107: 0 | X107: 0.30395052 | Y107: 0.041923395 | Z107: 0.0056329148 | AA107: 0.010251864 | AB107: 0.025935863 | AC107: 0.076348087 | AD107: 0.022988704 | AE107: 0.0051639505 | AF107: 0.007842719 | AG107: 0.022220729 | AH107: 0.0071871554 | AI107: 0 | AJ107: 0.00014878622 | AK107: 0.078306352 | AL107: 0.01033345 | AM107: 0.01033345 | AN107: 0 | AO107: 0 | AP107: 0.054498297 | AQ107: 0.00036723892 | AR107: 0.00027373377 | AS107: 0.053857324 | AT107: 0.026565533 | AU107: 1 | AV107: 0.005938502 | AW107: 0 | AX107: 0 | AY107: 0.005938502 | AZ107: 0 | BA107: 0 | BB107: 1.0059385
A108: 12 | B108: Leasing Polski Sp. z o. o. | C108: 0.84644481 | D108: 0.14538986 | E108: 0.0027846218 | F108: 0.0086801195 | G108: 0.17506932 | H108: 0.091160892 | K108: 0.083908428 | N108: 0.26799761 | Q108: 0.11762469 | R108: 0.033625043 | U108: 0.10673828 | X108: 0.15182008 | Y108: 0.10238682 | Z108: 0.021712174 | AC108: 0.0018699927 | AG108: 0.0030412315 | AK108: 0.022809859 | AL108: 0 | AP108: 0.00060812774 | AR108: 0.00060812774 | AT108: 0.0011269823 | AU108: 1 | AV108: 0.0052091763 | AX108: 0.0012466618 | AZ108: 0.0027781858 | BA108: 0.0011843287 | BB108: 1.0052092
A109: 13 | B109: Mercedes-Benz Leasing Polska Sp. z o.o. | C109: 1 | D109: 0.73942392 | E109: 0.041575511 | F109: 0.053983478 | G109: 0.11936145 | H109: 0.094617751 | I109: 0.004146883 | K109: 0.024743697 | N109: 0.11969664 | Q109: 0.0028989402 | R109: 0.016478068 | U109: 0.0021409782 | X109: 0 | AL109: 0 | AP109: 0 | AU109: 1 | AV109: 0 | BB109: 1
A110: 14 | B110: Millennium Leasing Sp. z o.o. | C110: 0.65496733 | D110: 0.27417631 | E110: 0.012609512 | F110: 0.0034981334 | G110: 0.09372652 | H110: 0.053564036 | I110: 0.00077574859 | K110: 0.040162485 | N110: 0.16728053 | O110: 0.00038769203 | P110: 0.00027589925 | Q110: 0.10323353 | R110: 0.0023457354 | S110: 0.00098996826 | T110: 0.00087553156 | U110: 0.014204695 | V110: 1.2183544e-05 | X110: 0.3329611 | Y110: 0.062433073 | Z110: 0.0025834021 | AA110: 0.023116948 | AB110: 0.056930172 | AD110: 0.031031892 | AE110: 0.0050490657 | AG110: 0.030938914 | AH110: 0.03874303 | AK110: 0.082134605 | AL110: 0.0044034216 | AM110: 0.0044034216 | AP110: 0.0076681503 | AQ110: 0.00021778324 | AR110: 0.0039822993 | AS110: 0.0034680677 | AU110: 1 | AV110: 0.029106966 | AY110: 0.00097711683 | BA110: 0.028129849 | BB110: 1.029107
...

Sheet suma leasing+pożyczki 3Q2023
A1: Związek Polskiego Leasingu
C3: 01.01.20223- 30.09.2023
A4: Wartość środków_ leasing + pożyczka ( netto w tys. PLN)
A6: Lp. | B6: Spółka | C6: POJAZDY | D6: Osobowe | E6: osobowe - zeroemisyjne | F6: osobowe - hybryda plug-in | G6: Cięzarowe: | H6: o masie do 3,5 tony | I6: o masie do 3,5 tony - zeroemisyjne | J6: o masie do 3,5 tony - hybryda plug-in | K6: o masie powyzej 3,5 tony | L6: o masie powyżej 3,5 tony - zeroemisyjne | M6: o masie powyżej 3,5 tony - hybryda plug-in | N6: ciagniki siodlowe | O6: ciągniki siodłowe - zeroemisyjne | P6: ciągniki siodłowe - hybryda plug-in | Q6: naczepy / przyczepy | R6: autobusy | S6: autobusy - zeroemisyjne | T6: autobusy - hybryda plug-in | U6: inne | V6: inne - zeroemisyjne | W6: inne - hybryda plug-in | X6: MiU | Y6: Sprzęt Budowlany | Z6: Maszyny Rolnicze | AA6: Maszyny Poligraf. | AB6: maszyny do produkcji tworzyw sztucznych | AC6: maszyny i urządzenia do obróbki metali | AD6: maszyny dla przemysłu spożywczego | AE6: Sprzęt Medyczny | AF6: Sprzęt Gastronom. | AG6: Wózki Widłowe | AH6: fotowoltaika | AI6: wiatraki i turbiny wiatrowe | AJ6: stacje ładowania pojazdów elektrycznych (na użytek własny i komercyjny) | AK6: inne MiU | AL6: IT | AM6: Sprzęt | AN6: Oprogram. | AO6: inne IT | AP6: POZOSTAŁE ŚRODKI TRANSPORTU | AQ6: Powietrzne | AR6: Wodne | AS6: Kolejowe | AT6: Inne ruchomości | AU6: RUCHOMOŚCI | AV6: Nieruchomości | AW6: budynki przemysłowe | AX6: obiekty handlowe i usługowe | AY6: obiekty biurowe | AZ6: hotele i obiekty rekreacyjne | BA6: inne | BB6: OGÓŁEM
A7: 1 | B7: Alior Leasing Sp. z o. o. | C7: =pozyczki_3Q2023!C7+leasing_3Q2023!C7 -> 1880379.7 | D7: =pozyczki_3Q2023!D7+leasing_3Q2023!D7 -> 753949.24 | E7: =pozyczki_3Q2023!E7+leasing_3Q2023!E7 -> 0 | F7: =pozyczki_3Q2023!F7+leasing_3Q2023!F7 -> 0 | G7: =pozyczki_3Q2023!G7+leasing_3Q2023!G7 -> 347366 | H7: =pozyczki_3Q2023!H7+leasing_3Q2023!H7 -> 198873.27 | I7: =pozyczki_3Q2023!I7+leasing_3Q2023!I7 -> 0 | J7: =pozyczki_3Q2023!J7+leasing_3Q2023!J7 -> 0 | ... BB7: =pozyczki_3Q2023!BB7+leasing_3Q2023!BB7 -> 2250810.4
A8: 2 | B8: BNP Paribas Lease Group Sp. z o.o. | C8: =pozyczki_3Q2023!C8+leasing_3Q2023!C8 -> 1943943.8 | D8: =pozyczki_3Q2023!D8+leasing_3Q2023!D8 -> 1239366.8 | E8: =pozyczki_3Q2023!E8+leasing_3Q2023!E8 -> 47393.311 | F8: =pozyczki_3Q2023!F8+leasing_3Q2023!F8 -> 0 | G8: =pozyczki_3Q2023!G8+leasing_3Q2023!G8 -> 390608.39 | H8: =pozyczki_3Q2023!H8+leasing_3Q2023!H8 -> 264100.41 | I8: =pozyczki_3Q2023!I8+leasing_3Q2023!I8 -> 4880.5735 | J8: =pozyczki_3Q2023!J8+leasing_3Q2023!J8 -> 0 | ... BB8: =pozyczki_3Q2023!BB8+leasing_3Q2023!BB8 -> 4211640
A9: 3 | B9: BOŚ Leasing - EKO Profit S.A. | C9: =pozyczki_3Q2023!C9+leasing_3Q2023!C9 -> 33633.345 | D9: =pozyczki_3Q2023!D9+leasing_3Q2023!D9 -> 8107.28 | E9: =pozyczki_3Q2023!E9+leasing_3Q2023!E9 -> 0 | F9: =pozyczki_3Q2023!F9+leasing_3Q2023!F9 -> 0 | G9: =pozyczki_3Q2023!G9+leasing_3Q2023!G9 -> 3779.67 | H9: =pozyczki_3Q2023!H9+leasing_3Q2023!H9 -> 1386.3 | I9: =pozyczki_3Q2023!I9+leasing_3Q2023!I9 -> 0 | J9: =pozyczki_3Q2023!J9+leasing_3Q2023!J9 -> 0 | ... BB9: =pozyczki_3Q2023!BB9+leasing_3Q2023!BB9 -> 118032.02
A10: 4 | B10: BPS Leasing Spółka Akcyjna (BPS Leasing S.A.) | C10: =pozyczki_3Q2023!C10+leasing_3Q2023!C10 -> 191410.77 | D10: =pozyczki_3Q2023!D10+leasing_3Q2023!D10 -> 48698.01 | E10: =pozyczki_3Q2023!E10+leasing_3Q2023!E10 -> 994.49 | F10: =pozyczki_3Q2023!F10+leasing_3Q2023!F10 -> 15488.55 | G10: =pozyczki_3Q2023!G10+leasing_3Q2023!G10 -> 30473.65 | H10: =pozyczki_3Q2023!H10+leasing_3Q2023!H10 -> 7779.45 | I10: =pozyczki_3Q2023!I10+leasing_3Q2023!I10 -> 0 | J10: =pozyczki_3Q2023!J10+leasing_3Q2023!J10 -> 0 | ... BB10: =pozyczki_3Q2023!BB10+leasing_3Q2023!BB10 -> 222124
A11: 5 | B11: Caterpillar Financial Services Poland Sp. z o.o. | C11: =pozyczki_3Q2023!C11+leasing_3Q2023!C11 -> 0 | D11: =pozyczki_3Q2023!D11+leasing_3Q2023!D11 -> 0 | E11: =pozyczki_3Q2023!E11+leasing_3Q2023!E11 -> 0 | F11: =pozyczki_3Q2023!F11+leasing_3Q2023!F11 -> 0 | G11: =pozyczki_3Q2023!G11+leasing_3Q2023!G11 -> 0 | H11: =pozyczki_3Q2023!H11+leasing_3Q2023!H11 -> 0 | I11: =pozyczki_3Q2023!I11+leasing_3Q2023!I11 -> 0 | J11: =pozyczki_3Q2023!J11+leasing_3Q2023!J11 -> 0 | ... BB11: =pozyczki_3Q2023!BB11+leasing_3Q2023!BB11 -> 407959.07
A12: 6 | B12: De Lage Landen Leasing Polska S.A. | C12: =pozyczki_3Q2023!C12+leasing_3Q2023!C12 -> 11595 | D12: =pozyczki_3Q2023!D12+leasing_3Q2023!D12 -> 948 | E12: =pozyczki_3Q2023!E12+leasing_3Q2023!E12 -> 0 | F12: =pozyczki_3Q2023!F12+leasing_3Q2023!F12 -> 0 | G12: =pozyczki_3Q2023!G12+leasing_3Q2023!G12 -> 0 | H12: =pozyczki_3Q2023!H12+leasing_3Q2023!H12 -> 0 | I12: =pozyczki_3Q2023!I12+leasing_3Q2023!I12 -> 0 | J12: =pozyczki_3Q2023!J12+leasing_3Q2023!J12 -> 0 | ... BB12: =pozyczki_3Q2023!BB12+leasing_3Q2023!BB12 -> 578653
A13: 7 | B13: Deutsche Leasing Polska S.A. | C13: =pozyczki_3Q2023!C13+leasing_3Q2023!C13 -> 272748 | D13: =pozyczki_3Q2023!D13+leasing_3Q2023!D13 -> 1839 | E13: =pozyczki_3Q2023!E13+leasing_3Q2023!E13 -> 0 | F13: =pozyczki_3Q2023!F13+leasing_3Q2023!F13 -> 0 | G13: =pozyczki_3Q2023!G13+leasing_3Q2023!G13 -> 326 | H13: =pozyczki_3Q2023!H13+leasing_3Q2023!H13 -> 326 | I13: =pozyczki_3Q2023!I13+leasing_3Q2023!I13 -> 0 | J13: =pozyczki_3Q2023!J13+leasing_3Q2023!J13 -> 0 | ... BB13: =pozyczki_3Q2023!BB13+leasing_3Q2023!BB13 -> 853164
A14: 8 | B14: Europejski Fundusz Leasingowy S.A. | C14: =pozyczki_3Q2023!C14+leasing_3Q2023!C14 -> 4266045.9 | D14: =pozyczki_3Q2023!D14+leasing_3Q2023!D14 -> 1720551.6 | E14: =pozyczki_3Q2023!E14+leasing_3Q2023!E14 -> 72697.365 | F14: =pozyczki_3Q2023!F14+leasing_3Q2023!F14 -> 22718.983 | G14: =pozyczki_3Q2023!G14+leasing_3Q2023!G14 -> 1060386.5 | H14: =pozyczki_3Q2023!H14+leasing_3Q2023!H14 -> 534440.16 | I14: =pozyczki_3Q2023!I14+leasing_3Q2023!I14 -> 46211.789 | J14: =pozyczki_3Q2023!J14+leasing_3Q2023!J14 -> 0 | ... BB14: =pozyczki_3Q2023!BB14+leasing_3Q2023!BB14 -> 6568173.5
A15: 9 | B15: Grupa VB Leasing | C15: =pozyczki_3Q2023!C15+leasing_3Q2023!C15 -> 963827.7 | D15: =pozyczki_3Q2023!D15+leasing_3Q2023!D15 -> 333510.93 | E15: =pozyczki_3Q2023!E15+leasing_3Q2023!E15 -> 11201.209 | F15: =pozyczki_3Q2023!F15+leasing_3Q2023!F15 -> 54835.243 | G15: =pozyczki_3Q2023!G15+leasing_3Q2023!G15 -> 170204.26 | H15: =pozyczki_3Q2023!H15+leasing_3Q2023!H15 -> 94232.672 | I15: =pozyczki_3Q2023!I15+leasing_3Q2023!I15 -> 401.93089 | J15: =pozyczki_3Q2023!J15+leasing_3Q2023!J15 -> 429.93182 | ... BB15: =pozyczki_3Q2023!BB15+leasing_3Q2023!BB15 -> 1386223.5
A16: 10 | B16: Impuls-Leasing Polska Sp. z o. o. | C16: =pozyczki_3Q2023!C16+leasing_3Q2023!C16 -> 757848.46 | D16: =pozyczki_3Q2023!D16+leasing_3Q2023!D16 -> 365757.46 | E16: =pozyczki_3Q2023!E16+leasing_3Q2023!E16 -> 14039.61 | F16: =pozyczki_3Q2023!F16+leasing_3Q2023!F16 -> 5136 | G16: =pozyczki_3Q2023!G16+leasing_3Q2023!G16 -> 109738.15 | H16: =pozyczki_3Q2023!H16+leasing_3Q2023!H16 -> 78610.39 | I16: =pozyczki_3Q2023!I16+leasing_3Q2023!I16 -> 608.72 | J16: =pozyczki_3Q2023!J16+leasing_3Q2023!J16 -> 0 | ... BB16: =pozyczki_3Q2023!BB16+leasing_3Q2023!BB16 -> 938572.1
A17: 11 | B17: ING Lease (Polska) Sp. z o.o. | C17: =pozyczki_3Q2023!C17+leasing_3Q2023!C17 -> 2953403 | D17: =pozyczki_3Q2023!D17+leasing_3Q2023!D17 -> 1182482 | E17: =pozyczki_3Q2023!E17+leasing_3Q2023!E17 -> 59621 | F17: =pozyczki_3Q2023!F17+leasing_3Q2023!F17 -> 30396 | G17: =pozyczki_3Q2023!G17+leasing_3Q2023!G17 -> 603615 | H17: =pozyczki_3Q2023!H17+leasing_3Q2023!H17 -> 329400 | I17: =pozyczki_3Q2023!I17+leasing_3Q2023!I17 -> 8415 | J17: =pozyczki_3Q2023!J17+leasing_3Q2023!J17 -> 0 | ... BB17: =pozyczki_3Q2023!BB17+leasing_3Q2023!BB17 -> 4998792
A18: 12 | B18: Leasing Polski Sp. z o. o. | C18: =pozyczki_3Q2023!C18+leasing_3Q2023!C18 -> 135793.81 | D18: =pozyczki_3Q2023!D18+leasing_3Q2023!D18 -> 23324.668 | E18: =pozyczki_3Q2023!E18+leasing_3Q2023!E18 -> 446.73252 | F18: =pozyczki_3Q2023!F18+leasing_3Q2023!F18 -> 1392.538 | G18: =pozyczki_3Q2023!G18+leasing_3Q2023!G18 -> 28086.097 | H18: =pozyczki_3Q2023!H18+leasing_3Q2023!H18 -> 14624.799 | I18: =pozyczki_3Q2023!I18+leasing_3Q2023!I18 -> 0 | J18: =pozyczki_3Q2023!J18+leasing_3Q2023!J18 -> 0 | ... BB18: =pozyczki_3Q2023!BB18+leasing_3Q2023!BB18 -> 161264.13
... A30: 24 | B30: Siemens Finance Sp. z o.o. | C30: =pozyczki_3Q2023!C30+leasing_3Q2023!C30 -> 21182 | D30: =pozyczki_3Q2023!D30+leasing_3Q2023!D30 -> 1535 | E30: =pozyczki_3Q2023!E30+leasing_3Q2023!E30 -> 0 | F30: =pozyczki_3Q2023!F30+leasing_3Q2023!F30 -> 0 | G30: =pozyczki_3Q2023!G30+leasing_3Q2023!G30 -> 23438 | H30: =pozyczki_3Q2023!H30+leasing_3Q2023!H30 -> 458 | I30: =pozyczki_3Q2023!I30+leasing_3Q2023!I30 -> 0 | J30: =pozyczki_3Q2023!J30+leasing_3Q2023!J30 -> 0 | ... BB30: =pozyczki_3Q2023!BB30+leasing_3Q2023!BB30 -> 616774
B31: Razem | C31: =pozyczki_3Q2023!C31+leasing_3Q2023!C31 -> 37322289 | D31: =pozyczki_3Q2023!D31+leasing_3Q2023!D31 -> 18873645 | E31: =pozyczki_3Q2023!E31+leasing_3Q2023!E31 -> 667782.95 | F31: =pozyczki_3Q2023!F31+leasing_3Q2023!F31 -> 375440.48 | G31: =pozyczki_3Q2023!G31+leasing_3Q2023!G31 -> 6065432.9 | H31: =pozyczki_3Q2023!H31+leasing_3Q2023!H31 -> 3487391.7 | I31: =pozyczki_3Q2023!I31+leasing_3Q2023!I31 -> 107969.71 | J31: =pozyczki_3Q2023!J31+leasing_3Q2023!J31 -> 673.83426 | ... BB31: =pozyczki_3Q2023!BB31+leasing_3Q2023!BB31 -> 57700010
A33: Ilość środków _ leasing + pożyczka (szt.) | C33: 01.01.20223- 30.09.2023
A36: Lp. | B36: Spółka | C36: POJAZDY | D36: Osobowe | E36: osobowe - zeroemisyjne | F36: osobowe - hybryda plug-in | G36: Cięzarowe: | H36: o masie do 3,5 tony | I36: o masie do 3,5 tony - zeroemisyjne | J36: o masie do 3,5 tony - hybryda plug-in | K36: o masie powyzej 3,5 tony | L36: o masie powyżej 3,5 tony - zeroemisyjne | M36: o masie powyżej 3,5 tony - hybryda plug-in | N36: ciagniki siodlowe | O36: ciągniki siodłowe - zeroemisyjne | P36: ciągniki siodłowe - hybryda plug-in | Q36: naczepy / przyczepy | R36: autobusy | S36: autobusy - zeroemisyjne | T36: autobusy - hybryda plug-in | U36: inne | V36: inne - zeroemisyjne | W36: inne - hybryda plug-in | X36: MiU | Y36: Sprzęt Budowlany | Z36: Maszyny Rolnicze | AA36: Maszyny Poligraf. | AB36: maszyny do produkcji tworzyw sztucznych | AC36: maszyny i urządzenia do obróbki metali | AD36: maszyny dla przemysłu spożywczego | AE36: Sprzęt Medyczny | AF36: Sprzęt Gastronom. | AG36: Wózki Widłowe | AH36: fotowoltaika | AI36: wiatraki i turbiny wiatrowe | AJ36: stacje ładowania pojazdów elektrycznych (na użytek własny i komercyjny) | AK36: inne MiU | AL36: IT | AM36: Sprzęt | AN36: Oprogram. | AO36: inne IT | AP36: POZOSTAŁE ŚRODKI TRANSPORTU | AQ36: Powietrzne | AR36: Wodne | AS36: Kolejowe | AT36: Inne ruchomości | AU36: RUCHOMOŚCI | AV36: Nieruchomości | AW36: budynki przemysłowe | AX36: obiekty handlowe i usługowe | AY36: obiekty biurowe | AZ36: hotele i obiekty rekreacyjne | BA36: inne | BB36: OGÓŁEM
A37: 1 | B37: Alior Leasing Sp. z o. o. | C37: =pozyczki_3Q2023!C37+leasing_3Q2023!C37 -> 12534 | D37: =pozyczki_3Q2023!D37+leasing_3Q2023!D37 -> 5963 | E37: =pozyczki_3Q2023!E37+leasing_3Q2023!E37 -> 0 | F37: =pozyczki_3Q2023!F37+leasing_3Q2023!F37 -> 0 | G37: =pozyczki_3Q2023!G37+leasing_3Q2023!G37 -> 2668 | H37: =pozyczki_3Q2023!H37+leasing_3Q2023!H37 -> 2112 | I37: =pozyczki_3Q2023!I37+leasing_3Q2023!I37 -> 0 | J37: =pozyczki_3Q2023!J37+leasing_3Q2023!J37 -> 0 | ... BB37: =pozyczki_3Q2023!BB37+leasing_3Q2023!BB37 -> 14866
A38: 2 | B38: BNP Paribas Lease Group Sp. z o.o. | C38: =pozyczki_3Q2023!C38+leasing_3Q2023!C38 -> 12946 | D38: =pozyczki_3Q2023!D38+leasing_3Q2023!D38 -> 9644 | E38: =pozyczki_3Q2023!E38+leasing_3Q2023!E38 -> 251 | F38: =pozyczki_3Q2023!F38+leasing_3Q2023!F38 -> 0 | G38: =pozyczki_3Q2023!G38+leasing_3Q2023!G38 -> 2076 | H38: =pozyczki_3Q2023!H38+leasing_3Q2023!H38 -> 1678 | I38: =pozyczki_3Q2023!I38+leasing_3Q2023!I38 -> 25 | J38: =pozyczki_3Q2023!J38+leasing_3Q2023!J38 -> 0 | ... BB38: =pozyczki_3Q2023!BB38+leasing_3Q2023!BB38 -> 20323
A39: 3 | B39: BOŚ Leasing - EKO Profit S.A. | C39: =pozyczki_3Q2023!C39+leasing_3Q2023!C39 -> 153 | D39: =pozyczki_3Q2023!D39+leasing_3Q2023!D39 -> 40 | E39: =pozyczki_3Q2023!E39+leasing_3Q2023!E39 -> 0 | F39: =pozyczki_3Q2023!F39+leasing_3Q2023!F39 -> 0 | G39: =pozyczki_3Q2023!G39+leasing_3Q2023!G39 -> 24 | H39: =pozyczki_3Q2023!H39+leasing_3Q2023!H39 -> 14 | I39: =pozyczki_3Q2023!I39+leasing_3Q2023!I39 -> 0 | J39: =pozyczki_3Q2023!J39+leasing_3Q2023!J39 -> 0 | ... BB39: =pozyczki_3Q2023!BB39+leasing_3Q2023!BB39 -> 354
A40: 4 | B40: BPS Leasing Spółka Akcyjna (BPS Leasing S.A.) | C40: =pozyczki_3Q2023!C40+leasing_3Q2023!C40 -> 821 | D40: =pozyczki_3Q2023!D40+leasing_3Q2023!D40 -> 380 | E40: =pozyczki_3Q2023!E40+leasing_3Q2023!E40 -> 4 | F40: =pozyczki_3Q2023!F40+leasing_3Q2023!F40 -> 114 | G40: =pozyczki_3Q2023!G40+leasing_3Q2023!G40 -> 126 | H40: =pozyczki_3Q2023!H40+leasing_3Q2023!H40 -> 69 | I40: =pozyczki_3Q2023!I40+leasing_3Q2023!I40 -> 0 | J40: =pozyczki_3Q2023!J40+leasing_3Q2023!J40 -> 0 | ... BB40: =pozyczki_3Q2023!BB40+leasing_3Q2023!BB40 -> 933
A41: 5 | B41: Caterpillar Financial Services Poland Sp. z o.o. | C41: =pozyczki_3Q2023!C41+leasing_3Q2023!C41 -> 0 | D41: =pozyczki_3Q2023!D41+leasing_3Q2023!D41 -> 0 | E41: =pozyczki_3Q2023!E41+leasing_3Q2023!E41 -> 0 | F41: =pozyczki_3Q2023!F41+leasing_3Q2023!F41 -> 0 | G41: =pozyczki_3Q2023!G41+leasing_3Q2023!G41 -> 0 | H41: =pozyczki_3Q2023!H41+leasing_3Q2023!H41 -> 0 | I41: =pozyczki_3Q2023!I41+leasing_3Q2023!I41 -> 0 | J41: =pozyczki_3Q2023!J41+leasing_3Q2023!J41 -> 0 | ... BB41: =pozyczki_3Q2023!BB41+leasing_3Q2023!BB41 -> 826
A42: 6 | B42: De Lage Landen Leasing Polska S.A. | C42: =pozyczki_3Q2023!C42+leasing_3Q2023!C42 -> 55 | D42: =pozyczki_3Q2023!D42+leasing_3Q2023!D42 -> 5 | E42: =pozyczki_3Q2023!E42+leasing_3Q2023!E42 -> 0 | F42: =pozyczki_3Q2023!F42+leasing_3Q2023!F42 -> 0 | G42: =pozyczki_3Q2023!G42+leasing_3Q2023!G42 -> 0 | H42: =pozyczki_3Q2023!H42+leasing_3Q2023!H42 -> 0 | I42: =pozyczki_3Q2023!I42+leasing_3Q2023!I42 -> 0 | J42: =pozyczki_3Q2023!J42+leasing_3Q2023!J42 -> 0 | ... BB42: =pozyczki_3Q2023!BB42+leasing_3Q2023!BB42 -> 1808
A43: 7 | B43: Deutsche Leasing Polska S.A. | C43: =pozyczki_3Q2023!C43+leasing_3Q2023!C43 -> 1596 | D43: =pozyczki_3Q2023!D43+leasing_3Q2023!D43 -> 12 | E43: =pozyczki_3Q2023!E43+leasing_3Q2023!E43 -> 0 | F43: =pozyczki_3Q2023!F43+leasing_3Q2023!F43 -> 0 | G43: =pozyczki_3Q2023!G43+leasing_3Q2023!G43 -> 1 | H43: =pozyczki_3Q2023!H43+leasing_3Q2023!H43 -> 1 | I43: =pozyczki_3Q2023!I43+leasing_3Q2023!I43 -> 0 | J43: =pozyczki_3Q2023!J43+leasing_3Q2023!J43 -> 0 | ... BB43: =pozyczki_3Q2023!BB43+leasing_3Q2023!BB43 -> 5323
A44: 8 | B44: Europejski Fundusz Leasingowy S.A. | C44: =pozyczki_3Q2023!C44+leasing_3Q2023!C44 -> 24202 | D44: =pozyczki_3Q2023!D44+leasing_3Q2023!D44 -> 11735 | E44: =pozyczki_3Q2023!E44+leasing_3Q2023!E44 -> 291 | F44: =pozyczki_3Q2023!F44+leasing_3Q2023!F44 -> 119 | G44: =pozyczki_3Q2023!G44+leasing_3Q2023!G44 -> 5468 | H44: =pozyczki_3Q2023!H44+leasing_3Q2023!H44 -> 3966 | I44: =pozyczki_3Q2023!I44+leasing_3Q2023!I44 -> 193 | J44: =pozyczki_3Q2023!J44+leasing_3Q2023!J44 -> 0 | ... BB44: =pozyczki_3Q2023!BB44+leasing_3Q2023!BB44 -> 37175
A45: 9 | B45: Grupa VB Leasing | C45: =pozyczki_3Q2023!C45+leasing_3Q2023!C45 -> 6637 | D45: =pozyczki_3Q2023!D45+leasing_3Q2023!D45 -> 2885 | E45: =pozyczki_3Q2023!E45+leasing_3Q2023!E45 -> 50 | F45: =pozyczki_3Q2023!F45+leasing_3Q2023!F45 -> 336 | G45: =pozyczki_3Q2023!G45+leasing_3Q2023!G45 -> 1256 | H45: =pozyczki_3Q2023!H45+leasing_3Q2023!H45 -> 919 | I45: =pozyczki_3Q2023!I45+leasing_3Q2023!I45 -> 3 | J45: =pozyczki_3Q2023!J45+leasing_3Q2023!J45 -> 4 | ... BB45: =pozyczki_3Q2023!BB45+leasing_3Q2023!BB45 -> 9174
A46: 10 | B46: Impuls-Leasing Polska Sp. z o. o. | C46: =pozyczki_3Q2023!C46+leasing_3Q2023!C46 -> 4029 | D46: =pozyczki_3Q2023!D46+leasing_3Q2023!D46 -> 2207 | E46: =pozyczki_3Q2023!E46+leasing_3Q2023!E46 -> 66 | F46: =pozyczki_3Q2023!F46+leasing_3Q2023!F46 -> 27 | G46: =pozyczki_3Q2023!G46+leasing_3Q2023!G46 -> 643 | H46: =pozyczki_3Q2023!H46+leasing_3Q2023!H46 -> 555 | I46: =pozyczki_3Q2023!I46+leasing_3Q2023!I46 -> 4 | J46: =pozyczki_3Q2023!J46+leasing_3Q2023!J46 -> 0 | ... BB46: =pozyczki_3Q2023!BB46+leasing_3Q2023!BB46 -> 5065
A47: 11 | B47: ING Lease (Polska) Sp. z o.o. | C47: =pozyczki_3Q2023!C47+leasing_3Q2023!C47 -> 15348 | D47: =pozyczki_3Q2023!D47+leasing_3Q2023!D47 -> 8097 | E47: =pozyczki_3Q2023!E47+leasing_3Q2023!E47 -> 304 | F47: =pozyczki_3Q2023!F47+leasing_3Q2023!F47 -> 128 | G47: =pozyczki_3Q2023!G47+leasing_3Q2023!G47 -> 3175 | H47: =pozyczki_3Q2023!H47+leasing_3Q2023!H47 -> 2565 | I47: =pozyczki_3Q2023!I47+leasing_3Q2023!I47 -> 44 | J47: =pozyczki_3Q2023!J47+leasing_3Q2023!J47 -> 0 | ... BB47: =pozyczki_3Q2023!BB47+leasing_3Q2023!BB47 -> 20351
A48: 12 | B48: Leasing Polski Sp. z o. o. | C48: =pozyczki_3Q2023!C48+leasing_3Q2023!C48 -> 1196 | D48: =pozyczki_3Q2023!D48+leasing_3Q2023!D48 -> 247 | E48: =pozyczki_3Q2023!E48+leasing_3Q2023!E48 -> 2 | F48: =pozyczki_3Q2023!F48+leasing_3Q2023!F48 -> 14 | G48: =pozyczki_3Q2023!G48+leasing_3Q2023!G48 -> 292 | H48: =pozyczki_3Q2023!H48+leasing_3Q2023!H48 -> 198 | I48: =pozyczki_3Q2023!I48+leasing_3Q2023!I48 -> 0 | J48: =pozyczki_3Q2023!J48+leasing_3Q2023!J48 -> 0 | ... BB48: =pozyczki_3Q2023!BB48+leasing_3Q2023!BB48 -> 1307
... A60: 24 | B60: Siemens Finance Sp. z o.o. | C60: =pozyczki_3Q2023!C60+leasing_3Q2023!C60 -> 23 | D60: =pozyczki_3Q2023!D60+leasing_3Q2023!D60 -> 6 | E60: =pozyczki_3Q2023!E60+leasing_3Q2023!E60 -> 0 | F60: =pozyczki_3Q2023!F60+leasing_3Q2023!F60 -> 0 | G60: =pozyczki_3Q2023!G60+leasing_3Q2023!G60 -> 13 | H60: =pozyczki_3Q2023!H60+leasing_3Q2023!H60 -> 2 | I60: =pozyczki_3Q2023!I60+leasing_3Q2023!I60 -> 0 | J60: =pozyczki_3Q2023!J60+leasing_3Q2023!J60 -> 0 | ... BB60: =pozyczki_3Q2023!BB60+leasing_3Q2023!BB60 -> 6889
B61: Razem | C61: =pozyczki_3Q2023!C61+leasing_3Q2023!C61 -> 213754 | D61: =pozyczki_3Q2023!D61+leasing_3Q2023!D61 -> 130908 | E61: =pozyczki_3Q2023!E61+leasing_3Q2023!E61 -> 3123 | F61: =pozyczki_3Q2023!F61+leasing_3Q2023!F61 -> 1840 | G61: =pozyczki_3Q2023!G61+leasing_3Q2023!G61 -> 33712 | H61: =pozyczki_3Q2023!H61+leasing_3Q2023!H61 -> 26921 | I61: =pozyczki_3Q2023!I61+leasing_3Q2023!I61 -> 541 | J61: =pozyczki_3Q2023!J61+leasing_3Q2023!J61 -> 5 | ... BB61: =pozyczki_3Q2023!BB61+leasing_3Q2023!BB61 -> 309977
A64: Warszawa. 25.04.2024r.
