Workbook

Sheet pozyczki za cały 2023
A1: Związek Polskiego Leasingu, Warszawa 04-07-2024
C2: 01.01.2023-31.12.2023
A3: Wartość środków _ pożyczki (netto w tys. PLN )
A5: Lp. | B5: Spółka | C5: POJAZDY | D5: Osobowe | E5: osobowe - zeroemisyjne | F5: osobowe - hybryda plug-in | G5: Cięzarowe: | H5: o masie do 3,5 tony | I5: o masie do 3,5 tony - zeroemisyjne | J5: o masie do 3,5 tony - hybryda plug-in | K5: o masie powyzej 3,5 tony | L5: o masie powyżej 3,5 tony - zeroemisyjne | M5: o masie powyżej 3,5 tony - hybryda plug-in | N5: ciagniki siodlowe | O5: ciągniki siodłowe - zeroemisyjne | P5: ciągniki siodłowe - hybryda plug-in | Q5: naczepy / przyczepy | R5: autobusy | S5: autobusy - zeroemisyjne | T5: autobusy - hybryda plug-in | U5: inne | V5: inne - zeroemisyjne | W5: inne - hybryda plug-in | X5: MiU | Y5: Sprzęt Budowlany | Z5: Maszyny Rolnicze | AA5: Maszyny Poligraf. | AB5: maszyny do produkcji tworzyw sztucznych | AC5: maszyny i urządzenia do obróbki metali | AD5: maszyny dla przemysłu spożywczego | AE5: Sprzęt Medyczny | AF5: Sprzęt Gastronom. | AG5: Wózki Widłowe | AH5: fotowoltaika | AI5: wiatraki i turbiny wiatrowe | AJ5: stacje ładowania pojazdów elektrycznych (na użytek własny i komercyjny) | AK5: inne MiU | AL5: IT | AM5: Sprzęt | AN5: Oprogram. | AO5: inne IT | AP5: POZOSTAŁE ŚRODKI TRANSPORTU | AQ5: Powietrzne | AR5: Wodne | AS5: Kolejowe | AT5: Inne ruchomości | AU5: RUCHOMOŚCI | AV5: Nieruchomości | AW5: budynki przemysłowe | AX5: obiekty handlowe i usługowe | AY5: obiekty biurowe | AZ5: hotele i obiekty rekreacyjne | BA5: inne | BB5: OGÓŁEM
A6: 1 | B6: Alior Leasing Sp. z o. o. | C6: 255991 | D6: 129985 | G6: 29325 | H6: 18612 | K6: 10713 | N6: 57362 | Q6: 31471 | R6: 1553 | U6: 6295 | X6: 60936 | Y6: 7926 | Z6: 18624 | AA6: 2636 | AB6: 1192 | AC6: 3917 | AD6: 2224 | AE6: 18439 | AG6: 346 | AH6: 908 | AK6: 4724 | AL6: 9929 | AM6: 9929 | AP6: 0 | AU6: 326856 | AV6: 0 | BB6: 326856
A7: 2 | B7: BNP Paribas Lease Group Sp. z o.o. | C7: 157692.95 | D7: 13014.337 | E7: 349.50544 | F7: 0 | G7: 95646.584 | H7: 64659.28 | I7: 0 | J7: 0 | K7: 30987.304 | L7: 0 | M7: 0 | N7: 30597.301 | O7: 0 | P7: 0 | Q7: 18321.102 | R7: 0 | S7: 0 | T7: 0 | U7: 113.62757 | V7: 0 | W7: 0 | X7: 1609859.6 | Y7: 47615.992 | Z7: 1417832.3 | AA7: 23.502 | AB7: 0 | AC7: 4709.7332 | AD7: 1474.9652 | AE7: 41655.702 | AF7: 0 | AG7: 3242.0578 | AH7: 9555.6683 | AI7: 0 | AJ7: 0 | AK7: 83749.737 | AL7: 20642.233 | AM7: 596.40233 | AN7: 19611.413 | AO7: 434.4181 | AP7: 0 | AQ7: 0 | AR7: 0 | AS7: 0 | AT7: 0 | AU7: 1788194.8 | AV7: 0 | AW7: 0 | AX7: 0 | AY7: 0 | AZ7: 0 | BA7: 0 | BB7: 1788194.8
A8: 3 | B8: BOŚ Leasing - EKO Profit S.A. | C8: 66.31999 | G8: 0 | U8: 66.31999 | X8: 2816.6953 | Y8: 924.14377 | Z8: 1000.7228 | AE8: 149.99256 | AH8: 624.85109 | AK8: 116.985 | AL8: 0 | AP8: 0 | AU8: 2883.0152 | AV8: 0 | BB8: 2883.0152
A9: 4 | B9: BPS Leasing Spółka Akcyjna (BPS Leasing S.A.) | C9: 889.98 | D9: 695.63 | G9: 0 | N9: 134.98 | Q9: 59.37 | X9: 0 | AL9: 0 | AP9: 0 | AU9: 889.98 | AV9: 0 | BB9: 889.98
A10: 5 | B10: Caterpillar Financial Services Poland Sp. z o.o. | C10: 0 | G10: 0 | X10: 61397.477 | Y10: 61397.477 | AL10: 0 | AP10: 0 | AU10: 61397.477 | AV10: 0 | BB10: 61397.477
A11: 6 | B11: De Lage Landen Leasing Polska S.A. | C11: 17926 | D11: 1389 | G11: 227 | H11: 227 | N11: 6986 | Q11: 9324 | X11: 700875 | Y11: 5686 | Z11: 660299 | AE11: 20950 | AH11: 3616 | AK11: 10324 | AL11: 17774 | AM11: 7611 | AN11: 10163 | AP11: 0 | AU11: 736575 | AV11: 0 | BB11: 736575
A12: 7 | B12: Deutsche Leasing Polska S.A. | C12: 80568 | D12: 2094 | G12: 306 | H12: 306 | N12: 13938 | Q12: 64230 | X12: 70583 | Y12: 7374 | Z12: 50789 | AA12: 0 | AB12: 4079 | AC12: 4219 | AK12: 4122 | AL12: 0 | AP12: 0 | AU12: 151151 | AV12: 0 | BB12: 151151
A13: 8 | B13: Europejski Fundusz Leasingowy S.A. | C13: 159930.47 | D13: 43556.5 | E13: 1505.6626 | G13: 25887.182 | H13: 22998.079 | I13: 269.5935 | K13: 2889.1029 | N13: 54720.393 | Q13: 34657.78 | R13: 1030 | U13: 78.61788 | X13: 816312.87 | Y13: 43075.791 | Z13: 687194.6 | AA13: 686.91594 | AB13: 940.23316 | AC13: 12126.059 | AD13: 13947.515 | AE13: 23382.554 | AF13: 5175.9111 | AG13: 2436.2141 | AH13: 5949.5645 | AJ13: 6.56272 | AK13: 21390.951 | AL13: 2653.2313 | AM13: 491.69406 | AN13: 1920.9414 | AO13: 240.59581 | AP13: 7724.6381 | AQ13: 1619.9935 | AR13: 6104.6446 | AU13: 986621.21 | AV13: 0 | BB13: 986621.21
A14: 9 | B14: Grupa VB Leasing | C14: 149949.95 | D14: 39814.758 | E14: 723.80532 | F14: 4276.1673 | G14: 23727.15 | H14: 7489.1413 | J14: 429.93182 | K14: 16238.009 | M14: 261.77792 | N14: 48518.713 | P14: 3382.9378 | Q14: 32724.857 | R14: 2109.1946 | U14: 3055.2754 | W14: 104.5 | X14: 175218.92 | Y14: 9533.7435 | Z14: 132207.39 | AA14: 439.34234 | AB14: 7.62331 | AC14: 5053.0037 | AD14: 1417.4186 | AE14: 16802.397 | AF14: 542.74709 | AG14: 351.41572 | AH14: 1536.2534 | AK14: 7327.5864 | AL14: 88.76335 | AM14: 88.76335 | AN14: 0 | AO14: 0 | AP14: 8037.6618 | AQ14: 21.945 | AR14: 8015.7168 | AS14: 0 | AT14: 3525.3243 | AU14: 336820.61 | AV14: 0 | BB14: 336820.61
A15: 10 | B15: Impuls-Leasing Polska Sp. z o. o. | C15: 137634.99 | D15: 47030.4 | E15: 3069.61 | F15: 479.6 | G15: 11326.06 | H15: 7992.92 | I15: 124.72 | K15: 3333.14 | N15: 53106.41 | Q15: 24469.69 | R15: 290 | U15: 1412.43 | X15: 43910.21 | Y15: 13185.65 | Z15: 3336.02 | AA15: 979.28 | AB15: 49.77 | AC15: 1324.81 | AE15: 4240.04 | AF15: 495.69 | AG15: 602.79 | AH15: 59.04 | AK15: 19637.12 | AL15: 26 | AM15: 26 | AP15: 0 | AU15: 181571.2 | AV15: 0 | BB15: 181571.2
A16: 11 | B16: ING Lease (Polska) Sp. z o.o. | C16: 148482 | D16: 14556 | G16: 0 | H16: 0 | K16: 0 | N16: 133926 | Q16: 0 | R16: 0 | U16: 0 | X16: 127230 | Y16: 2053 | Z16: 3015 | AA16: 52384 | AB16: 448 | AC16: 8445 | AD16: 0 | AE16: 18494 | AF16: 0 | AG16: 626 | AK16: 41765 | AL16: 0 | AM16: 0 | AN16: 0 | AO16: 0 | AP16: 0 | AQ16: 0 | AR16: 0 | AS16: 0 | AT16: 14884 | AU16: 290596 | AV16: 0 | AW16: 0 | AX16: 0 | AY16: 0 | AZ16: 0 | BA16: 0 | BB16: 290596
A17: 12 | B17: Leasing Polski Sp. z o. o. | C17: 0 | G17: 0 | X17: 0 | AL17: 0 | AP17: 0 | AU17: 0 | AV17: 0 | BB17: 0
A18: 13 | B18: Mercedes-Benz Leasing Polska Sp. z o.o. | C18: 574345.02 | D18: 284010.59 | E18: 8238.0291 | F18: 12789.591 | G18: 96537.998 | H18: 66870.479 | I18: 389.61787 | K18: 29667.519 | N18: 182280.27 | Q18: 6015.9682 | R18: 5500.1909 | X18: 0 | AL18: 0 | AP18: 0 | AU18: 574345.02 | AV18: 0 | BB18: 574345.02
A19: 14 | B19: Millennium Leasing Sp. z o.o. | C19: 0 | G19: 0 | X19: 0 | AL19: 0 | AP19: 0 | AU19: 0 | AV19: 0 | BB19: 0
A20: 15 | B20: mLeasing Sp. z o.o. | C20: 102542.45 | G20: 13568.301 | K20: 13568.301 | N20: 58763.109 | Q20: 18256.247 | R20: 2956.2602 | U20: 8998.5299 | X20: 424523.71 | Y20: 13411.433 | Z20: 5932.2654 | AA20: 12824.258 | AB20: 38276.689 | AC20: 34398.23 | AD20: 22894.03 | AE20: 164097.21 | AF20: 115.75944 | AG20: 2218.6213 | AK20: 130355.21 | AL20: 3481.6204 | AM20: 3481.6204 | AP20: 22750.928 | AQ20: 4485.9875 | AR20: 18264.94 | AT20: 70471.061 | AU20: 623769.76 | AV20: 0 | BB20: 623769.76
A21: 16 | B21: PEAC (Poland) Sp. z o.o. | C21: 20970 | D21: 6643 | F21: 88 | G21: 2116 | H21: 2116 | N21: 1219 | Q21: 9712 | U21: 1280 | X21: 33139 | Y21: 1234 | Z21: 14357 | AA21: 789 | AB21: 2520 | AC21: 281 | AE21: 109 | AG21: 246 | AK21: 13603 | AL21: 0 | AP21: 0 | AU21: 54109 | AV21: 0 | BB21: 54109
A22: 17 | B22: PEKAO Leasing Sp. z o.o. | C22: 263479.69 | D22: 84569.823 | E22: 263.76848 | F22: 0 | G22: 10200.837 | H22: 6278.464 | I22: 0 | J22: 0 | K22: 3922.3726 | L22: 0 | M22: 0 | N22: 125717.78 | O22: 0 | P22: 0 | Q22: 26130.356 | R22: 7970.4922 | S22: 0 | T22: 0 | U22: 8890.4034 | V22: 0 | W22: 0 | X22: 550548.17 | Y22: 40790.497 | Z22: 149369.36 | AA22: 14546.799 | AB22: 38050.365 | AC22: 109582.02 | AD22: 30937.811 | AE22: 16863.221 | AF22: 0 | AG22: 2695.4314 | AH22: 14325.405 | AI22: 0 | AJ22: 0 | AK22: 133387.26 | AL22: 18287.652 | AM22: 18212.488 | AN22: 75.16432 | AO22: 0 | AP22: 136282.16 | AQ22: 2066.9492 | AR22: 52553.704 | AS22: 81661.512 | AT22: 5544.8867 | AU22: 974142.56 | AV22: 3706.06 | AW22: 221.154 | AX22: 3484.906 | AY22: 0 | AZ22: 0 | BA22: 0 | BB22: 977848.62
A23: 18 | B23: PKO Leasing S.A. | C23: 693316.87 | D23: 318779.87 | E23: 2310.6969 | F23: 2095 | G23: 65043.534 | H23: 41536.158 | I23: 325.4211 | K23: 23507.376 | N23: 191891.47 | Q23: 85209.842 | R23: 30695.643 | U23: 1696.5143 | X23: 975556.99 | Y23: 51673.274 | Z23: 417355.4 | AA23: 29429.734 | AB23: 27184.169 | AC23: 79371.15 | AD23: 20544.572 | AE23: 73392.985 | AF23: 56.45651 | AG23: 4339.1994 | AH23: 108832.34 | AJ23: 157.91495 | AK23: 163219.79 | AL23: 5695.7073 | AM23: 2071.6689 | AN23: 3450.0097 | AO23: 174.02876 | AP23: 50226.611 | AQ23: 46788.875 | AR23: 3437.736 | AU23: 1724796.2 | AV23: 0 | BB23: 1724796.2
A24: 19 | B24: Santander Consumer Multirent Sp.z o.o. | C24: 417935.4 | D24: 376749.42 | G24: 39773.309 | H24: 39773.309 | U24: 1412.678 | X24: 0 | AL24: 0 | AP24: 0 | AU24: 417935.4 | AV24: 0 | BB24: 417935.4
A25: 20 | B25: Santander Leasing S.A. | C25: 578438.2 | D25: 331232.37 | E25: 5118.48 | F25: 8332.142 | G25: 77533.299 | H25: 41997.879 | I25: 0 | J25: 0 | K25: 35535.42 | L25: 0 | M25: 0 | N25: 103188.35 | O25: 0 | P25: 0 | Q25: 58216.794 | R25: 3342.261 | S25: 0 | T25: 0 | U25: 4925.124 | V25: 3 | W25: 0 | X25: 1582243.8 | Y25: 30052.325 | Z25: 987467.48 | AA25: 40591.992 | AB25: 43604.843 | AC25: 49144.852 | AD25: 483.748 | AE25: 121261.73 | AF25: 389.509 | AG25: 2443.741 | AH25: 100063.07 | AI25: 0 | AJ25: 0 | AK25: 206740.52 | AL25: 41702.95 | AM25: 41702.95 | AN25: 0 | AO25: 0 | AP25: 9063.729 | AQ25: 6877.849 | AR25: 2185.88 | AS25: 0 | AT25: 1416.429 | AU25: 2212865.1 | AV25: 20778.953 | AW25: 0 | AX25: 0 | AY25: 0 | AZ25: 0 | BA25: 20778.953 | BB25: 2233644.1
A26: 21 | B26: Scania Finance Polska Sp. z o.o. | C26: 65518 | D26: 260 | G26: 0 | N26: 63329 | Q26: 1929 | X26: 0 | AL26: 0 | AP26: 0 | AU26: 65518 | AV26: 0 | BB26: 65518
A27: 22 | B27: SG Equipment Leasing Polska Sp. z o.o. | C27: 4205.9994 | G27: 602.81957 | H27: 236.99268 | K27: 365.82689 | N27: 2133.3817 | Q27: 1469.7981 | X27: 109807.88 | Y27: 30082.183 | Z27: 63411.163 | AC27: 1576.0538 | AD27: 289.05 | AE27: 290.72388 | AG27: 4844.4384 | AH27: 215.68 | AK27: 9098.5862 | AL27: 123222.88 | AM27: 97911.819 | AN27: 25311.065 | AP27: 0 | AU27: 237236.76 | AV27: 0 | BB27: 237236.76
A28: 23 | B28: SGB Leasing Sp. z o.o. | C28: 12675 | D28: 3230 | F28: 288 | G28: 8238 | H28: 8238 | Q28: 790 | U28: 417 | X28: 57841 | Y28: 3763 | Z28: 31264 | AD28: 432 | AE28: 2007 | AG28: 64 | AH28: 4771 | AK28: 15540 | AL28: 124 | AM28: 98 | AN28: 26 | AP28: 0 | AU28: 70640 | AV28: 3269 | AX28: 3269 | BB28: 73909
A29: 24 | B29: Siemens Finance Sp. z o.o. | C29: 0 | G29: 0 | X29: 0 | AL29: 0 | AP29: 0 | AU29: 0 | AV29: 0 | BB29: 0
A30: 25 | B30: Vehis Fin 1 Sp. z o. o. | C30: 0 | G30: 0 | X30: 0 | AL30: 0 | AP30: 0 | AU30: 0 | AV30: 0 | BB30: 0
A31: 26 | B31: Razem | C31: 3842558.3 | D31: 1697610.7 | E31: 21579.558 | F31: 28348.5 | G31: 500059.07 | H31: 329331.7 | I31: 1109.3525 | J31: 429.93182 | K31: 170727.37 | L31: 0 | M31: 261.77792 | N31: 1127812.2 | O31: 0 | P31: 3382.9378 | Q31: 422987.8 | R31: 55447.042 | S31: 0 | T31: 0 | U31: 38641.52 | V31: 3 | W31: 104.5 | X31: 7402800.3 | Y31: 369778.51 | Z31: 4643454.6 | AA31: 155330.82 | AB31: 156352.69 | AC31: 314147.91 | AD31: 94645.109 | AE31: 522135.56 | AF31: 6776.0731 | AG31: 24455.909 | AH31: 250456.87 | AI31: 0 | AJ31: 164.47767 | AK31: 865101.75 | AL31: 243628.04 | AM31: 182221.41 | AN31: 60557.593 | AO31: 849.04267 | AP31: 234085.73 | AQ31: 61861.599 | AR31: 90562.621 | AS31: 81661.512 | AT31: 95841.701 | AU31: 11818914 | AV31: 27754.013 | AW31: 221.154 | AX31: 6753.906 | AY31: 0 | AZ31: 0 | BA31: 20778.953 | BB31: 11846668
A33: Ilość środków _pożyczki (szt) | C33: 01.01.2023-31.12.2023
A36: Lp. | B36: Spółka | C36: POJAZDY | D36: Osobowe | E36: osobowe - zeroemisyjne | F36: osobowe - hybryda plug-in | G36: Cięzarowe: | H36: o masie do 3,5 tony | I36: o masie do 3,5 tony - zeroemisyjne | J36: o masie do 3,5 tony - hybryda plug-in | K36: o masie powyzej 3,5 tony | L36: o masie powyżej 3,5 tony - zeroemisyjne | M36: o masie powyżej 3,5 tony - hybryda plug-in | N36: ciagniki siodlowe | O36: ciągniki siodłowe - zeroemisyjne | P36: ciągniki siodłowe - hybryda plug-in | Q36: naczepy / przyczepy | R36: autobusy | S36: autobusy - zeroemisyjne | T36: autobusy - hybryda plug-in | U36: inne | V36: inne - zeroemisyjne | W36: inne - hybryda plug-in | X36: MiU | Y36: Sprzęt Budowlany | Z36: Maszyny Rolnicze | AA36: Maszyny Poligraf. | AB36: maszyny do produkcji tworzyw sztucznych | AC36: maszyny i urządzenia do obróbki metali | AD36: maszyny dla przemysłu spożywczego | AE36: Sprzęt Medyczny | AF36: Sprzęt Gastronom. | AG36: Wózki Widłowe | AH36: fotowoltaika | AI36: wiatraki i turbiny wiatrowe | AJ36: stacje ładowania pojazdów elektrycznych (na użytek własny i komercyjny) | AK36: inne MiU | AL36: IT | AM36: Sprzęt | AN36: Oprogram. | AO36: inne IT | AP36: POZOSTAŁE ŚRODKI TRANSPORTU | AQ36: Powietrzne | AR36: Wodne | AS36: Kolejowe | AT36: Inne ruchomości | AU36: RUCHOMOŚCI | AV36: Nieruchomości | AW36: budynki przemysłowe | AX36: obiekty handlowe i usługowe | AY36: obiekty biurowe | AZ36: hotele i obiekty rekreacyjne | BA36: inne | BB36: OGÓŁEM
A37: 1 | B37: Alior Leasing Sp. z o. o. | C37: 2043 | D37: 1189 | G37: 297 | H37: 241 | K37: 56 | N37: 229 | Q37: 265 | R37: 9 | U37: 54 | X37: 389 | Y37: 45 | Z37: 124 | AA37: 9 | AB37: 4 | AC37: 23 | AD37: 14 | AE37: 109 | AG37: 4 | AH37: 6 | AK37: 51 | AL37: 4 | AM37: 4 | AP37: 0 | AU37: 2436 | AV37: 0 | BB37: 2436
A38: 2 | B38: BNP Paribas Lease Group Sp. z o.o. | C38: 758 | D38: 133 | E38: 2 | F38: 0 | G38: 442 | H38: 355 | I38: 0 | J38: 0 | K38: 87 | L38: 0 | M38: 0 | N38: 66 | O38: 0 | P38: 0 | Q38: 114 | R38: 0 | S38: 0 | T38: 0 | U38: 3 | V38: 0 | W38: 0 | X38: 4588 | Y38: 127 | Z38: 3571 | AA38: 1 | AB38: 0 | AC38: 3 | AD38: 2 | AE38: 671 | AF38: 0 | AG38: 26 | AH38: 69 | AI38: 0 | AJ38: 0 | AK38: 118 | AL38: 351 | AM38: 4 | AN38: 343 | AO38: 4 | AP38: 0 | AQ38: 0 | AR38: 0 | AS38: 0 | AT38: 0 | AU38: 5697 | AV38: 0 | AW38: 0 | AX38: 0 | AY38: 0 | AZ38: 0 | BA38: 0 | BB38: 5697
A39: 3 | B39: BOŚ Leasing - EKO Profit S.A. | C39: 1 | G39: 0 | U39: 1 | X39: 10 | Y39: 2 | Z39: 3 | AE39: 1 | AH39: 3 | AK39: 1 | AL39: 0 | AP39: 0 | AU39: 11 | AV39: 0 | BB39: 11
A40: 4 | B40: BPS Leasing Spółka Akcyjna (BPS Leasing S.A.) | C40: 3 | D40: 1 | G40: 0 | N40: 1 | Q40: 1 | X40: 0 | AL40: 0 | AP40: 0 | AU40: 3 | AV40: 0 | BB40: 3
A41: 5 | B41: Caterpillar Financial Services Poland Sp. z o.o. | C41: 0 | G41: 0 | X41: 145 | Y41: 145 | AL41: 0 | AP41: 0 | AU41: 145 | AV41: 0 | BB41: 145
A42: 6 | B42: De Lage Landen Leasing Polska S.A. | C42: 92 | D42: 8 | G42: 1 | H42: 1 | N42: 27 | Q42: 56 | X42: 1894 | Y42: 16 | Z42: 1613 | AE42: 203 | AH42: 33 | AK42: 29 | AL42: 13 | AM42: 5 | AN42: 8 | AP42: 0 | AU42: 1999 | AV42: 0 | BB42: 1999
A43: 7 | B43: Deutsche Leasing Polska S.A. | C43: 429 | D43: 7 | G43: 1 | H43: 1 | N43: 30 | Q43: 391 | X43: 135 | Y43: 3 | Z43: 103 | AA43: 0 | AB43: 7 | AC43: 2 | AK43: 20 | AL43: 0 | AP43: 0 | AU43: 564 | AV43: 0 | BB43: 564
A44: 8 | B44: Europejski Fundusz Leasingowy S.A. | C44: 864 | D44: 283 | E44: 6 | G44: 127 | H44: 113 | I44: 1 | K44: 14 | N44: 209 | Q44: 242 | R44: 2 | U44: 1 | X44: 2094 | Y44: 174 | Z44: 1377 | AA44: 8 | AB44: 4 | AC44: 23 | AD44: 11 | AE44: 227 | AF44: 26 | AG44: 10 | AH44: 54 | AJ44: 1 | AK44: 179 | AL44: 61 | AM44: 17 | AN44: 30 | AO44: 14 | AP44: 56 | AQ44: 3 | AR44: 53 | AU44: 3075 | AV44: 0 | BB44: 3075
...

Sheet leasing za cały 2023
A1: Związek Polskiego Leasingu
A3: Wartość środków oddanych w leasing w | C3: 01.01.2023-31.12.2023
A5: Lp. | B5: Spółka | C5: POJAZDY | D5: Osobowe | E5: osobowe - zeroemisyjne | F5: osobowe - hybryda plug-in | G5: Cięzarowe: | H5: o masie do 3,5 tony | I5: o masie do 3,5 tony - zeroemisyjne | J5: o masie do 3,5 tony - hybryda plug-in | K5: o masie powyzej 3,5 tony | L5: o masie powyżej 3,5 tony - zeroemisyjne | M5: o masie powyżej 3,5 tony - hybryda plug-in | N5: ciagniki siodlowe | O5: ciągniki siodłowe - zeroemisyjne | P5: ciągniki siodłowe - hybryda plug-in | Q5: naczepy / przyczepy | R5: autobusy | S5: autobusy - zeroemisyjne | T5: autobusy - hybryda plug-in | U5: inne | V5: inne - zeroemisyjne | W5: inne - hybryda plug-in | X5: MiU | Y5: Sprzęt Budowlany | Z5: Maszyny Rolnicze | AA5: Maszyny Poligraf. | AB5: maszyny do produkcji tworzyw sztucznych | AC5: maszyny i urządzenia do obróbki metali | AD5: maszyny dla przemysłu spożywczego | AE5: Sprzęt Medyczny | AF5: Sprzęt Gastronom. | AG5: Wózki Widłowe | AH5: fotowoltaika | AI5: wiatraki i turbiny wiatrowe | AJ5: stacje ładowania pojazdów elektrycznych (na użytek własny i komercyjny) | AK5: inne MiU | AL5: IT | AM5: Sprzęt | AN5: Oprogram. | AO5: inne IT | AP5: POZOSTAŁE ŚRODKI TRANSPORTU | AQ5: Powietrzne | AR5: Wodne | AS5: Kolejowe | AT5: Inne ruchomości | AU5: RUCHOMOŚCI | AV5: Nieruchomości | AW5: budynki przemysłowe | AX5: obiekty handlowe i usługowe | AY5: obiekty biurowe | AZ5: hotele i obiekty rekreacyjne | BA5: inne | BB5: OGÓŁEM
A6: 1 | B6: Alior Leasing Sp. z o. o. | C6: 2392913 | D6: 940034 | G6: 456540 | H6: 263603 | K6: 192937 | N6: 530568 | Q6: 284129 | R6: 127451 | U6: 54191 | X6: 438894 | Y6: 173219 | Z6: 91545 | AA6: 7288 | AB6: 6124 | AC6: 51280 | AD6: 9313 | AE6: 12908 | AF6: 89 | AG6: 9250 | AH6: 4219 | AK6: 73659 | AL6: 6614 | AM6: 6614 | AP6: 33860 | AS6: 33860 | AU6: 2872281 | AV6: 0 | BB6: 2872281
A7: 2 | B7: BNP Paribas Lease Group Sp. z o.o. | C7: 2640922.6 | D7: 1779406.5 | E7: 62166.055 | F7: 0 | G7: 482745.25 | H7: 334290.67 | I7: 7171.6479 | J7: 0 | K7: 148454.58 | L7: 0 | M7: 0 | N7: 273702.8 | O7: 0 | P7: 0 | Q7: 75863.006 | R7: 5751.71 | S7: 0 | T7: 0 | U7: 23453.324 | V7: 143.78059 | W7: 0 | X7: 1186083.5 | Y7: 233083.69 | Z7: 190972.98 | AA7: 4322.9895 | AB7: 9779.0899 | AC7: 18487.51 | AD7: 26896.379 | AE7: 10426.175 | AF7: 1494.6152 | AG7: 142443.56 | AH7: 36019.469 | AI7: 0 | AJ7: 694.03628 | AK7: 511463.02 | AL7: 79426.745 | AM7: 46854.407 | AN7: 12307.864 | AO7: 20264.475 | AP7: 40.65041 | AQ7: 0 | AR7: 40.65041 | AS7: 0 | AU7: 3906473.5 | AV7: 175979.21 | AW7: 12211.075 | AX7: 163768.14 | AY7: 0 | AZ7: 0 | BA7: 0 | BB7: 4082452.7
A8: 3 | B8: BOŚ Leasing - EKO Profit S.A. | C8: 44466.453 | D8: 11208.204 | G8: 4247.5656 | H8: 1854.1996 | K8: 2393.366 | N8: 6151.4012 | Q8: 9480.3866 | R8: 2415.1581 | U8: 10963.737 | X8: 79160.801 | Y8: 11713.54 | Z8: 7034.0625 | AA8: 2075.2559 | AB8: 5137.4591 | AC8: 6825.7988 | AD8: 637.99006 | AE8: 1210.6746 | AG8: 1563.3136 | AH8: 8579.2066 | AK8: 34383.499 | AL8: 203.5 | AM8: 203.5 | AP8: 13340.733 | AQ8: 12136.935 | AR8: 1203.7975 | AU8: 137171.49 | AV8: 0 | BB8: 137171.49
A9: 4 | B9: BPS Leasing Spółka Akcyjna (BPS Leasing S.A.) | C9: 243264.94 | D9: 64982.72 | E9: 1222.53 | F9: 20671.71 | G9: 36081.1 | H9: 8669.75 | K9: 27411.35 | N9: 75310.28 | P9: 129 | Q9: 31207.99 | R9: 30538.63 | U9: 5144.22 | X9: 41351.27 | Y9: 17808.08 | Z9: 7235.09 | AA9: 753.17 | AB9: 1313.2 | AC9: 703.27 | AD9: 2817.56 | AE9: 775.22 | AG9: 3233.8 | AH9: 1077.22 | AK9: 5634.66 | AL9: 150.15 | AM9: 150.15 | AP9: 1908.9 | AQ9: 1310.35 | AR9: 598.55 | AT9: 6354.61 | AU9: 293029.87 | AV9: 46807.5 | AX9: 34663.5 | AZ9: 12144 | BB9: 339837.37
A10: 5 | B10: Caterpillar Financial Services Poland Sp. z o.o. | C10: 0 | G10: 0 | X10: 508459.17 | Y10: 508459.17 | AL10: 0 | AP10: 0 | AU10: 508459.17 | AV10: 0 | BB10: 508459.17
A11: 6 | B11: De Lage Landen Leasing Polska S.A. | C11: 6418 | D11: 906 | G11: 126 | H11: 126 | N11: 4656 | Q11: 494 | U11: 236 | X11: 65059 | Y11: 8217 | Z11: 37383 | AE11: 1493 | AG11: 8696 | AH11: 868 | AK11: 8402 | AL11: 13257 | AM11: 13257 | AP11: 0 | AU11: 84734 | AV11: 0 | BB11: 84734
A12: 7 | B12: Deutsche Leasing Polska S.A. | C12: 235374 | D12: 2847 | G12: 659 | H12: 659 | N12: 69767 | Q12: 161325 | U12: 776 | X12: 690990 | Y12: 5296 | Z12: 8652 | AA12: 2978 | AB12: 11735 | AC12: 91952 | AD12: 13409 | AE12: 13121 | AF12: 0 | AG12: 453971 | AK12: 89876 | AL12: 0 | AP12: 0 | AU12: 926364 | AV12: 0 | BB12: 926364
A13: 8 | B13: Europejski Fundusz Leasingowy S.A. | C13: 5884850.9 | D13: 2419335.6 | E13: 108845.59 | F13: 35145.987 | G13: 1484915.7 | H13: 746221.26 | I13: 74983.961 | K13: 738694.46 | L13: 1899 | N13: 1195951.5 | Q13: 653344.9 | R13: 89733.985 | U13: 41569.235 | V13: 229.46258 | X13: 2258408 | Y13: 845423.74 | Z13: 300490.64 | AA13: 40891.713 | AB13: 42131.316 | AC13: 150151.22 | AD13: 34297.699 | AE13: 26294.89 | AF13: 88886.012 | AG13: 68134.391 | AH13: 101643.3 | AI13: 0 | AJ13: 1871.0433 | AK13: 558192.05 | AL13: 113906.03 | AM13: 50259.513 | AN13: 18260.544 | AO13: 45385.969 | AP13: 20617.845 | AQ13: 4630.1829 | AR13: 15987.662 | AU13: 8277782.8 | AV13: 0 | BB13: 8277782.8
A14: 9 | B14: Grupa VB Leasing | C14: 814336.41 | D14: 293696.18 | E14: 10477.403 | F14: 50559.075 | G14: 146935.76 | H14: 86879.286 | I14: 401.93089 | J14: 0 | K14: 60056.479 | M14: 4378.9852 | N14: 201432.65 | P14: 17571.656 | Q14: 114983.46 | R14: 24172.591 | T14: 295 | U14: 33115.772 | X14: 209676.71 | Y14: 51082.604 | Z14: 91822.097 | AA14: 3342.4001 | AB14: 3383.994 | AC14: 9551.3185 | AD14: 3781.1112 | AE14: 10196.538 | AF14: 2117.9304 | AG14: 5131.9968 | AH14: 9147.1316 | AK14: 20119.59 | AL14: 2307.3335 | AM14: 970.2551 | AN14: 0 | AO14: 1337.0784 | AP14: 9070.6164 | AQ14: 0 | AR14: 9070.6164 | AS14: 0 | AT14: 15950.811 | AU14: 1051341.9 | AV14: 0 | BB14: 1051341.9
A15: 10 | B15: Impuls-Leasing Polska Sp. z o. o. | C15: 882535.45 | D15: 451126.9 | E15: 17437.71 | F15: 7806.97 | G15: 135999.81 | H15: 94818.53 | I15: 791.94 | K15: 41181.28 | N15: 172071.39 | Q15: 100647.43 | R15: 9453.39 | U15: 13236.53 | V15: 140.77 | X15: 216148.35 | Y15: 59104.66 | Z15: 28246.58 | AA15: 5881.84 | AB15: 10686.74 | AC15: 19210.95 | AE15: 3966.12 | AF15: 10208.51 | AG15: 11390.96 | AH15: 2725.5 | AK15: 64726.49 | AL15: 1448.92 | AM15: 1448.92 | AP15: 1415.04 | AR15: 1415.04 | AU15: 1101547.8 | AV15: 0 | BB15: 1101547.8
A16: 11 | B16: ING Lease (Polska) Sp. z o.o. | C16: 3946668 | D16: 1613168 | E16: 82604 | F16: 44976 | G16: 782161 | H16: 404186 | I16: 10475 | J16: 0 | K16: 377975 | L16: 0 | M16: 0 | N16: 923022 | O16: 0 | P16: 0 | Q16: 442959 | R16: 77638 | S16: 350 | T16: 0 | U16: 107720 | V16: 1997 | W16: 0 | X16: 2096082 | Y16: 274452 | Z16: 44874 | AA16: 76963 | AB16: 191540 | AC16: 504892 | AD16: 188864 | AE16: 36130 | AF16: 49325 | AG16: 146124 | AH16: 50676 | AI16: 0 | AJ16: 1004 | AK16: 531238 | AL16: 56641 | AM16: 56641 | AN16: 0 | AO16: 0 | AP16: 268736 | AQ16: 1787 | AR16: 1427 | AS16: 265522 | AT16: 176150 | AU16: 6544277 | AV16: 33808 | AW16: 0 | AX16: 0 | AY16: 33808 | AZ16: 0 | BA16: 0 | BB16: 6578085
A17: 12 | B17: Leasing Polski Sp. z o. o. | C17: 194932.94 | D17: 33145.56 | E17: 816.69186 | F17: 2020.1396 | G17: 48368.613 | H17: 20194.008 | I17: 0 | J17: 0 | K17: 28174.605 | L17: 0 | M17: 0 | N17: 59922.231 | O17: 0 | P17: 0 | Q17: 24450.578 | R17: 8009.413 | S17: 0 | T17: 0 | U17: 21036.549 | X17: 30387.298 | Y17: 20348.363 | Z17: 5591.6842 | AC17: 300 | AG17: 487.9 | AK17: 3659.35 | AL17: 0 | AP17: 97.56098 | AR17: 97.56098 | AS17: 0 | AT17: 180.8 | AU17: 225598.6 | AV17: 835.7 | AX17: 200 | AZ17: 445.7 | BA17: 190 | BB17: 226434.3
A18: 13 | B18: Mercedes-Benz Leasing Polska Sp. z o.o. | C18: 2760690 | D18: 2047008.8 | E18: 163875.58 | F18: 170836.59 | G18: 340202.96 | H18: 287134.27 | I18: 11517.776 | K18: 53068.69 | N18: 322008.34 | Q18: 6658.1375 | R18: 38625.206 | U18: 6186.5484 | X18: 0 | AL18: 0 | AP18: 0 | AU18: 2760690 | AV18: 0 | BB18: 2760690
A19: 14 | B19: Millennium Leasing Sp. z o.o. | C19: 2006238.6 | D19: 833836.32 | E19: 41356.892 | F19: 10487.94 | G19: 306300.68 | H19: 181001.64 | I19: 2723.6085 | J19: 48.78049 | K19: 125299.04 | N19: 511529.22 | O19: 853.73305 | P19: 607.5552 | Q19: 303097.96 | R19: 11570.222 | S19: 2180 | T19: 1928 | U19: 39904.162 | V19: 26.82927 | X19: 1015051.7 | Y19: 206739.59 | Z19: 7596.4946 | AA19: 60776.18 | AB19: 164779.28 | AD19: 111118.7 | AE19: 17982.431 | AG19: 93011.674 | AH19: 110901.2 | AK19: 242146.11 | AL19: 12212.689 | AM19: 12212.689 | AP19: 31727.32 | AQ19: 479.57848 | AR19: 9859.3847 | AS19: 21388.357 | AU19: 3065230.2 | AV19: 64096.182 | AY19: 2151.7 | BA19: 61944.482 | BB19: 3129326.4
A20: 15 | B20: mLeasing Sp. z o.o. | C20: 4961324.6 | D20: 3697052.5 | G20: 487484.22 | H20: 306774.37 | K20: 180709.85 | N20: 408786.84 | Q20: 205787.6 | R20: 59410.587 | U20: 102802.85 | X20: 1215509 | Y20: 188780.85 | Z20: 69556.79 | AA20: 52351.923 | AB20: 73555.226 | AC20: 169662.32 | AD20: 54396.311 | AE20: 28632.015 | AF20: 4568.9133 | AG20: 79725.134 | AK20: 494279.48 | AL20: 50570.879 | AM20: 50565.815 | AN20: 5.0643465 | AP20: 160299.22 | AQ20: 35557.89 | AR20: 92548.033 | AS20: 32193.301 | AT20: 78858.389 | AU20: 6466562 | AV20: 166252.71 | AX20: 157212.45 | BA20: 9040.2578 | BB20: 6632814.8
A21: 16 | B21: PEAC (Poland) Sp. z o.o. | C21: 95425 | D21: 16047 | G21: 8777 | H21: 2380 | K21: 6397 | N21: 23821 | Q21: 18358 | R21: 25557 | U21: 2865 | V21: 739 | X21: 129835 | Y21: 9247 | Z21: 27041 | AA21: 5268 | AB21: 21123 | AC21: 5941 | AD21: 733 | AE21: 7969 | AF21: 63 | AG21: 1995 | AH21: 555 | AK21: 49900 | AL21: 3396 | AM21: 3396 | AP21: 320 | AR21: 320 | AU21: 228976 | AV21: 0 | BB21: 228976
A22: 17 | B22: PEKAO Leasing Sp. z o.o. | C22: 3674747.5 | D22: 1334386 | E22: 51100.381 | F22: 20753.542 | G22: 541459.63 | H22: 225997.13 | I22: 5252.7519 | J22: 0 | K22: 315462.49 | L22: 279.43089 | M22: 0 | N22: 1039545.6 | O22: 0 | P22: 0 | Q22: 483882.18 | R22: 211040.14 | S22: 0 | T22: 0 | U22: 64433.979 | V22: 396.39855 | W22: 0 | X22: 1872356.2 | Y22: 308044.14 | Z22: 74605.305 | AA22: 123756.5 | AB22: 94945.556 | AC22: 306540.96 | AD22: 85704.694 | AE22: 22023.123 | AF22: 5509.971 | AG22: 80371.771 | AH22: 81301.506 | AI22: 0 | AJ22: 97.52111 | AK22: 689455.11 | AL22: 65084.582 | AM22: 45136.697 | AN22: 6.09756 | AO22: 19941.788 | AP22: 267701.61 | AQ22: 15477.237 | AR22: 143690.04 | AS22: 108534.33 | AT22: 79755.695 | AU22: 5959645.6 | AV22: 103951.82 | AW22: 51566.3 | AX22: 51575.457 | AY22: 0 | AZ22: 0 | BA22: 810.06419 | BB22: 6063597.4
A23: 18 | B23: PKO Leasing S.A. | C23: 8751013.1 | D23: 4889205.4 | E23: 311998.31 | F23: 74170.668 | G23: 1418549.1 | H23: 844689.56 | I23: 36673.547 | J23: 757.18209 | K23: 573859.56 | L23: 1989 | N23: 1413721 | Q23: 816497.4 | R23: 134667.14 | S23: 3865 | U23: 78373.02 | V23: 2615.1075 | X23: 2563122.4 | Y23: 559826.52 | Z23: 237338.47 | AA23: 85367.838 | AB23: 60480.228 | AC23: 291442.87 | AD23: 161757.25 | AE23: 54476.71 | AF23: 15979.635 | AG23: 115569.47 | AH23: 61658.019 | AJ23: 92.67 | AK23: 919132.72 | AL23: 107634.63 | AM23: 75321.979 | AN23: 1673.7835 | AO23: 30638.869 | AP23: 521048.32 | AQ23: 43741.366 | AR23: 14753.915 | AS23: 462553.04 | AU23: 11942818 | AV23: 0 | BB23: 11942818
A24: 19 | B24: Santander Consumer Multirent Sp.z o.o. | C24: 1720341 | D24: 1460978.9 | G24: 212430.88 | H24: 212430.88 | U24: 46931.196 | X24: 0 | AL24: 0 | AP24: 0 | AU24: 1720341 | AV24: 0 | BB24: 1720341
A25: 20 | B25: Santander Leasing S.A. | C25: 4157572.6 | D25: 2437683.2 | E25: 108862.05 | F25: 81247.178 | G25: 750359.63 | H25: 499472.58 | I25: 7160.354 | J25: 0 | K25: 250887.05 | L25: 0 | M25: 0 | N25: 674240.98 | O25: 0 | P25: 0 | Q25: 237251.66 | R25: 33364.491 | S25: 0 | T25: 0 | U25: 24672.564 | V25: 426.552 | W25: 0 | X25: 1505773.7 | Y25: 191271.76 | Z25: 146820.92 | AA25: 78678.48 | AB25: 68313.251 | AC25: 126810.28 | AD25: 61945.999 | AE25: 35917.378 | AF25: 11821.03 | AG25: 133109.95 | AH25: 66481.844 | AI25: 0 | AJ25: 2036.558 | AK25: 582566.25 | AL25: 31105.347 | AM25: 31105.347 | AN25: 0 | AO25: 0 | AP25: 32982.917 | AQ25: 24350.275 | AR25: 7994.62 | AS25: 638.022 | AT25: 0 | AU25: 5727434.5 | AV25: 0 | AW25: 0 | AX25: 0 | AY25: 0 | AZ25: 0 | BA25: 0 | BB25: 5727434.5
A26: 21 | B26: Scania Finance Polska Sp. z o.o. | C26: 1378835 | D26: 2378 | G26: 132077 | H26: 14432 | K26: 117645 | L26: 1147 | N26: 1143818 | Q26: 91686 | R26: 8526 | U26: 350 | X26: 0 | AL26: 0 | AP26: 0 | AU26: 1378835 | AV26: 0 | BB26: 1378835
A27: 22 | B27: SG Equipment Leasing Polska Sp. z o.o. | C27: 202963.77 | D27: 6334.0331 | G27: 54287.526 | H27: 3629.8057 | K27: 50657.72 | N27: 83122.529 | Q27: 54610.065 | R27: 1123.3158 | U27: 3486.3028 | X27: 193031.56 | Y27: 120407.16 | Z27: 19398.85 | AA27: 1854.3426 | AB27: 420.62939 | AC27: 15413.774 | AD27: 271.8 | AG27: 4110.516 | AH27: 15971.42 | AK27: 15183.075 | AL27: 21446.747 | AM27: 21446.747 | AP27: 25675.022 | AR27: 25675.022 | AU27: 443117.1 | AV27: 0 | BB27: 443117.1
A28: 23 | B28: SGB Leasing Sp. z o.o. | C28: 56034 | D28: 26705 | E28: 513 | F28: 170 | G28: 14911 | H28: 10981 | K28: 3930 | N28: 5856 | Q28: 6027 | R28: 760 | U28: 1775 | X28: 68117 | Y28: 8163 | Z28: 28658 | AB28: 4672 | AC28: 998 | AD28: 1974 | AE28: 350 | AF28: 375 | AG28: 284 | AH28: 6150 | AK28: 16493 | AL28: 56 | AM28: 56 | AP28: 25260 | AS28: 25260 | AU28: 149467 | AV28: 449 | AW28: 449 | BB28: 149916
A29: 24 | B29: Siemens Finance Sp. z o.o. | C29: 32172 | D29: 3569 | G29: 23438 | H29: 458 | K29: 22980 | N29: 2328 | Q29: 2837 | X29: 777961 | Y29: 114849 | Z29: 17216 | AA29: 31616 | AB29: 927 | AC29: 93669 | AD29: 471 | AE29: 444381 | AG29: 7125 | AH29: 73 | AK29: 67634 | AL29: 61878 | AM29: 55955 | AN29: 5923 | AP29: 0 | AU29: 872011 | AV29: 0 | BB29: 872011
A30: 25 | B30: Vehis Fin 1 Sp. z o. o. | C30: 531320.35 | D30: 420532.33 | E30: 11856.2 | G30: 110788.02 | H30: 110788.02 | I30: 177.97 | X30: 0 | AL30: 0 | AP30: 0 | AU30: 531320.35 | AV30: 0 | BB30: 531320.35
A31: 26 | B31: Razem | C31: 47615360 | D31: 24785573 | E31: 973132.38 | F31: 518845.8 | G31: 7979845.5 | H31: 4661671 | I31: 157330.49 | J31: 805.96258 | K31: 3318174.5 | L31: 5314.4309 | M31: 4378.9852 | N31: 9141332.9 | O31: 853.73305 | P31: 18308.211 | Q31: 4125577.8 | R31: 899807.98 | S31: 6395 | T31: 2223 | U31: 683222.99 | V31: 6714.9005 | W31: 0 | X31: 17161458 | Y31: 3915536.9 | Z31: 1442079 | AA31: 584165.63 | AB31: 771046.96 | AC31: 1863832.3 | AD31: 758389.5 | AE31: 728253.28 | AF31: 190438.62 | AG31: 1365729.4 | AH31: 558046.82 | AI31: 0 | AJ31: 5795.8287 | AK31: 4978143.4 | AL31: 627339.55 | AM31: 471595.02 | AN31: 38176.353 | AO31: 117568.18 | AP31: 1414101.8 | AQ31: 139470.82 | AR31: 324681.89 | AS31: 949949.05 | AT31: 357250.31 | AU31: 67175509 | AV31: 592180.13 | AW31: 64226.376 | AX31: 407419.55 | AY31: 35959.7 | AZ31: 12589.7 | BA31: 71984.804 | BB31: 67767689
A33: Ilość środków oddanych w leasing w | C33: 01.01.2023-31.12.2023
A36: Lp. | B36: Spółka | C36: POJAZDY | D36: Osobowe | E36: osobowe - zeroemisyjne | F36: osobowe - hybryda plug-in | G36: Cięzarowe: | H36: o masie do 3,5 tony | I36: o masie do 3,5 tony - zeroemisyjne | J36: o masie do 3,5 tony - hybryda plug-in | K36: o masie powyzej 3,5 tony | L36: o masie powyżej 3,5 tony - zeroemisyjne | M36: o masie powyżej 3,5 tony - hybryda plug-in | N36: ciagniki siodlowe | O36: ciągniki siodłowe - zeroemisyjne | P36: ciągniki siodłowe - hybryda plug-in | Q36: naczepy / przyczepy | R36: autobusy | S36: autobusy - zeroemisyjne | T36: autobusy - hybryda plug-in | U36: inne | V36: inne - zeroemisyjne | W36: inne - hybryda plug-in | X36: MiU | Y36: Sprzęt Budowlany | Z36: Maszyny Rolnicze | AA36: Maszyny Poligraf. | AB36: maszyny do produkcji tworzyw sztucznych | AC36: maszyny i urządzenia do obróbki metali | AD36: maszyny dla przemysłu spożywczego | AE36: Sprzęt Medyczny | AF36: Sprzęt Gastronom. | AG36: Wózki Widłowe | AH36: fotowoltaika | AI36: wiatraki i turbiny wiatrowe | AJ36: stacje ładowania pojazdów elektrycznych (na użytek własny i komercyjny) | AK36: inne MiU | AL36: IT | AM36: Sprzęt | AN36: Oprogram. | AO36: inne IT | AP36: POZOSTAŁE ŚRODKI TRANSPORTU | AQ36: Powietrzne | AR36: Wodne | AS36: Kolejowe | AT36: Inne ruchomości | AU36: RUCHOMOŚCI | AV36: Nieruchomości | AW36: budynki przemysłowe | AX36: obiekty handlowe i usługowe | AY36: obiekty biurowe | AZ36: hotele i obiekty rekreacyjne | BA36: inne | BB36: OGÓŁEM
A37: 1 | B37: Alior Leasing Sp. z o. o. | C37: 15515 | D37: 7168 | G37: 3449 | H37: 2727 | K37: 722 | N37: 1996 | Q37: 2122 | R37: 358 | U37: 422 | X37: 3142 | Y37: 917 | Z37: 673 | AA37: 51 | AB37: 74 | AC37: 273 | AD37: 104 | AE37: 204 | AF37: 4 | AG37: 102 | AH37: 44 | AK37: 696 | AL37: 30 | AM37: 30 | AP37: 55 | AS37: 55 | AU37: 18742 | AV37: 0 | BB37: 18742
A38: 2 | B38: BNP Paribas Lease Group Sp. z o.o. | C38: 17853 | D38: 13766 | E38: 318 | F38: 0 | G38: 2648 | H38: 2159 | I38: 38 | J38: 0 | K38: 489 | L38: 0 | M38: 0 | N38: 627 | O38: 0 | P38: 0 | Q38: 385 | R38: 11 | S38: 0 | T38: 0 | U38: 416 | V38: 4 | W38: 0 | X38: 3897 | Y38: 779 | Z38: 423 | AA38: 8 | AB38: 6 | AC38: 36 | AD38: 17 | AE38: 124 | AF38: 10 | AG38: 1297 | AH38: 161 | AI38: 0 | AJ38: 6 | AK38: 1030 | AL38: 682 | AM38: 387 | AN38: 36 | AO38: 259 | AP38: 1 | AQ38: 0 | AR38: 1 | AS38: 0 | AU38: 22433 | AV38: 9 | AW38: 2 | AX38: 7 | AY38: 0 | AZ38: 0 | BA38: 0 | BB38: 22442
A39: 3 | B39: BOŚ Leasing - EKO Profit S.A. | C39: 212 | D39: 52 | G39: 27 | H39: 17 | K39: 10 | N39: 20 | Q39: 69 | R39: 7 | U39: 37 | X39: 228 | Y39: 39 | Z39: 27 | AA39: 5 | AB39: 2 | AC39: 11 | AD39: 12 | AE39: 6 | AG39: 16 | AH39: 47 | AK39: 63 | AL39: 1 | AM39: 1 | AP39: 8 | AQ39: 2 | AR39: 6 | AU39: 449 | AV39: 0 | BB39: 449
A40: 4 | B40: BPS Leasing Spółka Akcyjna (BPS Leasing S.A.) | C40: 1046 | D40: 491 | E40: 6 | F40: 151 | G40: 144 | H40: 76 | K40: 68 | N40: 188 | P40: 1 | Q40: 157 | R40: 49 | U40: 17 | X40: 123 | Y40: 51 | Z40: 12 | AA40: 1 | AB40: 2 | AC40: 2 | AD40: 8 | AE40: 5 | AG40: 18 | AH40: 10 | AK40: 14 | AL40: 2 | AM40: 2 | AP40: 4 | AQ40: 1 | AR40: 3 | AT40: 33 | AU40: 1208 | AV40: 4 | AX40: 2 | AZ40: 2 | BB40: 1212
A41: 5 | B41: Caterpillar Financial Services Poland Sp. z o.o. | C41: 0 | G41: 0 | X41: 985 | Y41: 985 | AL41: 0 | AP41: 0 | AU41: 985 | AV41: 0 | BB41: 985
A42: 6 | B42: De Lage Landen Leasing Polska S.A. | C42: 23 | D42: 5 | G42: 1 | H42: 1 | N42: 12 | Q42: 4 | U42: 1 | X42: 221 | Y42: 47 | Z42: 59 | AE42: 32 | AG42: 42 | AH42: 10 | AK42: 31 | AL42: 207 | AM42: 207 | AP42: 0 | AU42: 451 | AV42: 0 | BB42: 451
A43: 7 | B43: Deutsche Leasing Polska S.A. | C43: 1378 | D43: 22 | G43: 4 | H43: 4 | N43: 144 | Q43: 1206 | U43: 2 | X43: 5325 | Y43: 10 | Z43: 18 | AA43: 4 | AB43: 7 | AC43: 76 | AD43: 4 | AE43: 9 | AF43: 0 | AG43: 5114 | AK43: 83 | AL43: 0 | AP43: 0 | AU43: 6703 | AV43: 0 | BB43: 6703
A44: 8 | B44: Europejski Fundusz Leasingowy S.A. | C44: 33215 | D44: 16324 | E44: 471 | F44: 180 | G44: 7674 | H44: 5515 | I44: 313 | K44: 2159 | L44: 1 | N44: 3712 | Q44: 4450 | R44: 148 | U44: 907 | V44: 9 | X44: 14315 | Y44: 4044 | Z44: 1536 | AA44: 164 | AB44: 165 | AC44: 546 | AD44: 208 | AE44: 314 | AF44: 1467 | AG44: 651 | AH44: 720 | AI44: 0 | AJ44: 14 | AK44: 4486 | AL44: 1410 | AM44: 731 | AN44: 269 | AO44: 410 | AP44: 82 | AQ44: 21 | AR44: 61 | AU44: 49022 | AV44: 0 | BB44: 49022
A45: 9 | B45: Grupa VB Leasing | C45: 5596 | D45: 2505 | E45: 44 | F45: 304 | G45: 1106 | H45: 839 | I45: 3 | J45: 0 | K45: 267 | M45: 16 | N45: 747 | P45: 52 | Q45: 822 | R45: 93 | T45: 2 | U45: 323 | X45: 1120 | Y45: 242 | Z45: 261 | AA45: 34 | AB45: 17 | AC45: 33 | AD45: 41 | AE45: 136 | AF45: 34 | AG45: 49 | AH45: 91 | AK45: 182 | AL45: 33 | AM45: 25 | AN45: 0 | AO45: 8 | AP45: 27 | AQ45: 0 | AR45: 27 | AS45: 0 | AT45: 199 | AU45: 6975 | AV45: 0 | BB45: 6975
...

Sheet suma pożyczki+Leasingi za 2023
A1: Związek Polskiego Leasingu
A3: Wartość środków_ leasing + pożyczka ( netto w tys. PLN) | D3: 01.01.2023-31.12.2023
A5: Lp. | B5: Spółka | C5: POJAZDY | D5: Osobowe | E5: osobowe - zeroemisyjne | F5: osobowe - hybryda plug-in | G5: Cięzarowe: | H5: o masie do 3,5 tony | I5: o masie do 3,5 tony - zeroemisyjne | J5: o masie do 3,5 tony - hybryda plug-in | K5: o masie powyzej 3,5 tony | L5: o masie powyżej 3,5 tony - zeroemisyjne | M5: o masie powyżej 3,5 tony - hybryda plug-in | N5: ciagniki siodlowe | O5: ciągniki siodłowe - zeroemisyjne | P5: ciągniki siodłowe - hybryda plug-in | Q5: naczepy / przyczepy | R5: autobusy | S5: autobusy - zeroemisyjne | T5: autobusy - hybryda plug-in | U5: inne | V5: inne - zeroemisyjne | W5: inne - hybryda plug-in | X5: MiU | Y5: Sprzęt Budowlany | Z5: Maszyny Rolnicze | AA5: Maszyny Poligraf. | AB5: maszyny do produkcji tworzyw sztucznych | AC5: maszyny i urządzenia do obróbki metali | AD5: maszyny dla przemysłu spożywczego | AE5: Sprzęt Medyczny | AF5: Sprzęt Gastronom. | AG5: Wózki Widłowe | AH5: fotowoltaika | AI5: wiatraki i turbiny wiatrowe | AJ5: stacje ładowania pojazdów elektrycznych (na użytek własny i komercyjny) | AK5: inne MiU | AL5: IT | AM5: Sprzęt | AN5: Oprogram. | AO5: inne IT | AP5: POZOSTAŁE ŚRODKI TRANSPORTU | AQ5: Powietrzne | AR5: Wodne | AS5: Kolejowe | AT5: Inne ruchomości | AU5: RUCHOMOŚCI | AV5: Nieruchomości | AW5: budynki przemysłowe | AX5: obiekty handlowe i usługowe | AY5: obiekty biurowe | AZ5: hotele i obiekty rekreacyjne | BA5: inne | BB5: OGÓŁEM
A6: 1 | B6: Alior Leasing Sp. z o. o. | C6: ='pozyczki za cały 2023'!C6+'leasing za cały 2023'!C6 -> 2648904 | D6: ='pozyczki za cały 2023'!D6+'leasing za cały 2023'!D6 -> 1070019 | E6: ='pozyczki za cały 2023'!E6+'leasing za cały 2023'!E6 -> 0 | F6: ='pozyczki za cały 2023'!F6+'leasing za cały 2023'!F6 -> 0 | G6: ='pozyczki za cały 2023'!G6+'leasing za cały 2023'!G6 -> 485865 | H6: ='pozyczki za cały 2023'!H6+'leasing za cały 2023'!H6 -> 282215 | I6: ='pozyczki za cały 2023'!I6+'leasing za cały 2023'!I6 -> 0 | J6: ='pozyczki za cały 2023'!J6+'leasing za cały 2023'!J6 -> 0 | ... BB6: ='pozyczki za cały 2023'!BB6+'leasing za cały 2023'!BB6 -> 3199137
A7: 2 | B7: BNP Paribas Lease Group Sp. z o.o. | C7: ='pozyczki za cały 2023'!C7+'leasing za cały 2023'!C7 -> 2798615.5 | D7: ='pozyczki za cały 2023'!D7+'leasing za cały 2023'!D7 -> 1792420.8 | E7: ='pozyczki za cały 2023'!E7+'leasing za cały 2023'!E7 -> 62515.561 | F7: ='pozyczki za cały 2023'!F7+'leasing za cały 2023'!F7 -> 0 | G7: ='pozyczki za cały 2023'!G7+'leasing za cały 2023'!G7 -> 578391.83 | H7: ='pozyczki za cały 2023'!H7+'leasing za cały 2023'!H7 -> 398949.95 | I7: ='pozyczki za cały 2023'!I7+'leasing za cały 2023'!I7 -> 7171.6479 | J7: ='pozyczki za cały 2023'!J7+'leasing za cały 2023'!J7 -> 0 | ... BB7: ='pozyczki za cały 2023'!BB7+'leasing za cały 2023'!BB7 -> 5870647.5
A8: 3 | B8: BOŚ Leasing - EKO Profit S.A. | C8: ='pozyczki za cały 2023'!C8+'leasing za cały 2023'!C8 -> 44532.773 | D8: ='pozyczki za cały 2023'!D8+'leasing za cały 2023'!D8 -> 11208.204 | E8: ='pozyczki za cały 2023'!E8+'leasing za cały 2023'!E8 -> 0 | F8: ='pozyczki za cały 2023'!F8+'leasing za cały 2023'!F8 -> 0 | G8: ='pozyczki za cały 2023'!G8+'leasing za cały 2023'!G8 -> 4247.5656 | H8: ='pozyczki za cały 2023'!H8+'leasing za cały 2023'!H8 -> 1854.1996 | I8: ='pozyczki za cały 2023'!I8+'leasing za cały 2023'!I8 -> 0 | J8: ='pozyczki za cały 2023'!J8+'leasing za cały 2023'!J8 -> 0 | ... BB8: ='pozyczki za cały 2023'!BB8+'leasing za cały 2023'!BB8 -> 140054.5
A9: 4 | B9: BPS Leasing Spółka Akcyjna (BPS Leasing S.A.) | C9: ='pozyczki za cały 2023'!C9+'leasing za cały 2023'!C9 -> 244154.92 | D9: ='pozyczki za cały 2023'!D9+'leasing za cały 2023'!D9 -> 65678.35 | E9: ='pozyczki za cały 2023'!E9+'leasing za cały 2023'!E9 -> 1222.53 | F9: ='pozyczki za cały 2023'!F9+'leasing za cały 2023'!F9 -> 20671.71 | G9: ='pozyczki za cały 2023'!G9+'leasing za cały 2023'!G9 -> 36081.1 | H9: ='pozyczki za cały 2023'!H9+'leasing za cały 2023'!H9 -> 8669.75 | I9: ='pozyczki za cały 2023'!I9+'leasing za cały 2023'!I9 -> 0 | J9: ='pozyczki za cały 2023'!J9+'leasing za cały 2023'!J9 -> 0 | ... BB9: ='pozyczki za cały 2023'!BB9+'leasing za cały 2023'!BB9 -> 340727.35
A10: 5 | B10: Caterpillar Financial Services Poland Sp. z o.o. | C10: ='pozyczki za cały 2023'!C10+'leasing za cały 2023'!C10 -> 0 | D10: ='pozyczki za cały 2023'!D10+'leasing za cały 2023'!D10 -> 0 | E10: ='pozyczki za cały 2023'!E10+'leasing za cały 2023'!E10 -> 0 | F10: ='pozyczki za cały 2023'!F10+'leasing za cały 2023'!F10 -> 0 | G10: ='pozyczki za cały 2023'!G10+'leasing za cały 2023'!G10 -> 0 | H10: ='pozyczki za cały 2023'!H10+'leasing za cały 2023'!H10 -> 0 | I10: ='pozyczki za cały 2023'!I10+'leasing za cały 2023'!I10 -> 0 | J10: ='pozyczki za cały 2023'!J10+'leasing za cały 2023'!J10 -> 0 | ... BB10: ='pozyczki za cały 2023'!BB10+'leasing za cały 2023'!BB10 -> 569856.65
A11: 6 | B11: De Lage Landen Leasing Polska S.A. | C11: ='pozyczki za cały 2023'!C11+'leasing za cały 2023'!C11 -> 24344 | D11: ='pozyczki za cały 2023'!D11+'leasing za cały 2023'!D11 -> 2295 | E11: ='pozyczki za cały 2023'!E11+'leasing za cały 2023'!E11 -> 0 | F11: ='pozyczki za cały 2023'!F11+'leasing za cały 2023'!F11 -> 0 | G11: ='pozyczki za cały 2023'!G11+'leasing za cały 2023'!G11 -> 353 | H11: ='pozyczki za cały 2023'!H11+'leasing za cały 2023'!H11 -> 353 | I11: ='pozyczki za cały 2023'!I11+'leasing za cały 2023'!I11 -> 0 | J11: ='pozyczki za cały 2023'!J11+'leasing za cały 2023'!J11 -> 0 | ... BB11: ='pozyczki za cały 2023'!BB11+'leasing za cały 2023'!BB11 -> 821309
A12: 7 | B12: Deutsche Leasing Polska S.A. | C12: ='pozyczki za cały 2023'!C12+'leasing za cały 2023'!C12 -> 315942 | D12: ='pozyczki za cały 2023'!D12+'leasing za cały 2023'!D12 -> 4941 | E12: ='pozyczki za cały 2023'!E12+'leasing za cały 2023'!E12 -> 0 | F12: ='pozyczki za cały 2023'!F12+'leasing za cały 2023'!F12 -> 0 | G12: ='pozyczki za cały 2023'!G12+'leasing za cały 2023'!G12 -> 965 | H12: ='pozyczki za cały 2023'!H12+'leasing za cały 2023'!H12 -> 965 | I12: ='pozyczki za cały 2023'!I12+'leasing za cały 2023'!I12 -> 0 | J12: ='pozyczki za cały 2023'!J12+'leasing za cały 2023'!J12 -> 0 | ... BB12: ='pozyczki za cały 2023'!BB12+'leasing za cały 2023'!BB12 -> 1077515
A13: 8 | B13: Europejski Fundusz Leasingowy S.A. | C13: ='pozyczki za cały 2023'!C13+'leasing za cały 2023'!C13 -> 6044781.4 | D13: ='pozyczki za cały 2023'!D13+'leasing za cały 2023'!D13 -> 2462892.1 | E13: ='pozyczki za cały 2023'!E13+'leasing za cały 2023'!E13 -> 110351.25 | F13: ='pozyczki za cały 2023'!F13+'leasing za cały 2023'!F13 -> 35145.987 | G13: ='pozyczki za cały 2023'!G13+'leasing za cały 2023'!G13 -> 1510802.9 | H13: ='pozyczki za cały 2023'!H13+'leasing za cały 2023'!H13 -> 769219.34 | I13: ='pozyczki za cały 2023'!I13+'leasing za cały 2023'!I13 -> 75253.555 | J13: ='pozyczki za cały 2023'!J13+'leasing za cały 2023'!J13 -> 0 | ... BB13: ='pozyczki za cały 2023'!BB13+'leasing za cały 2023'!BB13 -> 9264404
A14: 9 | B14: Grupa VB Leasing | C14: ='pozyczki za cały 2023'!C14+'leasing za cały 2023'!C14 -> 964286.36 | D14: ='pozyczki za cały 2023'!D14+'leasing za cały 2023'!D14 -> 333510.93 | E14: ='pozyczki za cały 2023'!E14+'leasing za cały 2023'!E14 -> 11201.209 | F14: ='pozyczki za cały 2023'!F14+'leasing za cały 2023'!F14 -> 54835.243 | G14: ='pozyczki za cały 2023'!G14+'leasing za cały 2023'!G14 -> 170662.91 | H14: ='pozyczki za cały 2023'!H14+'leasing za cały 2023'!H14 -> 94368.427 | I14: ='pozyczki za cały 2023'!I14+'leasing za cały 2023'!I14 -> 401.93089 | J14: ='pozyczki za cały 2023'!J14+'leasing za cały 2023'!J14 -> 429.93182 | ... BB14: ='pozyczki za cały 2023'!BB14+'leasing za cały 2023'!BB14 -> 1388162.5
A15: 10 | B15: Impuls-Leasing Polska Sp. z o. o. | C15: ='pozyczki za cały 2023'!C15+'leasing za cały 2023'!C15 -> 1020170.4 | D15: ='pozyczki za cały 2023'!D15+'leasing za cały 2023'!D15 -> 498157.3 | E15: ='pozyczki za cały 2023'!E15+'leasing za cały 2023'!E15 -> 20507.32 | F15: ='pozyczki za cały 2023'!F15+'leasing za cały 2023'!F15 -> 8286.57 | G15: ='pozyczki za cały 2023'!G15+'leasing za cały 2023'!G15 -> 147325.87 | H15: ='pozyczki za cały 2023'!H15+'leasing za cały 2023'!H15 -> 102811.45 | I15: ='pozyczki za cały 2023'!I15+'leasing za cały 2023'!I15 -> 916.66 | J15: ='pozyczki za cały 2023'!J15+'leasing za cały 2023'!J15 -> 0 | ... BB15: ='pozyczki za cały 2023'!BB15+'leasing za cały 2023'!BB15 -> 1283119
A16: 11 | B16: ING Lease (Polska) Sp. z o.o. | C16: ='pozyczki za cały 2023'!C16+'leasing za cały 2023'!C16 -> 4095150 | D16: ='pozyczki za cały 2023'!D16+'leasing za cały 2023'!D16 -> 1627724 | E16: ='pozyczki za cały 2023'!E16+'leasing za cały 2023'!E16 -> 82604 | F16: ='pozyczki za cały 2023'!F16+'leasing za cały 2023'!F16 -> 44976 | G16: ='pozyczki za cały 2023'!G16+'leasing za cały 2023'!G16 -> 782161 | H16: ='pozyczki za cały 2023'!H16+'leasing za cały 2023'!H16 -> 404186 | I16: ='pozyczki za cały 2023'!I16+'leasing za cały 2023'!I16 -> 10475 | J16: ='pozyczki za cały 2023'!J16+'leasing za cały 2023'!J16 -> 0 | ... BB16: ='pozyczki za cały 2023'!BB16+'leasing za cały 2023'!BB16 -> 6868681
A17: 12 | B17: Leasing Polski Sp. z o. o. | C17: ='pozyczki za cały 2023'!C17+'leasing za cały 2023'!C17 -> 194932.94 | D17: ='pozyczki za cały 2023'!D17+'leasing za cały 2023'!D17 -> 33145.56 | E17: ='pozyczki za cały 2023'!E17+'leasing za cały 2023'!E17 -> 816.69186 | F17: ='pozyczki za cały 2023'!F17+'leasing za cały 2023'!F17 -> 2020.1396 | G17: ='pozyczki za cały 2023'!G17+'leasing za cały 2023'!G17 -> 48368.613 | H17: ='pozyczki za cały 2023'!H17+'leasing za cały 2023'!H17 -> 20194.008 | I17: ='pozyczki za cały 2023'!I17+'leasing za cały 2023'!I17 -> 0 | J17: ='pozyczki za cały 2023'!J17+'leasing za cały 2023'!J17 -> 0 | ... BB17: ='pozyczki za cały 2023'!BB17+'leasing za cały 2023'!BB17 -> 226434.3
... A31: 26 | B31: Razem | C31: ='pozyczki za cały 2023'!C31+'leasing za cały 2023'!C31 -> 51457918 | D31: ='pozyczki za cały 2023'!D31+'leasing za cały 2023'!D31 -> 26483184 | E31: ='pozyczki za cały 2023'!E31+'leasing za cały 2023'!E31 -> 994711.94 | F31: ='pozyczki za cały 2023'!F31+'leasing za cały 2023'!F31 -> 547194.3 | G31: ='pozyczki za cały 2023'!G31+'leasing za cały 2023'!G31 -> 8479904.6 | H31: ='pozyczki za cały 2023'!H31+'leasing za cały 2023'!H31 -> 4991002.7 | I31: ='pozyczki za cały 2023'!I31+'leasing za cały 2023'!I31 -> 158439.84 | J31: ='pozyczki za cały 2023'!J31+'leasing za cały 2023'!J31 -> 1235.8944 | ... BB31: ='pozyczki za cały 2023'!BB31+'leasing za cały 2023'!BB31 -> 79614358
A33: Ilość środków _pożyczki + leasingi (szt) | C33: 01.01.2023-31.12.2023
A36: Lp. | B36: Spółka | C36: POJAZDY | D36: Osobowe | E36: osobowe - zeroemisyjne | F36: osobowe - hybryda plug-in | G36: Cięzarowe: | H36: o masie do 3,5 tony | I36: o masie do 3,5 tony - zeroemisyjne | J36: o masie do 3,5 tony - hybryda plug-in | K36: o masie powyzej 3,5 tony | L36: o masie powyżej 3,5 tony - zeroemisyjne | M36: o masie powyżej 3,5 tony - hybryda plug-in | N36: ciagniki siodlowe | O36: ciągniki siodłowe - zeroemisyjne | P36: ciągniki siodłowe - hybryda plug-in | Q36: naczepy / przyczepy | R36: autobusy | S36: autobusy - zeroemisyjne | T36: autobusy - hybryda plug-in | U36: inne | V36: inne - zeroemisyjne | W36: inne - hybryda plug-in | X36: MiU | Y36: Sprzęt Budowlany | Z36: Maszyny Rolnicze | AA36: Maszyny Poligraf. | AB36: maszyny do produkcji tworzyw sztucznych | AC36: maszyny i urządzenia do obróbki metali | AD36: maszyny dla przemysłu spożywczego | AE36: Sprzęt Medyczny | AF36: Sprzęt Gastronom. | AG36: Wózki Widłowe | AH36: fotowoltaika | AI36: wiatraki i turbiny wiatrowe | AJ36: stacje ładowania pojazdów elektrycznych (na użytek własny i komercyjny) | AK36: inne MiU | AL36: IT | AM36: Sprzęt | AN36: Oprogram. | AO36: inne IT | AP36: POZOSTAŁE ŚRODKI TRANSPORTU | AQ36: Powietrzne | AR36: Wodne | AS36: Kolejowe | AT36: Inne ruchomości | AU36: RUCHOMOŚCI | AV36: Nieruchomości | AW36: budynki przemysłowe | AX36: obiekty handlowe i usługowe | AY36: obiekty biurowe | AZ36: hotele i obiekty rekreacyjne | BA36: inne | BB36: OGÓŁEM
A37: 1 | B37: Alior Leasing Sp. z o. o. | C37: ='pozyczki za cały 2023'!C37+'leasing za cały 2023'!C37 -> 17558 | D37: ='pozyczki za cały 2023'!D37+'leasing za cały 2023'!D37 -> 8357 | E37: ='pozyczki za cały 2023'!E37+'leasing za cały 2023'!E37 -> 0 | F37: ='pozyczki za cały 2023'!F37+'leasing za cały 2023'!F37 -> 0 | G37: ='pozyczki za cały 2023'!G37+'leasing za cały 2023'!G37 -> 3746 | H37: ='pozyczki za cały 2023'!H37+'leasing za cały 2023'!H37 -> 2968 | I37: ='pozyczki za cały 2023'!I37+'leasing za cały 2023'!I37 -> 0 | J37: ='pozyczki za cały 2023'!J37+'leasing za cały 2023'!J37 -> 0 | ... BB37: ='pozyczki za cały 2023'!BB37+'leasing za cały 2023'!BB37 -> 21178
A38: 2 | B38: BNP Paribas Lease Group Sp. z o.o. | C38: ='pozyczki za cały 2023'!C38+'leasing za cały 2023'!C38 -> 18611 | D38: ='pozyczki za cały 2023'!D38+'leasing za cały 2023'!D38 -> 13899 | E38: ='pozyczki za cały 2023'!E38+'leasing za cały 2023'!E38 -> 320 | F38: ='pozyczki za cały 2023'!F38+'leasing za cały 2023'!F38 -> 0 | G38: ='pozyczki za cały 2023'!G38+'leasing za cały 2023'!G38 -> 3090 | H38: ='pozyczki za cały 2023'!H38+'leasing za cały 2023'!H38 -> 2514 | I38: ='pozyczki za cały 2023'!I38+'leasing za cały 2023'!I38 -> 38 | J38: ='pozyczki za cały 2023'!J38+'leasing za cały 2023'!J38 -> 0 | ... BB38: ='pozyczki za cały 2023'!BB38+'leasing za cały 2023'!BB38 -> 28139
A39: 3 | B39: BOŚ Leasing - EKO Profit S.A. | C39: ='pozyczki za cały 2023'!C39+'leasing za cały 2023'!C39 -> 213 | D39: ='pozyczki za cały 2023'!D39+'leasing za cały 2023'!D39 -> 52 | E39: ='pozyczki za cały 2023'!E39+'leasing za cały 2023'!E39 -> 0 | F39: ='pozyczki za cały 2023'!F39+'leasing za cały 2023'!F39 -> 0 | G39: ='pozyczki za cały 2023'!G39+'leasing za cały 2023'!G39 -> 27 | H39: ='pozyczki za cały 2023'!H39+'leasing za cały 2023'!H39 -> 17 | I39: ='pozyczki za cały 2023'!I39+'leasing za cały 2023'!I39 -> 0 | J39: ='pozyczki za cały 2023'!J39+'leasing za cały 2023'!J39 -> 0 | ... BB39: ='pozyczki za cały 2023'!BB39+'leasing za cały 2023'!BB39 -> 460
A40: 4 | B40: BPS Leasing Spółka Akcyjna (BPS Leasing S.A.) | C40: ='pozyczki za cały 2023'!C40+'leasing za cały 2023'!C40 -> 1049 | D40: ='pozyczki za cały 2023'!D40+'leasing za cały 2023'!D40 -> 492 | E40: ='pozyczki za cały 2023'!E40+'leasing za cały 2023'!E40 -> 6 | F40: ='pozyczki za cały 2023'!F40+'leasing za cały 2023'!F40 -> 151 | G40: ='pozyczki za cały 2023'!G40+'leasing za cały 2023'!G40 -> 144 | H40: ='pozyczki za cały 2023'!H40+'leasing za cały 2023'!H40 -> 76 | I40: ='pozyczki za cały 2023'!I40+'leasing za cały 2023'!I40 -> 0 | J40: ='pozyczki za cały 2023'!J40+'leasing za cały 2023'!J40 -> 0 | ... BB40: ='pozyczki za cały 2023'!BB40+'leasing za cały 2023'!BB40 -> 1215
A41: 5 | B41: Caterpillar Financial Services Poland Sp. z o.o. | C41: ='pozyczki za cały 2023'!C41+'leasing za cały 2023'!C41 -> 0 | D41: ='pozyczki za cały 2023'!D41+'leasing za cały 2023'!D41 -> 0 | E41: ='pozyczki za cały 2023'!E41+'leasing za cały 2023'!E41 -> 0 | F41: ='pozyczki za cały 2023'!F41+'leasing za cały 2023'!F41 -> 0 | G41: ='pozyczki za cały 2023'!G41+'leasing za cały 2023'!G41 -> 0 | H41: ='pozyczki za cały 2023'!H41+'leasing za cały 2023'!H41 -> 0 | I41: ='pozyczki za cały 2023'!I41+'leasing za cały 2023'!I41 -> 0 | J41: ='pozyczki za cały 2023'!J41+'leasing za cały 2023'!J41 -> 0 | ... BB41: ='pozyczki za cały 2023'!BB41+'leasing za cały 2023'!BB41 -> 1130
A42: 6 | B42: De Lage Landen Leasing Polska S.A. | C42: ='pozyczki za cały 2023'!C42+'leasing za cały 2023'!C42 -> 115 | D42: ='pozyczki za cały 2023'!D42+'leasing za cały 2023'!D42 -> 13 | E42: ='pozyczki za cały 2023'!E42+'leasing za cały 2023'!E42 -> 0 | F42: ='pozyczki za cały 2023'!F42+'leasing za cały 2023'!F42 -> 0 | G42: ='pozyczki za cały 2023'!G42+'leasing za cały 2023'!G42 -> 2 | H42: ='pozyczki za cały 2023'!H42+'leasing za cały 2023'!H42 -> 2 | I42: ='pozyczki za cały 2023'!I42+'leasing za cały 2023'!I42 -> 0 | J42: ='pozyczki za cały 2023'!J42+'leasing za cały 2023'!J42 -> 0 | ... BB42: ='pozyczki za cały 2023'!BB42+'leasing za cały 2023'!BB42 -> 2450
A43: 7 | B43: Deutsche Leasing Polska S.A. | C43: ='pozyczki za cały 2023'!C43+'leasing za cały 2023'!C43 -> 1807 | D43: ='pozyczki za cały 2023'!D43+'leasing za cały 2023'!D43 -> 29 | E43: ='pozyczki za cały 2023'!E43+'leasing za cały 2023'!E43 -> 0 | F43: ='pozyczki za cały 2023'!F43+'leasing za cały 2023'!F43 -> 0 | G43: ='pozyczki za cały 2023'!G43+'leasing za cały 2023'!G43 -> 5 | H43: ='pozyczki za cały 2023'!H43+'leasing za cały 2023'!H43 -> 5 | I43: ='pozyczki za cały 2023'!I43+'leasing za cały 2023'!I43 -> 0 | J43: ='pozyczki za cały 2023'!J43+'leasing za cały 2023'!J43 -> 0 | ... BB43: ='pozyczki za cały 2023'!BB43+'leasing za cały 2023'!BB43 -> 7267
A44: 8 | B44: Europejski Fundusz Leasingowy S.A. | C44: ='pozyczki za cały 2023'!C44+'leasing za cały 2023'!C44 -> 34079 | D44: ='pozyczki za cały 2023'!D44+'leasing za cały 2023'!D44 -> 16607 | E44: ='pozyczki za cały 2023'!E44+'leasing za cały 2023'!E44 -> 477 | F44: ='pozyczki za cały 2023'!F44+'leasing za cały 2023'!F44 -> 180 | G44: ='pozyczki za cały 2023'!G44+'leasing za cały 2023'!G44 -> 7801 | H44: ='pozyczki za cały 2023'!H44+'leasing za cały 2023'!H44 -> 5628 | I44: ='pozyczki za cały 2023'!I44+'leasing za cały 2023'!I44 -> 314 | J44: ='pozyczki za cały 2023'!J44+'leasing za cały 2023'!J44 -> 0 | ... BB44: ='pozyczki za cały 2023'!BB44+'leasing za cały 2023'!BB44 -> 52097
A45: 9 | B45: Grupa VB Leasing | C45: ='pozyczki za cały 2023'!C45+'leasing za cały 2023'!C45 -> 6639 | D45: ='pozyczki za cały 2023'!D45+'leasing za cały 2023'!D45 -> 2885 | E45: ='pozyczki za cały 2023'!E45+'leasing za cały 2023'!E45 -> 50 | F45: ='pozyczki za cały 2023'!F45+'leasing za cały 2023'!F45 -> 336 | G45: ='pozyczki za cały 2023'!G45+'leasing za cały 2023'!G45 -> 1258 | H45: ='pozyczki za cały 2023'!H45+'leasing za cały 2023'!H45 -> 920 | I45: ='pozyczki za cały 2023'!I45+'leasing za cały 2023'!I45 -> 3 | J45: ='pozyczki za cały 2023'!J45+'leasing za cały 2023'!J45 -> 4 | ... BB45: ='pozyczki za cały 2023'!BB45+'leasing za cały 2023'!BB45 -> 9178
A46: 10 | B46: Impuls-Leasing Polska Sp. z o. o. | C46: ='pozyczki za cały 2023'!C46+'leasing za cały 2023'!C46 -> 5386 | D46: ='pozyczki za cały 2023'!D46+'leasing za cały 2023'!D46 -> 3013 | E46: ='pozyczki za cały 2023'!E46+'leasing za cały 2023'!E46 -> 98 | F46: ='pozyczki za cały 2023'!F46+'leasing za cały 2023'!F46 -> 40 | G46: ='pozyczki za cały 2023'!G46+'leasing za cały 2023'!G46 -> 856 | H46: ='pozyczki za cały 2023'!H46+'leasing za cały 2023'!H46 -> 737 | I46: ='pozyczki za cały 2023'!I46+'leasing za cały 2023'!I46 -> 6 | J46: ='pozyczki za cały 2023'!J46+'leasing za cały 2023'!J46 -> 0 | ... BB46: ='pozyczki za cały 2023'!BB46+'leasing za cały 2023'!BB46 -> 6796
A47: 11 | B47: ING Lease (Polska) Sp. z o.o. | C47: ='pozyczki za cały 2023'!C47+'leasing za cały 2023'!C47 -> 21332 | D47: ='pozyczki za cały 2023'!D47+'leasing za cały 2023'!D47 -> 11208 | E47: ='pozyczki za cały 2023'!E47+'leasing za cały 2023'!E47 -> 418 | F47: ='pozyczki za cały 2023'!F47+'leasing za cały 2023'!F47 -> 196 | G47: ='pozyczki za cały 2023'!G47+'leasing za cały 2023'!G47 -> 4085 | H47: ='pozyczki za cały 2023'!H47+'leasing za cały 2023'!H47 -> 3259 | I47: ='pozyczki za cały 2023'!I47+'leasing za cały 2023'!I47 -> 60 | J47: ='pozyczki za cały 2023'!J47+'leasing za cały 2023'!J47 -> 0 | ... BB47: ='pozyczki za cały 2023'!BB47+'leasing za cały 2023'!BB47 -> 28173
A48: 12 | B48: Leasing Polski Sp. z o. o. | C48: ='pozyczki za cały 2023'!C48+'leasing za cały 2023'!C48 -> 1622 | D48: ='pozyczki za cały 2023'!D48+'leasing za cały 2023'!D48 -> 354 | E48: ='pozyczki za cały 2023'!E48+'leasing za cały 2023'!E48 -> 4 | F48: ='pozyczki za cały 2023'!F48+'leasing za cały 2023'!F48 -> 20 | G48: ='pozyczki za cały 2023'!G48+'leasing za cały 2023'!G48 -> 399 | H48: ='pozyczki za cały 2023'!H48+'leasing za cały 2023'!H48 -> 276 | I48: ='pozyczki za cały 2023'!I48+'leasing za cały 2023'!I48 -> 0 | J48: ='pozyczki za cały 2023'!J48+'leasing za cały 2023'!J48 -> 0 | ... BB48: ='pozyczki za cały 2023'!BB48+'leasing za cały 2023'!BB48 -> 1764
... A62: 26 | B62: Razem | C62: ='pozyczki za cały 2023'!C62+'leasing za cały 2023'!C62 -> 293788 | D62: ='pozyczki za cały 2023'!D62+'leasing za cały 2023'!D62 -> 181109 | E62: ='pozyczki za cały 2023'!E62+'leasing za cały 2023'!E62 -> 4611 | F62: ='pozyczki za cały 2023'!F62+'leasing za cały 2023'!F62 -> 2578 | G62: ='pozyczki za cały 2023'!G62+'leasing za cały 2023'!G62 -> 47420 | H62: ='pozyczki za cały 2023'!H62+'leasing za cały 2023'!H62 -> 38140 | I62: ='pozyczki za cały 2023'!I62+'leasing za cały 2023'!I62 -> 791 | J62: ='pozyczki za cały 2023'!J62+'leasing za cały 2023'!J62 -> 8 | ... BB62: ='pozyczki za cały 2023'!BB62+'leasing za cały 2023'!BB62 -> 426894
A64: Warszawa, 08.07.2024r.
