Workbook

Sheet pozyczki za cały 2023
A1: Związek Polskiego Leasingu, Warszawa 04-07-2024
C2: 01.01.2023-31.12.2023
A3: Wartość środków _ pożyczki (netto w tys. PLN )
A5: Lp. | B5: Spółka | C5: POJAZDY | D5: Osobowe | E5: osobowe - zeroemisyjne | F5: osobowe - hybryda plug-in | G5: Cięzarowe: | H5: o masie do 3,5 tony | I5: o masie do 3,5 tony - zeroemisyjne | J5: o masie do 3,5 tony - hybryda plug-in | K5: o masie powyzej 3,5 tony | L5: o masie powyżej 3,5 tony - zeroemisyjne | M5: o masie powyżej 3,5 tony - hybryda plug-in | N5: ciagniki siodlowe | O5: ciągniki siodłowe - zeroemisyjne | P5: ciągniki siodłowe - hybryda plug-in | Q5: naczepy / przyczepy | R5: autobusy | S5: autobusy - zeroemisyjne | T5: autobusy - hybryda plug-in | U5: inne | V5: inne - zeroemisyjne | W5: inne - hybryda plug-in | X5: MiU | Y5: Sprzęt Budowlany | Z5: Maszyny Rolnicze | AA5: Maszyny Poligraf. | AB5: maszyny do produkcji tworzyw sztucznych | AC5: maszyny i urządzenia do obróbki metali | AD5: maszyny dla przemysłu spożywczego | AE5: Sprzęt Medyczny | AF5: Sprzęt Gastronom. | AG5: Wózki Widłowe | AH5: fotowoltaika | AI5: wiatraki i turbiny wiatrowe | AJ5: stacje ładowania pojazdów elektrycznych (na użytek własny i komercyjny) | AK5: inne MiU | AL5: IT | AM5: Sprzęt | AN5: Oprogram. | AO5: inne IT | AP5: POZOSTAŁE ŚRODKI TRANSPORTU | AQ5: Powietrzne | AR5: Wodne | AS5: Kolejowe | AT5: Inne ruchomości | AU5: RUCHOMOŚCI | AV5: Nieruchomości | AW5: budynki przemysłowe | AX5: obiekty handlowe i usługowe | AY5: obiekty biurowe | AZ5: hotele i obiekty rekreacyjne | BA5: inne | BB5: OGÓŁEM
A6: 1 | B6: Alior Leasing Sp. z o. o. | C6: 255991 | D6: 129985 | G6: 29325 | H6: 18612 | K6: 10713 | N6: 57362 | Q6: 31471 | R6: 1553 | U6: 6295 | X6: 60936 | Y6: 7926 | Z6: 18624 | AA6: 2636 | AB6: 1192 | AC6: 3917 | AD6: 2224 | AE6: 18439 | AG6: 346 | AH6: 908 | AK6: 4724 | AL6: 9929 | AM6: 9929 | AP6: 0 | AU6: 326856 | AV6: 0 | BB6: 326856
A7: 2 | B7: BNP Paribas Lease Group Sp. z o.o. | C7: 157692.95 | D7: 13014.337 | E7: 349.50544 | F7: 0 | G7: 95646.584 | H7: 64659.28 | I7: 0 | J7: 0 | K7: 30987.304 | L7: 0 | M7: 0 | N7: 30597.301 | O7: 0 | P7: 0 | Q7: 18321.102 | R7: 0 | S7: 0 | T7: 0 | U7: 113.62757 | V7: 0 | W7: 0 | X7: 1609859.6 | Y7: 47615.992 | Z7: 1417832.3 | AA7: 23.502 | AB7: 0 | AC7: 4709.7332 | AD7: 1474.9652 | AE7: 41655.702 | AF7: 0 | AG7: 3242.0578 | AH7: 9555.6683 | AI7: 0 | AJ7: 0 | AK7: 83749.737 | AL7: 20642.233 | AM7: 596.40233 | AN7: 19611.413 | AO7: 434.4181 | AP7: 0 | AQ7: 0 | AR7: 0 | AS7: 0 | AT7: 0 | AU7: 1788194.8 | AV7: 0 | AW7: 0 | AX7: 0 | AY7: 0 | AZ7: 0 | BA7: 0 | BB7: 1788194.8
A8: 3 | B8: BOŚ Leasing - EKO Profit S.A. | C8: 66.31999 | G8: 0 | U8: 66.31999 | X8: 2816.6953 | Y8: 924.14377 | Z8: 1000.7228 | AE8: 149.99256 | AH8: 624.85109 | AK8: 116.985 | AL8: 0 | AP8: 0 | AU8: 2883.0152 | AV8: 0 | BB8: 2883.0152
A9: 4 | B9: BPS Leasing Spółka Akcyjna (BPS Leasing S.A.) | C9: 889.98 | D9: 695.63 | G9: 0 | N9: 134.98 | Q9: 59.37 | X9: 0 | AL9: 0 | AP9: 0 | AU9: 889.98 | AV9: 0 | BB9: 889.98
A10: 5 | B10: Caterpillar Financial Services Poland Sp. z o.o. | C10: 0 | G10: 0 | X10: 61397.477 | Y10: 61397.477 | AL10: 0 | AP10: 0 | AU10: 61397.477 | AV10: 0 | BB10: 61397.477
A11: 6 | B11: De Lage Landen Leasing Polska S.A. | C11: 17926 | D11: 1389 | G11: 227 | H11: 227 | N11: 6986 | Q11: 9324 | X11: 700875 | Y11: 5686 | Z11: 660299 | AE11: 20950 | AH11: 3616 | AK11: 10324 | AL11: 17774 | AM11: 7611 | AN11: 10163 | AP11: 0 | AU11: 736575 | AV11: 0 | BB11: 736575
A12: 7 | B12: Deutsche Leasing Polska S.A. | C12: 80568 | D12: 2094 | G12: 306 | H12: 306 | N12: 13938 | Q12: 64230 | X12: 70583 | Y12: 7374 | Z12: 50789 | AA12: 0 | AB12: 4079 | AC12: 4219 | AK12: 4122 | AL12: 0 | AP12: 0 | AU12: 151151 | AV12: 0 | BB12: 151151
A13: 8 | B13: Europejski Fundusz Leasingowy S.A. | C13: 159930.47 | D13: 43556.5 | E13: 1505.6626 | G13: 25887.182 | H13: 22998.079 | I13: 269.5935 | K13: 2889.1029 | N13: 54720.393 | Q13: 34657.78 | R13: 1030 | U13: 78.61788 | X13: 816312.87 | Y13: 43075.791 | Z13: 687194.6 | AA13: 686.91594 | AB13: 940.23316 | AC13: 12126.059 | AD13: 13947.515 | AE13: 23382.554 | AF13: 5175.9111 | AG13: 2436.2141 | AH13: 5949.5645 | AJ13: 6.56272 | AK13: 21390.951 | AL13: 2653.2313 | AM13: 491.69406 | AN13: 1920.9414 | AO13: 240.59581 | AP13: 7724.6381 | AQ13: 1619.9935 | AR13: 6104.6446 | AU13: 986621.21 | AV13: 0 | BB13: 986621.21
A14: 9 | B14: Grupa VB Leasing | C14: 149949.95 | D14: 39814.758 | E14: 723.80532 | F14: 4276.1673 | G14: 23727.15 | H14: 7489.1413 | J14: 429.93182 | K14: 16238.009 | M14: 261.77792 | N14: 48518.713 | P14: 3382.9378 | Q14: 32724.857 | R14: 2109.1946 | U14: 3055.2754 | W14: 104.5 | X14: 175218.92 | Y14: 9533.7435 | Z14: 132207.39 | AA14: 439.34234 | AB14: 7.62331 | AC14: 5053.0037 | AD14: 1417.4186 | AE14: 16802.397 | AF14: 542.74709 | AG14: 351.41572 | AH14: 1536.2534 | AK14: 7327.5864 | AL14: 88.76335 | AM14: 88.76335 | AN14: 0 | AO14: 0 | AP14: 8037.6618 | AQ14: 21.945 | AR14: 8015.7168 | AS14: 0 | AT14: 3525.3243 | AU14: 336820.61 | AV14: 0 | BB14: 336820.61
A15: 10 | B15: Impuls-Leasing Polska Sp. z o. o. | C15: 137634.99 | D15: 47030.4 | E15: 3069.61 | F15: 479.6 | G15: 11326.06 | H15: 7992.92 | I15: 124.72 | K15: 3333.14 | N15: 53106.41 | Q15: 24469.69 | R15: 290 | U15: 1412.43 | X15: 43910.21 | Y15: 13185.65 | Z15: 3336.02 | AA15: 979.28 | AB15: 49.77 | AC15: 1324.81 | AE15: 4240.04 | AF15: 495.69 | AG15: 602.79 | AH15: 59.04 | AK15: 19637.12 | AL15: 26 | AM15: 26 | AP15: 0 | AU15: 181571.2 | AV15: 0 | BB15: 181571.2
A16: 11 | B16: ING Lease (Polska) Sp. z o.o. | C16: 148482 | D16: 14556 | G16: 0 | H16: 0 | K16: 0 | N16: 133926 | Q16: 0 | R16: 0 | U16: 0 | X16: 127230 | Y16: 2053 | Z16: 3015 | AA16: 52384 | AB16: 448 | AC16: 8445 | AD16: 0 | AE16: 18494 | AF16: 0 | AG16: 626 | AK16: 41765 | AL16: 0 | AM16: 0 | AN16: 0 | AO16: 0 | AP16: 0 | AQ16: 0 | AR16: 0 | AS16: 0 | AT16: 14884 | AU16: 290596 | AV16: 0 | AW16: 0 | AX16: 0 | AY16: 0 | AZ16: 0 | BA16: 0 | BB16: 290596
A17: 12 | B17: Leasing Polski Sp. z o. o. | C17: 0 | G17: 0 | X17: 0 | AL17: 0 | AP17: 0 | AU17: 0 | AV17: 0 | BB17: 0
A18: 13 | B18: Mercedes-Benz Leasing Polska Sp. z o.o. | C18: 574345.02 | D18: 284010.59 | E18: 8238.0291 | F18: 12789.591 | G18: 96537.998 | H18: 66870.479 | I18: 389.61787 | K18: 29667.519 | N18: 182280.27 | Q18: 6015.9682 | R18: 5500.1909 | X18: 0 | AL18: 0 | AP18: 0 | AU18: 574345.02 | AV18: 0 | BB18: 574345.02
A19: 14 | B19: Millennium Leasing Sp. z o.o. | C19: 0 | G19: 0 | X19: 0 | AL19: 0 | AP19: 0 | AU19: 0 | AV19: 0 | BB19: 0
A20: 15 | B20: mLeasing Sp. z o.o. | C20: 102542.45 | G20: 13568.301 | K20: 13568.301 | N20: 58763.109 | Q20: 18256.247 | R20: 2956.2602 | U20: 8998.5299 | X20: 424523.71 | Y20: 13411.433 | Z20: 5932.2654 | AA20: 12824.258 | AB20: 38276.689 | AC20: 34398.23 | AD20: 22894.03 | AE20: 164097.21 | AF20: 115.75944 | AG20: 2218.6213 | AK20: 130355.21 | AL20: 3481.6204 | AM20: 3481.6204 | AP20: 22750.928 | AQ20: 4485.9875 | AR20: 18264.94 | AT20: 70471.061 | AU20: 623769.76 | AV20: 0 | BB20: 623769.76
A21: 16 | B21: PEAC (Poland) Sp. z o.o. | C21: 20970 | D21: 6643 | F21: 88 | G21: 2116 | H21: 2116 | N21: 1219 | Q21: 9712 | U21: 1280 | X21: 33139 | Y21: 1234 | Z21: 14357 | AA21: 789 | AB21: 2520 | AC21: 281 | AE21: 109 | AG21: 246 | AK21: 13603 | AL21: 0 | AP21: 0 | AU21: 54109 | AV21: 0 | BB21: 54109
A22: 17 | B22: PEKAO Leasing Sp. z o.o. | C22: 263479.69 | D22: 84569.823 | E22: 263.76848 | F22: 0 | G22: 10200.837 | H22: 6278.464 | I22: 0 | J22: 0 | K22: 3922.3726 | L22: 0 | M22: 0 | N22: 125717.78 | O22: 0 | P22: 0 | Q22: 26130.356 | R22: 7970.4922 | S22: 0 | T22: 0 | U22: 8890.4034 | V22: 0 | W22: 0 | X22: 550548.17 | Y22: 40790.497 | Z22: 149369.36 | AA22: 14546.799 | AB22: 38050.365 | AC22: 109582.02 | AD22: 30937.811 | AE22: 16863.221 | AF22: 0 | AG22: 2695.4314 | AH22: 14325.405 | AI22: 0 | AJ22: 0 | AK22: 133387.26 | AL22: 18287.652 | AM22: 18212.488 | AN22: 75.16432 | AO22: 0 | AP22: 136282.16 | AQ22: 2066.9492 | AR22: 52553.704 | AS22: 81661.512 | AT22: 5544.8867 | AU22: 974142.56 | AV22: 3706.06 | AW22: 221.154 | AX22: 3484.906 | AY22: 0 | AZ22: 0 | BA22: 0 | BB22: 977848.62
A23: 18 | B23: PKO Leasing S.A. | C23: 693316.87 | D23: 318779.87 | E23: 2310.6969 | F23: 2095 | G23: 65043.534 | H23: 41536.158 | I23: 325.4211 | K23: 23507.376 | N23: 191891.47 | Q23: 85209.842 | R23: 30695.643 | U23: 1696.5143 | X23: 975556.99 | Y23: 51673.274 | Z23: 417355.4 | AA23: 29429.734 | AB23: 27184.169 | AC23: 79371.15 | AD23: 20544.572 | AE23: 73392.985 | AF23: 56.45651 | AG23: 4339.1994 | AH23: 108832.34 | AJ23: 157.91495 | AK23: 163219.79 | AL23: 5695.7073 | AM23: 2071.6689 | AN23: 3450.0097 | AO23: 174.02876 | AP23: 50226.611 | AQ23: 46788.875 | AR23: 3437.736 | AU23: 1724796.2 | AV23: 0 | BB23: 1724796.2
A24: 19 | B24: Santander Consumer Multirent Sp.z o.o. | C24: 417935.4 | D24: 376749.42 | G24: 39773.309 | H24: 39773.309 | U24: 1412.678 | X24: 0 | AL24: 0 | AP24: 0 | AU24: 417935.4 | AV24: 0 | BB24: 417935.4
A25: 20 | B25: Santander Leasing S.A. | C25: 578438.2 | D25: 331232.37 | E25: 5118.48 | F25: 8332.142 | G25: 77533.299 | H25: 41997.879 | I25: 0 | J25: 0 | K25: 35535.42 | L25: 0 | M25: 0 | N25: 103188.35 | O25: 0 | P25: 0 | Q25: 58216.794 | R25: 3342.261 | S25: 0 | T25: 0 | U25: 4925.124 | V25: 3 | W25: 0 | X25: 1582243.8 | Y25: 30052.325 | Z25: 987467.48 | AA25: 40591.992 | AB25: 43604.843 | AC25: 49144.852 | AD25: 483.748 | AE25: 121261.73 | AF25: 389.509 | AG25: 2443.741 | AH25: 100063.07 | AI25: 0 | AJ25: 0 | AK25: 206740.52 | AL25: 41702.95 | AM25: 41702.95 | AN25: 0 | AO25: 0 | AP25: 9063.729 | AQ25: 6877.849 | AR25: 2185.88 | AS25: 0 | AT25: 1416.429 | AU25: 2212865.1 | AV25: 20778.953 | AW25: 0 | AX25: 0 | AY25: 0 | AZ25: 0 | BA25: 20778.953 | BB25: 2233644.1
A26: 21 | B26: Scania Finance Polska Sp. z o.o. | C26: 65518 | D26: 260 | G26: 0 | N26: 63329 | Q26: 1929 | X26: 0 | AL26: 0 | AP26: 0 | AU26: 65518 | AV26: 0 | BB26: 65518
A27: 22 | B27: SG Equipment Leasing Polska Sp. z o.o. | C27: 4205.9994 | G27: 602.81957 | H27: 236.99268 | K27: 365.82689 | N27: 2133.3817 | Q27: 1469.7981 | X27: 109807.88 | Y27: 30082.183 | Z27: 63411.163 | AC27: 1576.0538 | AD27: 289.05 | AE27: 290.72388 | AG27: 4844.4384 | AH27: 215.68 | AK27: 9098.5862 | AL27: 123222.88 | AM27: 97911.819 | AN27: 25311.065 | AP27: 0 | AU27: 237236.76 | AV27: 0 | BB27: 237236.76
A28: 23 | B28: SGB Leasing Sp. z o.o. | C28: 12675 | D28: 3230 | F28: 288 | G28: 8238 | H28: 8238 | Q28: 790 | U28: 417 | X28: 57841 | Y28: 3763 | Z28: 31264 | AD28: 432 | AE28: 2007 | AG28: 64 | AH28: 4771 | AK28: 15540 | AL28: 124 | AM28: 98 | AN28: 26 | AP28: 0 | AU28: 70640 | AV28: 3269 | AX28: 3269 | BB28: 73909
A29: 24 | B29: Siemens Finance Sp. z o.o. | C29: 0 | G29: 0 | X29: 0 | AL29: 0 | AP29: 0 | AU29: 0 | AV29: 0 | BB29: 0
A30: 25 | B30: Vehis Fin 1 Sp. z o. o. | C30: 0 | G30: 0 | X30: 0 | AL30: 0 | AP30: 0 | AU30: 0 | AV30: 0 | BB30: 0
A31: 26 | B31: Razem | C31: 3842558.3 | D31: 1697610.7 | E31: 21579.558 | F31: 28348.5 | G31: 500059.07 | H31: 329331.7 | I31: 1109.3525 | J31: 429.93182 | K31: 170727.37 | L31: 0 | M31: 261.77792 | N31: 1127812.2 | O31: 0 | P31: 3382.9378 | Q31: 422987.8 | R31: 55447.042 | S31: 0 | T31: 0 | U31: 38641.52 | V31: 3 | W31: 104.5 | X31: 7402800.3 | Y31: 369778.51 | Z31: 4643454.6 | AA31: 155330.82 | AB31: 156352.69 | AC31: 314147.91 | AD31: 94645.109 | AE31: 522135.56 | AF31: 6776.0731 | AG31: 24455.909 | AH31: 250456.87 | AI31: 0 | AJ31: 164.47767 | AK31: 865101.75 | AL31: 243628.04 | AM31: 182221.41 | AN31: 60557.593 | AO31: 849.04267 | AP31: 234085.73 | AQ31: 61861.599 | AR31: 90562.621 | AS31: 81661.512 | AT31: 95841.701 | AU31: 11818914 | AV31: 27754.013 | AW31: 221.154 | AX31: 6753.906 | AY31: 0 | AZ31: 0 | BA31: 20778.953 | BB31: 11846668
A33: Ilość środków _pożyczki (szt) | C33: 01.01.2023-31.12.2023
A36: Lp. | B36: Spółka | C36: POJAZDY | D36: Osobowe | E36: osobowe - zeroemisyjne | F36: osobowe - hybryda plug-in | G36: Cięzarowe: | H36: o masie do 3,5 tony | I36: o masie do 3,5 tony - zeroemisyjne | J36: o masie do 3,5 tony - hybryda plug-in | K36: o masie powyzej 3,5 tony | L36: o masie powyżej 3,5 tony - zeroemisyjne | M36: o masie powyżej 3,5 tony - hybryda plug-in | N36: ciagniki siodlowe | O36: ciągniki siodłowe - zeroemisyjne | P36: ciągniki siodłowe - hybryda plug-in | Q36: naczepy / przyczepy | R36: autobusy | S36: autobusy - zeroemisyjne | T36: autobusy - hybryda plug-in | U36: inne | V36: inne - zeroemisyjne | W36: inne - hybryda plug-in | X36: MiU | Y36: Sprzęt Budowlany | Z36: Maszyny Rolnicze | AA36: Maszyny Poligraf. | AB36: maszyny do produkcji tworzyw sztucznych | AC36: maszyny i urządzenia do obróbki metali | AD36: maszyny dla przemysłu spożywczego | AE36: Sprzęt Medyczny | AF36: Sprzęt Gastronom. | AG36: Wózki Widłowe | AH36: fotowoltaika | AI36: wiatraki i turbiny wiatrowe | AJ36: stacje ładowania pojazdów elektrycznych (na użytek własny i komercyjny) | AK36: inne MiU | AL36: IT | AM36: Sprzęt | AN36: Oprogram. | AO36: inne IT | AP36: POZOSTAŁE ŚRODKI TRANSPORTU | AQ36: Powietrzne | AR36: Wodne | AS36: Kolejowe | AT36: Inne ruchomości | AU36: RUCHOMOŚCI | AV36: Nieruchomości | AW36: budynki przemysłowe | AX36: obiekty handlowe i usługowe | AY36: obiekty biurowe | AZ36: hotele i obiekty rekreacyjne | BA36: inne | BB36: OGÓŁEM
A37: 1 | B37: Alior Leasing Sp. z o. o. | C37: 2043 | D37: 1189 | G37: 297 | H37: 241 | K37: 56 | N37: 229 | Q37: 265 | R37: 9 | U37: 54 | X37: 389 | Y37: 45 | Z37: 124 | AA37: 9 | AB37: 4 | AC37: 23 | AD37: 14 | AE37: 109 | AG37: 4 | AH37: 6 | AK37: 51 | AL37: 4 | AM37: 4 | AP37: 0 | AU37: 2436 | AV37: 0 | BB37: 2436
A38: 2 | B38: BNP Paribas Lease Group Sp. z o.o. | C38: 758 | D38: 133 | E38: 2 | F38: 0 | G38: 442 | H38: 355 | I38: 0 | J38: 0 | K38: 87 | L38: 0 | M38: 0 | N38: 66 | O38: 0 | P38: 0 | Q38: 114 | R38: 0 | S38: 0 | T38: 0 | U38: 3 | V38: 0 | W38: 0 | X38: 4588 | Y38: 127 | Z38: 3571 | AA38: 1 | AB38: 0 | AC38: 3 | AD38: 2 | AE38: 671 | AF38: 0 | AG38: 26 | AH38: 69 | AI38: 0 | AJ38: 0 | AK38: 118 | AL38: 351 | AM38: 4 | AN38: 343 | AO38: 4 | AP38: 0 | AQ38: 0 | AR38: 0 | AS38: 0 | AT38: 0 | AU38: 5697 | AV38: 0 | AW38: 0 | AX38: 0 | AY38: 0 | AZ38: 0 | BA38: 0 | BB38: 5697
A39: 3 | B39: BOŚ Leasing - EKO Profit S.A. | C39: 1 | G39: 0 | U39: 1 | X39: 10 | Y39: 2 | Z39: 3 | AE39: 1 | AH39: 3 | AK39: 1 | AL39: 0 | AP39: 0 | AU39: 11 | AV39: 0 | BB39: 11
A40: 4 | B40: BPS Leasing Spółka Akcyjna (BPS Leasing S.A.) | C40: 3 | D40: 1 | G40: 0 | N40: 1 | Q40: 1 | X40: 0 | AL40: 0 | AP40: 0 | AU40: 3 | AV40: 0 | BB40: 3
A41: 5 | B41: Caterpillar Financial Services Poland Sp. z o.o. | C41: 0 | G41: 0 | X41: 145 | Y41: 145 | AL41: 0 | AP41: 0 | AU41: 145 | AV41: 0 | BB41: 145
A42: 6 | B42: De Lage Landen Leasing Polska S.A. | C42: 92 | D42: 8 | G42: 1 | H42: 1 | N42: 27 | Q42: 56 | X42: 1894 | Y42: 16 | Z42: 1613 | AE42: 203 | AH42: 33 | AK42: 29 | AL42: 13 | AM42: 5 | AN42: 8 | AP42: 0 | AU42: 1999 | AV42: 0 | BB42: 1999
A43: 7 | B43: Deutsche Leasing Polska S.A. | C43: 429 | D43: 7 | G43: 1 | H43: 1 | N43: 30 | Q43: 391 | X43: 135 | Y43: 3 | Z43: 103 | AA43: 0 | AB43: 7 | AC43: 2 | AK43: 20 | AL43: 0 | AP43: 0 | AU43: 564 | AV43: 0 | BB43: 564
A44: 8 | B44: Europejski Fundusz Leasingowy S.A. | C44: 864 | D44: 283 | E44: 6 | G44: 127 | H44: 113 | I44: 1 | K44: 14 | N44: 209 | Q44: 242 | R44: 2 | U44: 1 | X44: 2094 | Y44: 174 | Z44: 1377 | AA44: 8 | AB44: 4 | AC44: 23 | AD44: 11 | AE44: 227 | AF44: 26 | AG44: 10 | AH44: 54 | AJ44: 1 | AK44: 179 | AL44: 61 | AM44: 17 | AN44: 30 | AO44: 14 | AP44: 56 | AQ44: 3 | AR44: 53 | AU44: 3075 | AV44: 0 | BB44: 3075
A45: 9 | B45: Grupa VB Leasing | C45: 1043 | D45: 380 | E45: 6 | F45: 32 | G45: 152 | H45: 81 | J45: 4 | K45: 71 | M45: 2 | N45: 199 | P45: 12 | Q45: 260 | R45: 9 | U45: 43 | W45: 1 | X45: 1063 | Y45: 44 | Z45: 690 | AA45: 3 | AB45: 1 | AC45: 14 | AD45: 13 | AE45: 190 | AF45: 7 | AG45: 7 | AH45: 15 | AK45: 79 | AL45: 4 | AM45: 4 | AN45: 0 | AO45: 0 | AP45: 40 | AQ45: 1 | AR45: 39 | AS45: 0 | AT45: 53 | AU45: 2203 | AV45: 0 | BB45: 2203
A46: 10 | B46: Impuls-Leasing Polska Sp. z o. o. | C46: 554 | D46: 231 | E46: 13 | F46: 2 | G46: 42 | H46: 38 | I46: 1 | K46: 4 | N46: 121 | Q46: 151 | R46: 1 | U46: 8 | X46: 133 | Y46: 24 | Z46: 13 | AA46: 8 | AB46: 1 | AC46: 1 | AE46: 36 | AF46: 2 | AG46: 3 | AH46: 1 | AK46: 44 | AL46: 3 | AM46: 3 | AP46: 0 | AU46: 690 | AV46: 0 | BB46: 690
A47: 11 | B47: ING Lease (Polska) Sp. z o.o. | C47: 794 | D47: 155 | G47: 0 | H47: 0 | K47: 0 | N47: 639 | Q47: 0 | R47: 0 | U47: 0 | X47: 43 | Y47: 2 | Z47: 1 | AA47: 6 | AB47: 1 | AC47: 11 | AD47: 0 | AE47: 10 | AF47: 0 | AG47: 1 | AK47: 11 | AL47: 0 | AM47: 0 | AN47: 0 | AO47: 0 | AP47: 0 | AQ47: 0 | AR47: 0 | AS47: 0 | AT47: 1 | AU47: 838 | AV47: 0 | AW47: 0 | AX47: 0 | AY47: 0 | AZ47: 0 | BA47: 0 | BB47: 838
A48: 12 | B48: Leasing Polski Sp. z o. o. | C48: 0 | G48: 0 | X48: 0 | AL48: 0 | AP48: 0 | AU48: 0 | AV48: 0 | BB48: 0
A49: 13 | B49: Mercedes-Benz Leasing Polska Sp. z o.o. | C49: 2274 | D49: 1236 | E49: 28 | F49: 48 | G49: 519 | H49: 421 | I49: 3 | K49: 98 | N49: 462 | Q49: 53 | R49: 4 | X49: 0 | AL49: 0 | AP49: 0 | AU49: 2274 | AV49: 0 | BB49: 2274
A50: 14 | B50: Millennium Leasing Sp. z o.o. | C50: 0 | G50: 0 | X50: 0 | AL50: 0 | AP50: 0 | AU50: 0 | AV50: 0 | BB50: 0
A51: 15 | B51: mLeasing Sp. z o.o. | C51: 226 | G51: 27 | K51: 27 | N51: 115 | Q51: 77 | R51: 3 | U51: 4 | X51: 1297 | Y51: 20 | Z51: 6 | AA51: 9 | AB51: 9 | AC51: 25 | AD51: 12 | AE51: 994 | AF51: 1 | AG51: 17 | AK51: 204 | AL51: 49 | AM51: 49 | AP51: 7 | AQ51: 2 | AR51: 5 | AT51: 230 | AU51: 1809 | AV51: 0 | BB51: 1809
A52: 16 | B52: PEAC (Poland) Sp. z o.o. | C52: 152 | D52: 64 | F52: 1 | G52: 15 | H52: 15 | N52: 8 | Q52: 60 | U52: 5 | X52: 208 | Y52: 6 | Z52: 97 | AA52: 1 | AB52: 4 | AC52: 1 | AE52: 2 | AG52: 1 | AK52: 96 | AL52: 0 | AP52: 0 | AU52: 360 | AV52: 0 | BB52: 360
A53: 17 | B53: PEKAO Leasing Sp. z o.o. | C53: 1120 | D53: 653 | E53: 1 | F53: 0 | G53: 48 | H53: 39 | I53: 0 | J53: 0 | K53: 9 | L53: 0 | M53: 0 | N53: 268 | O53: 0 | P53: 0 | Q53: 140 | R53: 7 | S53: 0 | T53: 0 | U53: 4 | V53: 0 | W53: 0 | X53: 752 | Y53: 57 | Z53: 334 | AA53: 5 | AB53: 19 | AC53: 52 | AD53: 23 | AE53: 76 | AF53: 0 | AG53: 6 | AH53: 30 | AI53: 0 | AJ53: 0 | AK53: 150 | AL53: 18 | AM53: 17 | AN53: 1 | AO53: 0 | AP53: 22 | AQ53: 1 | AR53: 14 | AS53: 7 | AT53: 3 | AU53: 1915 | AV53: 6 | AW53: 1 | AX53: 5 | AY53: 0 | AZ53: 0 | BA53: 0 | BB53: 1921
A54: 18 | B54: PKO Leasing S.A. | C54: 4572 | D54: 2327 | E54: 9 | F54: 8 | G54: 309 | H54: 252 | I54: 1 | K54: 57 | N54: 583 | Q54: 1211 | R54: 117 | U54: 25 | X54: 3951 | Y54: 131 | Z54: 1667 | AA54: 36 | AB54: 37 | AC54: 71 | AD54: 48 | AE54: 622 | AF54: 1 | AG54: 26 | AH54: 77 | AJ54: 1 | AK54: 1234 | AL54: 24 | AM54: 8 | AN54: 10 | AO54: 6 | AP54: 5 | AQ54: 2 | AR54: 3 | AU54: 8552 | AV54: 0 | BB54: 8552
A55: 19 | B55: Santander Consumer Multirent Sp.z o.o. | C55: 9573 | D55: 9281 | G55: 264 | H55: 264 | U55: 28 | X55: 0 | AL55: 0 | AP55: 0 | AU55: 9573 | AV55: 0 | BB55: 9573
A56: 20 | B56: Santander Leasing S.A. | C56: 3882 | D56: 2806 | E56: 28 | F56: 42 | G56: 325 | H56: 236 | I56: 0 | J56: 0 | K56: 89 | L56: 0 | M56: 0 | N56: 247 | O56: 0 | P56: 0 | Q56: 342 | R56: 11 | S56: 0 | T56: 0 | U56: 151 | V56: 1 | W56: 0 | X56: 8355 | Y56: 91 | Z56: 5079 | AA56: 23 | AB56: 27 | AC56: 41 | AD56: 10 | AE56: 1713 | AF56: 36 | AG56: 21 | AH56: 487 | AI56: 0 | AJ56: 0 | AK56: 827 | AL56: 146 | AM56: 146 | AN56: 0 | AO56: 0 | AP56: 22 | AQ56: 4 | AR56: 18 | AS56: 0 | AT56: 41 | AU56: 12446 | AV56: 46 | AW56: 0 | AX56: 0 | AY56: 0 | AZ56: 0 | BA56: 46 | BB56: 12492
A57: 21 | B57: Scania Finance Polska Sp. z o.o. | C57: 138 | D57: 1 | G57: 0 | N57: 126 | Q57: 11 | X57: 0 | AL57: 0 | AP57: 0 | AU57: 138 | AV57: 0 | BB57: 138
A58: 22 | B58: SG Equipment Leasing Polska Sp. z o.o. | C58: 22 | G58: 3 | H58: 2 | K58: 1 | N58: 7 | Q58: 12 | X58: 306 | Y58: 69 | Z58: 197 | AC58: 1 | AD58: 2 | AE58: 2 | AG58: 5 | AH58: 1 | AK58: 29 | AL58: 153 | AM58: 142 | AN58: 11 | AP58: 0 | AU58: 481 | AV58: 0 | BB58: 481
A59: 23 | B59: SGB Leasing Sp. z o.o. | C59: 71 | D59: 15 | F59: 1 | G59: 50 | H59: 50 | Q59: 4 | U59: 2 | X59: 147 | Y59: 12 | Z59: 96 | AD59: 1 | AE59: 17 | AG59: 1 | AH59: 10 | AK59: 10 | AL59: 2 | AM59: 1 | AN59: 1 | AP59: 0 | AU59: 220 | AV59: 2 | AX59: 2 | BB59: 222
A60: 24 | B60: Siemens Finance Sp. z o.o. | C60: 0 | G60: 0 | X60: 0 | AL60: 0 | AP60: 0 | AU60: 0 | AV60: 0 | BB60: 0
A61: 25 | B61: Vehis Fin 1 Sp. z o. o. | C61: 0 | G61: 0 | X61: 0 | AL61: 0 | AP61: 0 | AU61: 0 | AV61: 0 | BB61: 0
A62: 26 | B62: Razem | C62: 28611 | D62: 18770 | E62: 93 | F62: 134 | G62: 2622 | H62: 2109 | I62: 6 | J62: 4 | K62: 513 | L62: 0 | M62: 2 | N62: 3337 | O62: 0 | P62: 12 | Q62: 3390 | R62: 163 | S62: 0 | T62: 0 | U62: 329 | V62: 1 | W62: 1 | X62: 25510 | Y62: 968 | Z62: 14971 | AA62: 109 | AB62: 114 | AC62: 268 | AD62: 136 | AE62: 4873 | AF62: 73 | AG62: 128 | AH62: 786 | AI62: 0 | AJ62: 2 | AK62: 3082 | AL62: 828 | AM62: 400 | AN62: 404 | AO62: 24 | AP62: 152 | AQ62: 13 | AR62: 132 | AS62: 7 | AT62: 328 | AU62: 55429 | AV62: 54 | AW62: 1 | AX62: 7 | AY62: 0 | AZ62: 0 | BA62: 46 | BB62: 55483
A64: Średnia wartość środków _pożyczki_(tys. PLN) | C64: 01.01.2023-31.12.2023
A67: Lp. | B67: Spółka | C67: POJAZDY | D67: Osobowe | E67: osobowe - zeroemisyjne | F67: osobowe - hybryda plug-in | G67: Cięzarowe: | H67: o masie do 3,5 tony | I67: o masie do 3,5 tony - zeroemisyjne | J67: o masie do 3,5 tony - hybryda plug-in | K67: o masie powyzej 3,5 tony | L67: o masie powyżej 3,5 tony - zeroemisyjne | M67: o masie powyżej 3,5 tony - hybryda plug-in | N67: ciagniki siodlowe | O67: ciągniki siodłowe - zeroemisyjne | P67: ciągniki siodłowe - hybryda plug-in | Q67: naczepy / przyczepy | R67: autobusy | S67: autobusy - zeroemisyjne | T67: autobusy - hybryda plug-in | U67: inne | V67: inne - zeroemisyjne | W67: inne - hybryda plug-in | X67: MiU | Y67: Sprzęt Budowlany | Z67: Maszyny Rolnicze | AA67: Maszyny Poligraf. | AB67: maszyny do produkcji tworzyw sztucznych | AC67: maszyny i urządzenia do obróbki metali | AD67: maszyny dla przemysłu spożywczego | AE67: Sprzęt Medyczny | AF67: Sprzęt Gastronom. | AG67: Wózki Widłowe | AH67: fotowoltaika | AI67: wiatraki i turbiny wiatrowe | AJ67: stacje ładowania pojazdów elektrycznych (na użytek własny i komercyjny) | AK67: inne MiU | AL67: IT | AM67: Sprzęt | AN67: Oprogram. | AO67: inne IT | AP67: POZOSTAŁE ŚRODKI TRANSPORTU | AQ67: Powietrzne | AR67: Wodne | AS67: Kolejowe | AT67: Inne ruchomości | AU67: RUCHOMOŚCI | AV67: Nieruchomości | AW67: budynki przemysłowe | AX67: obiekty handlowe i usługowe | AY67: obiekty biurowe | AZ67: hotele i obiekty rekreacyjne | BA67: inne | BB67: OGÓŁEM
A68: 1 | B68: Alior Leasing Sp. z o. o. | C68: 125.30152 | D68: 109.32296 | G68: 98.737374 | H68: 77.228216 | K68: 191.30357 | N68: 250.48908 | Q68: 118.75849 | R68: 172.55556 | U68: 116.57407 | X68: 156.64781 | Y68: 176.13333 | Z68: 150.19355 | AA68: 292.88889 | AB68: 298 | AC68: 170.30435 | AD68: 158.85714 | AE68: 169.16514 | AG68: 86.5 | AH68: 151.33333 | AK68: 92.627451 | AL68: 2482.25 | AM68: 2482.25 | AU68: 134.17734 | BB68: 134.17734
A69: 2 | B69: BNP Paribas Lease Group Sp. z o.o. | C69: 208.03819 | D69: 97.852158 | E69: 174.75272 | G69: 216.39499 | H69: 182.13882 | K69: 356.17591 | N69: 463.59547 | Q69: 160.71142 | U69: 37.875857 | X69: 350.88483 | Y69: 374.92907 | Z69: 397.04068 | AA69: 23.502 | AC69: 1569.9111 | AD69: 737.48262 | AE69: 62.080032 | AG69: 124.69453 | AH69: 138.48795 | AK69: 709.74353 | AL69: 58.809781 | AM69: 149.10058 | AN69: 57.17613 | AO69: 108.60452 | AU69: 313.88359 | BB69: 313.88359
A70: 3 | B70: BOŚ Leasing - EKO Profit S.A. | C70: 66.31999 | U70: 66.31999 | X70: 281.66953 | Y70: 462.07189 | Z70: 333.57428 | AE70: 149.99256 | AH70: 208.2837 | AK70: 116.985 | AU70: 262.09229 | BB70: 262.09229
A71: 4 | B71: BPS Leasing Spółka Akcyjna (BPS Leasing S.A.) | C71: 296.66 | D71: 695.63 | N71: 134.98 | Q71: 59.37 | AU71: 296.66 | BB71: 296.66
A72: 5 | B72: Caterpillar Financial Services Poland Sp. z o.o. | X72: 423.43088 | Y72: 423.43088 | AU72: 423.43088 | BB72: 423.43088
A73: 6 | B73: De Lage Landen Leasing Polska S.A. | C73: 194.84783 | D73: 173.625 | G73: 227 | H73: 227 | N73: 258.74074 | Q73: 166.5 | X73: 370.05016 | Y73: 355.375 | Z73: 409.36082 | AE73: 103.20197 | AH73: 109.57576 | AK73: 356 | AL73: 1367.2308 | AM73: 1522.2 | AN73: 1270.375 | AU73: 368.47174 | BB73: 368.47174
A74: 7 | B74: Deutsche Leasing Polska S.A. | C74: 187.8042 | D74: 299.14286 | G74: 306 | H74: 306 | N74: 464.6 | Q74: 164.2711 | X74: 522.83704 | Y74: 2458 | Z74: 493.09709 | AB74: 582.71429 | AC74: 2109.5 | AK74: 206.1 | AU74: 267.99823 | BB74: 267.99823
A75: 8 | B75: Europejski Fundusz Leasingowy S.A. | C75: 185.10471 | D75: 153.90989 | E75: 250.94377 | G75: 203.83608 | H75: 203.52282 | I75: 269.5935 | K75: 206.36449 | N75: 261.82006 | Q75: 143.21397 | R75: 515 | U75: 78.61788 | X75: 389.83423 | Y75: 247.56202 | Z75: 499.052 | AA75: 85.864492 | AB75: 235.05829 | AC75: 527.21995 | AD75: 1267.9559 | AE75: 103.00685 | AF75: 199.0735 | AG75: 243.62142 | AH75: 110.17712 | AJ75: 6.56272 | AK75: 119.50252 | AL75: 43.495594 | AM75: 28.92318 | AN75: 64.03138 | AO75: 17.185415 | AP75: 137.93997 | AQ75: 539.99782 | AR75: 115.18197 | AU75: 320.85243 | BB75: 320.85243
A76: 9 | B76: Grupa VB Leasing | C76: 143.76793 | D76: 104.77568 | E76: 120.63422 | F76: 133.63023 | G76: 156.09967 | H76: 92.458534 | J76: 107.48296 | K76: 228.70435 | M76: 130.88896 | N76: 243.81263 | P76: 281.91148 | Q76: 125.86483 | R76: 234.35495 | U76: 71.052916 | W76: 104.5 | X76: 164.83435 | Y76: 216.67599 | Z76: 191.60491 | AA76: 146.44745 | AB76: 7.62331 | AC76: 360.92884 | AD76: 109.0322 | AE76: 88.433671 | AF76: 77.535299 | AG76: 50.202246 | AH76: 102.4169 | AK76: 92.754258 | AL76: 22.190838 | AM76: 22.190838 | AP76: 200.94154 | AQ76: 21.945 | AR76: 205.5312 | AT76: 66.515552 | AU76: 152.89179 | BB76: 152.89179
A77: 10 | B77: Impuls-Leasing Polska Sp. z o. o. | C77: 248.43861 | D77: 203.59481 | E77: 236.12385 | F77: 239.8 | G77: 269.6681 | H77: 210.34 | I77: 124.72 | K77: 833.285 | N77: 438.89595 | Q77: 162.05093 | R77: 290 | U77: 176.55375 | X77: 330.15195 | Y77: 549.40208 | Z77: 256.61692 | AA77: 122.41 | AB77: 49.77 | AC77: 1324.81 | AE77: 117.77889 | AF77: 247.845 | AG77: 200.93 | AH77: 59.04 | AK77: 446.29818 | AL77: 8.6666667 | AM77: 8.6666667 | AU77: 263.14667 | BB77: 263.14667
A78: 11 | B78: ING Lease (Polska) Sp. z o.o. | C78: 187.00504 | D78: 93.909677 | N78: 209.58685 | X78: 2958.8372 | Y78: 1026.5 | Z78: 3015 | AA78: 8730.6667 | AB78: 448 | AC78: 767.72727 | AE78: 1849.4 | AG78: 626 | AK78: 3796.8182 | AT78: 14884 | AU78: 346.77327 | BB78: 346.77327
A79: 12 | B79: Leasing Polski Sp. z o. o.
A80: 13 | B80: Mercedes-Benz Leasing Polska Sp. z o.o. | C80: 252.57037 | D80: 229.78203 | E80: 294.21533 | F80: 266.4498 | G80: 186.0077 | H80: 158.83724 | I80: 129.87262 | K80: 302.72978 | N80: 394.54605 | Q80: 113.50883 | R80: 1375.0477 | AU80: 252.57037 | BB80: 252.57037
A81: 14 | B81: Millennium Leasing Sp. z o.o.
A82: 15 | B82: mLeasing Sp. z o.o. | C82: 453.72764 | G82: 502.52967 | K82: 502.52967 | N82: 510.98356 | Q82: 237.09412 | R82: 985.42008 | U82: 2249.6325 | X82: 327.31203 | Y82: 670.57166 | Z82: 988.71089 | AA82: 1424.9175 | AB82: 4252.9655 | AC82: 1375.9292 | AD82: 1907.8358 | AE82: 165.08774 | AF82: 115.75944 | AG82: 130.50714 | AK82: 638.99611 | AL82: 71.053477 | AM82: 71.053477 | AP82: 3250.1326 | AQ82: 2242.9938 | AR82: 3652.9881 | AT82: 306.39592 | AU82: 344.81468 | BB82: 344.81468
A83: 16 | B83: PEAC (Poland) Sp. z o.o. | C83: 137.96053 | D83: 103.79688 | F83: 88 | G83: 141.06667 | H83: 141.06667 | N83: 152.375 | Q83: 161.86667 | U83: 256 | X83: 159.32212 | Y83: 205.66667 | Z83: 148.01031 | AA83: 789 | AB83: 630 | AC83: 281 | AE83: 54.5 | AG83: 246 | AK83: 141.69792 | AU83: 150.30278 | BB83: 150.30278
A84: 17 | B84: PEKAO Leasing Sp. z o.o. | C84: 235.24972 | D84: 129.50968 | E84: 263.76848 | G84: 212.51743 | H84: 160.98626 | K84: 435.81918 | N84: 469.09619 | Q84: 186.6454 | R84: 1138.6417 | U84: 2222.6008 | X84: 732.11193 | Y84: 715.62276 | Z84: 447.21364 | AA84: 2909.3598 | AB84: 2002.6508 | AC84: 2107.3465 | AD84: 1345.1222 | AE84: 221.88449 | AG84: 449.23857 | AH84: 477.51351 | AK84: 889.24841 | AL84: 1015.9807 | AM84: 1071.3228 | AN84: 75.16432 | AP84: 6194.6439 | AQ84: 2066.9492 | AR84: 3753.836 | AS84: 11665.93 | AT84: 1848.2956 | AU84: 508.69063 | AV84: 617.67667 | AW84: 221.154 | AX84: 696.9812 | BB84: 509.03104
A85: 18 | B85: PKO Leasing S.A. | C85: 151.64411 | D85: 136.99178 | E85: 256.7441 | F85: 261.875 | G85: 210.49688 | H85: 164.82602 | I85: 325.4211 | K85: 412.41011 | N85: 329.14489 | Q85: 70.363205 | R85: 262.35592 | U85: 67.860574 | X85: 246.91394 | Y85: 394.45247 | Z85: 250.36317 | AA85: 817.49261 | AB85: 734.70728 | AC85: 1117.9035 | AD85: 428.01191 | AE85: 117.99515 | AF85: 56.45651 | AG85: 166.89228 | AH85: 1413.407 | AJ85: 157.91495 | AK85: 132.26888 | AL85: 237.32114 | AM85: 258.95861 | AN85: 345.00097 | AO85: 29.004793 | AP85: 10045.322 | AQ85: 23394.438 | AR85: 1145.912 | AU85: 201.68337 | BB85: 201.68337
A86: 19 | B86: Santander Consumer Multirent Sp.z o.o. | C86: 43.657725 | D86: 40.593623 | G86: 150.65647 | H86: 150.65647 | U86: 50.452786 | AU86: 43.657725 | BB86: 43.657725
A87: 20 | B87: Santander Leasing S.A. | C87: 149.0052 | D87: 118.04432 | E87: 182.80286 | F87: 198.38433 | G87: 238.564 | H87: 177.95711 | K87: 399.27438 | N87: 417.76659 | Q87: 170.22454 | R87: 303.84191 | U87: 32.616715 | V87: 3 | X87: 189.37688 | Y87: 330.24533 | Z87: 194.42163 | AA87: 1764.8692 | AB87: 1614.9942 | AC87: 1198.6549 | AD87: 48.3748 | AE87: 70.789103 | AF87: 10.819694 | AG87: 116.36862 | AH87: 205.46832 | AK87: 249.98854 | AL87: 285.63664 | AM87: 285.63664 | AP87: 411.98768 | AQ87: 1719.4623 | AR87: 121.43778 | AT87: 34.547049 | AU87: 177.79729 | AV87: 451.71637 | BA87: 451.71637 | BB87: 178.80596
A88: 21 | B88: Scania Finance Polska Sp. z o.o. | C88: 474.76812 | D88: 260 | N88: 502.61111 | Q88: 175.36364 | AU88: 474.76812 | BB88: 474.76812
A89: 22 | B89: SG Equipment Leasing Polska Sp. z o.o. | C89: 191.18179 | G89: 200.93986 | H89: 118.49634 | K89: 365.82689 | N89: 304.76882 | Q89: 122.48318 | X89: 358.84927 | Y89: 435.97366 | Z89: 321.88408 | AC89: 1576.0538 | AD89: 144.525 | AE89: 145.36194 | AG89: 968.88768 | AH89: 215.68 | AK89: 313.74435 | AL89: 805.37833 | AM89: 689.51985 | AN89: 2301.0059 | AU89: 493.21572 | BB89: 493.21572
A90: 23 | B90: SGB Leasing Sp. z o.o. | C90: 178.52113 | D90: 215.33333 | F90: 288 | G90: 164.76 | H90: 164.76 | Q90: 197.5 | U90: 208.5 | X90: 393.47619 | Y90: 313.58333 | Z90: 325.66667 | AD90: 432 | AE90: 118.05882 | AG90: 64 | AH90: 477.1 | AK90: 1554 | AL90: 62 | AM90: 98 | AN90: 26 | AU90: 321.09091 | AV90: 1634.5 | AX90: 1634.5 | BB90: 332.92342
A91: 24 | B91: Siemens Finance Sp. z o.o.
A92: 25 | B92: Vehis Fin 1 Sp. z o. o.
A93: 26 | B93: Razem | C93: 134.30353 | D93: 90.442765 | E93: 232.03826 | F93: 211.55597 | G93: 190.71666 | H93: 156.15538 | I93: 184.89208 | J93: 107.48296 | K93: 332.80189 | M93: 130.88896 | N93: 337.97188 | P93: 281.91148 | Q93: 124.77516 | R93: 340.1659 | U93: 117.45143 | V93: 3 | W93: 104.5 | X93: 290.19209 | Y93: 382.00259 | Z93: 310.16329 | AA93: 1425.0534 | AB93: 1371.5149 | AC93: 1172.1937 | AD93: 695.91992 | AE93: 107.14869 | AF93: 92.822919 | AG93: 191.06179 | AH93: 318.64742 | AJ93: 82.238835 | AK93: 280.69492 | AL93: 294.23676 | AM93: 455.55351 | AN93: 149.89503 | AO93: 35.376778 | AP93: 1540.0377 | AQ93: 4758.5846 | AR93: 686.08047 | AS93: 11665.93 | AT93: 292.20031 | AU93: 213.22618 | AV93: 513.9632 | AW93: 221.154 | AX93: 964.84372 | BA93: 451.71637 | BB93: 213.51888
A95: Struktura wartościowa umów (ruchomości) | C95: 01.01.2023-31.12.2023
A98: Lp. | B98: Spółka | C98: POJAZDY | D98: Osobowe | E98: osobowe - zeroemisyjne | F98: osobowe - hybryda plug-in | G98: Cięzarowe: | H98: o masie do 3,5 tony | I98: o masie do 3,5 tony - zeroemisyjne | J98: o masie do 3,5 tony - hybryda plug-in | K98: o masie powyzej 3,5 tony | L98: o masie powyżej 3,5 tony - zeroemisyjne | M98: o masie powyżej 3,5 tony - hybryda plug-in | N98: ciagniki siodlowe | O98: ciągniki siodłowe - zeroemisyjne | P98: ciągniki siodłowe - hybryda plug-in | Q98: naczepy / przyczepy | R98: autobusy | S98: autobusy - zeroemisyjne | T98: autobusy - hybryda plug-in | U98: inne | V98: inne - zeroemisyjne | W98: inne - hybryda plug-in | X98: MiU | Y98: Sprzęt Budowlany | Z98: Maszyny Rolnicze | AA98: Maszyny Poligraf. | AB98: maszyny do produkcji tworzyw sztucznych | AC98: maszyny i urządzenia do obróbki metali | AD98: maszyny dla przemysłu spożywczego | AE98: Sprzęt Medyczny | AF98: Sprzęt Gastronom. | AG98: Wózki Widłowe | AH98: fotowoltaika | AI98: wiatraki i turbiny wiatrowe | AJ98: stacje ładowania pojazdów elektrycznych (na użytek własny i komercyjny) | AK98: inne MiU | AL98: IT | AM98: Sprzęt | AN98: Oprogram. | AO98: inne IT | AP98: POZOSTAŁE ŚRODKI TRANSPORTU | AQ98: Powietrzne | AR98: Wodne | AS98: Kolejowe | AT98: Inne ruchomości | AU98: RUCHOMOŚCI | AV98: Nieruchomości | AW98: budynki przemysłowe | AX98: obiekty handlowe i usługowe | AY98: obiekty biurowe | AZ98: hotele i obiekty rekreacyjne | BA98: inne | BB98: OGÓŁEM
A99: 1 | B99: Alior Leasing Sp. z o. o. | C99: 0.78319199 | D99: 0.39768277 | G99: 0.089718408 | H99: 0.056942507 | K99: 0.032775901 | N99: 0.17549624 | Q99: 0.096283991 | R99: 0.0047513278 | U99: 0.019259246 | X99: 0.18643072 | Y99: 0.024249211 | Z99: 0.05697922 | AA99: 0.0080647135 | AB99: 0.0036468659 | AC99: 0.011983871 | AD99: 0.0068042196 | AE99: 0.056413222 | AG99: 0.0010585701 | AH99: 0.0027779817 | AK99: 0.014452848 | AL99: 0.030377292 | AM99: 0.030377292 | AP99: 0 | AU99: 1 | AV99: 0 | BB99: 1
A100: 2 | B100: BNP Paribas Lease Group Sp. z o.o. | C100: 0.088185556 | D100: 0.0072779191 | E100: 0.00019545155 | F100: 0 | G100: 0.053487788 | H100: 0.036158969 | I100: 0 | J100: 0 | K100: 0.017328819 | L100: 0 | M100: 0 | N100: 0.01711072 | O100: 0 | P100: 0 | Q100: 0.010245585 | R100: 0 | S100: 0 | T100: 0 | U100: 6.3543172e-05 | V100: 0 | W100: 0 | X100: 0.90027083 | Y100: 0.026627967 | Z100: 0.79288468 | AA100: 1.3142863e-05 | AB100: 0 | AC100: 0.002633792 | AD100: 0.00082483478 | AE100: 0.023294835 | AF100: 0 | AG100: 0.0018130339 | AH100: 0.0053437513 | AI100: 0 | AJ100: 0 | AK100: 0.046834795 | AL100: 0.011543615 | AM100: 0.00033352201 | AN100: 0.010967157 | AO100: 0.00024293668 | AP100: 0 | AQ100: 0 | AR100: 0 | AS100: 0 | AT100: 0 | AU100: 1 | AV100: 0 | AW100: 0 | AX100: 0 | AY100: 0 | AZ100: 0 | BA100: 0 | BB100: 1
A101: 3 | B101: BOŚ Leasing - EKO Profit S.A. | C101: 0.02300369 | G101: 0 | U101: 0.02300369 | X101: 0.97699631 | Y101: 0.32054765 | Z101: 0.3471098 | AE101: 0.052026281 | AH101: 0.21673527 | AK101: 0.040577309 | AL101: 0 | AP101: 0 | AU101: 1 | AV101: 0 | BB101: 1
A102: 4 | B102: BPS Leasing Spółka Akcyjna (BPS Leasing S.A.) | C102: 1 | D102: 0.78162431 | G102: 0 | N102: 0.15166633 | Q102: 0.066709364 | X102: 0 | AL102: 0 | AP102: 0 | AU102: 1 | AV102: 0 | BB102: 1
A103: 5 | B103: Caterpillar Financial Services Poland Sp. z o.o. | C103: 0 | G103: 0 | X103: 1 | Y103: 1 | AL103: 0 | AP103: 0 | AU103: 1 | AV103: 0 | BB103: 1
A104: 6 | B104: De Lage Landen Leasing Polska S.A. | C104: 0.024336965 | D104: 0.001885755 | G104: 0.00030818314 | H104: 0.00030818314 | N104: 0.0094844381 | Q104: 0.012658589 | X104: 0.95153243 | Y104: 0.0077195126 | Z104: 0.89644503 | AE104: 0.028442453 | AH104: 0.0049092082 | AK104: 0.014016224 | AL104: 0.024130604 | AM104: 0.01033296 | AN104: 0.013797645 | AP104: 0 | AU104: 1 | AV104: 0 | BB104: 1
A105: 7 | B105: Deutsche Leasing Polska S.A. | C105: 0.53302988 | D105: 0.013853696 | G105: 0.0020244656 | H105: 0.0020244656 | N105: 0.092212423 | Q105: 0.4249393 | X105: 0.46697012 | Y105: 0.048785651 | Z105: 0.33601498 | AA105: 0 | AB105: 0.026986259 | AC105: 0.027912485 | AK105: 0.027270743 | AL105: 0 | AP105: 0 | AU105: 1 | AV105: 0 | BB105: 1
A106: 8 | B106: Europejski Fundusz Leasingowy S.A. | C106: 0.16209916 | D106: 0.044147135 | E106: 0.0015260797 | G106: 0.026238218 | H106: 0.023309938 | I106: 0.00027324924 | K106: 0.0029282797 | N106: 0.055462413 | Q106: 0.035127746 | R106: 0.001043967 | U106: 7.9683955e-05 | X106: 0.82738224 | Y106: 0.043659908 | Z106: 0.6965131 | AA106: 0.00069623066 | AB106: 0.00095298292 | AC106: 0.012290491 | AD106: 0.014136646 | AE106: 0.023699626 | AF106: 0.0052460975 | AG106: 0.0024692497 | AH106: 0.0060302419 | AJ106: 6.6517118e-06 | AK106: 0.021681017 | AL106: 0.0026892096 | AM106: 0.00049836153 | AN106: 0.0019469898 | AO106: 0.00024385834 | AP106: 0.0078293858 | AQ106: 0.0016419609 | AR106: 0.0061874248 | AU106: 1 | AV106: 0 | BB106: 1
A107: 9 | B107: Grupa VB Leasing | C107: 0.44519231 | D107: 0.11820761 | E107: 0.0021489341 | F107: 0.012695682 | G107: 0.070444471 | H107: 0.022234807 | J107: 0.0012764415 | K107: 0.048209664 | M107: 0.00077720279 | N107: 0.14404912 | P107: 0.010043737 | Q107: 0.097158118 | R107: 0.0062620709 | U107: 0.0090709275 | W107: 0.00031025417 | X107: 0.52021435 | Y107: 0.028305107 | Z107: 0.39251572 | AA107: 0.0013043808 | AB107: 2.2633146e-05 | AC107: 0.015002062 | AD107: 0.00420823 | AE107: 0.0498853 | AF107: 0.0016113832 | AG107: 0.001043332 | AH107: 0.0045610434 | AK107: 0.02175516 | AL107: 0.00026353301 | AM107: 0.00026353301 | AN107: 0 | AO107: 0 | AP107: 0.023863331 | AQ107: 6.5153376e-05 | AR107: 0.023798178 | AS107: 0 | AT107: 0.010466474 | AU107: 1 | AV107: 0 | BB107: 1
A108: 10 | B108: Impuls-Leasing Polska Sp. z o. o. | C108: 0.75802214 | D108: 0.25901905 | E108: 0.01690582 | F108: 0.0026413881 | G108: 0.062378064 | H108: 0.044020858 | I108: 0.00068689308 | K108: 0.018357206 | N108: 0.29248256 | Q108: 0.13476636 | R108: 0.0015971696 | U108: 0.0077789319 | X108: 0.24183466 | Y108: 0.072619722 | Z108: 0.018373068 | AA108: 0.0053933663 | AB108: 0.00027410735 | AC108: 0.0072963664 | AE108: 0.023351941 | AF108: 0.0027300034 | AG108: 0.0033198547 | AH108: 0.0003251617 | AK108: 0.10815107 | AL108: 0.00014319452 | AM108: 0.00014319452 | AP108: 0 | AU108: 1 | AV108: 0 | BB108: 1
A109: 11 | B109: ING Lease (Polska) Sp. z o.o. | C109: 0.51095679 | D109: 0.05009016 | G109: 0 | H109: 0 | K109: 0 | N109: 0.46086663 | Q109: 0 | R109: 0 | U109: 0 | X109: 0.43782433 | Y109: 0.007064791 | Z109: 0.010375229 | AA109: 0.18026401 | AB109: 0.0015416592 | AC109: 0.029060964 | AD109: 0 | AE109: 0.063641619 | AF109: 0 | AG109: 0.0021541935 | AK109: 0.14372187 | AL109: 0 | AM109: 0 | AN109: 0 | AO109: 0 | AP109: 0 | AQ109: 0 | AR109: 0 | AS109: 0 | AT109: 0.051218874 | AU109: 1 | AV109: 0 | AW109: 0 | AX109: 0 | AY109: 0 | AZ109: 0 | BA109: 0 | BB109: 1
A110: 12 | B110: Leasing Polski Sp. z o. o.
...

Sheet leasing za cały 2023
A1: Związek Polskiego Leasingu
A3: Wartość środków oddanych w leasing w | C3: 01.01.2023-31.12.2023
A5: Lp. | B5: Spółka | C5: POJAZDY | D5: Osobowe | E5: osobowe - zeroemisyjne | F5: osobowe - hybryda plug-in | G5: Cięzarowe: | H5: o masie do 3,5 tony | I5: o masie do 3,5 tony - zeroemisyjne | J5: o masie do 3,5 tony - hybryda plug-in | K5: o masie powyzej 3,5 tony | L5: o masie powyżej 3,5 tony - zeroemisyjne | M5: o masie powyżej 3,5 tony - hybryda plug-in | N5: ciagniki siodlowe | O5: ciągniki siodłowe - zeroemisyjne | P5: ciągniki siodłowe - hybryda plug-in | Q5: naczepy / przyczepy | R5: autobusy | S5: autobusy - zeroemisyjne | T5: autobusy - hybryda plug-in | U5: inne | V5: inne - zeroemisyjne | W5: inne - hybryda plug-in | X5: MiU | Y5: Sprzęt Budowlany | Z5: Maszyny Rolnicze | AA5: Maszyny Poligraf. | AB5: maszyny do produkcji tworzyw sztucznych | AC5: maszyny i urządzenia do obróbki metali | AD5: maszyny dla przemysłu spożywczego | AE5: Sprzęt Medyczny | AF5: Sprzęt Gastronom. | AG5: Wózki Widłowe | AH5: fotowoltaika | AI5: wiatraki i turbiny wiatrowe | AJ5: stacje ładowania pojazdów elektrycznych (na użytek własny i komercyjny) | AK5: inne MiU | AL5: IT | AM5: Sprzęt | AN5: Oprogram. | AO5: inne IT | AP5: POZOSTAŁE ŚRODKI TRANSPORTU | AQ5: Powietrzne | AR5: Wodne | AS5: Kolejowe | AT5: Inne ruchomości | AU5: RUCHOMOŚCI | AV5: Nieruchomości | AW5: budynki przemysłowe | AX5: obiekty handlowe i usługowe | AY5: obiekty biurowe | AZ5: hotele i obiekty rekreacyjne | BA5: inne | BB5: OGÓŁEM
A6: 1 | B6: Alior Leasing Sp. z o. o. | C6: 2392913 | D6: 940034 | G6: 456540 | H6: 263603 | K6: 192937 | N6: 530568 | Q6: 284129 | R6: 127451 | U6: 54191 | X6: 438894 | Y6: 173219 | Z6: 91545 | AA6: 7288 | AB6: 6124 | AC6: 51280 | AD6: 9313 | AE6: 12908 | AF6: 89 | AG6: 9250 | AH6: 4219 | AK6: 73659 | AL6: 6614 | AM6: 6614 | AP6: 33860 | AS6: 33860 | AU6: 2872281 | AV6: 0 | BB6: 2872281
A7: 2 | B7: BNP Paribas Lease Group Sp. z o.o. | C7: 2640922.6 | D7: 1779406.5 | E7: 62166.055 | F7: 0 | G7: 482745.25 | H7: 334290.67 | I7: 7171.6479 | J7: 0 | K7: 148454.58 | L7: 0 | M7: 0 | N7: 273702.8 | O7: 0 | P7: 0 | Q7: 75863.006 | R7: 5751.71 | S7: 0 | T7: 0 | U7: 23453.324 | V7: 143.78059 | W7: 0 | X7: 1186083.5 | Y7: 233083.69 | Z7: 190972.98 | AA7: 4322.9895 | AB7: 9779.0899 | AC7: 18487.51 | AD7: 26896.379 | AE7: 10426.175 | AF7: 1494.6152 | AG7: 142443.56 | AH7: 36019.469 | AI7: 0 | AJ7: 694.03628 | AK7: 511463.02 | AL7: 79426.745 | AM7: 46854.407 | AN7: 12307.864 | AO7: 20264.475 | AP7: 40.65041 | AQ7: 0 | AR7: 40.65041 | AS7: 0 | AU7: 3906473.5 | AV7: 175979.21 | AW7: 12211.075 | AX7: 163768.14 | AY7: 0 | AZ7: 0 | BA7: 0 | BB7: 4082452.7
A8: 3 | B8: BOŚ Leasing - EKO Profit S.A. | C8: 44466.453 | D8: 11208.204 | G8: 4247.5656 | H8: 1854.1996 | K8: 2393.366 | N8: 6151.4012 | Q8: 9480.3866 | R8: 2415.1581 | U8: 10963.737 | X8: 79160.801 | Y8: 11713.54 | Z8: 7034.0625 | AA8: 2075.2559 | AB8: 5137.4591 | AC8: 6825.7988 | AD8: 637.99006 | AE8: 1210.6746 | AG8: 1563.3136 | AH8: 8579.2066 | AK8: 34383.499 | AL8: 203.5 | AM8: 203.5 | AP8: 13340.733 | AQ8: 12136.935 | AR8: 1203.7975 | AU8: 137171.49 | AV8: 0 | BB8: 137171.49
A9: 4 | B9: BPS Leasing Spółka Akcyjna (BPS Leasing S.A.) | C9: 243264.94 | D9: 64982.72 | E9: 1222.53 | F9: 20671.71 | G9: 36081.1 | H9: 8669.75 | K9: 27411.35 | N9: 75310.28 | P9: 129 | Q9: 31207.99 | R9: 30538.63 | U9: 5144.22 | X9: 41351.27 | Y9: 17808.08 | Z9: 7235.09 | AA9: 753.17 | AB9: 1313.2 | AC9: 703.27 | AD9: 2817.56 | AE9: 775.22 | AG9: 3233.8 | AH9: 1077.22 | AK9: 5634.66 | AL9: 150.15 | AM9: 150.15 | AP9: 1908.9 | AQ9: 1310.35 | AR9: 598.55 | AT9: 6354.61 | AU9: 293029.87 | AV9: 46807.5 | AX9: 34663.5 | AZ9: 12144 | BB9: 339837.37
A10: 5 | B10: Caterpillar Financial Services Poland Sp. z o.o. | C10: 0 | G10: 0 | X10: 508459.17 | Y10: 508459.17 | AL10: 0 | AP10: 0 | AU10: 508459.17 | AV10: 0 | BB10: 508459.17
A11: 6 | B11: De Lage Landen Leasing Polska S.A. | C11: 6418 | D11: 906 | G11: 126 | H11: 126 | N11: 4656 | Q11: 494 | U11: 236 | X11: 65059 | Y11: 8217 | Z11: 37383 | AE11: 1493 | AG11: 8696 | AH11: 868 | AK11: 8402 | AL11: 13257 | AM11: 13257 | AP11: 0 | AU11: 84734 | AV11: 0 | BB11: 84734
A12: 7 | B12: Deutsche Leasing Polska S.A. | C12: 235374 | D12: 2847 | G12: 659 | H12: 659 | N12: 69767 | Q12: 161325 | U12: 776 | X12: 690990 | Y12: 5296 | Z12: 8652 | AA12: 2978 | AB12: 11735 | AC12: 91952 | AD12: 13409 | AE12: 13121 | AF12: 0 | AG12: 453971 | AK12: 89876 | AL12: 0 | AP12: 0 | AU12: 926364 | AV12: 0 | BB12: 926364
A13: 8 | B13: Europejski Fundusz Leasingowy S.A. | C13: 5884850.9 | D13: 2419335.6 | E13: 108845.59 | F13: 35145.987 | G13: 1484915.7 | H13: 746221.26 | I13: 74983.961 | K13: 738694.46 | L13: 1899 | N13: 1195951.5 | Q13: 653344.9 | R13: 89733.985 | U13: 41569.235 | V13: 229.46258 | X13: 2258408 | Y13: 845423.74 | Z13: 300490.64 | AA13: 40891.713 | AB13: 42131.316 | AC13: 150151.22 | AD13: 34297.699 | AE13: 26294.89 | AF13: 88886.012 | AG13: 68134.391 | AH13: 101643.3 | AI13: 0 | AJ13: 1871.0433 | AK13: 558192.05 | AL13: 113906.03 | AM13: 50259.513 | AN13: 18260.544 | AO13: 45385.969 | AP13: 20617.845 | AQ13: 4630.1829 | AR13: 15987.662 | AU13: 8277782.8 | AV13: 0 | BB13: 8277782.8
A14: 9 | B14: Grupa VB Leasing | C14: 814336.41 | D14: 293696.18 | E14: 10477.403 | F14: 50559.075 | G14: 146935.76 | H14: 86879.286 | I14: 401.93089 | J14: 0 | K14: 60056.479 | M14: 4378.9852 | N14: 201432.65 | P14: 17571.656 | Q14: 114983.46 | R14: 24172.591 | T14: 295 | U14: 33115.772 | X14: 209676.71 | Y14: 51082.604 | Z14: 91822.097 | AA14: 3342.4001 | AB14: 3383.994 | AC14: 9551.3185 | AD14: 3781.1112 | AE14: 10196.538 | AF14: 2117.9304 | AG14: 5131.9968 | AH14: 9147.1316 | AK14: 20119.59 | AL14: 2307.3335 | AM14: 970.2551 | AN14: 0 | AO14: 1337.0784 | AP14: 9070.6164 | AQ14: 0 | AR14: 9070.6164 | AS14: 0 | AT14: 15950.811 | AU14: 1051341.9 | AV14: 0 | BB14: 1051341.9
A15: 10 | B15: Impuls-Leasing Polska Sp. z o. o. | C15: 882535.45 | D15: 451126.9 | E15: 17437.71 | F15: 7806.97 | G15: 135999.81 | H15: 94818.53 | I15: 791.94 | K15: 41181.28 | N15: 172071.39 | Q15: 100647.43 | R15: 9453.39 | U15: 13236.53 | V15: 140.77 | X15: 216148.35 | Y15: 59104.66 | Z15: 28246.58 | AA15: 5881.84 | AB15: 10686.74 | AC15: 19210.95 | AE15: 3966.12 | AF15: 10208.51 | AG15: 11390.96 | AH15: 2725.5 | AK15: 64726.49 | AL15: 1448.92 | AM15: 1448.92 | AP15: 1415.04 | AR15: 1415.04 | AU15: 1101547.8 | AV15: 0 | BB15: 1101547.8
A16: 11 | B16: ING Lease (Polska) Sp. z o.o. | C16: 3946668 | D16: 1613168 | E16: 82604 | F16: 44976 | G16: 782161 | H16: 404186 | I16: 10475 | J16: 0 | K16: 377975 | L16: 0 | M16: 0 | N16: 923022 | O16: 0 | P16: 0 | Q16: 442959 | R16: 77638 | S16: 350 | T16: 0 | U16: 107720 | V16: 1997 | W16: 0 | X16: 2096082 | Y16: 274452 | Z16: 44874 | AA16: 76963 | AB16: 191540 | AC16: 504892 | AD16: 188864 | AE16: 36130 | AF16: 49325 | AG16: 146124 | AH16: 50676 | AI16: 0 | AJ16: 1004 | AK16: 531238 | AL16: 56641 | AM16: 56641 | AN16: 0 | AO16: 0 | AP16: 268736 | AQ16: 1787 | AR16: 1427 | AS16: 265522 | AT16: 176150 | AU16: 6544277 | AV16: 33808 | AW16: 0 | AX16: 0 | AY16: 33808 | AZ16: 0 | BA16: 0 | BB16: 6578085
A17: 12 | B17: Leasing Polski Sp. z o. o. | C17: 194932.94 | D17: 33145.56 | E17: 816.69186 | F17: 2020.1396 | G17: 48368.613 | H17: 20194.008 | I17: 0 | J17: 0 | K17: 28174.605 | L17: 0 | M17: 0 | N17: 59922.231 | O17: 0 | P17: 0 | Q17: 24450.578 | R17: 8009.413 | S17: 0 | T17: 0 | U17: 21036.549 | X17: 30387.298 | Y17: 20348.363 | Z17: 5591.6842 | AC17: 300 | AG17: 487.9 | AK17: 3659.35 | AL17: 0 | AP17: 97.56098 | AR17: 97.56098 | AS17: 0 | AT17: 180.8 | AU17: 225598.6 | AV17: 835.7 | AX17: 200 | AZ17: 445.7 | BA17: 190 | BB17: 226434.3
A18: 13 | B18: Mercedes-Benz Leasing Polska Sp. z o.o. | C18: 2760690 | D18: 2047008.8 | E18: 163875.58 | F18: 170836.59 | G18: 340202.96 | H18: 287134.27 | I18: 11517.776 | K18: 53068.69 | N18: 322008.34 | Q18: 6658.1375 | R18: 38625.206 | U18: 6186.5484 | X18: 0 | AL18: 0 | AP18: 0 | AU18: 2760690 | AV18: 0 | BB18: 2760690
A19: 14 | B19: Millennium Leasing Sp. z o.o. | C19: 2006238.6 | D19: 833836.32 | E19: 41356.892 | F19: 10487.94 | G19: 306300.68 | H19: 181001.64 | I19: 2723.6085 | J19: 48.78049 | K19: 125299.04 | N19: 511529.22 | O19: 853.73305 | P19: 607.5552 | Q19: 303097.96 | R19: 11570.222 | S19: 2180 | T19: 1928 | U19: 39904.162 | V19: 26.82927 | X19: 1015051.7 | Y19: 206739.59 | Z19: 7596.4946 | AA19: 60776.18 | AB19: 164779.28 | AD19: 111118.7 | AE19: 17982.431 | AG19: 93011.674 | AH19: 110901.2 | AK19: 242146.11 | AL19: 12212.689 | AM19: 12212.689 | AP19: 31727.32 | AQ19: 479.57848 | AR19: 9859.3847 | AS19: 21388.357 | AU19: 3065230.2 | AV19: 64096.182 | AY19: 2151.7 | BA19: 61944.482 | BB19: 3129326.4
A20: 15 | B20: mLeasing Sp. z o.o. | C20: 4961324.6 | D20: 3697052.5 | G20: 487484.22 | H20: 306774.37 | K20: 180709.85 | N20: 408786.84 | Q20: 205787.6 | R20: 59410.587 | U20: 102802.85 | X20: 1215509 | Y20: 188780.85 | Z20: 69556.79 | AA20: 52351.923 | AB20: 73555.226 | AC20: 169662.32 | AD20: 54396.311 | AE20: 28632.015 | AF20: 4568.9133 | AG20: 79725.134 | AK20: 494279.48 | AL20: 50570.879 | AM20: 50565.815 | AN20: 5.0643465 | AP20: 160299.22 | AQ20: 35557.89 | AR20: 92548.033 | AS20: 32193.301 | AT20: 78858.389 | AU20: 6466562 | AV20: 166252.71 | AX20: 157212.45 | BA20: 9040.2578 | BB20: 6632814.8
A21: 16 | B21: PEAC (Poland) Sp. z o.o. | C21: 95425 | D21: 16047 | G21: 8777 | H21: 2380 | K21: 6397 | N21: 23821 | Q21: 18358 | R21: 25557 | U21: 2865 | V21: 739 | X21: 129835 | Y21: 9247 | Z21: 27041 | AA21: 5268 | AB21: 21123 | AC21: 5941 | AD21: 733 | AE21: 7969 | AF21: 63 | AG21: 1995 | AH21: 555 | AK21: 49900 | AL21: 3396 | AM21: 3396 | AP21: 320 | AR21: 320 | AU21: 228976 | AV21: 0 | BB21: 228976
A22: 17 | B22: PEKAO Leasing Sp. z o.o. | C22: 3674747.5 | D22: 1334386 | E22: 51100.381 | F22: 20753.542 | G22: 541459.63 | H22: 225997.13 | I22: 5252.7519 | J22: 0 | K22: 315462.49 | L22: 279.43089 | M22: 0 | N22: 1039545.6 | O22: 0 | P22: 0 | Q22: 483882.18 | R22: 211040.14 | S22: 0 | T22: 0 | U22: 64433.979 | V22: 396.39855 | W22: 0 | X22: 1872356.2 | Y22: 308044.14 | Z22: 74605.305 | AA22: 123756.5 | AB22: 94945.556 | AC22: 306540.96 | AD22: 85704.694 | AE22: 22023.123 | AF22: 5509.971 | AG22: 80371.771 | AH22: 81301.506 | AI22: 0 | AJ22: 97.52111 | AK22: 689455.11 | AL22: 65084.582 | AM22: 45136.697 | AN22: 6.09756 | AO22: 19941.788 | AP22: 267701.61 | AQ22: 15477.237 | AR22: 143690.04 | AS22: 108534.33 | AT22: 79755.695 | AU22: 5959645.6 | AV22: 103951.82 | AW22: 51566.3 | AX22: 51575.457 | AY22: 0 | AZ22: 0 | BA22: 810.06419 | BB22: 6063597.4
A23: 18 | B23: PKO Leasing S.A. | C23: 8751013.1 | D23: 4889205.4 | E23: 311998.31 | F23: 74170.668 | G23: 1418549.1 | H23: 844689.56 | I23: 36673.547 | J23: 757.18209 | K23: 573859.56 | L23: 1989 | N23: 1413721 | Q23: 816497.4 | R23: 134667.14 | S23: 3865 | U23: 78373.02 | V23: 2615.1075 | X23: 2563122.4 | Y23: 559826.52 | Z23: 237338.47 | AA23: 85367.838 | AB23: 60480.228 | AC23: 291442.87 | AD23: 161757.25 | AE23: 54476.71 | AF23: 15979.635 | AG23: 115569.47 | AH23: 61658.019 | AJ23: 92.67 | AK23: 919132.72 | AL23: 107634.63 | AM23: 75321.979 | AN23: 1673.7835 | AO23: 30638.869 | AP23: 521048.32 | AQ23: 43741.366 | AR23: 14753.915 | AS23: 462553.04 | AU23: 11942818 | AV23: 0 | BB23: 11942818
A24: 19 | B24: Santander Consumer Multirent Sp.z o.o. | C24: 1720341 | D24: 1460978.9 | G24: 212430.88 | H24: 212430.88 | U24: 46931.196 | X24: 0 | AL24: 0 | AP24: 0 | AU24: 1720341 | AV24: 0 | BB24: 1720341
A25: 20 | B25: Santander Leasing S.A. | C25: 4157572.6 | D25: 2437683.2 | E25: 108862.05 | F25: 81247.178 | G25: 750359.63 | H25: 499472.58 | I25: 7160.354 | J25: 0 | K25: 250887.05 | L25: 0 | M25: 0 | N25: 674240.98 | O25: 0 | P25: 0 | Q25: 237251.66 | R25: 33364.491 | S25: 0 | T25: 0 | U25: 24672.564 | V25: 426.552 | W25: 0 | X25: 1505773.7 | Y25: 191271.76 | Z25: 146820.92 | AA25: 78678.48 | AB25: 68313.251 | AC25: 126810.28 | AD25: 61945.999 | AE25: 35917.378 | AF25: 11821.03 | AG25: 133109.95 | AH25: 66481.844 | AI25: 0 | AJ25: 2036.558 | AK25: 582566.25 | AL25: 31105.347 | AM25: 31105.347 | AN25: 0 | AO25: 0 | AP25: 32982.917 | AQ25: 24350.275 | AR25: 7994.62 | AS25: 638.022 | AT25: 0 | AU25: 5727434.5 | AV25: 0 | AW25: 0 | AX25: 0 | AY25: 0 | AZ25: 0 | BA25: 0 | BB25: 5727434.5
A26: 21 | B26: Scania Finance Polska Sp. z o.o. | C26: 1378835 | D26: 2378 | G26: 132077 | H26: 14432 | K26: 117645 | L26: 1147 | N26: 1143818 | Q26: 91686 | R26: 8526 | U26: 350 | X26: 0 | AL26: 0 | AP26: 0 | AU26: 1378835 | AV26: 0 | BB26: 1378835
A27: 22 | B27: SG Equipment Leasing Polska Sp. z o.o. | C27: 202963.77 | D27: 6334.0331 | G27: 54287.526 | H27: 3629.8057 | K27: 50657.72 | N27: 83122.529 | Q27: 54610.065 | R27: 1123.3158 | U27: 3486.3028 | X27: 193031.56 | Y27: 120407.16 | Z27: 19398.85 | AA27: 1854.3426 | AB27: 420.62939 | AC27: 15413.774 | AD27: 271.8 | AG27: 4110.516 | AH27: 15971.42 | AK27: 15183.075 | AL27: 21446.747 | AM27: 21446.747 | AP27: 25675.022 | AR27: 25675.022 | AU27: 443117.1 | AV27: 0 | BB27: 443117.1
A28: 23 | B28: SGB Leasing Sp. z o.o. | C28: 56034 | D28: 26705 | E28: 513 | F28: 170 | G28: 14911 | H28: 10981 | K28: 3930 | N28: 5856 | Q28: 6027 | R28: 760 | U28: 1775 | X28: 68117 | Y28: 8163 | Z28: 28658 | AB28: 4672 | AC28: 998 | AD28: 1974 | AE28: 350 | AF28: 375 | AG28: 284 | AH28: 6150 | AK28: 16493 | AL28: 56 | AM28: 56 | AP28: 25260 | AS28: 25260 | AU28: 149467 | AV28: 449 | AW28: 449 | BB28: 149916
A29: 24 | B29: Siemens Finance Sp. z o.o. | C29: 32172 | D29: 3569 | G29: 23438 | H29: 458 | K29: 22980 | N29: 2328 | Q29: 2837 | X29: 777961 | Y29: 114849 | Z29: 17216 | AA29: 31616 | AB29: 927 | AC29: 93669 | AD29: 471 | AE29: 444381 | AG29: 7125 | AH29: 73 | AK29: 67634 | AL29: 61878 | AM29: 55955 | AN29: 5923 | AP29: 0 | AU29: 872011 | AV29: 0 | BB29: 872011
A30: 25 | B30: Vehis Fin 1 Sp. z o. o. | C30: 531320.35 | D30: 420532.33 | E30: 11856.2 | G30: 110788.02 | H30: 110788.02 | I30: 177.97 | X30: 0 | AL30: 0 | AP30: 0 | AU30: 531320.35 | AV30: 0 | BB30: 531320.35
A31: 26 | B31: Razem | C31: 47615360 | D31: 24785573 | E31: 973132.38 | F31: 518845.8 | G31: 7979845.5 | H31: 4661671 | I31: 157330.49 | J31: 805.96258 | K31: 3318174.5 | L31: 5314.4309 | M31: 4378.9852 | N31: 9141332.9 | O31: 853.73305 | P31: 18308.211 | Q31: 4125577.8 | R31: 899807.98 | S31: 6395 | T31: 2223 | U31: 683222.99 | V31: 6714.9005 | W31: 0 | X31: 17161458 | Y31: 3915536.9 | Z31: 1442079 | AA31: 584165.63 | AB31: 771046.96 | AC31: 1863832.3 | AD31: 758389.5 | AE31: 728253.28 | AF31: 190438.62 | AG31: 1365729.4 | AH31: 558046.82 | AI31: 0 | AJ31: 5795.8287 | AK31: 4978143.4 | AL31: 627339.55 | AM31: 471595.02 | AN31: 38176.353 | AO31: 117568.18 | AP31: 1414101.8 | AQ31: 139470.82 | AR31: 324681.89 | AS31: 949949.05 | AT31: 357250.31 | AU31: 67175509 | AV31: 592180.13 | AW31: 64226.376 | AX31: 407419.55 | AY31: 35959.7 | AZ31: 12589.7 | BA31: 71984.804 | BB31: 67767689
A33: Ilość środków oddanych w leasing w | C33: 01.01.2023-31.12.2023
A36: Lp. | B36: Spółka | C36: POJAZDY | D36: Osobowe | E36: osobowe - zeroemisyjne | F36: osobowe - hybryda plug-in | G36: Cięzarowe: | H36: o masie do 3,5 tony | I36: o masie do 3,5 tony - zeroemisyjne | J36: o masie do 3,5 tony - hybryda plug-in | K36: o masie powyzej 3,5 tony | L36: o masie powyżej 3,5 tony - zeroemisyjne | M36: o masie powyżej 3,5 tony - hybryda plug-in | N36: ciagniki siodlowe | O36: ciągniki siodłowe - zeroemisyjne | P36: ciągniki siodłowe - hybryda plug-in | Q36: naczepy / przyczepy | R36: autobusy | S36: autobusy - zeroemisyjne | T36: autobusy - hybryda plug-in | U36: inne | V36: inne - zeroemisyjne | W36: inne - hybryda plug-in | X36: MiU | Y36: Sprzęt Budowlany | Z36: Maszyny Rolnicze | AA36: Maszyny Poligraf. | AB36: maszyny do produkcji tworzyw sztucznych | AC36: maszyny i urządzenia do obróbki metali | AD36: maszyny dla przemysłu spożywczego | AE36: Sprzęt Medyczny | AF36: Sprzęt Gastronom. | AG36: Wózki Widłowe | AH36: fotowoltaika | AI36: wiatraki i turbiny wiatrowe | AJ36: stacje ładowania pojazdów elektrycznych (na użytek własny i komercyjny) | AK36: inne MiU | AL36: IT | AM36: Sprzęt | AN36: Oprogram. | AO36: inne IT | AP36: POZOSTAŁE ŚRODKI TRANSPORTU | AQ36: Powietrzne | AR36: Wodne | AS36: Kolejowe | AT36: Inne ruchomości | AU36: RUCHOMOŚCI | AV36: Nieruchomości | AW36: budynki przemysłowe | AX36: obiekty handlowe i usługowe | AY36: obiekty biurowe | AZ36: hotele i obiekty rekreacyjne | BA36: inne | BB36: OGÓŁEM
A37: 1 | B37: Alior Leasing Sp. z o. o. | C37: 15515 | D37: 7168 | G37: 3449 | H37: 2727 | K37: 722 | N37: 1996 | Q37: 2122 | R37: 358 | U37: 422 | X37: 3142 | Y37: 917 | Z37: 673 | AA37: 51 | AB37: 74 | AC37: 273 | AD37: 104 | AE37: 204 | AF37: 4 | AG37: 102 | AH37: 44 | AK37: 696 | AL37: 30 | AM37: 30 | AP37: 55 | AS37: 55 | AU37: 18742 | AV37: 0 | BB37: 18742
A38: 2 | B38: BNP Paribas Lease Group Sp. z o.o. | C38: 17853 | D38: 13766 | E38: 318 | F38: 0 | G38: 2648 | H38: 2159 | I38: 38 | J38: 0 | K38: 489 | L38: 0 | M38: 0 | N38: 627 | O38: 0 | P38: 0 | Q38: 385 | R38: 11 | S38: 0 | T38: 0 | U38: 416 | V38: 4 | W38: 0 | X38: 3897 | Y38: 779 | Z38: 423 | AA38: 8 | AB38: 6 | AC38: 36 | AD38: 17 | AE38: 124 | AF38: 10 | AG38: 1297 | AH38: 161 | AI38: 0 | AJ38: 6 | AK38: 1030 | AL38: 682 | AM38: 387 | AN38: 36 | AO38: 259 | AP38: 1 | AQ38: 0 | AR38: 1 | AS38: 0 | AU38: 22433 | AV38: 9 | AW38: 2 | AX38: 7 | AY38: 0 | AZ38: 0 | BA38: 0 | BB38: 22442
A39: 3 | B39: BOŚ Leasing - EKO Profit S.A. | C39: 212 | D39: 52 | G39: 27 | H39: 17 | K39: 10 | N39: 20 | Q39: 69 | R39: 7 | U39: 37 | X39: 228 | Y39: 39 | Z39: 27 | AA39: 5 | AB39: 2 | AC39: 11 | AD39: 12 | AE39: 6 | AG39: 16 | AH39: 47 | AK39: 63 | AL39: 1 | AM39: 1 | AP39: 8 | AQ39: 2 | AR39: 6 | AU39: 449 | AV39: 0 | BB39: 449
A40: 4 | B40: BPS Leasing Spółka Akcyjna (BPS Leasing S.A.) | C40: 1046 | D40: 491 | E40: 6 | F40: 151 | G40: 144 | H40: 76 | K40: 68 | N40: 188 | P40: 1 | Q40: 157 | R40: 49 | U40: 17 | X40: 123 | Y40: 51 | Z40: 12 | AA40: 1 | AB40: 2 | AC40: 2 | AD40: 8 | AE40: 5 | AG40: 18 | AH40: 10 | AK40: 14 | AL40: 2 | AM40: 2 | AP40: 4 | AQ40: 1 | AR40: 3 | AT40: 33 | AU40: 1208 | AV40: 4 | AX40: 2 | AZ40: 2 | BB40: 1212
A41: 5 | B41: Caterpillar Financial Services Poland Sp. z o.o. | C41: 0 | G41: 0 | X41: 985 | Y41: 985 | AL41: 0 | AP41: 0 | AU41: 985 | AV41: 0 | BB41: 985
A42: 6 | B42: De Lage Landen Leasing Polska S.A. | C42: 23 | D42: 5 | G42: 1 | H42: 1 | N42: 12 | Q42: 4 | U42: 1 | X42: 221 | Y42: 47 | Z42: 59 | AE42: 32 | AG42: 42 | AH42: 10 | AK42: 31 | AL42: 207 | AM42: 207 | AP42: 0 | AU42: 451 | AV42: 0 | BB42: 451
A43: 7 | B43: Deutsche Leasing Polska S.A. | C43: 1378 | D43: 22 | G43: 4 | H43: 4 | N43: 144 | Q43: 1206 | U43: 2 | X43: 5325 | Y43: 10 | Z43: 18 | AA43: 4 | AB43: 7 | AC43: 76 | AD43: 4 | AE43: 9 | AF43: 0 | AG43: 5114 | AK43: 83 | AL43: 0 | AP43: 0 | AU43: 6703 | AV43: 0 | BB43: 6703
A44: 8 | B44: Europejski Fundusz Leasingowy S.A. | C44: 33215 | D44: 16324 | E44: 471 | F44: 180 | G44: 7674 | H44: 5515 | I44: 313 | K44: 2159 | L44: 1 | N44: 3712 | Q44: 4450 | R44: 148 | U44: 907 | V44: 9 | X44: 14315 | Y44: 4044 | Z44: 1536 | AA44: 164 | AB44: 165 | AC44: 546 | AD44: 208 | AE44: 314 | AF44: 1467 | AG44: 651 | AH44: 720 | AI44: 0 | AJ44: 14 | AK44: 4486 | AL44: 1410 | AM44: 731 | AN44: 269 | AO44: 410 | AP44: 82 | AQ44: 21 | AR44: 61 | AU44: 49022 | AV44: 0 | BB44: 49022
A45: 9 | B45: Grupa VB Leasing | C45: 5596 | D45: 2505 | E45: 44 | F45: 304 | G45: 1106 | H45: 839 | I45: 3 | J45: 0 | K45: 267 | M45: 16 | N45: 747 | P45: 52 | Q45: 822 | R45: 93 | T45: 2 | U45: 323 | X45: 1120 | Y45: 242 | Z45: 261 | AA45: 34 | AB45: 17 | AC45: 33 | AD45: 41 | AE45: 136 | AF45: 34 | AG45: 49 | AH45: 91 | AK45: 182 | AL45: 33 | AM45: 25 | AN45: 0 | AO45: 8 | AP45: 27 | AQ45: 0 | AR45: 27 | AS45: 0 | AT45: 199 | AU45: 6975 | AV45: 0 | BB45: 6975
A46: 10 | B46: Impuls-Leasing Polska Sp. z o. o. | C46: 4832 | D46: 2782 | E46: 85 | F46: 38 | G46: 814 | H46: 699 | I46: 5 | K46: 115 | N46: 433 | Q46: 608 | R46: 26 | U46: 169 | V46: 2 | X46: 1235 | Y46: 209 | Z46: 211 | AA46: 39 | AB46: 28 | AC46: 43 | AE46: 72 | AF46: 94 | AG46: 105 | AH46: 12 | AK46: 422 | AL46: 35 | AM46: 35 | AP46: 4 | AR46: 4 | AU46: 6106 | AV46: 0 | BB46: 6106
A47: 11 | B47: ING Lease (Polska) Sp. z o.o. | C47: 20538 | D47: 11053 | E47: 418 | F47: 196 | G47: 4085 | H47: 3259 | I47: 60 | J47: 0 | K47: 826 | L47: 0 | M47: 0 | N47: 2396 | O47: 0 | P47: 0 | Q47: 2504 | R47: 111 | S47: 1 | T47: 0 | U47: 389 | V47: 33 | W47: 0 | X47: 5564 | Y47: 801 | Z47: 143 | AA47: 185 | AB47: 168 | AC47: 730 | AD47: 204 | AE47: 240 | AF47: 178 | AG47: 1204 | AH47: 281 | AI47: 0 | AJ47: 5 | AK47: 1425 | AL47: 248 | AM47: 248 | AN47: 0 | AO47: 0 | AP47: 241 | AQ47: 1 | AR47: 3 | AS47: 237 | AT47: 742 | AU47: 27333 | AV47: 2 | AW47: 0 | AX47: 0 | AY47: 2 | AZ47: 0 | BA47: 0 | BB47: 27335
A48: 12 | B48: Leasing Polski Sp. z o. o. | C48: 1622 | D48: 354 | E48: 4 | F48: 20 | G48: 399 | H48: 276 | I48: 0 | J48: 0 | K48: 123 | L48: 0 | M48: 0 | N48: 387 | O48: 0 | P48: 0 | Q48: 294 | R48: 60 | S48: 0 | T48: 0 | U48: 128 | X48: 133 | Y48: 97 | Z48: 26 | AC48: 1 | AG48: 8 | AK48: 1 | AL48: 0 | AP48: 1 | AR48: 1 | AS48: 0 | AT48: 2 | AU48: 1758 | AV48: 6 | AX48: 1 | AZ48: 4 | BA48: 1 | BB48: 1764
A49: 13 | B49: Mercedes-Benz Leasing Polska Sp. z o.o. | C49: 12114 | D49: 9303 | E49: 572 | F49: 708 | G49: 1947 | H49: 1813 | I49: 71 | K49: 134 | N49: 751 | Q49: 41 | R49: 46 | U49: 26 | X49: 0 | AL49: 0 | AP49: 0 | AU49: 12114 | AV49: 0 | BB49: 12114
A50: 14 | B50: Millennium Leasing Sp. z o.o. | C50: 10559 | D50: 5243 | E50: 186 | F50: 67 | G50: 1781 | H50: 1441 | I50: 16 | J50: 1 | K50: 340 | N50: 1535 | O50: 2 | P50: 2 | Q50: 1775 | R50: 13 | S50: 1 | T50: 1 | U50: 212 | V50: 1 | X50: 3844 | Y50: 619 | Z50: 45 | AA50: 138 | AB50: 345 | AD50: 154 | AE50: 171 | AG50: 502 | AH50: 892 | AK50: 978 | AL50: 69 | AM50: 69 | AP50: 32 | AQ50: 1 | AR50: 27 | AS50: 4 | AU50: 14504 | AV50: 2 | AY50: 1 | BA50: 1 | BB50: 14506
A51: 15 | B51: mLeasing Sp. z o.o. | C51: 28117 | D51: 22526 | G51: 3186 | H51: 2754 | K51: 432 | N51: 1061 | Q51: 1106 | R51: 104 | U51: 134 | X51: 5921 | Y51: 474 | Z51: 80 | AA51: 121 | AB51: 141 | AC51: 288 | AD51: 27 | AE51: 247 | AF51: 303 | AG51: 798 | AK51: 3442 | AL51: 1152 | AM51: 1151 | AN51: 1 | AP51: 186 | AQ51: 10 | AR51: 121 | AS51: 55 | AT51: 1135 | AU51: 36511 | AV51: 16 | AX51: 14 | BA51: 2 | BB51: 36527
A52: 16 | B52: PEAC (Poland) Sp. z o.o. | C52: 482 | D52: 202 | G52: 42 | H52: 18 | K52: 24 | N52: 59 | Q52: 128 | R52: 27 | U52: 24 | V52: 19 | X52: 982 | Y52: 37 | Z52: 55 | AA52: 16 | AB52: 20 | AC52: 106 | AD52: 4 | AE52: 92 | AF52: 3 | AG52: 22 | AH52: 5 | AK52: 622 | AL52: 56 | AM52: 56 | AP52: 2 | AR52: 2 | AU52: 1522 | AV52: 0 | BB52: 1522
A53: 17 | B53: PEKAO Leasing Sp. z o.o. | C53: 15669 | D53: 7724 | E53: 242 | F53: 91 | G53: 2234 | H53: 1575 | I53: 27 | J53: 0 | K53: 659 | L53: 1 | M53: 0 | N53: 2548 | O53: 0 | P53: 0 | Q53: 2591 | R53: 305 | S53: 0 | T53: 0 | U53: 267 | V53: 15 | W53: 0 | X53: 4810 | Y53: 636 | Z53: 143 | AA53: 96 | AB53: 133 | AC53: 350 | AD53: 168 | AE53: 130 | AF53: 91 | AG53: 602 | AH53: 413 | AI53: 0 | AJ53: 2 | AK53: 2046 | AL53: 816 | AM53: 400 | AN53: 1 | AO53: 415 | AP53: 103 | AQ53: 9 | AR53: 61 | AS53: 33 | AT53: 313 | AU53: 21711 | AV53: 9 | AW53: 5 | AX53: 3 | AY53: 0 | AZ53: 0 | BA53: 1 | BB53: 21720
A54: 18 | B54: PKO Leasing S.A. | C54: 51633 | D54: 33638 | E54: 1615 | F54: 304 | G54: 8046 | H54: 6719 | I54: 212 | J54: 3 | K54: 1327 | L54: 1 | N54: 3676 | Q54: 4635 | R54: 237 | S54: 3 | U54: 1401 | V54: 137 | X54: 15025 | Y54: 1985 | Z54: 882 | AA54: 259 | AB54: 144 | AC54: 745 | AD54: 1103 | AE54: 601 | AF54: 670 | AG54: 929 | AH54: 617 | AJ54: 3 | AK54: 7087 | AL54: 11264 | AM54: 6898 | AN54: 13 | AO54: 4353 | AP54: 270 | AQ54: 15 | AR54: 44 | AS54: 211 | AU54: 78192 | AV54: 0 | BB54: 78192
A55: 19 | B55: Santander Consumer Multirent Sp.z o.o. | C55: 14269 | D55: 11332 | G55: 1902 | H55: 1902 | U55: 1035 | X55: 0 | AL55: 0 | AP55: 0 | AU55: 14269 | AV55: 0 | BB55: 14269
A56: 20 | B56: Santander Leasing S.A. | C56: 22606 | D56: 14631 | E56: 500 | F56: 384 | G56: 4008 | H56: 3260 | I56: 39 | J56: 0 | K56: 748 | L56: 0 | M56: 0 | N56: 1762 | O56: 0 | P56: 0 | Q56: 1537 | R56: 71 | S56: 0 | T56: 0 | U56: 597 | V56: 18 | W56: 0 | X56: 8337 | Y56: 768 | Z56: 546 | AA56: 229 | AB56: 118 | AC56: 255 | AD56: 70 | AE56: 626 | AF56: 518 | AG56: 1215 | AH56: 518 | AI56: 0 | AJ56: 18 | AK56: 3456 | AL56: 707 | AM56: 707 | AN56: 0 | AO56: 0 | AP56: 39 | AQ56: 10 | AR56: 17 | AS56: 12 | AT56: 0 | AU56: 31689 | AV56: 0 | AW56: 0 | AX56: 0 | AY56: 0 | AZ56: 0 | BA56: 0 | BB56: 31689
A57: 21 | B57: Scania Finance Polska Sp. z o.o. | C57: 2935 | D57: 8 | G57: 224 | H57: 21 | K57: 203 | L57: 1 | N57: 2226 | Q57: 456 | R57: 16 | U57: 5 | X57: 0 | AL57: 0 | AP57: 0 | AU57: 2935 | AV57: 0 | BB57: 2935
A58: 22 | B58: SG Equipment Leasing Polska Sp. z o.o. | C58: 755 | D58: 50 | G58: 122 | H58: 22 | K58: 100 | N58: 214 | Q58: 362 | R58: 2 | U58: 5 | X58: 693 | Y58: 474 | Z58: 53 | AA58: 3 | AB58: 1 | AC58: 50 | AD58: 2 | AG58: 39 | AH58: 14 | AK58: 57 | AL58: 58 | AM58: 58 | AP58: 10 | AR58: 10 | AU58: 1516 | AV58: 0 | BB58: 1516
A59: 23 | B59: SGB Leasing Sp. z o.o. | C59: 344 | D59: 174 | E59: 2 | F59: 1 | G59: 85 | H59: 75 | K59: 10 | N59: 23 | Q59: 44 | R59: 4 | U59: 14 | X59: 198 | Y59: 44 | Z59: 27 | AB59: 6 | AC59: 8 | AD59: 11 | AE59: 6 | AF59: 7 | AG59: 5 | AH59: 27 | AK59: 57 | AL59: 2 | AM59: 2 | AP59: 9 | AS59: 9 | AU59: 553 | AV59: 1 | AW59: 1 | BB59: 554
A60: 24 | B60: Siemens Finance Sp. z o.o. | C60: 31 | D60: 10 | G60: 13 | H60: 2 | K60: 11 | N60: 3 | Q60: 5 | X60: 2699 | Y60: 96 | Z60: 26 | AA60: 21 | AB60: 3 | AC60: 97 | AD60: 1 | AE60: 1565 | AG60: 18 | AH60: 3 | AK60: 869 | AL60: 7118 | AM60: 7056 | AN60: 62 | AP60: 0 | AU60: 9848 | AV60: 0 | BB60: 9848
A61: 25 | B61: Vehis Fin 1 Sp. z o. o. | C61: 3833 | D61: 2976 | E61: 55 | G61: 857 | H61: 857 | I61: 1 | X61: 0 | AL61: 0 | AP61: 0 | AU61: 3833 | AV61: 0 | BB61: 3833
A62: 26 | B62: Razem | C62: 265177 | D62: 162339 | E62: 4518 | F62: 2444 | G62: 44798 | H62: 36031 | I62: 785 | J62: 4 | K62: 8767 | L62: 4 | M62: 16 | N62: 24520 | O62: 2 | P62: 55 | Q62: 25301 | R62: 1688 | S62: 5 | T62: 3 | U62: 6531 | V62: 238 | W62: 0 | X62: 78797 | Y62: 13354 | Z62: 5246 | AA62: 1374 | AB62: 1380 | AC62: 3650 | AD62: 2138 | AE62: 4580 | AF62: 3379 | AG62: 12736 | AH62: 3865 | AI62: 0 | AJ62: 48 | AK62: 27047 | AL62: 23890 | AM62: 18063 | AN62: 382 | AO62: 5445 | AP62: 1074 | AQ62: 70 | AR62: 388 | AS62: 616 | AT62: 2424 | AU62: 371362 | AV62: 49 | AW62: 8 | AX62: 27 | AY62: 3 | AZ62: 6 | BA62: 5 | BB62: 371411
A64: Średnia wartość środków oddanych w leasing (tys. PLN) | C64: 01.01.2023-31.12.2023
A67: Lp. | B67: Spółka | C67: POJAZDY | D67: Osobowe | E67: osobowe - zeroemisyjne | F67: osobowe - hybryda plug-in | G67: Cięzarowe: | H67: o masie do 3,5 tony | I67: o masie do 3,5 tony - zeroemisyjne | J67: o masie do 3,5 tony - hybryda plug-in | K67: o masie powyzej 3,5 tony | L67: o masie powyżej 3,5 tony - zeroemisyjne | M67: o masie powyżej 3,5 tony - hybryda plug-in | N67: ciagniki siodlowe | O67: ciągniki siodłowe - zeroemisyjne | P67: ciągniki siodłowe - hybryda plug-in | Q67: naczepy / przyczepy | R67: autobusy | S67: autobusy - zeroemisyjne | T67: autobusy - hybryda plug-in | U67: inne | V67: inne - zeroemisyjne | W67: inne - hybryda plug-in | X67: MiU | Y67: Sprzęt Budowlany | Z67: Maszyny Rolnicze | AA67: Maszyny Poligraf. | AB67: maszyny do produkcji tworzyw sztucznych | AC67: maszyny i urządzenia do obróbki metali | AD67: maszyny dla przemysłu spożywczego | AE67: Sprzęt Medyczny | AF67: Sprzęt Gastronom. | AG67: Wózki Widłowe | AH67: fotowoltaika | AI67: wiatraki i turbiny wiatrowe | AJ67: stacje ładowania pojazdów elektrycznych (na użytek własny i komercyjny) | AK67: inne MiU | AL67: IT | AM67: Sprzęt | AN67: Oprogram. | AO67: inne IT | AP67: POZOSTAŁE ŚRODKI TRANSPORTU | AQ67: Powietrzne | AR67: Wodne | AS67: Kolejowe | AT67: Inne ruchomości | AU67: RUCHOMOŚCI | AV67: Nieruchomości | AW67: budynki przemysłowe | AX67: obiekty handlowe i usługowe | AY67: obiekty biurowe | AZ67: hotele i obiekty rekreacyjne | BA67: inne | BB67: OGÓŁEM
A68: 1 | B68: Alior Leasing Sp. z o. o. | C68: 154.23223 | D68: 131.14314 | G68: 132.3688 | H68: 96.6641 | K68: 267.22576 | N68: 265.81563 | Q68: 133.8968 | R68: 356.00838 | U68: 128.41469 | X68: 139.68619 | Y68: 188.89749 | Z68: 136.02526 | AA68: 142.90196 | AB68: 82.756757 | AC68: 187.83883 | AD68: 89.548077 | AE68: 63.27451 | AF68: 22.25 | AG68: 90.686275 | AH68: 95.886364 | AK68: 105.8319 | AL68: 220.46667 | AM68: 220.46667 | AP68: 615.63636 | AS68: 615.63636 | AU68: 153.25371 | BB68: 153.25371
A69: 2 | B69: BNP Paribas Lease Group Sp. z o.o. | C69: 147.92598 | D69: 129.26097 | E69: 195.49074 | G69: 182.30561 | H69: 154.83588 | I69: 188.72758 | K69: 303.58809 | N69: 436.5276 | Q69: 197.04677 | R69: 522.88273 | U69: 56.378184 | V69: 35.945147 | X69: 304.3581 | Y69: 299.20885 | Z69: 451.47277 | AA69: 540.37369 | AB69: 1629.8483 | AC69: 513.54194 | AD69: 1582.1399 | AE69: 84.082055 | AF69: 149.46152 | AG69: 109.82541 | AH69: 223.72341 | AJ69: 115.67271 | AK69: 496.56604 | AL69: 116.4615 | AM69: 121.07082 | AN69: 341.8851 | AO69: 78.241217 | AP69: 40.65041 | AR69: 40.65041 | AU69: 174.13959 | AV69: 19553.246 | AW69: 6105.5376 | AX69: 23395.448 | BB69: 181.91127
A70: 3 | B70: BOŚ Leasing - EKO Profit S.A. | C70: 209.74742 | D70: 215.54239 | G70: 157.31725 | H70: 109.07057 | K70: 239.3366 | N70: 307.57006 | Q70: 137.39691 | R70: 345.02259 | U70: 296.31721 | X70: 347.19649 | Y70: 300.34719 | Z70: 260.52083 | AA70: 415.05117 | AB70: 2568.7296 | AC70: 620.52716 | AD70: 53.165838 | AE70: 201.7791 | AG70: 97.707103 | AH70: 182.53631 | AK70: 545.76982 | AL70: 203.5 | AM70: 203.5 | AP70: 1667.5916 | AQ70: 6068.4675 | AR70: 200.63292 | AU70: 305.50442 | BB70: 305.50442
A71: 4 | B71: BPS Leasing Spółka Akcyjna (BPS Leasing S.A.) | C71: 232.56686 | D71: 132.3477 | E71: 203.755 | F71: 136.89874 | G71: 250.56319 | H71: 114.07566 | K71: 403.10809 | N71: 400.5866 | P71: 129 | Q71: 198.77701 | R71: 623.23735 | U71: 302.60118 | X71: 336.18919 | Y71: 349.17804 | Z71: 602.92417 | AA71: 753.17 | AB71: 656.6 | AC71: 351.635 | AD71: 352.195 | AE71: 155.044 | AG71: 179.65556 | AH71: 107.722 | AK71: 402.47571 | AL71: 75.075 | AM71: 75.075 | AP71: 477.225 | AQ71: 1310.35 | AR71: 199.51667 | AT71: 192.56394 | AU71: 242.5744 | AV71: 11701.875 | AX71: 17331.75 | AZ71: 6072 | BB71: 280.39387
A72: 5 | B72: Caterpillar Financial Services Poland Sp. z o.o. | X72: 516.2022 | Y72: 516.2022 | AU72: 516.2022 | BB72: 516.2022
A73: 6 | B73: De Lage Landen Leasing Polska S.A. | C73: 279.04348 | D73: 181.2 | G73: 126 | H73: 126 | N73: 388 | Q73: 123.5 | U73: 236 | X73: 294.38462 | Y73: 174.82979 | Z73: 633.61017 | AE73: 46.65625 | AG73: 207.04762 | AH73: 86.8 | AK73: 271.03226 | AL73: 64.043478 | AM73: 64.043478 | AU73: 187.88027 | BB73: 187.88027
A74: 7 | B74: Deutsche Leasing Polska S.A. | C74: 170.80842 | D74: 129.40909 | G74: 164.75 | H74: 164.75 | N74: 484.49306 | Q74: 133.76866 | U74: 388 | X74: 129.76338 | Y74: 529.6 | Z74: 480.66667 | AA74: 744.5 | AB74: 1676.4286 | AC74: 1209.8947 | AD74: 3352.25 | AE74: 1457.8889 | AG74: 88.770239 | AK74: 1082.8434 | AU74: 138.2014 | BB74: 138.2014
A75: 8 | B75: Europejski Fundusz Leasingowy S.A. | C75: 177.1745 | D75: 148.20728 | E75: 231.09466 | F75: 195.25548 | G75: 193.49957 | H75: 135.30757 | I75: 239.56537 | K75: 342.14658 | L75: 1899 | N75: 322.18522 | Q75: 146.81908 | R75: 606.31071 | U75: 45.831571 | V75: 25.495842 | X75: 157.76514 | Y75: 209.05632 | Z75: 195.63193 | AA75: 249.33971 | AB75: 255.34131 | AC75: 275.00223 | AD75: 164.89279 | AE75: 83.741689 | AF75: 60.590328 | AG75: 104.66112 | AH75: 141.17125 | AJ75: 133.64595 | AK75: 124.42979 | AL75: 80.784416 | AM75: 68.754464 | AN75: 67.883063 | AO75: 110.69749 | AP75: 251.43713 | AQ75: 220.4849 | AR75: 262.09282 | AU75: 168.85853 | BB75: 168.85853
A76: 9 | B76: Grupa VB Leasing | C76: 145.52116 | D76: 117.24398 | E76: 238.1228 | F76: 166.31275 | G76: 132.85331 | H76: 103.551 | I76: 133.97696 | K76: 224.93063 | M76: 273.68658 | N76: 269.65549 | P76: 337.91646 | Q76: 139.88255 | R76: 259.92034 | T76: 147.5 | U76: 102.52561 | X76: 187.21135 | Y76: 211.08514 | Z76: 351.8088 | AA76: 98.305885 | AB76: 199.05847 | AC76: 289.43389 | AD76: 92.222223 | AE76: 74.974542 | AF76: 62.29207 | AG76: 104.73463 | AH76: 100.51793 | AK76: 110.5472 | AL76: 69.919198 | AM76: 38.810204 | AO76: 167.1348 | AP76: 335.94876 | AR76: 335.94876 | AT76: 80.154831 | AU76: 150.73002 | BB76: 150.73002
A77: 10 | B77: Impuls-Leasing Polska Sp. z o. o. | C77: 182.64393 | D77: 162.1592 | E77: 205.14953 | F77: 205.44658 | G77: 167.07593 | H77: 135.64883 | I77: 158.388 | K77: 358.09809 | N77: 397.39351 | Q77: 165.53854 | R77: 363.59192 | U77: 78.322663 | V77: 70.385 | X77: 175.01891 | Y77: 282.79742 | Z77: 133.87005 | AA77: 150.81641 | AB77: 381.66929 | AC77: 446.76628 | AE77: 55.085 | AF77: 108.60117 | AG77: 108.48533 | AH77: 227.125 | AK77: 153.38031 | AL77: 41.397714 | AM77: 41.397714 | AP77: 353.76 | AR77: 353.76 | AU77: 180.40415 | BB77: 180.40415
A78: 11 | B78: ING Lease (Polska) Sp. z o.o. | C78: 192.16418 | D78: 145.94843 | E78: 197.61722 | F78: 229.46939 | G78: 191.47148 | H78: 124.02148 | I78: 174.58333 | K78: 457.59685 | N78: 385.23456 | Q78: 176.90056 | R78: 699.44144 | S78: 350 | U78: 276.91517 | V78: 60.515152 | X78: 376.72214 | Y78: 342.6367 | Z78: 313.8042 | AA78: 416.01622 | AB78: 1140.119 | AC78: 691.63288 | AD78: 925.80392 | AE78: 150.54167 | AF78: 277.10674 | AG78: 121.36545 | AH78: 180.34164 | AJ78: 200.8 | AK78: 372.7986 | AL78: 228.39113 | AM78: 228.39113 | AP78: 1115.0871 | AQ78: 1787 | AR78: 475.66667 | AS78: 1120.346 | AT78: 237.39892 | AU78: 239.42769 | AV78: 16904 | AY78: 16904 | BB78: 240.64697
A79: 12 | B79: Leasing Polski Sp. z o. o. | C79: 120.18061 | D79: 93.631526 | E79: 204.17297 | F79: 101.00698 | G79: 121.22459 | H79: 73.166695 | K79: 229.06183 | N79: 154.83781 | Q79: 83.165231 | R79: 133.49022 | U79: 164.34804 | X79: 228.47592 | Y79: 209.77694 | Z79: 215.06477 | AC79: 300 | AG79: 60.9875 | AK79: 3659.35 | AP79: 97.56098 | AR79: 97.56098 | AT79: 90.4 | AU79: 128.32685 | AV79: 139.28333 | AX79: 200 | AZ79: 111.425 | BA79: 190 | BB79: 128.36412
A80: 13 | B80: Mercedes-Benz Leasing Polska Sp. z o.o. | C80: 227.89252 | D80: 220.0375 | E80: 286.49577 | F80: 241.29462 | G80: 174.73188 | H80: 158.37522 | I80: 162.2222 | K80: 396.035 | N80: 428.77275 | Q80: 162.3936 | R80: 839.67839 | U80: 237.94417 | AU80: 227.89252 | BB80: 227.89252
A81: 14 | B81: Millennium Leasing Sp. z o.o. | C81: 190.00271 | D81: 159.03802 | E81: 222.34888 | F81: 156.53642 | G81: 171.98242 | H81: 125.60836 | I81: 170.22553 | J81: 48.78049 | K81: 368.5266 | N81: 333.24379 | O81: 426.86652 | P81: 303.7776 | Q81: 170.75942 | R81: 890.01711 | S81: 2180 | T81: 1928 | U81: 188.22718 | V81: 26.82927 | X81: 264.06131 | Y81: 333.98964 | Z81: 168.81099 | AA81: 440.4071 | AB81: 477.62109 | AD81: 721.55003 | AE81: 105.16042 | AG81: 185.28222 | AH81: 124.3287 | AK81: 247.59316 | AL81: 176.99549 | AM81: 176.99549 | AP81: 991.47876 | AQ81: 479.57848 | AR81: 365.1624 | AS81: 5347.0893 | AU81: 211.33689 | AV81: 32048.091 | AY81: 2151.7 | BA81: 61944.482 | BB81: 215.72635
A82: 15 | B82: mLeasing Sp. z o.o. | C82: 176.45284 | D82: 164.12379 | G82: 153.00823 | H82: 111.39229 | K82: 418.30984 | N82: 385.28449 | Q82: 186.06474 | R82: 571.25565 | U82: 767.18543 | X82: 205.28778 | Y82: 398.27184 | Z82: 869.45988 | AA82: 432.66052 | AB82: 521.66827 | AC82: 589.10528 | AD82: 2014.6782 | AE82: 115.91909 | AF82: 15.078922 | AG82: 99.906183 | AK82: 143.60241 | AL82: 43.898332 | AM82: 43.932072 | AN82: 5.0643465 | AP82: 861.82379 | AQ82: 3555.789 | AR82: 764.85978 | AS82: 585.33274 | AT82: 69.478756 | AU82: 177.11271 | AV82: 10390.795 | AX82: 11229.461 | BA82: 4520.1289 | BB82: 181.58663
A83: 16 | B83: PEAC (Poland) Sp. z o.o. | C83: 197.97718 | D83: 79.440594 | G83: 208.97619 | H83: 132.22222 | K83: 266.54167 | N83: 403.74576 | Q83: 143.42188 | R83: 946.55556 | U83: 119.375 | V83: 38.894737 | X83: 132.21487 | Y83: 249.91892 | Z83: 491.65455 | AA83: 329.25 | AB83: 1056.15 | AC83: 56.04717 | AD83: 183.25 | AE83: 86.619565 | AF83: 21 | AG83: 90.681818 | AH83: 111 | AK83: 80.22508 | AL83: 60.642857 | AM83: 60.642857 | AP83: 160 | AR83: 160 | AU83: 150.44415 | BB83: 150.44415
A84: 17 | B84: PEKAO Leasing Sp. z o.o. | C84: 234.52342 | D84: 172.75841 | E84: 211.1586 | F84: 228.0609 | G84: 242.37226 | H84: 143.49024 | I84: 194.54637 | K84: 478.69878 | L84: 279.43089 | N84: 407.98495 | Q84: 186.75499 | R84: 691.9349 | U84: 241.32576 | V84: 26.42657 | X84: 389.26323 | Y84: 484.34613 | Z84: 521.71542 | AA84: 1289.1302 | AB84: 713.87636 | AC84: 875.83132 | AD84: 510.14699 | AE84: 169.40864 | AF84: 60.549132 | AG84: 133.50792 | AH84: 196.85595 | AJ84: 48.760555 | AK84: 336.97708 | AL84: 79.760517 | AM84: 112.84174 | AN84: 6.09756 | AO84: 48.0525 | AP84: 2599.0448 | AQ84: 1719.6931 | AR84: 2355.5745 | AS84: 3288.9192 | AT84: 254.81053 | AU84: 274.4989 | AV84: 11550.202 | AW84: 10313.26 | AX84: 17191.819 | BA84: 810.06419 | BB84: 279.17115
A85: 18 | B85: PKO Leasing S.A. | C85: 169.48489 | D85: 145.34768 | E85: 193.18781 | F85: 243.98246 | G85: 176.30489 | H85: 125.71656 | I85: 172.98843 | J85: 252.39403 | K85: 432.4488 | L85: 1989 | N85: 384.58134 | Q85: 176.15909 | R85: 568.21577 | S85: 1288.3333 | U85: 55.940771 | V85: 19.088376 | X85: 170.59051 | Y85: 282.02847 | Z85: 269.09124 | AA85: 329.60555 | AB85: 420.00158 | AC85: 391.19848 | AD85: 146.65208 | AE85: 90.643445 | AF85: 23.850201 | AG85: 124.40202 | AH85: 99.931959 | AJ85: 30.89 | AK85: 129.69278 | AL85: 9.5556314 | AM85: 10.919394 | AN85: 128.75258 | AO85: 7.038564 | AP85: 1929.8086 | AQ85: 2916.0911 | AR85: 335.31625 | AS85: 2192.1945 | AU85: 152.73709 | BB85: 152.73709
A86: 19 | B86: Santander Consumer Multirent Sp.z o.o. | C86: 120.56493 | D86: 128.92507 | G86: 111.68816 | H86: 111.68816 | U86: 45.344151 | AU86: 120.56493 | BB86: 120.56493
A87: 20 | B87: Santander Leasing S.A. | C87: 183.91456 | D87: 166.61084 | E87: 217.7241 | F87: 211.58119 | G87: 187.21548 | H87: 153.21245 | I87: 183.59882 | K87: 335.4105 | N87: 382.65663 | Q87: 154.36022 | R87: 469.92241 | U87: 41.327578 | V87: 23.697333 | X87: 180.61337 | Y87: 249.05177 | Z87: 268.90278 | AA87: 343.57415 | AB87: 578.92586 | AC87: 497.29522 | AD87: 884.94284 | AE87: 57.376003 | AF87: 22.820521 | AG87: 109.55551 | AH87: 128.34333 | AJ87: 113.14211 | AK87: 168.56662 | AL87: 43.996248 | AM87: 43.996248 | AP87: 845.71582 | AQ87: 2435.0275 | AR87: 470.27176 | AS87: 53.1685 | AU87: 180.73888 | BB87: 180.73888
A88: 21 | B88: Scania Finance Polska Sp. z o.o. | C88: 469.79046 | D88: 297.25 | G88: 589.62946 | H88: 687.2381 | K88: 579.53202 | L88: 1147 | N88: 513.84456 | Q88: 201.06579 | R88: 532.875 | U88: 70 | AU88: 469.79046 | BB88: 469.79046
A89: 22 | B89: SG Equipment Leasing Polska Sp. z o.o. | C89: 268.82619 | D89: 126.68066 | G89: 444.97972 | H89: 164.99117 | K89: 506.5772 | N89: 388.42303 | Q89: 150.85653 | R89: 561.6579 | U89: 697.26056 | X89: 278.54482 | Y89: 254.02354 | Z89: 366.01603 | AA89: 618.11419 | AB89: 420.62939 | AC89: 308.27549 | AD89: 135.9 | AG89: 105.39785 | AH89: 1140.8157 | AK89: 266.36974 | AL89: 369.7715 | AM89: 369.7715 | AP89: 2567.5022 | AR89: 2567.5022 | AU89: 292.2936 | BB89: 292.2936
A90: 23 | B90: SGB Leasing Sp. z o.o. | C90: 162.88953 | D90: 153.47701 | E90: 256.5 | F90: 170 | G90: 175.42353 | H90: 146.41333 | K90: 393 | N90: 254.6087 | Q90: 136.97727 | R90: 190 | U90: 126.78571 | X90: 344.02525 | Y90: 185.52273 | Z90: 1061.4074 | AB90: 778.66667 | AC90: 124.75 | AD90: 179.45455 | AE90: 58.333333 | AF90: 53.571429 | AG90: 56.8 | AH90: 227.77778 | AK90: 289.35088 | AL90: 28 | AM90: 28 | AP90: 2806.6667 | AS90: 2806.6667 | AU90: 270.28391 | AV90: 449 | AW90: 449 | BB90: 270.6065
A91: 24 | B91: Siemens Finance Sp. z o.o. | C91: 1037.8065 | D91: 356.9 | G91: 1802.9231 | H91: 229 | K91: 2089.0909 | N91: 776 | Q91: 567.4 | X91: 288.24046 | Y91: 1196.3438 | Z91: 662.15385 | AA91: 1505.5238 | AB91: 309 | AC91: 965.65979 | AD91: 471 | AE91: 283.94952 | AG91: 395.83333 | AH91: 24.333333 | AK91: 77.829689 | AL91: 8.6931722 | AM91: 7.9301304 | AN91: 95.532258 | AU91: 88.547015 | BB91: 88.547015
A92: 25 | B92: Vehis Fin 1 Sp. z o. o. | C92: 138.61736 | D92: 141.30791 | E92: 215.56727 | G92: 129.27424 | H92: 129.27424 | I92: 177.97 | AU92: 138.61736 | BB92: 138.61736
A93: 26 | B93: Razem | C93: 179.56067 | D93: 152.67787 | E93: 215.39008 | F93: 212.2937 | G93: 178.1295 | H93: 129.37945 | I93: 200.421 | J93: 201.49065 | K93: 378.48461 | L93: 1328.6077 | M93: 273.68658 | N93: 372.81129 | O93: 426.86652 | P93: 332.87657 | Q93: 163.05987 | R93: 533.0616 | S93: 1279 | T93: 741 | U93: 104.61231 | V93: 28.213868 | X93: 217.79329 | Y93: 293.21079 | Z93: 274.89115 | AA93: 425.15694 | AB93: 558.72968 | AC93: 510.63898 | AD93: 354.71913 | AE93: 159.00727 | AF93: 56.35946 | AG93: 107.23378 | AH93: 144.38469 | AJ93: 120.74643 | AK93: 184.05529 | AL93: 26.259504 | AM93: 26.108344 | AN93: 99.938097 | AO93: 21.591952 | AP93: 1316.6683 | AQ93: 1992.4402 | AR93: 836.809 | AS93: 1542.1251 | AT93: 147.38049 | AU93: 180.88956 | AV93: 12085.309 | AW93: 8028.2969 | AX93: 15089.613 | AY93: 11986.567 | AZ93: 2098.2833 | BA93: 14396.961 | BB93: 182.4601
A95: Struktura wartościowa umów (ruchomości) | C95: 01.01.2023-31.12.2023
A98: Lp. | B98: Spółka | C98: POJAZDY | D98: Osobowe | E98: osobowe - zeroemisyjne | F98: osobowe - hybryda plug-in | G98: Cięzarowe: | H98: o masie do 3,5 tony | I98: o masie do 3,5 tony - zeroemisyjne | J98: o masie do 3,5 tony - hybryda plug-in | K98: o masie powyzej 3,5 tony | L98: o masie powyżej 3,5 tony - zeroemisyjne | M98: o masie powyżej 3,5 tony - hybryda plug-in | N98: ciagniki siodlowe | O98: ciągniki siodłowe - zeroemisyjne | P98: ciągniki siodłowe - hybryda plug-in | Q98: naczepy / przyczepy | R98: autobusy | S98: autobusy - zeroemisyjne | T98: autobusy - hybryda plug-in | U98: inne | V98: inne - zeroemisyjne | W98: inne - hybryda plug-in | X98: MiU | Y98: Sprzęt Budowlany | Z98: Maszyny Rolnicze | AA98: Maszyny Poligraf. | AB98: maszyny do produkcji tworzyw sztucznych | AC98: maszyny i urządzenia do obróbki metali | AD98: maszyny dla przemysłu spożywczego | AE98: Sprzęt Medyczny | AF98: Sprzęt Gastronom. | AG98: Wózki Widłowe | AH98: fotowoltaika | AI98: wiatraki i turbiny wiatrowe | AJ98: stacje ładowania pojazdów elektrycznych (na użytek własny i komercyjny) | AK98: inne MiU | AL98: IT | AM98: Sprzęt | AN98: Oprogram. | AO98: inne IT | AP98: POZOSTAŁE ŚRODKI TRANSPORTU | AQ98: Powietrzne | AR98: Wodne | AS98: Kolejowe | AT98: Inne ruchomości | AU98: RUCHOMOŚCI | AV98: Nieruchomości | AW98: budynki przemysłowe | AX98: obiekty handlowe i usługowe | AY98: obiekty biurowe | AZ98: hotele i obiekty rekreacyjne | BA98: inne | BB98: OGÓŁEM
A99: 1 | B99: Alior Leasing Sp. z o. o. | C99: 0.83310547 | D99: 0.32727787 | G99: 0.15894684 | H99: 0.091774795 | K99: 0.067172049 | N99: 0.18472009 | Q99: 0.098921032 | R99: 0.044372748 | U99: 0.018866887 | X99: 0.15280329 | Y99: 0.060307122 | Z99: 0.031871882 | AA99: 0.0025373562 | AB99: 0.0021321034 | AC99: 0.017853406 | AD99: 0.0032423708 | AE99: 0.0044939893 | AF99: 3.0985826e-05 | AG99: 0.003220437 | AH99: 0.0014688674 | AK99: 0.025644775 | AL99: 0.0023026995 | AM99: 0.0023026995 | AP99: 0.01178854 | AS99: 0.01178854 | AU99: 1 | AV99: 0 | BB99: 1
A100: 2 | B100: BNP Paribas Lease Group Sp. z o.o. | C100: 0.6760375 | D100: 0.455502 | E100: 0.0159136 | F100: 0 | G100: 0.12357571 | H100: 0.085573515 | I100: 0.0018358368 | J100: 0 | K100: 0.038002198 | L100: 0 | M100: 0 | N100: 0.070063909 | O100: 0 | P100: 0 | Q100: 0.019419818 | R100: 0.0014723535 | S100: 0 | T100: 0 | U100: 0.0060037076 | V100: 3.6805725e-05 | W100: 0 | X100: 0.30362001 | Y100: 0.059666012 | Z100: 0.048886287 | AA100: 0.001106622 | AB100: 0.0025033038 | AC100: 0.0047325317 | AD100: 0.0068850791 | AE100: 0.0026689481 | AF100: 0.00038259961 | AG100: 0.036463464 | AH100: 0.0092204566 | AI100: 0 | AJ100: 0.00017766312 | AK100: 0.13092704 | AL100: 0.020332084 | AM100: 0.011994042 | AN100: 0.0031506328 | AO100: 0.0051874088 | AP100: 1.040591e-05 | AQ100: 0 | AR100: 1.040591e-05 | AS100: 0 | AU100: 1 | AV100: 0.045048101 | AW100: 0.0031258564 | AX100: 0.041922245 | AY100: 0 | AZ100: 0 | BA100: 0 | BB100: 1.0450481
A101: 3 | B101: BOŚ Leasing - EKO Profit S.A. | C101: 0.32416688 | D101: 0.081709433 | G101: 0.030965369 | H101: 0.013517384 | K101: 0.017447985 | N101: 0.044844605 | Q101: 0.069113391 | R101: 0.017606853 | U101: 0.079927229 | X101: 0.5770937 | Y101: 0.085393407 | Z101: 0.051279334 | AA101: 0.015128916 | AB101: 0.037452821 | AC101: 0.049761062 | AD101: 0.0046510399 | AE101: 0.0088259934 | AG101: 0.011396783 | AH101: 0.062543659 | AK101: 0.25066069 | AL101: 0.0014835445 | AM101: 0.0014835445 | AP101: 0.097255872 | AQ101: 0.088480014 | AR101: 0.0087758584 | AU101: 1 | AV101: 0 | BB101: 1
A102: 4 | B102: BPS Leasing Spółka Akcyjna (BPS Leasing S.A.) | C102: 0.83017114 | D102: 0.22176142 | E102: 0.004172032 | F102: 0.07054472 | G102: 0.12313113 | H102: 0.029586574 | K102: 0.093544559 | N102: 0.25700547 | P102: 0.00044022816 | Q102: 0.10650105 | R102: 0.10421678 | U102: 0.017555275 | X102: 0.14111623 | Y102: 0.060772235 | Z102: 0.024690623 | AA102: 0.002570284 | AB102: 0.0044814544 | AC102: 0.0023999942 | AD102: 0.0096152655 | AE102: 0.0026455323 | AG102: 0.011035735 | AH102: 0.003676144 | AK102: 0.019228961 | AL102: 0.0005124051 | AM102: 0.0005124051 | AP102: 0.006514353 | AQ102: 0.0044717284 | AR102: 0.0020426245 | AT102: 0.021685878 | AU102: 1 | AV102: 0.15973628 | AX102: 0.1182934 | AZ102: 0.041442874 | BB102: 1.1597363
A103: 5 | B103: Caterpillar Financial Services Poland Sp. z o.o. | C103: 0 | G103: 0 | X103: 1 | Y103: 1 | AL103: 0 | AP103: 0 | AU103: 1 | AV103: 0 | BB103: 1
A104: 6 | B104: De Lage Landen Leasing Polska S.A. | C104: 0.075742913 | D104: 0.010692284 | G104: 0.0014870064 | H104: 0.0014870064 | N104: 0.054948427 | Q104: 0.0058300092 | U104: 0.0027851866 | X104: 0.76780277 | Y104: 0.09697406 | Z104: 0.44118064 | AE104: 0.017619846 | AG104: 0.10262704 | AH104: 0.010243822 | AK104: 0.099157363 | AL104: 0.15645432 | AM104: 0.15645432 | AP104: 0 | AU104: 1 | AV104: 0 | BB104: 1
A105: 7 | B105: Deutsche Leasing Polska S.A. | C105: 0.25408371 | D105: 0.003073306 | G105: 0.00071138343 | H105: 0.00071138343 | N105: 0.075312728 | Q105: 0.17414861 | U105: 0.00083768368 | X105: 0.74591629 | Y105: 0.0057169752 | Z105: 0.0093397412 | AA105: 0.0032147191 | AB105: 0.012667807 | AC105: 0.099261198 | AD105: 0.014474872 | AE105: 0.014163979 | AF105: 0 | AG105: 0.49005682 | AK105: 0.097020178 | AL105: 0 | AP105: 0 | AU105: 1 | AV105: 0 | BB105: 1
A106: 8 | B106: Europejski Fundusz Leasingowy S.A. | C106: 0.71092116 | D106: 0.29226855 | E106: 0.013149123 | F106: 0.0042458214 | G106: 0.17938568 | H106: 0.09014748 | I106: 0.0090584596 | K106: 0.089238203 | L106: 0.00022940926 | N106: 0.14447728 | Q106: 0.078927524 | R106: 0.010840341 | U106: 0.0050217837 | V106: 2.7720295e-05 | X106: 0.27282765 | Y106: 0.10213167 | Z106: 0.03630086 | AA106: 0.0049399354 | AB106: 0.005089686 | AC106: 0.018139062 | AD106: 0.0041433437 | AE106: 0.003176562 | AF106: 0.010737901 | AG106: 0.0082309952 | AH106: 0.012279049 | AI106: 0 | AJ106: 0.00022603194 | AK106: 0.067432555 | AL106: 0.013760451 | AM106: 0.0060716154 | AN106: 0.0022059704 | AO106: 0.0054828654 | AP106: 0.0024907448 | AQ106: 0.00055935061 | AR106: 0.0019313942 | AU106: 1 | AV106: 0 | BB106: 1
A107: 9 | B107: Grupa VB Leasing | C107: 0.7745686 | D107: 0.27935363 | E107: 0.0099657433 | F107: 0.048090042 | G107: 0.13976021 | H107: 0.082636569 | I107: 0.00038230275 | J107: 0 | K107: 0.057123643 | M107: 0.0041651391 | N107: 0.19159576 | P107: 0.016713551 | Q107: 0.10936828 | R107: 0.022992132 | T107: 0.00028059379 | U107: 0.031498576 | X107: 0.19943723 | Y107: 0.048588004 | Z107: 0.087338 | AA107: 0.0031791753 | AB107: 0.003218738 | AC107: 0.0090848835 | AD107: 0.003596462 | AE107: 0.0096985936 | AF107: 0.0020145021 | AG107: 0.0048813777 | AH107: 0.0087004349 | AK107: 0.019137058 | AL107: 0.0021946558 | AM107: 0.00092287306 | AN107: 0 | AO107: 0.0012717827 | AP107: 0.0086276563 | AQ107: 0 | AR107: 0.0086276563 | AS107: 0 | AT107: 0.01517186 | AU107: 1 | AV107: 0 | BB107: 1
A108: 10 | B108: Impuls-Leasing Polska Sp. z o. o. | C108: 0.80117765 | D108: 0.40953912 | E108: 0.01583019 | F108: 0.0070872733 | G108: 0.12346247 | H108: 0.086077548 | I108: 0.00071893388 | K108: 0.037384925 | N108: 0.15620874 | Q108: 0.091369102 | R108: 0.0085819157 | U108: 0.012016301 | V108: 0.00012779292 | X108: 0.1962224 | Y108: 0.053656012 | Z108: 0.025642629 | AA108: 0.0053396141 | AB108: 0.0097015675 | AC108: 0.017439961 | AE108: 0.0036004975 | AF108: 0.0092674239 | AG108: 0.010340868 | AH108: 0.0024742459 | AK108: 0.058759586 | AL108: 0.0013153492 | AM108: 0.0013153492 | AP108: 0.0012845925 | AR108: 0.0012845925 | AU108: 1 | AV108: 0 | BB108: 1
A109: 11 | B109: ING Lease (Polska) Sp. z o.o. | C109: 0.60307166 | D109: 0.24650057 | E109: 0.012622326 | F109: 0.0068725697 | G109: 0.11951832 | H109: 0.06176175 | I109: 0.0016006352 | J109: 0 | K109: 0.057756571 | L109: 0 | M109: 0 | N109: 0.14104262 | O109: 0 | P109: 0 | Q109: 0.067686469 | R109: 0.011863495 | S109: 5.3481844e-05 | T109: 0 | U109: 0.016460183 | V109: 0.00030515212 | W109: 0 | X109: 0.32029237 | Y109: 0.041937711 | Z109: 0.0068569836 | AA109: 0.011760352 | AB109: 0.029268321 | AC109: 0.077150157 | AD109: 0.028859414 | AE109: 0.0055208543 | AF109: 0.0075371198 | AG109: 0.022328517 | AH109: 0.0077435598 | AI109: 0 | AJ109: 0.00015341649 | AK109: 0.081175965 | AL109: 0.0086550432 | AM109: 0.0086550432 | AN109: 0 | AO109: 0 | AP109: 0.041064276 | AQ109: 0.00027306301 | AR109: 0.00021805312 | AS109: 0.04057316 | AT109: 0.026916648 | AU109: 1 | AV109: 0.0051660405 | AW109: 0 | AX109: 0 | AY109: 0.0051660405 | AZ109: 0 | BA109: 0 | BB109: 1.005166
A110: 12 | B110: Leasing Polski Sp. z o. o. | C110: 0.86406982 | D110: 0.14692272 | E110: 0.0036201105 | F110: 0.008954575 | G110: 0.21440121 | H110: 0.089513001 | I110: 0 | J110: 0 | K110: 0.12488821 | L110: 0 | M110: 0 | N110: 0.26561437 | O110: 0 | P110: 0 | Q110: 0.10838089 | R110: 0.035502937 | S110: 0 | T110: 0 | U110: 0.093247693 | X110: 0.1346963 | Y110: 0.090197205 | Z110: 0.024785988 | AC110: 0.0013297955 | AG110: 0.0021626907 | AK110: 0.016220624 | AL110: 0 | AP110: 0.00043245383 | AR110: 0.00043245383 | AS110: 0 | AT110: 0.0008014234 | AU110: 1 | AV110: 0.0037043669 | AX110: 0.00088653031 | AZ110: 0.0019756328 | BA110: 0.0008422038 | BB110: 1.0037044
A111: 13 | B111: Mercedes-Benz Leasing Polska Sp. z o.o. | C111: 1 | D111: 0.74148449 | E111: 0.059360369 | F111: 0.061881846 | G111: 0.12323113 | H111: 0.10400815 | I111: 0.0041720644 | K111: 0.01922298 | N111: 0.11664053 | Q111: 0.0024117657 | R111: 0.013991142 | U111: 0.0022409428 | X111: 0 | AL111: 0 | AP111: 0 | AU111: 1 | AV111: 0 | BB111: 1
...

Sheet suma pożyczki+Leasingi za 2023
A1: Związek Polskiego Leasingu
A3: Wartość środków_ leasing + pożyczka ( netto w tys. PLN) | D3: 01.01.2023-31.12.2023
A5: Lp. | B5: Spółka | C5: POJAZDY | D5: Osobowe | E5: osobowe - zeroemisyjne | F5: osobowe - hybryda plug-in | G5: Cięzarowe: | H5: o masie do 3,5 tony | I5: o masie do 3,5 tony - zeroemisyjne | J5: o masie do 3,5 tony - hybryda plug-in | K5: o masie powyzej 3,5 tony | L5: o masie powyżej 3,5 tony - zeroemisyjne | M5: o masie powyżej 3,5 tony - hybryda plug-in | N5: ciagniki siodlowe | O5: ciągniki siodłowe - zeroemisyjne | P5: ciągniki siodłowe - hybryda plug-in | Q5: naczepy / przyczepy | R5: autobusy | S5: autobusy - zeroemisyjne | T5: autobusy - hybryda plug-in | U5: inne | V5: inne - zeroemisyjne | W5: inne - hybryda plug-in | X5: MiU | Y5: Sprzęt Budowlany | Z5: Maszyny Rolnicze | AA5: Maszyny Poligraf. | AB5: maszyny do produkcji tworzyw sztucznych | AC5: maszyny i urządzenia do obróbki metali | AD5: maszyny dla przemysłu spożywczego | AE5: Sprzęt Medyczny | AF5: Sprzęt Gastronom. | AG5: Wózki Widłowe | AH5: fotowoltaika | AI5: wiatraki i turbiny wiatrowe | AJ5: stacje ładowania pojazdów elektrycznych (na użytek własny i komercyjny) | AK5: inne MiU | AL5: IT | AM5: Sprzęt | AN5: Oprogram. | AO5: inne IT | AP5: POZOSTAŁE ŚRODKI TRANSPORTU | AQ5: Powietrzne | AR5: Wodne | AS5: Kolejowe | AT5: Inne ruchomości | AU5: RUCHOMOŚCI | AV5: Nieruchomości | AW5: budynki przemysłowe | AX5: obiekty handlowe i usługowe | AY5: obiekty biurowe | AZ5: hotele i obiekty rekreacyjne | BA5: inne | BB5: OGÓŁEM
A6: 1 | B6: Alior Leasing Sp. z o. o. | C6: ='pozyczki za cały 2023'!C6+'leasing za cały 2023'!C6 -> 2648904 | D6: ='pozyczki za cały 2023'!D6+'leasing za cały 2023'!D6 -> 1070019 | E6: ='pozyczki za cały 2023'!E6+'leasing za cały 2023'!E6 -> 0 | F6: ='pozyczki za cały 2023'!F6+'leasing za cały 2023'!F6 -> 0 | G6: ='pozyczki za cały 2023'!G6+'leasing za cały 2023'!G6 -> 485865 | H6: ='pozyczki za cały 2023'!H6+'leasing za cały 2023'!H6 -> 282215 | I6: ='pozyczki za cały 2023'!I6+'leasing za cały 2023'!I6 -> 0 | J6: ='pozyczki za cały 2023'!J6+'leasing za cały 2023'!J6 -> 0 | ... BB6: ='pozyczki za cały 2023'!BB6+'leasing za cały 2023'!BB6 -> 3199137
A7: 2 | B7: BNP Paribas Lease Group Sp. z o.o. | C7: ='pozyczki za cały 2023'!C7+'leasing za cały 2023'!C7 -> 2798615.5 | D7: ='pozyczki za cały 2023'!D7+'leasing za cały 2023'!D7 -> 1792420.8 | E7: ='pozyczki za cały 2023'!E7+'leasing za cały 2023'!E7 -> 62515.561 | F7: ='pozyczki za cały 2023'!F7+'leasing za cały 2023'!F7 -> 0 | G7: ='pozyczki za cały 2023'!G7+'leasing za cały 2023'!G7 -> 578391.83 | H7: ='pozyczki za cały 2023'!H7+'leasing za cały 2023'!H7 -> 398949.95 | I7: ='pozyczki za cały 2023'!I7+'leasing za cały 2023'!I7 -> 7171.6479 | J7: ='pozyczki za cały 2023'!J7+'leasing za cały 2023'!J7 -> 0 | ... BB7: ='pozyczki za cały 2023'!BB7+'leasing za cały 2023'!BB7 -> 5870647.5
A8: 3 | B8: BOŚ Leasing - EKO Profit S.A. | C8: ='pozyczki za cały 2023'!C8+'leasing za cały 2023'!C8 -> 44532.773 | D8: ='pozyczki za cały 2023'!D8+'leasing za cały 2023'!D8 -> 11208.204 | E8: ='pozyczki za cały 2023'!E8+'leasing za cały 2023'!E8 -> 0 | F8: ='pozyczki za cały 2023'!F8+'leasing za cały 2023'!F8 -> 0 | G8: ='pozyczki za cały 2023'!G8+'leasing za cały 2023'!G8 -> 4247.5656 | H8: ='pozyczki za cały 2023'!H8+'leasing za cały 2023'!H8 -> 1854.1996 | I8: ='pozyczki za cały 2023'!I8+'leasing za cały 2023'!I8 -> 0 | J8: ='pozyczki za cały 2023'!J8+'leasing za cały 2023'!J8 -> 0 | ... BB8: ='pozyczki za cały 2023'!BB8+'leasing za cały 2023'!BB8 -> 140054.5
A9: 4 | B9: BPS Leasing Spółka Akcyjna (BPS Leasing S.A.) | C9: ='pozyczki za cały 2023'!C9+'leasing za cały 2023'!C9 -> 244154.92 | D9: ='pozyczki za cały 2023'!D9+'leasing za cały 2023'!D9 -> 65678.35 | E9: ='pozyczki za cały 2023'!E9+'leasing za cały 2023'!E9 -> 1222.53 | F9: ='pozyczki za cały 2023'!F9+'leasing za cały 2023'!F9 -> 20671.71 | G9: ='pozyczki za cały 2023'!G9+'leasing za cały 2023'!G9 -> 36081.1 | H9: ='pozyczki za cały 2023'!H9+'leasing za cały 2023'!H9 -> 8669.75 | I9: ='pozyczki za cały 2023'!I9+'leasing za cały 2023'!I9 -> 0 | J9: ='pozyczki za cały 2023'!J9+'leasing za cały 2023'!J9 -> 0 | ... BB9: ='pozyczki za cały 2023'!BB9+'leasing za cały 2023'!BB9 -> 340727.35
A10: 5 | B10: Caterpillar Financial Services Poland Sp. z o.o. | C10: ='pozyczki za cały 2023'!C10+'leasing za cały 2023'!C10 -> 0 | D10: ='pozyczki za cały 2023'!D10+'leasing za cały 2023'!D10 -> 0 | E10: ='pozyczki za cały 2023'!E10+'leasing za cały 2023'!E10 -> 0 | F10: ='pozyczki za cały 2023'!F10+'leasing za cały 2023'!F10 -> 0 | G10: ='pozyczki za cały 2023'!G10+'leasing za cały 2023'!G10 -> 0 | H10: ='pozyczki za cały 2023'!H10+'leasing za cały 2023'!H10 -> 0 | I10: ='pozyczki za cały 2023'!I10+'leasing za cały 2023'!I10 -> 0 | J10: ='pozyczki za cały 2023'!J10+'leasing za cały 2023'!J10 -> 0 | ... BB10: ='pozyczki za cały 2023'!BB10+'leasing za cały 2023'!BB10 -> 569856.65
A11: 6 | B11: De Lage Landen Leasing Polska S.A. | C11: ='pozyczki za cały 2023'!C11+'leasing za cały 2023'!C11 -> 24344 | D11: ='pozyczki za cały 2023'!D11+'leasing za cały 2023'!D11 -> 2295 | E11: ='pozyczki za cały 2023'!E11+'leasing za cały 2023'!E11 -> 0 | F11: ='pozyczki za cały 2023'!F11+'leasing za cały 2023'!F11 -> 0 | G11: ='pozyczki za cały 2023'!G11+'leasing za cały 2023'!G11 -> 353 | H11: ='pozyczki za cały 2023'!H11+'leasing za cały 2023'!H11 -> 353 | I11: ='pozyczki za cały 2023'!I11+'leasing za cały 2023'!I11 -> 0 | J11: ='pozyczki za cały 2023'!J11+'leasing za cały 2023'!J11 -> 0 | ... BB11: ='pozyczki za cały 2023'!BB11+'leasing za cały 2023'!BB11 -> 821309
A12: 7 | B12: Deutsche Leasing Polska S.A. | C12: ='pozyczki za cały 2023'!C12+'leasing za cały 2023'!C12 -> 315942 | D12: ='pozyczki za cały 2023'!D12+'leasing za cały 2023'!D12 -> 4941 | E12: ='pozyczki za cały 2023'!E12+'leasing za cały 2023'!E12 -> 0 | F12: ='pozyczki za cały 2023'!F12+'leasing za cały 2023'!F12 -> 0 | G12: ='pozyczki za cały 2023'!G12+'leasing za cały 2023'!G12 -> 965 | H12: ='pozyczki za cały 2023'!H12+'leasing za cały 2023'!H12 -> 965 | I12: ='pozyczki za cały 2023'!I12+'leasing za cały 2023'!I12 -> 0 | J12: ='pozyczki za cały 2023'!J12+'leasing za cały 2023'!J12 -> 0 | ... BB12: ='pozyczki za cały 2023'!BB12+'leasing za cały 2023'!BB12 -> 1077515
A13: 8 | B13: Europejski Fundusz Leasingowy S.A. | C13: ='pozyczki za cały 2023'!C13+'leasing za cały 2023'!C13 -> 6044781.4 | D13: ='pozyczki za cały 2023'!D13+'leasing za cały 2023'!D13 -> 2462892.1 | E13: ='pozyczki za cały 2023'!E13+'leasing za cały 2023'!E13 -> 110351.25 | F13: ='pozyczki za cały 2023'!F13+'leasing za cały 2023'!F13 -> 35145.987 | G13: ='pozyczki za cały 2023'!G13+'leasing za cały 2023'!G13 -> 1510802.9 | H13: ='pozyczki za cały 2023'!H13+'leasing za cały 2023'!H13 -> 769219.34 | I13: ='pozyczki za cały 2023'!I13+'leasing za cały 2023'!I13 -> 75253.555 | J13: ='pozyczki za cały 2023'!J13+'leasing za cały 2023'!J13 -> 0 | ... BB13: ='pozyczki za cały 2023'!BB13+'leasing za cały 2023'!BB13 -> 9264404
A14: 9 | B14: Grupa VB Leasing | C14: ='pozyczki za cały 2023'!C14+'leasing za cały 2023'!C14 -> 964286.36 | D14: ='pozyczki za cały 2023'!D14+'leasing za cały 2023'!D14 -> 333510.93 | E14: ='pozyczki za cały 2023'!E14+'leasing za cały 2023'!E14 -> 11201.209 | F14: ='pozyczki za cały 2023'!F14+'leasing za cały 2023'!F14 -> 54835.243 | G14: ='pozyczki za cały 2023'!G14+'leasing za cały 2023'!G14 -> 170662.91 | H14: ='pozyczki za cały 2023'!H14+'leasing za cały 2023'!H14 -> 94368.427 | I14: ='pozyczki za cały 2023'!I14+'leasing za cały 2023'!I14 -> 401.93089 | J14: ='pozyczki za cały 2023'!J14+'leasing za cały 2023'!J14 -> 429.93182 | ... BB14: ='pozyczki za cały 2023'!BB14+'leasing za cały 2023'!BB14 -> 1388162.5
A15: 10 | B15: Impuls-Leasing Polska Sp. z o. o. | C15: ='pozyczki za cały 2023'!C15+'leasing za cały 2023'!C15 -> 1020170.4 | D15: ='pozyczki za cały 2023'!D15+'leasing za cały 2023'!D15 -> 498157.3 | E15: ='pozyczki za cały 2023'!E15+'leasing za cały 2023'!E15 -> 20507.32 | F15: ='pozyczki za cały 2023'!F15+'leasing za cały 2023'!F15 -> 8286.57 | G15: ='pozyczki za cały 2023'!G15+'leasing za cały 2023'!G15 -> 147325.87 | H15: ='pozyczki za cały 2023'!H15+'leasing za cały 2023'!H15 -> 102811.45 | I15: ='pozyczki za cały 2023'!I15+'leasing za cały 2023'!I15 -> 916.66 | J15: ='pozyczki za cały 2023'!J15+'leasing za cały 2023'!J15 -> 0 | ... BB15: ='pozyczki za cały 2023'!BB15+'leasing za cały 2023'!BB15 -> 1283119
A16: 11 | B16: ING Lease (Polska) Sp. z o.o. | C16: ='pozyczki za cały 2023'!C16+'leasing za cały 2023'!C16 -> 4095150 | D16: ='pozyczki za cały 2023'!D16+'leasing za cały 2023'!D16 -> 1627724 | E16: ='pozyczki za cały 2023'!E16+'leasing za cały 2023'!E16 -> 82604 | F16: ='pozyczki za cały 2023'!F16+'leasing za cały 2023'!F16 -> 44976 | G16: ='pozyczki za cały 2023'!G16+'leasing za cały 2023'!G16 -> 782161 | H16: ='pozyczki za cały 2023'!H16+'leasing za cały 2023'!H16 -> 404186 | I16: ='pozyczki za cały 2023'!I16+'leasing za cały 2023'!I16 -> 10475 | J16: ='pozyczki za cały 2023'!J16+'leasing za cały 2023'!J16 -> 0 | ... BB16: ='pozyczki za cały 2023'!BB16+'leasing za cały 2023'!BB16 -> 6868681
A17: 12 | B17: Leasing Polski Sp. z o. o. | C17: ='pozyczki za cały 2023'!C17+'leasing za cały 2023'!C17 -> 194932.94 | D17: ='pozyczki za cały 2023'!D17+'leasing za cały 2023'!D17 -> 33145.56 | E17: ='pozyczki za cały 2023'!E17+'leasing za cały 2023'!E17 -> 816.69186 | F17: ='pozyczki za cały 2023'!F17+'leasing za cały 2023'!F17 -> 2020.1396 | G17: ='pozyczki za cały 2023'!G17+'leasing za cały 2023'!G17 -> 48368.613 | H17: ='pozyczki za cały 2023'!H17+'leasing za cały 2023'!H17 -> 20194.008 | I17: ='pozyczki za cały 2023'!I17+'leasing za cały 2023'!I17 -> 0 | J17: ='pozyczki za cały 2023'!J17+'leasing za cały 2023'!J17 -> 0 | ... BB17: ='pozyczki za cały 2023'!BB17+'leasing za cały 2023'!BB17 -> 226434.3
... A31: 26 | B31: Razem | C31: ='pozyczki za cały 2023'!C31+'leasing za cały 2023'!C31 -> 51457918 | D31: ='pozyczki za cały 2023'!D31+'leasing za cały 2023'!D31 -> 26483184 | E31: ='pozyczki za cały 2023'!E31+'leasing za cały 2023'!E31 -> 994711.94 | F31: ='pozyczki za cały 2023'!F31+'leasing za cały 2023'!F31 -> 547194.3 | G31: ='pozyczki za cały 2023'!G31+'leasing za cały 2023'!G31 -> 8479904.6 | H31: ='pozyczki za cały 2023'!H31+'leasing za cały 2023'!H31 -> 4991002.7 | I31: ='pozyczki za cały 2023'!I31+'leasing za cały 2023'!I31 -> 158439.84 | J31: ='pozyczki za cały 2023'!J31+'leasing za cały 2023'!J31 -> 1235.8944 | ... BB31: ='pozyczki za cały 2023'!BB31+'leasing za cały 2023'!BB31 -> 79614358
A33: Ilość środków _pożyczki + leasingi (szt) | C33: 01.01.2023-31.12.2023
A36: Lp. | B36: Spółka | C36: POJAZDY | D36: Osobowe | E36: osobowe - zeroemisyjne | F36: osobowe - hybryda plug-in | G36: Cięzarowe: | H36: o masie do 3,5 tony | I36: o masie do 3,5 tony - zeroemisyjne | J36: o masie do 3,5 tony - hybryda plug-in | K36: o masie powyzej 3,5 tony | L36: o masie powyżej 3,5 tony - zeroemisyjne | M36: o masie powyżej 3,5 tony - hybryda plug-in | N36: ciagniki siodlowe | O36: ciągniki siodłowe - zeroemisyjne | P36: ciągniki siodłowe - hybryda plug-in | Q36: naczepy / przyczepy | R36: autobusy | S36: autobusy - zeroemisyjne | T36: autobusy - hybryda plug-in | U36: inne | V36: inne - zeroemisyjne | W36: inne - hybryda plug-in | X36: MiU | Y36: Sprzęt Budowlany | Z36: Maszyny Rolnicze | AA36: Maszyny Poligraf. | AB36: maszyny do produkcji tworzyw sztucznych | AC36: maszyny i urządzenia do obróbki metali | AD36: maszyny dla przemysłu spożywczego | AE36: Sprzęt Medyczny | AF36: Sprzęt Gastronom. | AG36: Wózki Widłowe | AH36: fotowoltaika | AI36: wiatraki i turbiny wiatrowe | AJ36: stacje ładowania pojazdów elektrycznych (na użytek własny i komercyjny) | AK36: inne MiU | AL36: IT | AM36: Sprzęt | AN36: Oprogram. | AO36: inne IT | AP36: POZOSTAŁE ŚRODKI TRANSPORTU | AQ36: Powietrzne | AR36: Wodne | AS36: Kolejowe | AT36: Inne ruchomości | AU36: RUCHOMOŚCI | AV36: Nieruchomości | AW36: budynki przemysłowe | AX36: obiekty handlowe i usługowe | AY36: obiekty biurowe | AZ36: hotele i obiekty rekreacyjne | BA36: inne | BB36: OGÓŁEM
A37: 1 | B37: Alior Leasing Sp. z o. o. | C37: ='pozyczki za cały 2023'!C37+'leasing za cały 2023'!C37 -> 17558 | D37: ='pozyczki za cały 2023'!D37+'leasing za cały 2023'!D37 -> 8357 | E37: ='pozyczki za cały 2023'!E37+'leasing za cały 2023'!E37 -> 0 | F37: ='pozyczki za cały 2023'!F37+'leasing za cały 2023'!F37 -> 0 | G37: ='pozyczki za cały 2023'!G37+'leasing za cały 2023'!G37 -> 3746 | H37: ='pozyczki za cały 2023'!H37+'leasing za cały 2023'!H37 -> 2968 | I37: ='pozyczki za cały 2023'!I37+'leasing za cały 2023'!I37 -> 0 | J37: ='pozyczki za cały 2023'!J37+'leasing za cały 2023'!J37 -> 0 | ... BB37: ='pozyczki za cały 2023'!BB37+'leasing za cały 2023'!BB37 -> 21178
A38: 2 | B38: BNP Paribas Lease Group Sp. z o.o. | C38: ='pozyczki za cały 2023'!C38+'leasing za cały 2023'!C38 -> 18611 | D38: ='pozyczki za cały 2023'!D38+'leasing za cały 2023'!D38 -> 13899 | E38: ='pozyczki za cały 2023'!E38+'leasing za cały 2023'!E38 -> 320 | F38: ='pozyczki za cały 2023'!F38+'leasing za cały 2023'!F38 -> 0 | G38: ='pozyczki za cały 2023'!G38+'leasing za cały 2023'!G38 -> 3090 | H38: ='pozyczki za cały 2023'!H38+'leasing za cały 2023'!H38 -> 2514 | I38: ='pozyczki za cały 2023'!I38+'leasing za cały 2023'!I38 -> 38 | J38: ='pozyczki za cały 2023'!J38+'leasing za cały 2023'!J38 -> 0 | ... BB38: ='pozyczki za cały 2023'!BB38+'leasing za cały 2023'!BB38 -> 28139
A39: 3 | B39: BOŚ Leasing - EKO Profit S.A. | C39: ='pozyczki za cały 2023'!C39+'leasing za cały 2023'!C39 -> 213 | D39: ='pozyczki za cały 2023'!D39+'leasing za cały 2023'!D39 -> 52 | E39: ='pozyczki za cały 2023'!E39+'leasing za cały 2023'!E39 -> 0 | F39: ='pozyczki za cały 2023'!F39+'leasing za cały 2023'!F39 -> 0 | G39: ='pozyczki za cały 2023'!G39+'leasing za cały 2023'!G39 -> 27 | H39: ='pozyczki za cały 2023'!H39+'leasing za cały 2023'!H39 -> 17 | I39: ='pozyczki za cały 2023'!I39+'leasing za cały 2023'!I39 -> 0 | J39: ='pozyczki za cały 2023'!J39+'leasing za cały 2023'!J39 -> 0 | ... BB39: ='pozyczki za cały 2023'!BB39+'leasing za cały 2023'!BB39 -> 460
A40: 4 | B40: BPS Leasing Spółka Akcyjna (BPS Leasing S.A.) | C40: ='pozyczki za cały 2023'!C40+'leasing za cały 2023'!C40 -> 1049 | D40: ='pozyczki za cały 2023'!D40+'leasing za cały 2023'!D40 -> 492 | E40: ='pozyczki za cały 2023'!E40+'leasing za cały 2023'!E40 -> 6 | F40: ='pozyczki za cały 2023'!F40+'leasing za cały 2023'!F40 -> 151 | G40: ='pozyczki za cały 2023'!G40+'leasing za cały 2023'!G40 -> 144 | H40: ='pozyczki za cały 2023'!H40+'leasing za cały 2023'!H40 -> 76 | I40: ='pozyczki za cały 2023'!I40+'leasing za cały 2023'!I40 -> 0 | J40: ='pozyczki za cały 2023'!J40+'leasing za cały 2023'!J40 -> 0 | ... BB40: ='pozyczki za cały 2023'!BB40+'leasing za cały 2023'!BB40 -> 1215
A41: 5 | B41: Caterpillar Financial Services Poland Sp. z o.o. | C41: ='pozyczki za cały 2023'!C41+'leasing za cały 2023'!C41 -> 0 | D41: ='pozyczki za cały 2023'!D41+'leasing za cały 2023'!D41 -> 0 | E41: ='pozyczki za cały 2023'!E41+'leasing za cały 2023'!E41 -> 0 | F41: ='pozyczki za cały 2023'!F41+'leasing za cały 2023'!F41 -> 0 | G41: ='pozyczki za cały 2023'!G41+'leasing za cały 2023'!G41 -> 0 | H41: ='pozyczki za cały 2023'!H41+'leasing za cały 2023'!H41 -> 0 | I41: ='pozyczki za cały 2023'!I41+'leasing za cały 2023'!I41 -> 0 | J41: ='pozyczki za cały 2023'!J41+'leasing za cały 2023'!J41 -> 0 | ... BB41: ='pozyczki za cały 2023'!BB41+'leasing za cały 2023'!BB41 -> 1130
A42: 6 | B42: De Lage Landen Leasing Polska S.A. | C42: ='pozyczki za cały 2023'!C42+'leasing za cały 2023'!C42 -> 115 | D42: ='pozyczki za cały 2023'!D42+'leasing za cały 2023'!D42 -> 13 | E42: ='pozyczki za cały 2023'!E42+'leasing za cały 2023'!E42 -> 0 | F42: ='pozyczki za cały 2023'!F42+'leasing za cały 2023'!F42 -> 0 | G42: ='pozyczki za cały 2023'!G42+'leasing za cały 2023'!G42 -> 2 | H42: ='pozyczki za cały 2023'!H42+'leasing za cały 2023'!H42 -> 2 | I42: ='pozyczki za cały 2023'!I42+'leasing za cały 2023'!I42 -> 0 | J42: ='pozyczki za cały 2023'!J42+'leasing za cały 2023'!J42 -> 0 | ... BB42: ='pozyczki za cały 2023'!BB42+'leasing za cały 2023'!BB42 -> 2450
A43: 7 | B43: Deutsche Leasing Polska S.A. | C43: ='pozyczki za cały 2023'!C43+'leasing za cały 2023'!C43 -> 1807 | D43: ='pozyczki za cały 2023'!D43+'leasing za cały 2023'!D43 -> 29 | E43: ='pozyczki za cały 2023'!E43+'leasing za cały 2023'!E43 -> 0 | F43: ='pozyczki za cały 2023'!F43+'leasing za cały 2023'!F43 -> 0 | G43: ='pozyczki za cały 2023'!G43+'leasing za cały 2023'!G43 -> 5 | H43: ='pozyczki za cały 2023'!H43+'leasing za cały 2023'!H43 -> 5 | I43: ='pozyczki za cały 2023'!I43+'leasing za cały 2023'!I43 -> 0 | J43: ='pozyczki za cały 2023'!J43+'leasing za cały 2023'!J43 -> 0 | ... BB43: ='pozyczki za cały 2023'!BB43+'leasing za cały 2023'!BB43 -> 7267
A44: 8 | B44: Europejski Fundusz Leasingowy S.A. | C44: ='pozyczki za cały 2023'!C44+'leasing za cały 2023'!C44 -> 34079 | D44: ='pozyczki za cały 2023'!D44+'leasing za cały 2023'!D44 -> 16607 | E44: ='pozyczki za cały 2023'!E44+'leasing za cały 2023'!E44 -> 477 | F44: ='pozyczki za cały 2023'!F44+'leasing za cały 2023'!F44 -> 180 | G44: ='pozyczki za cały 2023'!G44+'leasing za cały 2023'!G44 -> 7801 | H44: ='pozyczki za cały 2023'!H44+'leasing za cały 2023'!H44 -> 5628 | I44: ='pozyczki za cały 2023'!I44+'leasing za cały 2023'!I44 -> 314 | J44: ='pozyczki za cały 2023'!J44+'leasing za cały 2023'!J44 -> 0 | ... BB44: ='pozyczki za cały 2023'!BB44+'leasing za cały 2023'!BB44 -> 52097
A45: 9 | B45: Grupa VB Leasing | C45: ='pozyczki za cały 2023'!C45+'leasing za cały 2023'!C45 -> 6639 | D45: ='pozyczki za cały 2023'!D45+'leasing za cały 2023'!D45 -> 2885 | E45: ='pozyczki za cały 2023'!E45+'leasing za cały 2023'!E45 -> 50 | F45: ='pozyczki za cały 2023'!F45+'leasing za cały 2023'!F45 -> 336 | G45: ='pozyczki za cały 2023'!G45+'leasing za cały 2023'!G45 -> 1258 | H45: ='pozyczki za cały 2023'!H45+'leasing za cały 2023'!H45 -> 920 | I45: ='pozyczki za cały 2023'!I45+'leasing za cały 2023'!I45 -> 3 | J45: ='pozyczki za cały 2023'!J45+'leasing za cały 2023'!J45 -> 4 | ... BB45: ='pozyczki za cały 2023'!BB45+'leasing za cały 2023'!BB45 -> 9178
A46: 10 | B46: Impuls-Leasing Polska Sp. z o. o. | C46: ='pozyczki za cały 2023'!C46+'leasing za cały 2023'!C46 -> 5386 | D46: ='pozyczki za cały 2023'!D46+'leasing za cały 2023'!D46 -> 3013 | E46: ='pozyczki za cały 2023'!E46+'leasing za cały 2023'!E46 -> 98 | F46: ='pozyczki za cały 2023'!F46+'leasing za cały 2023'!F46 -> 40 | G46: ='pozyczki za cały 2023'!G46+'leasing za cały 2023'!G46 -> 856 | H46: ='pozyczki za cały 2023'!H46+'leasing za cały 2023'!H46 -> 737 | I46: ='pozyczki za cały 2023'!I46+'leasing za cały 2023'!I46 -> 6 | J46: ='pozyczki za cały 2023'!J46+'leasing za cały 2023'!J46 -> 0 | ... BB46: ='pozyczki za cały 2023'!BB46+'leasing za cały 2023'!BB46 -> 6796
A47: 11 | B47: ING Lease (Polska) Sp. z o.o. | C47: ='pozyczki za cały 2023'!C47+'leasing za cały 2023'!C47 -> 21332 | D47: ='pozyczki za cały 2023'!D47+'leasing za cały 2023'!D47 -> 11208 | E47: ='pozyczki za cały 2023'!E47+'leasing za cały 2023'!E47 -> 418 | F47: ='pozyczki za cały 2023'!F47+'leasing za cały 2023'!F47 -> 196 | G47: ='pozyczki za cały 2023'!G47+'leasing za cały 2023'!G47 -> 4085 | H47: ='pozyczki za cały 2023'!H47+'leasing za cały 2023'!H47 -> 3259 | I47: ='pozyczki za cały 2023'!I47+'leasing za cały 2023'!I47 -> 60 | J47: ='pozyczki za cały 2023'!J47+'leasing za cały 2023'!J47 -> 0 | ... BB47: ='pozyczki za cały 2023'!BB47+'leasing za cały 2023'!BB47 -> 28173
A48: 12 | B48: Leasing Polski Sp. z o. o. | C48: ='pozyczki za cały 2023'!C48+'leasing za cały 2023'!C48 -> 1622 | D48: ='pozyczki za cały 2023'!D48+'leasing za cały 2023'!D48 -> 354 | E48: ='pozyczki za cały 2023'!E48+'leasing za cały 2023'!E48 -> 4 | F48: ='pozyczki za cały 2023'!F48+'leasing za cały 2023'!F48 -> 20 | G48: ='pozyczki za cały 2023'!G48+'leasing za cały 2023'!G48 -> 399 | H48: ='pozyczki za cały 2023'!H48+'leasing za cały 2023'!H48 -> 276 | I48: ='pozyczki za cały 2023'!I48+'leasing za cały 2023'!I48 -> 0 | J48: ='pozyczki za cały 2023'!J48+'leasing za cały 2023'!J48 -> 0 | ... BB48: ='pozyczki za cały 2023'!BB48+'leasing za cały 2023'!BB48 -> 1764
... A62: 26 | B62: Razem | C62: ='pozyczki za cały 2023'!C62+'leasing za cały 2023'!C62 -> 293788 | D62: ='pozyczki za cały 2023'!D62+'leasing za cały 2023'!D62 -> 181109 | E62: ='pozyczki za cały 2023'!E62+'leasing za cały 2023'!E62 -> 4611 | F62: ='pozyczki za cały 2023'!F62+'leasing za cały 2023'!F62 -> 2578 | G62: ='pozyczki za cały 2023'!G62+'leasing za cały 2023'!G62 -> 47420 | H62: ='pozyczki za cały 2023'!H62+'leasing za cały 2023'!H62 -> 38140 | I62: ='pozyczki za cały 2023'!I62+'leasing za cały 2023'!I62 -> 791 | J62: ='pozyczki za cały 2023'!J62+'leasing za cały 2023'!J62 -> 8 | ... BB62: ='pozyczki za cały 2023'!BB62+'leasing za cały 2023'!BB62 -> 426894
A64: Warszawa, 08.07.2024r.
