Workbook
Name cx: '[1]Dane Le'!#REF!
Name cx: '[1]Dane Le'!#REF!
Name cx: '[1]Dane Le'!#REF!
Name Excel_BuiltIn_Print_Area_2: #REF!
Name Excel_BuiltIn_Print_Area_2: #REF!
Name Excel_BuiltIn_Print_Area_2: #REF!
Name Excel_BuiltIn_Print_Area_4: #REF!
Name Excel_BuiltIn_Print_Area_4: #REF!
Name Excel_BuiltIn_Print_Area_4: #REF!
Name v: #REF!
Name v: #REF!
Name v: #REF!

Sheet summary_02 2026
B2: Związek Polskiego Leasingu , Warszawa 20-03-2026
C6: FINANSOWANIE POJAZDÓW LEKKICH | T6: FINANSOWANIE POJAZDÓW LEKKICH - luty 2026r. Łączne finansowanie leasingiem i pożyczką
J11: 11 2025 | N11: 11 2025
I12: leasing | J12: =('szacunek rynku_02 2026'!I39+'szacunek rynku_02 2026'!I40)/('szacunek rynku_02 2026'!I11+'szacunek rynku_02 2026'!I12) -> 0.91966169 | M12: osobowe | N12: ='szacunek rynku_02 2026'!I11/SUM('szacunek rynku_02 2026'!I11:I12) -> 0.81171711
I13: pożyczka | J13: =1-J12 -> 0.080338313 | M13: dostawcze | N13: =1-N12 -> 0.18828289
I15: leasing | J15: =('szacunek rynku_02 2026'!I39+'szacunek rynku_02 2026'!I40)/('szacunek rynku_02 2026'!H39+'szacunek rynku_02 2026'!H40)-1 -> 0.0033768132 | K15: =('szacunek rynku_02 2026'!N39+'szacunek rynku_02 2026'!N40)/('szacunek rynku_02 2026'!M39+'szacunek rynku_02 2026'!M40)-1 -> 0.0046345761
I16: pożyczka | J16: =('szacunek rynku_02 2026'!I66+'szacunek rynku_02 2026'!I67)/('szacunek rynku_02 2026'!H66+'szacunek rynku_02 2026'!H67)-1 -> 0.57253208 | K16: =('szacunek rynku_02 2026'!N66+'szacunek rynku_02 2026'!N67)/('szacunek rynku_02 2026'!M66+'szacunek rynku_02 2026'!M67)-1 -> 0.38658862
I17: L+P | J17: =('szacunek rynku_02 2026'!I12+'szacunek rynku_02 2026'!I11)/('szacunek rynku_02 2026'!H11+'szacunek rynku_02 2026'!H12)-1 -> 0.033426043 | K17: =('szacunek rynku_02 2026'!N12+'szacunek rynku_02 2026'!N11)/('szacunek rynku_02 2026'!M11+'szacunek rynku_02 2026'!M12)-1 -> 0.026177221
C41: FINANSOWANIE POJAZDÓW CIĘŻKICH | T41: FINANSOWANIE POJAZDÓW CIĘŻKICH - luty 2026r. Łączne finansowanie leasingiem i pożyczką
J46: 07/2025 | N46: 07/2025
I47: leasing | J47: ='szacunek rynku_02 2026'!I41/'szacunek rynku_02 2026'!I13 -> 0.88623619 | M47: ciężarowe pow. 3.5t | N47: ='szacunek rynku_02 2026'!I14/'szacunek rynku_02 2026'!$I$13 -> 0.24991461
I48: pożyczka | J48: =1-J47 -> 0.11376381 | M48: ciągniki siodłowe | N48: ='szacunek rynku_02 2026'!I15/'szacunek rynku_02 2026'!$I$13 -> 0.49195033
M49: przyczepy/naczepy | N49: ='szacunek rynku_02 2026'!I16/'szacunek rynku_02 2026'!$I$13 -> 0.18050663
M50: autobusy | N50: ='szacunek rynku_02 2026'!I17/'szacunek rynku_02 2026'!$I$13 -> 0.077628434
C74: FINANSOWANIE MASZYN | T74: FINANSOWANIE MASZYN - luty 2026r. Łączne finansowanie leasingiem i pożyczką
J79: 07/2025 | N79: 07/2025
I80: leasing | J80: ='szacunek rynku_02 2026'!I47/'szacunek rynku_02 2026'!I19 -> 0.65933763 | M80: sprzęt budowlany | N80: ='szacunek rynku_02 2026'!I20/'szacunek rynku_02 2026'!$I$19 -> 0.18475812
I81: pożyczka | J81: =1-J80 -> 0.34066237 | M81: maszyny rolnicze | N81: ='szacunek rynku_02 2026'!I21/'szacunek rynku_02 2026'!$I$19 -> 0.21179814
M82: pozostałe maszyny | N82: ='szacunek rynku_02 2026'!I22/'szacunek rynku_02 2026'!$I$19 -> 0.60344374
C108: FINANSOWANIE RUCHOMOŚCI
J113: 07/2025 | N113: 07/2025
I114: leasing | J114: ='szacunek rynku_02 2026'!I55/'szacunek rynku_02 2026'!I27 -> 0.85275674 | M114: OSD | N114: =('szacunek rynku_02 2026'!I11+'szacunek rynku_02 2026'!I12)/'szacunek rynku_02 2026'!I27 -> 0.56956266
I115: pożyczka | J115: =1-J114 -> 0.14724326 | M115: TRK | N115: ='szacunek rynku_02 2026'!I13/'szacunek rynku_02 2026'!I27 -> 0.20000252
M116: maszyny | N116: ='szacunek rynku_02 2026'!I19/'szacunek rynku_02 2026'!I27 -> 0.19633228
M117: IT | N117: ='szacunek rynku_02 2026'!I23/'szacunek rynku_02 2026'!I27 -> 0.013025277
M118: pozostałe | N118: =('szacunek rynku_02 2026'!I18+'szacunek rynku_02 2026'!I24+'szacunek rynku_02 2026'!I25)/'szacunek rynku_02 2026'!I27 -> 0.021077262

Sheet szacunek rynku_02 2026
B2: Związek Polskiego Leasingu , Warszawa 20-03-2026
B4: Łączne finansowanie leasingiem i pożyczką
C7: =C$35 -> I 2026 vs I 2025 | H7: =H$35 -> II 2026 vs II 2025 | M7: =M$35 -> I-II 2026 vs I-II 2025
C9: =C$37 -> I 2025 | D9: =D$37 -> I 2026 | F9: =F$37 -> I 2026/ I 2025 | H9: =H$37 -> II 2025 | I9: =I$37 -> II 2026 | K9: =K$37 -> II 2026/ II 2025 | M9: =M$37 -> I-II 2025 | N9: =N$37 -> I-II 2026 | P9: =P$37 -> I-II 2026/ I-II 2025
B10: pojazdy | C10: =SUM(C11:C12,C14:C18) -> 5858.616 | D10: =SUM(D11:D12,D14:D18) -> 5949.5036 | F10: =IF(C10,D10/C10-1,"") -> 0.015513502 | H10: =SUM(H11:H12,H14:H18) -> 6277.3307 | I10: =SUM(I11:I12,I14:I18) -> 6748.0459 | K10: =IF(H10,I10/H10-1,"") -> 0.074986525 | M10: =SUM(M11:M12,M14:M18) -> 12135.947 | N10: =SUM(N11:N12,N14:N18) -> 12697.55 | P10: =IF(M10,N10/M10-1,"") -> 0.046275983
B11: osobowe | C11: =C39+C66 -> 3929.2504 | D11: =D39+D66 -> 4022.2736 | F11: =IF(C11,D11/C11-1,"") -> 0.023674518 | H11: =H39+H66 -> 4149.8609 | I11: =I39+I66 -> 4018.6051 | K11: =IF(H11,I11/H11-1,"") -> -0.031628964 | M11: =C11+H11 -> 8079.1114 | N11: =D11+I11 -> 8040.8787 | P11: =IF(M11,N11/M11-1,"") -> -0.0047322888
B12: ciężarowe do 3,5 t | C12: =C40+C67 -> 602.2731 | D12: =D40+D67 -> 593.14637 | F12: =IF(C12,D12/C12-1,"") -> -0.015153807 | H12: =H40+H67 -> 640.75363 | I12: =I40+I67 -> 932.14072 | K12: =IF(H12,I12/H12-1,"") -> 0.45475683 | M12: =C12+H12 -> 1243.0267 | N12: =D12+I12 -> 1525.2871 | P12: =IF(M12,N12/M12-1,"") -> 0.22707505
B13: pojazdy ciężkie | C13: =C14+C15+C16+C17 -> 1273.1531 | D13: =D14+D15+D16+D17 -> 1287.7288 | F13: =IF(C13,D13/C13-1,"") -> 0.011448514 | H13: =H14+H15+H16+H17 -> 1433.3892 | I13: =I14+I15+I16+I17 -> 1738.4596 | K13: =IF(H13,I13/H13-1,"") -> 0.21283153 | M13: =M14+M15+M16+M17 -> 2706.5422 | N13: =N14+N15+N16+N17 -> 3026.1883 | P13: =IF(M13,N13/M13-1,"") -> 0.11810129
B14: ciężarowe pow. 3,5 t | C14: =C42+C69 -> 301.99895 | D14: =D42+D69 -> 264.62625 | F14: =IF(C14,D14/C14-1,"") -> -0.12375111 | H14: =H42+H69 -> 285.68406 | I14: =I42+I69 -> 434.46644 | K14: =IF(H14,I14/H14-1,"") -> 0.52079343 | M14: =C14+H14 -> 587.68301 | N14: =D14+I14 -> 699.09269 | P14: =IF(M14,N14/M14-1,"") -> 0.18957444
B15: ciągniki siodłowe | C15: =C43+C70 -> 553.2201 | D15: =D43+D70 -> 635.67571 | F15: =IF(C15,D15/C15-1,"") -> 0.14904668 | H15: =H43+H70 -> 703.65059 | I15: =I43+I70 -> 855.23576 | K15: =IF(H15,I15/H15-1,"") -> 0.21542677 | M15: =C15+H15 -> 1256.8707 | N15: =D15+I15 -> 1490.9115 | P15: =IF(M15,N15/M15-1,"") -> 0.18620912
B16: naczepy / przyczepy | C16: =C44+C71 -> 234.94691 | D16: =D44+D71 -> 243.50895 | F16: =IF(C16,D16/C16-1,"") -> 0.036442427 | H16: =H44+H71 -> 333.45083 | I16: =I44+I71 -> 313.80347 | K16: =IF(H16,I16/H16-1,"") -> -0.058921312 | M16: =C16+H16 -> 568.39774 | N16: =D16+I16 -> 557.31241 | P16: =IF(M16,N16/M16-1,"") -> -0.01950276
B17: autobusy | C17: =C45+C72 -> 182.98711 | D17: =D45+D72 -> 143.91787 | F17: =IF(C17,D17/C17-1,"") -> -0.21350814 | H17: =H45+H72 -> 110.60367 | I17: =I45+I72 -> 134.95389 | K17: =IF(H17,I17/H17-1,"") -> 0.22015742 | M17: =C17+H17 -> 293.59078 | N17: =D17+I17 -> 278.87177 | P17: =IF(M17,N17/M17-1,"") -> -0.050134466
B18: inne | C18: =C46+C73 -> 53.939365 | D18: =D46+D73 -> 46.354925 | F18: =IF(C18,D18/C18-1,"") -> -0.14061049 | H18: =H46+H73 -> 53.327008 | I18: =I46+I73 -> 58.840517 | K18: =IF(H18,I18/H18-1,"") -> 0.10339057 | M18: =C18+H18 -> 107.26637 | N18: =D18+I18 -> 105.19544 | P18: =IF(M18,N18/M18-1,"") -> -0.019306432
B19: maszyny | C19: =SUM(C20:C22) -> 1694.257 | D19: =SUM(D20:D22) -> 1531.2851 | F19: =IF(C19,D19/C19-1,"") -> -0.096190792 | H19: =SUM(H20:H22) -> 1837.5684 | I19: =SUM(I20:I22) -> 1706.5571 | K19: =IF(H19,I19/H19-1,"") -> -0.071295991 | M19: =SUM(M20:M22) -> 3531.8254 | N19: =SUM(N20:N22) -> 3237.8422 | P19: =IF(M19,N19/M19-1,"") -> -0.083238312
B20: sprzęt budowlany | C20: =C48+C75 -> 332.23937 | D20: =D48+D75 -> 255.50148 | F20: =IF(C20,D20/C20-1,"") -> -0.2309717 | H20: =H48+H75 -> 333.05639 | I20: =I48+I75 -> 315.30029 | K20: =IF(H20,I20/H20-1,"") -> -0.053312612 | M20: =C20+H20 -> 665.29576 | N20: =D20+I20 -> 570.80176 | P20: =IF(M20,N20/M20-1,"") -> -0.14203307
B21: maszyny rolnicze | C21: =C49+C76 -> 403.04885 | D21: =D49+D76 -> 285.1943 | F21: =IF(C21,D21/C21-1,"") -> -0.2924076 | H21: =H49+H76 -> 495.83224 | I21: =I49+I76 -> 361.44562 | K21: =IF(H21,I21/H21-1,"") -> -0.27103244 | M21: =C21+H21 -> 898.88109 | N21: =D21+I21 -> 646.63992 | P21: =IF(M21,N21/M21-1,"") -> -0.28061684
B22: inne MiU | C22: =C50+C77 -> 958.96882 | D22: =D50+D77 -> 990.58933 | F22: =IF(C22,D22/C22-1,"") -> 0.032973454 | H22: =H50+H77 -> 1008.6797 | I22: =I50+I77 -> 1029.8112 | K22: =IF(H22,I22/H22-1,"") -> 0.020949633 | M22: =C22+H22 -> 1967.6485 | N22: =D22+I22 -> 2020.4005 | P22: =IF(M22,N22/M22-1,"") -> 0.026809658
B23: IT | C23: =C51+C78 -> 123.67507 | D23: =D51+D78 -> 87.026331 | F23: =IF(C23,D23/C23-1,"") -> -0.29633083 | H23: =H51+H78 -> 84.116887 | I23: =I51+I78 -> 113.21816 | K23: =IF(H23,I23/H23-1,"") -> 0.34596227 | M23: =C23+H23 -> 207.79195 | N23: =D23+I23 -> 200.24449 | P23: =IF(M23,N23/M23-1,"") -> -0.036322221
B24: statki, samoloty, kolej | C24: =C52+C79 -> 122.19028 | D24: =D52+D79 -> 85.13934 | F24: =IF(C24,D24/C24-1,"") -> -0.30322333 | H24: =H52+H79 -> 101.11213 | I24: =I52+I79 -> 79.927125 | K24: =IF(H24,I24/H24-1,"") -> -0.20951995 | M24: =C24+H24 -> 223.30242 | N24: =D24+I24 -> 165.06646 | P24: =IF(M24,N24/M24-1,"") -> -0.2607941
B25: inne | C25: =C53+C80 -> 19.674235 | D25: =D53+D80 -> 22.871173 | F25: =IF(C25,D25/C25-1,"") -> 0.16249364 | H25: =H53+H80 -> 42.37413 | I25: =I53+I80 -> 44.439883 | K25: =IF(H25,I25/H25-1,"") -> 0.048750331 | M25: =C25+H25 -> 62.048365 | N25: =D25+I25 -> 67.311055 | P25: =IF(M25,N25/M25-1,"") -> 0.084815948
B27: ruchomości - leasing + pożyczka | C27: =SUM(C10,C20:C25) -> 7818.4126 | D27: =SUM(D10,D20:D25) -> 7675.8256 | F27: =IF(C27,D27/C27-1,"") -> -0.018237336 | H27: =SUM(H10,H20:H25) -> 8342.5022 | I27: =SUM(I10,I20:I25) -> 8692.1882 | K27: =IF(H27,I27/H27-1,"") -> 0.041916197 | M27: =SUM(M10,M20:M25) -> 16160.915 | N27: =SUM(N10,N20:N25) -> 16368.014 | P27: =IF(M27,N27/M27-1,"") -> 0.012814804
B34: Finansowanie leasingiem
C35: I 2026 vs I 2025 | H35: II 2026 vs II 2025 | M35: I-II 2026 vs I-II 2025
C37: I 2025 | D37: I 2026 | F37: I 2026/ I 2025 | H37: II 2025 | I37: II 2026 | K37: II 2026/ II 2025 | M37: I-II 2025 | N37: I-II 2026 | P37: I-II 2026/ I-II 2025
B38: pojazdy | C38: 5471.4428 | D38: 5512.1973 | F38: =IF(C38,D38/C38-1,"") -> 0.0074485955 | H38: 5904.7082 | I38: 6148.3991 | K38: =IF(H38,I38/H38-1,"") -> 0.04127062 | M38: =SUM(M39:M40,M42:M46) -> 11376.151 | N38: =SUM(N39:N40,N42:N46) -> 11660.596 | P38: =IF(M38,N38/M38-1,"") -> 0.025003671
B39: osobowe | C39: 3699.9676 | D39: 3719.131 | F39: =IF(C39,D39/C39-1,"") -> 0.0051793613 | H39: 3919.0531 | I39: 3644.9634 | K39: =IF(H39,I39/H39-1,"") -> -0.069937734 | M39: =C39+H39 -> 7619.0207 | N39: =D39+I39 -> 7364.0945 | P39: =IF(M39,N39/M39-1,"") -> -0.033459185
B40: ciężarowe do 3,5 t | C40: 558.70292 | D40: 564.98392 | F40: =IF(C40,D40/C40-1,"") -> 0.011242109 | H40: 618.63522 | I40: 908.04784 | K40: =IF(H40,I40/H40-1,"") -> 0.46782435 | M40: =C40+H40 -> 1177.3381 | N40: =D40+I40 -> 1473.0318 | P40: =IF(M40,N40/M40-1,"") -> 0.25115437
B41: pojazdy ciężkie | C41: 1160.1261 | D41: 1184.1962 | F41: =IF(C41,D41/C41-1,"") -> 0.02074783 | H41: 1314.7008 | I41: 1540.6858 | K41: =IF(H41,I41/H41-1,"") -> 0.17189082 | M41: =M42+M43+M44+M45 -> 2474.8269 | N41: =N42+N43+N44+N45 -> 2724.882 | P41: =IF(M41,N41/M41-1,"") -> 0.10103943
B42: ciężarowe pow. 3,5 t | C42: 285.7861 | D42: 253.52602 | F42: =IF(C42,D42/C42-1,"") -> -0.1128819 | H42: 274.60781 | I42: 410.16789 | K42: =IF(H42,I42/H42-1,"") -> 0.49364978 | M42: =C42+H42 -> 560.39391 | N42: =D42+I42 -> 663.69392 | P42: =IF(M42,N42/M42-1,"") -> 0.18433464
B43: ciągniki siodłowe | C43: 492.46487 | D43: 584.55045 | F43: =IF(C43,D43/C43-1,"") -> 0.18698913 | H43: 631.57609 | I43: 729.80459 | K43: =IF(H43,I43/H43-1,"") -> 0.15552917 | M43: =C43+H43 -> 1124.041 | N43: =D43+I43 -> 1314.355 | P43: =IF(M43,N43/M43-1,"") -> 0.16931241
B44: naczepy / przyczepy | C44: 213.87706 | D44: 210.8286 | F44: =IF(C44,D44/C44-1,"") -> -0.014253303 | H44: 300.48978 | I44: 275.37173 | K44: =IF(H44,I44/H44-1,"") -> -0.083590347 | M44: =C44+H44 -> 514.36684 | N44: =D44+I44 -> 486.20034 | P44: =IF(M44,N44/M44-1,"") -> -0.054759556
B45: autobusy | C45: 167.9981 | D45: 135.29115 | F45: =IF(C45,D45/C45-1,"") -> -0.19468641 | H45: 108.02712 | I45: 125.34157 | K45: =IF(H45,I45/H45-1,"") -> 0.16027873 | M45: =C45+H45 -> 276.02521 | N45: =D45+I45 -> 260.63272 | P45: =IF(M45,N45/M45-1,"") -> -0.055764825
B46: inne | C46: 52.646157 | D46: 43.886154 | F46: =IF(C46,D46/C46-1,"") -> -0.16639398 | H46: 52.319048 | I46: 54.702096 | K46: =IF(H46,I46/H46-1,"") -> 0.04554837 | M46: =C46+H46 -> 104.96521 | N46: =D46+I46 -> 98.588249 | P46: =IF(M46,N46/M46-1,"") -> -0.060753048
B47: maszyny | C47: 1158.6346 | D47: 1080.1255 | F47: =IF(C47,D47/C47-1,"") -> -0.067760078 | H47: 1175.6378 | I47: 1125.1973 | K47: =IF(H47,I47/H47-1,"") -> -0.042904757 | M47: =SUM(M48:M50) -> 2334.2724 | N47: =SUM(N48:N50) -> 2205.3228 | P47: =IF(M47,N47/M47-1,"") -> -0.055241893
B48: sprzęt budowlany | C48: 289.2604 | D48: 228.59665 | F48: =IF(C48,D48/C48-1,"") -> -0.20972022 | H48: 285.05372 | I48: 278.72684 | K48: =IF(H48,I48/H48-1,"") -> -0.022195396 | M48: =C48+H48 -> 574.31412 | N48: =D48+I48 -> 507.32349 | P48: =IF(M48,N48/M48-1,"") -> -0.11664459
B49: maszyny rolnicze | C49: 84.024729 | D49: 84.305657 | F49: =IF(C49,D49/C49-1,"") -> 0.0033434064 | H49: 101.64944 | I49: 80.728331 | K49: =IF(H49,I49/H49-1,"") -> -0.20581626 | M49: =C49+H49 -> 185.67417 | N49: =D49+I49 -> 165.03399 | P49: =IF(M49,N49/M49-1,"") -> -0.11116344
B50: inne MiU | C50: 785.3495 | D50: 767.22316 | F50: =IF(C50,D50/C50-1,"") -> -0.023080613 | H50: 788.9346 | I50: 765.74214 | K50: =IF(H50,I50/H50-1,"") -> -0.029397196 | M50: =C50+H50 -> 1574.2841 | N50: =D50+I50 -> 1532.9653 | P50: =IF(M50,N50/M50-1,"") -> -0.026246097
B51: IT | C51: 94.436281 | D51: 53.543041 | F51: =IF(C51,D51/C51-1,"") -> -0.43302468 | H51: 65.7476 | I51: 61.078889 | K51: =IF(H51,I51/H51-1,"") -> -0.0710096 | M51: =C51+H51 -> 160.18388 | N51: =D51+I51 -> 114.62193 | P51: =IF(M51,N51/M51-1,"") -> -0.2844353
B52: statki, samoloty, kolej | C52: 105.20909 | D52: 73.586383 | F52: =IF(C52,D52/C52-1,"") -> -0.30057012 | H52: 98.814867 | I52: 45.625388 | K52: =IF(H52,I52/H52-1,"") -> -0.53827405 | M52: =C52+H52 -> 204.02396 | N52: =D52+I52 -> 119.21177 | P52: =IF(M52,N52/M52-1,"") -> -0.4156972
B53: inne | C53: 15.197546 | D53: 17.050633 | F53: =IF(C53,D53/C53-1,"") -> 0.1219333 | H53: 38.748802 | I53: 32.02129 | K53: =IF(H53,I53/H53-1,"") -> -0.17361859 | M53: =C53+H53 -> 53.946348 | N53: =D53+I53 -> 49.071923 | P53: =IF(M53,N53/M53-1,"") -> -0.090356911
B55: ruchomości - leasing | C55: 6844.9203 | D55: 6736.5029 | F55: =IF(C55,D55/C55-1,"") -> -0.015839114 | H55: 7283.6572 | I55: 7412.322 | K55: =IF(H55,I55/H55-1,"") -> 0.017664864 | M55: =SUM(M38,M48:M53) -> 14128.578 | N55: =SUM(N38,N48:N53) -> 14148.825 | P55: =IF(M55,N55/M55-1,"") -> 0.001433077
B62: Finasowanie pożyczką
C63: =C$35 -> I 2026 vs I 2025 | H63: =H$35 -> II 2026 vs II 2025 | M63: =M$35 -> I-II 2026 vs I-II 2025
C64: =C$37 -> I 2025 | D64: =D$37 -> I 2026 | F64: =F$37 -> I 2026/ I 2025 | H64: =H$37 -> II 2025 | I64: =I$37 -> II 2026 | K64: =K$37 -> II 2026/ II 2025 | M64: =M$37 -> I-II 2025 | N64: =N$37 -> I-II 2026 | P64: =P$37 -> I-II 2026/ I-II 2025
B65: pojazdy | C65: 387.17321 | D65: 437.3063 | F65: =IF(C65,D65/C65-1,"") -> 0.12948491 | H65: 372.62252 | I65: 599.64677 | K65: =IF(H65,I65/H65-1,"") -> 0.60926066 | M65: =SUM(M66:M67,M69:M73) -> 759.79574 | N65: =SUM(N66:N67,N69:N73) -> 1036.9531 | P65: =IF(M65,N65/M65-1,"") -> 0.36477874
B66: osobowe | C66: 229.28287 | D66: 303.14251 | F66: =IF(C66,D66/C66-1,"") -> 0.32213328 | H66: 230.80779 | I66: 373.64168 | K66: =IF(H66,I66/H66-1,"") -> 0.61884346 | M66: =C66+H66 -> 460.09066 | N66: =D66+I66 -> 676.78419 | P66: =IF(M66,N66/M66-1,"") -> 0.47098008
B67: ciężarowe do 3,5 t | C67: 43.570187 | D67: 28.162457 | F67: =IF(C67,D67/C67-1,"") -> -0.35363011 | H67: 22.118413 | I67: 24.092885 | K67: =IF(H67,I67/H67-1,"") -> 0.089268254 | M67: =C67+H67 -> 65.6886 | N67: =D67+I67 -> 52.255342 | P67: =IF(M67,N67/M67-1,"") -> -0.20449908
B68: pojazdy ciężkie | C68: 113.02695 | D68: 103.53256 | F68: =IF(C68,D68/C68-1,"") -> -0.084001109 | H68: 118.68836 | I68: 197.77378 | K68: =IF(H68,I68/H68-1,"") -> 0.66632835 | M68: =M69+M70+M71+M72 -> 231.71531 | N68: =N69+N70+N71+N72 -> 301.30634 | P68: =IF(M68,N68/M68-1,"") -> 0.30032988
B69: ciężarowe pow. 3,5 t | C69: 16.212852 | D69: 11.100225 | F69: =IF(C69,D69/C69-1,"") -> -0.31534408 | H69: 11.076251 | I69: 24.298548 | K69: =IF(H69,I69/H69-1,"") -> 1.193752 | M69: =C69+H69 -> 27.289104 | N69: =D69+I69 -> 35.398774 | P69: =IF(M69,N69/M69-1,"") -> 0.29717613
B70: ciągniki siodłowe | C70: 60.75523 | D70: 51.125268 | F70: =IF(C70,D70/C70-1,"") -> -0.15850425 | H70: 72.074502 | I70: 125.43117 | K70: =IF(H70,I70/H70-1,"") -> 0.74029881 | M70: =C70+H70 -> 132.82973 | N70: =D70+I70 -> 176.55644 | P70: =IF(M70,N70/M70-1,"") -> 0.32919366
B71: naczepy / przyczepy | C71: 21.069851 | D71: 32.680341 | F71: =IF(C71,D71/C71-1,"") -> 0.55104757 | H71: 32.961052 | I71: 38.431736 | K71: =IF(H71,I71/H71-1,"") -> 0.16597421 | M71: =C71+H71 -> 54.030903 | N71: =D71+I71 -> 71.112077 | P71: =IF(M71,N71/M71-1,"") -> 0.31613713
B72: autobusy | C72: 14.989014 | D72: 8.6267245 | F72: =IF(C72,D72/C72-1,"") -> -0.42446353 | H72: 2.5765559 | I72: 9.6123266 | K72: =IF(H72,I72/H72-1,"") -> 2.7306881 | M72: =C72+H72 -> 17.56557 | N72: =D72+I72 -> 18.239051 | P72: =IF(M72,N72/M72-1,"") -> 0.038340952
B73: inne | C73: 1.2932081 | D73: 2.4687712 | F73: =IF(C73,D73/C73-1,"") -> 0.9090286 | H73: 1.0079597 | I73: 4.1384218 | K73: =IF(H73,I73/H73-1,"") -> 3.1057414 | M73: =C73+H73 -> 2.3011678 | N73: =D73+I73 -> 6.607193 | P73: =IF(M73,N73/M73-1,"") -> 1.8712348
B74: maszyny | C74: 535.62241 | D74: 451.15966 | F74: =IF(C74,D74/C74-1,"") -> -0.15769085 | H74: 661.93059 | I74: 581.35979 | K74: =IF(H74,I74/H74-1,"") -> -0.12172093 | M74: =SUM(M75:M77) -> 1197.553 | N74: =SUM(N75:N77) -> 1032.5194 | P74: =IF(M74,N74/M74-1,"") -> -0.13780898
B75: sprzęt budowlany | C75: 42.97897 | D75: 26.904832 | F75: =IF(C75,D75/C75-1,"") -> -0.37400008 | H75: 48.00267 | I75: 36.573445 | K75: =IF(H75,I75/H75-1,"") -> -0.23809563 | M75: =C75+H75 -> 90.98164 | N75: =D75+I75 -> 63.478276 | P75: =IF(M75,N75/M75-1,"") -> -0.30229576
B76: maszyny rolnicze | C76: 319.02412 | D76: 200.88864 | F76: =IF(C76,D76/C76-1,"") -> -0.37030265 | H76: 394.1828 | I76: 280.71729 | K76: =IF(H76,I76/H76-1,"") -> -0.28784999 | M76: =C76+H76 -> 713.20692 | N76: =D76+I76 -> 481.60593 | P76: =IF(M76,N76/M76-1,"") -> -0.32473183
B77: inne MiU | C77: 173.61932 | D77: 223.36618 | F77: =IF(C77,D77/C77-1,"") -> 0.28652838 | H77: 219.74513 | I77: 264.06906 | K77: =IF(H77,I77/H77-1,"") -> 0.20170611 | M77: =C77+H77 -> 393.36444 | N77: =D77+I77 -> 487.43524 | P77: =IF(M77,N77/M77-1,"") -> 0.23914413
B78: IT | C78: 29.238784 | D78: 33.48329 | F78: =IF(C78,D78/C78-1,"") -> 0.14516698 | H78: 18.369287 | I78: 52.139267 | K78: =IF(H78,I78/H78-1,"") -> 1.8383936 | M78: =C78+H78 -> 47.60807 | N78: =D78+I78 -> 85.622556 | P78: =IF(M78,N78/M78-1,"") -> 0.79848827
B79: statki, samoloty, kolej | C79: 16.981191 | D79: 11.552956 | F79: =IF(C79,D79/C79-1,"") -> -0.31966158 | H79: 2.2972677 | I79: 34.301737 | K79: =IF(H79,I79/H79-1,"") -> 13.931537 | M79: =C79+H79 -> 19.278458 | N79: =D79+I79 -> 45.854693 | P79: =IF(M79,N79/M79-1,"") -> 1.3785457
B80: inne | C80: 4.4766886 | D80: 5.8205396 | F80: =IF(C80,D80/C80-1,"") -> 0.30018863 | H80: 3.6253276 | I80: 12.418593 | K80: =IF(H80,I80/H80-1,"") -> 2.4255091 | M80: =C80+H80 -> 8.1020163 | N80: =D80+I80 -> 18.239133 | P80: =IF(M80,N80/M80-1,"") -> 1.2511844
B82: ruchomości - pożyczka | C82: 973.49228 | D82: 939.32274 | F82: =IF(C82,D82/C82-1,"") -> -0.035099962 | H82: 1058.845 | I82: 1279.8662 | K82: =IF(H82,I82/H82-1,"") -> 0.20873797 | M82: =SUM(M65,M75:M80) -> 2032.3373 | N82: =SUM(N65,N75:N80) -> 2219.1889 | P82: =IF(M82,N82/M82-1,"") -> 0.091939274
