Workbook
Name cx: '[1]Dane Le'!#REF!
Name cx: '[1]Dane Le'!#REF!
Name cx: '[1]Dane Le'!#REF!
Name Excel_BuiltIn_Print_Area_2: #REF!
Name Excel_BuiltIn_Print_Area_2: #REF!
Name Excel_BuiltIn_Print_Area_2: #REF!
Name Excel_BuiltIn_Print_Area_4: #REF!
Name Excel_BuiltIn_Print_Area_4: #REF!
Name Excel_BuiltIn_Print_Area_4: #REF!
Name v: #REF!
Name v: #REF!
Name v: #REF!

Sheet summary_03 2026
C2: Związek Polskiego Leasingu , Warszawa 24-04-2026
C5: FINANSOWANIE POJAZDÓW LEKKICH | T5: FINANSOWANIE POJAZDÓW LEKKICH - I kw. 2026r. Łączne finansowanie leasingiem i pożyczką
J10: 01-12 2025 | N10: 01-12 2025
I11: leasing | J11: =('szacunek rynku_03 2026'!N37+'szacunek rynku_03 2026'!N38)/('szacunek rynku_03 2026'!N9+'szacunek rynku_03 2026'!N10) -> 0.9231496 | M11: osobowe | N11: ='szacunek rynku_03 2026'!N9/SUM('szacunek rynku_03 2026'!N9:N10) -> 0.8759828
I12: pożyczka | J12: =1-J11 -> 0.076850396 | M12: dostawcze | N12: =1-N11 -> 0.1240172
I14: leasing | J14: =('szacunek rynku_03 2026'!I37+'szacunek rynku_03 2026'!I38)/('szacunek rynku_03 2026'!H37+'szacunek rynku_03 2026'!H38)-1 -> 0.17455241 | K14: =('szacunek rynku_03 2026'!N37+'szacunek rynku_03 2026'!N38)/('szacunek rynku_03 2026'!M37+'szacunek rynku_03 2026'!M38)-1 -> 0.074777225
I15: pożyczka | J15: =('szacunek rynku_03 2026'!I64+'szacunek rynku_03 2026'!I65)/('szacunek rynku_03 2026'!H64+'szacunek rynku_03 2026'!H65)-1 -> 0.84175207 | K15: =('szacunek rynku_03 2026'!N64+'szacunek rynku_03 2026'!N65)/('szacunek rynku_03 2026'!M64+'szacunek rynku_03 2026'!M65)-1 -> 0.54955855
I16: L+P | J16: =('szacunek rynku_03 2026'!I10+'szacunek rynku_03 2026'!I9)/('szacunek rynku_03 2026'!H9+'szacunek rynku_03 2026'!H10)-1 -> 0.20899034 | K16: =('szacunek rynku_03 2026'!N10+'szacunek rynku_03 2026'!N9)/('szacunek rynku_03 2026'!M9+'szacunek rynku_03 2026'!M10)-1 -> 0.10069506
C41: FINANSOWANIE POJAZDÓW CIĘŻKICH | T41: FINANSOWANIE POJAZDÓW CIĘŻKICH - I kw. 2026r. Łączne finansowanie leasingiem i pożyczką
J46: I kw. 2025 | N46: I kw. 2025
I47: leasing | J47: ='szacunek rynku_03 2026'!N39/'szacunek rynku_03 2026'!N11 -> 0.90680519 | M47: ciężarowe pow. 3.5t | N47: ='szacunek rynku_03 2026'!N12/'szacunek rynku_03 2026'!$N$11 -> 0.22481329
I48: pożyczka | J48: =1-J47 -> 0.093194812 | M48: ciągniki siodłowe | N48: ='szacunek rynku_03 2026'!N13/'szacunek rynku_03 2026'!$N$11 -> 0.48862561
M49: przyczepy/naczepy | N49: ='szacunek rynku_03 2026'!N14/'szacunek rynku_03 2026'!$N$11 -> 0.18046233
M50: autobusy | N50: ='szacunek rynku_03 2026'!N15/'szacunek rynku_03 2026'!$N$11 -> 0.10609878
C76: FINANSOWANIE MASZYN | T76: FINANSOWANIE MASZYN - I kw. 2026r. Łączne finansowanie leasingiem i pożyczką
J81: I kw. 2025 | N81: I kw. 2025
I82: leasing | J82: ='szacunek rynku_03 2026'!N45/'szacunek rynku_03 2026'!N17 -> 0.59015705 | M82: sprzęt budowlany | N82: ='szacunek rynku_03 2026'!N18/'szacunek rynku_03 2026'!$N$17 -> 0.19085992
I83: pożyczka | J83: =1-J82 -> 0.40984295 | M83: maszyny rolnicze | N83: ='szacunek rynku_03 2026'!N19/'szacunek rynku_03 2026'!$N$17 -> 0.22983451
M84: pozostałe maszyny | N84: ='szacunek rynku_03 2026'!N20/'szacunek rynku_03 2026'!$N$17 -> 0.57930556
C113: FINANSOWANIE RUCHOMOŚCI
J118: 01-09/2025 | N118: 0109/2025
I119: leasing | J119: ='szacunek rynku_03 2026'!N53/'szacunek rynku_03 2026'!N25 -> 0.84249556 | M119: OSD | N119: =('szacunek rynku_03 2026'!N9+'szacunek rynku_03 2026'!N10)/'szacunek rynku_03 2026'!N25 -> 0.56570062
I120: pożyczka | J120: =1-J119 -> 0.15750444 | M120: TRK | N120: ='szacunek rynku_03 2026'!N11/'szacunek rynku_03 2026'!N25 -> 0.18367795
M121: maszyny | N121: ='szacunek rynku_03 2026'!N17/'szacunek rynku_03 2026'!N25 -> 0.21763884
M122: IT | N122: ='szacunek rynku_03 2026'!N21/'szacunek rynku_03 2026'!N25 -> 0.013106122
M123: pozostałe | N123: =('szacunek rynku_03 2026'!N16+'szacunek rynku_03 2026'!N22+'szacunek rynku_03 2026'!N23)/'szacunek rynku_03 2026'!N25 -> 0.019876468

Sheet szacunek rynku_03 2026
B2: Związek Polskiego Leasingu , Warszawa 24-04-2026
B3: Łączne finansowanie leasingiem i pożyczką
C5: =C$33 -> I-II 2026 vs I-II 2025 | H5: =H$33 -> III 2026 vs III 2025 | M5: =M$33 -> I-III 2026 vs I-III 2025
C7: =C$35 -> I-II 2025 | D7: =D$35 -> I-II 2026 | F7: =F$35 -> I-II 2026/ I-II 2025 | H7: =H$35 -> III 2025 | I7: =I$35 -> III 2026 | K7: =K$35 -> III 26 / III 25 | M7: =M$35 -> I-III 2025 | N7: =N$35 -> I-III 2026 | P7: =P$35 -> I-III 26/ I-III 25
B8: pojazdy | C8: =SUM(C36,C63) -> 12135.947 | D8: =SUM(D36,D63) -> 12738.25 | F8: =IF(C8,D8/C8-1,"") -> 0.049629657 | H8: =SUM(H36,H63) -> 7566.7735 | I8: =SUM(I36,I63) -> 9343.6592 | K8: =IF(H8,I8/H8-1,"") -> 0.2348274 | M8: =SUM(M36,M63) -> 19702.72 | N8: =SUM(N36,N63) -> 22081.909 | P8: =IF(M8,N8/M8-1,"") -> 0.12075432
B9: osobowe | C9: =SUM(C37,C64) -> 8079.1114 | D9: =SUM(D37,D64) -> 8347.4559 | F9: =IF(C9,D9/C9-1,"") -> 0.033214606 | H9: =SUM(H37,H64) -> 4972.9532 | I9: =SUM(I37,I64) -> 6118.8523 | K9: =IF(H9,I9/H9-1,"") -> 0.23042627 | M9: =SUM(M37,M64) -> 13052.065 | N9: =SUM(N37,N64) -> 14466.308 | P9: =IF(M9,N9/M9-1,"") -> 0.10835401
B10: ciężarowe do 3,5 t | C10: =SUM(C38,C65) -> 1243.0267 | D10: =SUM(D38,D65) -> 1298.1014 | F10: =IF(C10,D10/C10-1,"") -> 0.044306899 | H10: =SUM(H38,H65) -> 708.49608 | I10: =SUM(I38,I65) -> 749.96503 | K10: =IF(H10,I10/H10-1,"") -> 0.058530956 | M10: =SUM(M38,M65) -> 1951.5228 | N10: =SUM(N38,N65) -> 2048.0664 | P10: =IF(M10,N10/M10-1,"") -> 0.049470912
B11: pojazdy ciężkie | C11: =SUM(C39,C66) -> 2706.5422 | D11: =SUM(D39,D66) -> 2987.4969 | F11: =IF(C11,D11/C11-1,"") -> 0.10380575 | H11: =SUM(H39,H66) -> 1798.5763 | I11: =SUM(I39,I66) -> 2374.5733 | K11: =IF(H11,I11/H11-1,"") -> 0.32025163 | M11: =SUM(M39,M66) -> 4505.1185 | N11: =SUM(N39,N66) -> 5362.0701 | P11: =IF(M11,N11/M11-1,"") -> 0.19021733
B12: ciężarowe pow. 3,5 t | C12: =SUM(C40,C67) -> 587.68301 | D12: =SUM(D40,D67) -> 660.40121 | F12: =IF(C12,D12/C12-1,"") -> 0.12373711 | H12: =SUM(H40,H67) -> 419.51243 | I12: =SUM(I40,I67) -> 545.06341 | K12: =IF(H12,I12/H12-1,"") -> 0.29927833 | M12: =SUM(M40,M67) -> 1007.1954 | N12: =SUM(N40,N67) -> 1205.4646 | P12: =IF(M12,N12/M12-1,"") -> 0.19685274
B13: ciągniki siodłowe | C13: =SUM(C41,C68) -> 1256.8707 | D13: =SUM(D41,D68) -> 1490.9115 | F13: =IF(C13,D13/C13-1,"") -> 0.18620912 | H13: =SUM(H41,H68) -> 778.7645 | I13: =SUM(I41,I68) -> 1129.1333 | K13: =IF(H13,I13/H13-1,"") -> 0.44990339 | M13: =SUM(M41,M68) -> 2035.6352 | N13: =SUM(N41,N68) -> 2620.0448 | P13: =IF(M13,N13/M13-1,"") -> 0.28708954
B14: naczepy / przyczepy | C14: =SUM(C42,C69) -> 568.39774 | D14: =SUM(D42,D69) -> 557.31241 | F14: =IF(C14,D14/C14-1,"") -> -0.01950276 | H14: =SUM(H42,H69) -> 440.9556 | I14: =SUM(I42,I69) -> 410.33925 | K14: =IF(H14,I14/H14-1,"") -> -0.069431824 | M14: =SUM(M42,M69) -> 1009.3533 | N14: =SUM(N42,N69) -> 967.65166 | P14: =IF(M14,N14/M14-1,"") -> -0.041315241
B15: autobusy | C15: =SUM(C43,C70) -> 293.59078 | D15: =SUM(D43,D70) -> 278.87177 | F15: =IF(C15,D15/C15-1,"") -> -0.050134466 | H15: =SUM(H43,H70) -> 159.34376 | I15: =SUM(I43,I70) -> 290.03733 | K15: =IF(H15,I15/H15-1,"") -> 0.82019887 | M15: =SUM(M43,M70) -> 452.93454 | N15: =SUM(N43,N70) -> 568.90909 | P15: =IF(M15,N15/M15-1,"") -> 0.25605146
B16: inne | C16: =SUM(C44,C71) -> 107.26637 | D16: =SUM(D44,D71) -> 105.19544 | F16: =IF(C16,D16/C16-1,"") -> -0.019306432 | H16: =SUM(H44,H71) -> 86.747911 | I16: =SUM(I44,I71) -> 100.26864 | K16: =IF(H16,I16/H16-1,"") -> 0.15586236 | M16: =SUM(M44,M71) -> 194.01428 | N16: =SUM(N44,N71) -> 205.46409 | P16: =IF(M16,N16/M16-1,"") -> 0.059015257
B17: maszyny | C17: =SUM(C45,C72) -> 3531.8254 | D17: =SUM(D45,D72) -> 3261.5109 | F17: =IF(C17,D17/C17-1,"") -> -0.076536764 | H17: =SUM(H45,H72) -> 2305.2977 | I17: =SUM(I45,I72) -> 3091.9723 | K17: =IF(H17,I17/H17-1,"") -> 0.3412464 | M17: =SUM(M45,M72) -> 5837.1231 | N17: =SUM(N45,N72) -> 6353.4832 | P17: =IF(M17,N17/M17-1,"") -> 0.088461397
B18: sprzęt budowlany | C18: =SUM(C46,C73) -> 665.29576 | D18: =SUM(D46,D73) -> 570.80176 | F18: =IF(C18,D18/C18-1,"") -> -0.14203307 | H18: =SUM(H46,H73) -> 446.44405 | I18: =SUM(I46,I73) -> 641.82355 | K18: =IF(H18,I18/H18-1,"") -> 0.43763491 | M18: =SUM(M46,M73) -> 1111.7398 | N18: =SUM(N46,N73) -> 1212.6253 | P18: =IF(M18,N18/M18-1,"") -> 0.090745606
B19: maszyny rolnicze | C19: =SUM(C47,C74) -> 898.88109 | D19: =SUM(D47,D74) -> 646.63992 | F19: =IF(C19,D19/C19-1,"") -> -0.28061684 | H19: =SUM(H47,H74) -> 777.32719 | I19: =SUM(I47,I74) -> 813.6098 | K19: =IF(H19,I19/H19-1,"") -> 0.046676112 | M19: =SUM(M47,M74) -> 1676.2083 | N19: =SUM(N47,N74) -> 1460.2497 | P19: =IF(M19,N19/M19-1,"") -> -0.12883754
... B25: ruchomości - leasing + pożyczka | C25: =SUM(C53,C80) -> 16160.915 | D25: =SUM(D53,D80) -> 16409.435 | F25: =IF(C25,D25/C25-1,"") -> 0.015377846 | H25: =SUM(H53,H80) -> 10072.951 | I25: =SUM(I53,I80) -> 12783.347 | K25: =IF(H25,I25/H25-1,"") -> 0.26907662 | M25: =SUM(M53,M80) -> 26233.866 | N25: =SUM(N53,N80) -> 29192.781 | P25: =IF(M25,N25/M25-1,"") -> 0.11278992
B27: nieruchomości | M27: =SUM(M55,M82) -> 132.50208 | N27: =SUM(N55,N82) -> 10.780179 | P27: =IF(M27,N27/M27-1,"") -> -0.91864143
B29: łączne finansowanie - leasing + pożyczka | M29: =SUM(M57,M84) -> 26366.368 | N29: =SUM(N57,N84) -> 29203.562 | P29: =IF(M29,N29/M29-1,"") -> 0.10760654
M30: =M21+M22+M23 -> 694.02249 | N30: =N21+N22+N23 -> 757.38944 | P30: =IF(M30,N30/M30-1,"") -> 0.091303881
B32: Finansowanie leasingiem | N32: =N27/1000 -> 0.010780179
C33: I-II 2026 vs I-II 2025 | H33: III 2026 vs III 2025 | M33: I-III 2026 vs I-III 2025
C35: I-II 2025 | D35: I-II 2026 | F35: I-II 2026/ I-II 2025 | H35: III 2025 | I35: III 2026 | K35: III 26 / III 25 | M35: I-III 2025 | N35: I-III 2026 | P35: I-III 26/ I-III 25
B36: pojazdy | C36: 11376.151 | D36: 11701.296 | F36: =IF(C36,D36/C36-1,"") -> 0.028581331 | H36: 7077.6199 | I36: 8599.6271 | K36: =IF(H36,I36/H36-1,"") -> 0.21504505 | M36: 18453.771 | N36: 20300.924 | P36: =IF(M36,N36/M36-1,"") -> 0.10009622
B37: osobowe | C37: 7619.0207 | D37: 7670.6717 | F37: =IF(C37,D37/C37-1,"") -> 0.0067792132 | H37: 4712.3279 | I37: 5602.9297 | K37: =IF(H37,I37/H37-1,"") -> 0.18899401 | M37: 12331.349 | N37: 13273.601 | P37: =IF(M37,N37/M37-1,"") -> 0.076411167
B38: ciężarowe do 3,5 t | C38: 1177.3381 | D38: 1245.8461 | F38: =IF(C38,D38/C38-1,"") -> 0.058188821 | H38: 675.86981 | I38: 725.79094 | K38: =IF(H38,I38/H38-1,"") -> 0.073862043 | M38: 1853.208 | N38: 1971.637 | P38: =IF(M38,N38/M38-1,"") -> 0.063904886
B39: pojazdy ciężkie | C39: 2474.8269 | D39: 2686.1905 | F39: =IF(C39,D39/C39-1,"") -> 0.085405413 | H39: 1606.7614 | I39: 2176.1625 | K39: =IF(H39,I39/H39-1,"") -> 0.35437815 | M39: 4081.5883 | N39: 4862.353 | P39: =IF(M39,N39/M39-1,"") -> 0.19128944
B40: ciężarowe pow. 3,5 t | C40: 560.39391 | D40: 625.00244 | F40: =IF(C40,D40/C40-1,"") -> 0.11529128 | H40: 394.10597 | I40: 528.43846 | K40: =IF(H40,I40/H40-1,"") -> 0.34085373 | M40: 954.49988 | N40: 1153.4409 | P40: =IF(M40,N40/M40-1,"") -> 0.20842435
B41: ciągniki siodłowe | C41: 1124.041 | D41: 1314.355 | F41: =IF(C41,D41/C41-1,"") -> 0.16931241 | H41: 681.14061 | I41: 991.24421 | K41: =IF(H41,I41/H41-1,"") -> 0.45527105 | M41: 1805.1816 | N41: 2305.5992 | P41: =IF(M41,N41/M41-1,"") -> 0.27721183
B42: naczepy / przyczepy | C42: 514.36684 | D42: 486.20034 | F42: =IF(C42,D42/C42-1,"") -> -0.054759556 | H42: 388.8204 | I42: 369.56846 | K42: =IF(H42,I42/H42-1,"") -> -0.049513708 | M42: 903.18723 | N42: 855.76879 | P42: =IF(M42,N42/M42-1,"") -> -0.052501228
B43: autobusy | C43: 276.02521 | D43: 260.63272 | F43: =IF(C43,D43/C43-1,"") -> -0.055764825 | H43: 142.6944 | I43: 286.91137 | K43: =IF(H43,I43/H43-1,"") -> 1.0106702 | M43: 418.71961 | N43: 547.54408 | P43: =IF(M43,N43/M43-1,"") -> 0.30766286
B44: inne | C44: 104.96521 | D44: 98.588249 | F44: =IF(C44,D44/C44-1,"") -> -0.060753048 | H44: 82.660853 | I44: 94.743982 | K44: =IF(H44,I44/H44-1,"") -> 0.14617716 | M44: 187.62606 | N44: 193.33223 | P44: =IF(M44,N44/M44-1,"") -> 0.030412475
B45: maszyny | C45: 2334.2724 | D45: 2218.4176 | F45: =IF(C45,D45/C45-1,"") -> -0.049632094 | H45: 1303.7716 | I45: 1531.1354 | K45: =IF(H45,I45/H45-1,"") -> 0.17438928 | M45: 3638.044 | N45: 3749.5529 | P45: =IF(M45,N45/M45-1,"") -> 0.030650801
B46: sprzęt budowlany | C46: 574.31412 | D46: 507.32349 | F46: =IF(C46,D46/C46-1,"") -> -0.11664459 | H46: 388.08744 | I46: 432.51935 | K46: =IF(H46,I46/H46-1,"") -> 0.11448944 | M46: 962.40156 | N46: 939.84284 | P46: =IF(M46,N46/M46-1,"") -> -0.023440031
B47: maszyny rolnicze | C47: 185.67417 | D47: 165.03399 | F47: =IF(C47,D47/C47-1,"") -> -0.11116344 | H47: 84.876472 | I47: 172.59635 | K47: =IF(H47,I47/H47-1,"") -> 1.0335006 | M47: 270.55064 | N47: 337.63034 | P47: =IF(M47,N47/M47-1,"") -> 0.2479377
... B53: ruchomości - leasing | C53: 14128.578 | D53: 14187.926 | F53: =IF(C53,D53/C53-1,"") -> 0.0042006051 | H53: 8554.1741 | I53: 10406.863 | K53: =IF(H53,I53/H53-1,"") -> 0.216583 | M53: 22682.752 | N53: 24594.789 | P53: =IF(M53,N53/M53-1,"") -> 0.084294766
B55: nieruchomości | M55: 118.40735 | N55: 8.35 | P55: =IF(M55,N55/M55-1,"") -> -0.92948073
B57: łączne finansowanie - leasing | M57: 22801.159 | N57: 24603.139 | P57: =IF(M57,N57/M57-1,"") -> 0.079030189
B60: Finasowanie pożyczką
C61: =C$33 -> I-II 2026 vs I-II 2025 | H61: =H$33 -> III 2026 vs III 2025 | M61: =M$33 -> I-III 2026 vs I-III 2025
...
