Workbook
Name cx: '[1]Dane Le'!#REF!
Name cx: '[1]Dane Le'!#REF!
Name cx: '[1]Dane Le'!#REF!
Name Excel_BuiltIn_Print_Area_2: #REF!
Name Excel_BuiltIn_Print_Area_2: #REF!
Name Excel_BuiltIn_Print_Area_2: #REF!
Name Excel_BuiltIn_Print_Area_4: #REF!
Name Excel_BuiltIn_Print_Area_4: #REF!
Name Excel_BuiltIn_Print_Area_4: #REF!
Name v: #REF!
Name v: #REF!
Name v: #REF!

Sheet summary_03 2026
C2: Związek Polskiego Leasingu , Warszawa 24-04-2026
C5: FINANSOWANIE POJAZDÓW LEKKICH | T5: FINANSOWANIE POJAZDÓW LEKKICH - I kw. 2026r. Łączne finansowanie leasingiem i pożyczką
J10: 01-12 2025 | N10: 01-12 2025
I11: leasing | J11: =('szacunek rynku_03 2026'!N37+'szacunek rynku_03 2026'!N38)/('szacunek rynku_03 2026'!N9+'szacunek rynku_03 2026'!N10) -> 0.9231496 | M11: osobowe | N11: ='szacunek rynku_03 2026'!N9/SUM('szacunek rynku_03 2026'!N9:N10) -> 0.8759828
I12: pożyczka | J12: =1-J11 -> 0.076850396 | M12: dostawcze | N12: =1-N11 -> 0.1240172
I14: leasing | J14: =('szacunek rynku_03 2026'!I37+'szacunek rynku_03 2026'!I38)/('szacunek rynku_03 2026'!H37+'szacunek rynku_03 2026'!H38)-1 -> 0.17455241 | K14: =('szacunek rynku_03 2026'!N37+'szacunek rynku_03 2026'!N38)/('szacunek rynku_03 2026'!M37+'szacunek rynku_03 2026'!M38)-1 -> 0.074777225
I15: pożyczka | J15: =('szacunek rynku_03 2026'!I64+'szacunek rynku_03 2026'!I65)/('szacunek rynku_03 2026'!H64+'szacunek rynku_03 2026'!H65)-1 -> 0.84175207 | K15: =('szacunek rynku_03 2026'!N64+'szacunek rynku_03 2026'!N65)/('szacunek rynku_03 2026'!M64+'szacunek rynku_03 2026'!M65)-1 -> 0.54955855
I16: L+P | J16: =('szacunek rynku_03 2026'!I10+'szacunek rynku_03 2026'!I9)/('szacunek rynku_03 2026'!H9+'szacunek rynku_03 2026'!H10)-1 -> 0.20899034 | K16: =('szacunek rynku_03 2026'!N10+'szacunek rynku_03 2026'!N9)/('szacunek rynku_03 2026'!M9+'szacunek rynku_03 2026'!M10)-1 -> 0.10069506
C41: FINANSOWANIE POJAZDÓW CIĘŻKICH | T41: FINANSOWANIE POJAZDÓW CIĘŻKICH - I kw. 2026r. Łączne finansowanie leasingiem i pożyczką
J46: I kw. 2025 | N46: I kw. 2025
I47: leasing | J47: ='szacunek rynku_03 2026'!N39/'szacunek rynku_03 2026'!N11 -> 0.90680519 | M47: ciężarowe pow. 3.5t | N47: ='szacunek rynku_03 2026'!N12/'szacunek rynku_03 2026'!$N$11 -> 0.22481329
I48: pożyczka | J48: =1-J47 -> 0.093194812 | M48: ciągniki siodłowe | N48: ='szacunek rynku_03 2026'!N13/'szacunek rynku_03 2026'!$N$11 -> 0.48862561
M49: przyczepy/naczepy | N49: ='szacunek rynku_03 2026'!N14/'szacunek rynku_03 2026'!$N$11 -> 0.18046233
M50: autobusy | N50: ='szacunek rynku_03 2026'!N15/'szacunek rynku_03 2026'!$N$11 -> 0.10609878
C76: FINANSOWANIE MASZYN | T76: FINANSOWANIE MASZYN - I kw. 2026r. Łączne finansowanie leasingiem i pożyczką
J81: I kw. 2025 | N81: I kw. 2025
I82: leasing | J82: ='szacunek rynku_03 2026'!N45/'szacunek rynku_03 2026'!N17 -> 0.59015705 | M82: sprzęt budowlany | N82: ='szacunek rynku_03 2026'!N18/'szacunek rynku_03 2026'!$N$17 -> 0.19085992
I83: pożyczka | J83: =1-J82 -> 0.40984295 | M83: maszyny rolnicze | N83: ='szacunek rynku_03 2026'!N19/'szacunek rynku_03 2026'!$N$17 -> 0.22983451
M84: pozostałe maszyny | N84: ='szacunek rynku_03 2026'!N20/'szacunek rynku_03 2026'!$N$17 -> 0.57930556
C113: FINANSOWANIE RUCHOMOŚCI
J118: 01-09/2025 | N118: 0109/2025
I119: leasing | J119: ='szacunek rynku_03 2026'!N53/'szacunek rynku_03 2026'!N25 -> 0.84249556 | M119: OSD | N119: =('szacunek rynku_03 2026'!N9+'szacunek rynku_03 2026'!N10)/'szacunek rynku_03 2026'!N25 -> 0.56570062
I120: pożyczka | J120: =1-J119 -> 0.15750444 | M120: TRK | N120: ='szacunek rynku_03 2026'!N11/'szacunek rynku_03 2026'!N25 -> 0.18367795
M121: maszyny | N121: ='szacunek rynku_03 2026'!N17/'szacunek rynku_03 2026'!N25 -> 0.21763884
M122: IT | N122: ='szacunek rynku_03 2026'!N21/'szacunek rynku_03 2026'!N25 -> 0.013106122
M123: pozostałe | N123: =('szacunek rynku_03 2026'!N16+'szacunek rynku_03 2026'!N22+'szacunek rynku_03 2026'!N23)/'szacunek rynku_03 2026'!N25 -> 0.019876468

Sheet szacunek rynku_03 2026
B2: Związek Polskiego Leasingu , Warszawa 24-04-2026
B3: Łączne finansowanie leasingiem i pożyczką
C5: =C$33 -> I-II 2026 vs I-II 2025 | H5: =H$33 -> III 2026 vs III 2025 | M5: =M$33 -> I-III 2026 vs I-III 2025
C7: =C$35 -> I-II 2025 | D7: =D$35 -> I-II 2026 | F7: =F$35 -> I-II 2026/ I-II 2025 | H7: =H$35 -> III 2025 | I7: =I$35 -> III 2026 | K7: =K$35 -> III 26 / III 25 | M7: =M$35 -> I-III 2025 | N7: =N$35 -> I-III 2026 | P7: =P$35 -> I-III 26/ I-III 25
B8: pojazdy | C8: =SUM(C36,C63) -> 12135.947 | D8: =SUM(D36,D63) -> 12738.25 | F8: =IF(C8,D8/C8-1,"") -> 0.049629657 | H8: =SUM(H36,H63) -> 7566.7735 | I8: =SUM(I36,I63) -> 9343.6592 | K8: =IF(H8,I8/H8-1,"") -> 0.2348274 | M8: =SUM(M36,M63) -> 19702.72 | N8: =SUM(N36,N63) -> 22081.909 | P8: =IF(M8,N8/M8-1,"") -> 0.12075432
B9: osobowe | C9: =SUM(C37,C64) -> 8079.1114 | D9: =SUM(D37,D64) -> 8347.4559 | F9: =IF(C9,D9/C9-1,"") -> 0.033214606 | H9: =SUM(H37,H64) -> 4972.9532 | I9: =SUM(I37,I64) -> 6118.8523 | K9: =IF(H9,I9/H9-1,"") -> 0.23042627 | M9: =SUM(M37,M64) -> 13052.065 | N9: =SUM(N37,N64) -> 14466.308 | P9: =IF(M9,N9/M9-1,"") -> 0.10835401
B10: ciężarowe do 3,5 t | C10: =SUM(C38,C65) -> 1243.0267 | D10: =SUM(D38,D65) -> 1298.1014 | F10: =IF(C10,D10/C10-1,"") -> 0.044306899 | H10: =SUM(H38,H65) -> 708.49608 | I10: =SUM(I38,I65) -> 749.96503 | K10: =IF(H10,I10/H10-1,"") -> 0.058530956 | M10: =SUM(M38,M65) -> 1951.5228 | N10: =SUM(N38,N65) -> 2048.0664 | P10: =IF(M10,N10/M10-1,"") -> 0.049470912
B11: pojazdy ciężkie | C11: =SUM(C39,C66) -> 2706.5422 | D11: =SUM(D39,D66) -> 2987.4969 | F11: =IF(C11,D11/C11-1,"") -> 0.10380575 | H11: =SUM(H39,H66) -> 1798.5763 | I11: =SUM(I39,I66) -> 2374.5733 | K11: =IF(H11,I11/H11-1,"") -> 0.32025163 | M11: =SUM(M39,M66) -> 4505.1185 | N11: =SUM(N39,N66) -> 5362.0701 | P11: =IF(M11,N11/M11-1,"") -> 0.19021733
B12: ciężarowe pow. 3,5 t | C12: =SUM(C40,C67) -> 587.68301 | D12: =SUM(D40,D67) -> 660.40121 | F12: =IF(C12,D12/C12-1,"") -> 0.12373711 | H12: =SUM(H40,H67) -> 419.51243 | I12: =SUM(I40,I67) -> 545.06341 | K12: =IF(H12,I12/H12-1,"") -> 0.29927833 | M12: =SUM(M40,M67) -> 1007.1954 | N12: =SUM(N40,N67) -> 1205.4646 | P12: =IF(M12,N12/M12-1,"") -> 0.19685274
B13: ciągniki siodłowe | C13: =SUM(C41,C68) -> 1256.8707 | D13: =SUM(D41,D68) -> 1490.9115 | F13: =IF(C13,D13/C13-1,"") -> 0.18620912 | H13: =SUM(H41,H68) -> 778.7645 | I13: =SUM(I41,I68) -> 1129.1333 | K13: =IF(H13,I13/H13-1,"") -> 0.44990339 | M13: =SUM(M41,M68) -> 2035.6352 | N13: =SUM(N41,N68) -> 2620.0448 | P13: =IF(M13,N13/M13-1,"") -> 0.28708954
B14: naczepy / przyczepy | C14: =SUM(C42,C69) -> 568.39774 | D14: =SUM(D42,D69) -> 557.31241 | F14: =IF(C14,D14/C14-1,"") -> -0.01950276 | H14: =SUM(H42,H69) -> 440.9556 | I14: =SUM(I42,I69) -> 410.33925 | K14: =IF(H14,I14/H14-1,"") -> -0.069431824 | M14: =SUM(M42,M69) -> 1009.3533 | N14: =SUM(N42,N69) -> 967.65166 | P14: =IF(M14,N14/M14-1,"") -> -0.041315241
B15: autobusy | C15: =SUM(C43,C70) -> 293.59078 | D15: =SUM(D43,D70) -> 278.87177 | F15: =IF(C15,D15/C15-1,"") -> -0.050134466 | H15: =SUM(H43,H70) -> 159.34376 | I15: =SUM(I43,I70) -> 290.03733 | K15: =IF(H15,I15/H15-1,"") -> 0.82019887 | M15: =SUM(M43,M70) -> 452.93454 | N15: =SUM(N43,N70) -> 568.90909 | P15: =IF(M15,N15/M15-1,"") -> 0.25605146
B16: inne | C16: =SUM(C44,C71) -> 107.26637 | D16: =SUM(D44,D71) -> 105.19544 | F16: =IF(C16,D16/C16-1,"") -> -0.019306432 | H16: =SUM(H44,H71) -> 86.747911 | I16: =SUM(I44,I71) -> 100.26864 | K16: =IF(H16,I16/H16-1,"") -> 0.15586236 | M16: =SUM(M44,M71) -> 194.01428 | N16: =SUM(N44,N71) -> 205.46409 | P16: =IF(M16,N16/M16-1,"") -> 0.059015257
B17: maszyny | C17: =SUM(C45,C72) -> 3531.8254 | D17: =SUM(D45,D72) -> 3261.5109 | F17: =IF(C17,D17/C17-1,"") -> -0.076536764 | H17: =SUM(H45,H72) -> 2305.2977 | I17: =SUM(I45,I72) -> 3091.9723 | K17: =IF(H17,I17/H17-1,"") -> 0.3412464 | M17: =SUM(M45,M72) -> 5837.1231 | N17: =SUM(N45,N72) -> 6353.4832 | P17: =IF(M17,N17/M17-1,"") -> 0.088461397
B18: sprzęt budowlany | C18: =SUM(C46,C73) -> 665.29576 | D18: =SUM(D46,D73) -> 570.80176 | F18: =IF(C18,D18/C18-1,"") -> -0.14203307 | H18: =SUM(H46,H73) -> 446.44405 | I18: =SUM(I46,I73) -> 641.82355 | K18: =IF(H18,I18/H18-1,"") -> 0.43763491 | M18: =SUM(M46,M73) -> 1111.7398 | N18: =SUM(N46,N73) -> 1212.6253 | P18: =IF(M18,N18/M18-1,"") -> 0.090745606
B19: maszyny rolnicze | C19: =SUM(C47,C74) -> 898.88109 | D19: =SUM(D47,D74) -> 646.63992 | F19: =IF(C19,D19/C19-1,"") -> -0.28061684 | H19: =SUM(H47,H74) -> 777.32719 | I19: =SUM(I47,I74) -> 813.6098 | K19: =IF(H19,I19/H19-1,"") -> 0.046676112 | M19: =SUM(M47,M74) -> 1676.2083 | N19: =SUM(N47,N74) -> 1460.2497 | P19: =IF(M19,N19/M19-1,"") -> -0.12883754
... B25: ruchomości - leasing + pożyczka | C25: =SUM(C53,C80) -> 16160.915 | D25: =SUM(D53,D80) -> 16409.435 | F25: =IF(C25,D25/C25-1,"") -> 0.015377846 | H25: =SUM(H53,H80) -> 10072.951 | I25: =SUM(I53,I80) -> 12783.347 | K25: =IF(H25,I25/H25-1,"") -> 0.26907662 | M25: =SUM(M53,M80) -> 26233.866 | N25: =SUM(N53,N80) -> 29192.781 | P25: =IF(M25,N25/M25-1,"") -> 0.11278992
B27: nieruchomości | M27: =SUM(M55,M82) -> 132.50208 | N27: =SUM(N55,N82) -> 10.780179 | P27: =IF(M27,N27/M27-1,"") -> -0.91864143
B29: łączne finansowanie - leasing + pożyczka | M29: =SUM(M57,M84) -> 26366.368 | N29: =SUM(N57,N84) -> 29203.562 | P29: =IF(M29,N29/M29-1,"") -> 0.10760654
M30: =M21+M22+M23 -> 694.02249 | N30: =N21+N22+N23 -> 757.38944 | P30: =IF(M30,N30/M30-1,"") -> 0.091303881
B32: Finansowanie leasingiem | N32: =N27/1000 -> 0.010780179
C33: I-II 2026 vs I-II 2025 | H33: III 2026 vs III 2025 | M33: I-III 2026 vs I-III 2025
C35: I-II 2025 | D35: I-II 2026 | F35: I-II 2026/ I-II 2025 | H35: III 2025 | I35: III 2026 | K35: III 26 / III 25 | M35: I-III 2025 | N35: I-III 2026 | P35: I-III 26/ I-III 25
B36: pojazdy | C36: 11376.151 | D36: 11701.296 | F36: =IF(C36,D36/C36-1,"") -> 0.028581331 | H36: 7077.6199 | I36: 8599.6271 | K36: =IF(H36,I36/H36-1,"") -> 0.21504505 | M36: 18453.771 | N36: 20300.924 | P36: =IF(M36,N36/M36-1,"") -> 0.10009622
B37: osobowe | C37: 7619.0207 | D37: 7670.6717 | F37: =IF(C37,D37/C37-1,"") -> 0.0067792132 | H37: 4712.3279 | I37: 5602.9297 | K37: =IF(H37,I37/H37-1,"") -> 0.18899401 | M37: 12331.349 | N37: 13273.601 | P37: =IF(M37,N37/M37-1,"") -> 0.076411167
B38: ciężarowe do 3,5 t | C38: 1177.3381 | D38: 1245.8461 | F38: =IF(C38,D38/C38-1,"") -> 0.058188821 | H38: 675.86981 | I38: 725.79094 | K38: =IF(H38,I38/H38-1,"") -> 0.073862043 | M38: 1853.208 | N38: 1971.637 | P38: =IF(M38,N38/M38-1,"") -> 0.063904886
B39: pojazdy ciężkie | C39: 2474.8269 | D39: 2686.1905 | F39: =IF(C39,D39/C39-1,"") -> 0.085405413 | H39: 1606.7614 | I39: 2176.1625 | K39: =IF(H39,I39/H39-1,"") -> 0.35437815 | M39: 4081.5883 | N39: 4862.353 | P39: =IF(M39,N39/M39-1,"") -> 0.19128944
B40: ciężarowe pow. 3,5 t | C40: 560.39391 | D40: 625.00244 | F40: =IF(C40,D40/C40-1,"") -> 0.11529128 | H40: 394.10597 | I40: 528.43846 | K40: =IF(H40,I40/H40-1,"") -> 0.34085373 | M40: 954.49988 | N40: 1153.4409 | P40: =IF(M40,N40/M40-1,"") -> 0.20842435
B41: ciągniki siodłowe | C41: 1124.041 | D41: 1314.355 | F41: =IF(C41,D41/C41-1,"") -> 0.16931241 | H41: 681.14061 | I41: 991.24421 | K41: =IF(H41,I41/H41-1,"") -> 0.45527105 | M41: 1805.1816 | N41: 2305.5992 | P41: =IF(M41,N41/M41-1,"") -> 0.27721183
B42: naczepy / przyczepy | C42: 514.36684 | D42: 486.20034 | F42: =IF(C42,D42/C42-1,"") -> -0.054759556 | H42: 388.8204 | I42: 369.56846 | K42: =IF(H42,I42/H42-1,"") -> -0.049513708 | M42: 903.18723 | N42: 855.76879 | P42: =IF(M42,N42/M42-1,"") -> -0.052501228
B43: autobusy | C43: 276.02521 | D43: 260.63272 | F43: =IF(C43,D43/C43-1,"") -> -0.055764825 | H43: 142.6944 | I43: 286.91137 | K43: =IF(H43,I43/H43-1,"") -> 1.0106702 | M43: 418.71961 | N43: 547.54408 | P43: =IF(M43,N43/M43-1,"") -> 0.30766286
B44: inne | C44: 104.96521 | D44: 98.588249 | F44: =IF(C44,D44/C44-1,"") -> -0.060753048 | H44: 82.660853 | I44: 94.743982 | K44: =IF(H44,I44/H44-1,"") -> 0.14617716 | M44: 187.62606 | N44: 193.33223 | P44: =IF(M44,N44/M44-1,"") -> 0.030412475
B45: maszyny | C45: 2334.2724 | D45: 2218.4176 | F45: =IF(C45,D45/C45-1,"") -> -0.049632094 | H45: 1303.7716 | I45: 1531.1354 | K45: =IF(H45,I45/H45-1,"") -> 0.17438928 | M45: 3638.044 | N45: 3749.5529 | P45: =IF(M45,N45/M45-1,"") -> 0.030650801
B46: sprzęt budowlany | C46: 574.31412 | D46: 507.32349 | F46: =IF(C46,D46/C46-1,"") -> -0.11664459 | H46: 388.08744 | I46: 432.51935 | K46: =IF(H46,I46/H46-1,"") -> 0.11448944 | M46: 962.40156 | N46: 939.84284 | P46: =IF(M46,N46/M46-1,"") -> -0.023440031
B47: maszyny rolnicze | C47: 185.67417 | D47: 165.03399 | F47: =IF(C47,D47/C47-1,"") -> -0.11116344 | H47: 84.876472 | I47: 172.59635 | K47: =IF(H47,I47/H47-1,"") -> 1.0335006 | M47: 270.55064 | N47: 337.63034 | P47: =IF(M47,N47/M47-1,"") -> 0.2479377
... B53: ruchomości - leasing | C53: 14128.578 | D53: 14187.926 | F53: =IF(C53,D53/C53-1,"") -> 0.0042006051 | H53: 8554.1741 | I53: 10406.863 | K53: =IF(H53,I53/H53-1,"") -> 0.216583 | M53: 22682.752 | N53: 24594.789 | P53: =IF(M53,N53/M53-1,"") -> 0.084294766
B55: nieruchomości | M55: 118.40735 | N55: 8.35 | P55: =IF(M55,N55/M55-1,"") -> -0.92948073
B57: łączne finansowanie - leasing | M57: 22801.159 | N57: 24603.139 | P57: =IF(M57,N57/M57-1,"") -> 0.079030189
B60: Finasowanie pożyczką
C61: =C$33 -> I-II 2026 vs I-II 2025 | H61: =H$33 -> III 2026 vs III 2025 | M61: =M$33 -> I-III 2026 vs I-III 2025
C62: =C$35 -> I-II 2025 | D62: =D$35 -> I-II 2026 | F62: =F$35 -> I-II 2026/ I-II 2025 | H62: =H$35 -> III 2025 | I62: =I$35 -> III 2026 | K62: =K$35 -> III 26 / III 25 | M62: =M$35 -> I-III 2025 | N62: =N$35 -> I-III 2026 | P62: =P$35 -> I-III 26/ I-III 25
B63: pojazdy | C63: 759.79574 | D63: 1036.9531 | F63: =IF(C63,D63/C63-1,"") -> 0.36477874 | H63: 489.15354 | I63: 744.03212 | K63: =IF(H63,I63/H63-1,"") -> 0.52106049 | M63: 1248.9493 | N63: 1780.9852 | P63: =IF(M63,N63/M63-1,"") -> 0.42598681
B64: osobowe | C64: 460.09066 | D64: 676.78419 | F64: =IF(C64,D64/C64-1,"") -> 0.47098008 | H64: 260.62531 | I64: 515.92259 | K64: =IF(H64,I64/H64-1,"") -> 0.97955678 | M64: 720.71597 | N64: 1192.7068 | P64: =IF(M64,N64/M64-1,"") -> 0.65489159
B65: ciężarowe do 3,5 t | C65: 65.6886 | D65: 52.255342 | F65: =IF(C65,D65/C65-1,"") -> -0.20449908 | H65: 32.626263 | I65: 24.174091 | K65: =IF(H65,I65/H65-1,"") -> -0.2590604 | M65: 98.314863 | N65: 76.429432 | P65: =IF(M65,N65/M65-1,"") -> -0.22260551
B66: pojazdy ciężkie | C66: 231.71531 | D66: 301.30634 | F66: =IF(C66,D66/C66-1,"") -> 0.30032988 | H66: 191.81491 | I66: 198.41078 | K66: =IF(H66,I66/H66-1,"") -> 0.034386605 | M66: 423.53022 | N66: 499.71712 | P66: =IF(M66,N66/M66-1,"") -> 0.17988538
B67: ciężarowe pow. 3,5 t | C67: 27.289104 | D67: 35.398774 | F67: =IF(C67,D67/C67-1,"") -> 0.29717613 | H67: 25.406459 | I67: 16.624948 | K67: =IF(H67,I67/H67-1,"") -> -0.34564088 | M67: 52.695562 | N67: 52.023722 | P67: =IF(M67,N67/M67-1,"") -> -0.012749475
B68: ciągniki siodłowe | C68: 132.82973 | D68: 176.55644 | F68: =IF(C68,D68/C68-1,"") -> 0.32919366 | H68: 97.623893 | I68: 137.88908 | K68: =IF(H68,I68/H68-1,"") -> 0.41245219 | M68: 230.45362 | N68: 314.44552 | P68: =IF(M68,N68/M68-1,"") -> 0.36446333
B69: naczepy / przyczepy | C69: 54.030903 | D69: 71.112077 | F69: =IF(C69,D69/C69-1,"") -> 0.31613713 | H69: 52.135201 | I69: 40.770789 | K69: =IF(H69,I69/H69-1,"") -> -0.21797963 | M69: 106.1661 | N69: 111.88287 | P69: =IF(M69,N69/M69-1,"") -> 0.053847343
B70: autobusy | C70: 17.56557 | D70: 18.239051 | F70: =IF(C70,D70/C70-1,"") -> 0.038340952 | H70: 16.64936 | I70: 3.1259572 | K70: =IF(H70,I70/H70-1,"") -> -0.8122476 | M70: 34.21493 | N70: 21.365008 | P70: =IF(M70,N70/M70-1,"") -> -0.37556475
B71: inne | C71: 2.3011678 | D71: 6.607193 | F71: =IF(C71,D71/C71-1,"") -> 1.8712348 | H71: 4.0870576 | I71: 5.5246625 | K71: =IF(H71,I71/H71-1,"") -> 0.35174568 | M71: 6.3882254 | N71: 12.131856 | P71: =IF(M71,N71/M71-1,"") -> 0.89909635
B72: maszyny | C72: 1197.553 | D72: 1043.0933 | F72: =IF(C72,D72/C72-1,"") -> -0.12897939 | H72: 1001.5262 | I72: 1560.8369 | K72: =IF(H72,I72/H72-1,"") -> 0.55845846 | M72: 2199.0792 | N72: 2603.9303 | P72: =IF(M72,N72/M72-1,"") -> 0.18410029
B73: sprzęt budowlany | C73: 90.98164 | D73: 63.478276 | F73: =IF(C73,D73/C73-1,"") -> -0.30229576 | H73: 58.356611 | I73: 209.3042 | K73: =IF(H73,I73/H73-1,"") -> 2.5866408 | M73: 149.33825 | N73: 272.78248 | P73: =IF(M73,N73/M73-1,"") -> 0.82660822
B74: maszyny rolnicze | C74: 713.20692 | D74: 481.60593 | F74: =IF(C74,D74/C74-1,"") -> -0.32473183 | H74: 692.45072 | I74: 641.01345 | K74: =IF(H74,I74/H74-1,"") -> -0.074282933 | M74: 1405.6576 | N74: 1122.6194 | P74: =IF(M74,N74/M74-1,"") -> -0.20135647
... B80: ruchomości - pożyczka | C80: 2032.3373 | D80: 2221.5088 | F80: =IF(C80,D80/C80-1,"") -> 0.093080754 | H80: 1518.7769 | I80: 2376.4838 | K80: =IF(H80,I80/H80-1,"") -> 0.56473528 | M80: 3551.1142 | N80: 4597.9925 | P80: =IF(M80,N80/M80-1,"") -> 0.29480279
B82: nieruchomości | M82: 14.09473 | N82: 2.4301792 | P82: =IF(M82,N82/M82-1,"") -> -0.82758242
B84: łączne finansowanie - pożyczka | M84: 3565.2089 | N84: 4600.4227 | P84: =IF(M84,N84/M84-1,"") -> 0.29036554
C94: =N35 -> I-III 2026 | H94: =M35 -> I-III 2025 | M94: zmiana r/r
C96: Leasing | D96: Pożyczka | F96: Leasing + Pożyczka | H96: Leasing | I96: Pożyczka | K96: Leasing + Pożyczka | M96: Leasing | N96: Pożyczka | P96: Leasing + Pożyczka
B98: POJAZDY | C98: =N36 -> 20300.924 | D98: =N63 -> 1780.9852 | F98: =SUM(F99:F100,F102:F106) -> 22081.909 | H98: =M36 -> 18453.771 | I98: =M63 -> 1248.9493 | K98: =SUM(K99:K100,K102:K106) -> 19702.72 | M98: =IFERROR(C98/H98-1,"") -> 0.10009622 | N98: =IFERROR(D98/I98-1,"") -> 0.42598681 | P98: =IFERROR(F98/K98-1,"") -> 0.12075432
B99: osobowe | C99: =N37 -> 13273.601 | D99: =N64 -> 1192.7068 | F99: =C99+D99 -> 14466.308 | H99: =M37 -> 12331.349 | I99: =M64 -> 720.71597 | K99: =H99+I99 -> 13052.065 | M99: =IFERROR(C99/H99-1,"") -> 0.076411167 | N99: =IFERROR(D99/I99-1,"") -> 0.65489159 | P99: =IFERROR(F99/K99-1,"") -> 0.10835401
B100: ciężarowe do 3,5 t | C100: =N38 -> 1971.637 | D100: =N65 -> 76.429432 | F100: =C100+D100 -> 2048.0664 | H100: =M38 -> 1853.208 | I100: =M65 -> 98.314863 | K100: =H100+I100 -> 1951.5228 | M100: =IFERROR(C100/H100-1,"") -> 0.063904886 | N100: =IFERROR(D100/I100-1,"") -> -0.22260551 | P100: =IFERROR(F100/K100-1,"") -> 0.049470912
B101: pojazdy ciężkie | C101: =N39 -> 4862.353 | D101: =N66 -> 499.71712 | F101: =SUM(F102:F105) -> 5362.0701 | H101: =M39 -> 4081.5883 | I101: =M66 -> 423.53022 | K101: =SUM(K102:K105) -> 4505.1185 | M101: =IFERROR(C101/H101-1,"") -> 0.19128944 | N101: =IFERROR(D101/I101-1,"") -> 0.17988538 | P101: =IFERROR(F101/K101-1,"") -> 0.19021733
B102: ciężarowe pow. 3,5 t | C102: =N40 -> 1153.4409 | D102: =N67 -> 52.023722 | F102: =C102+D102 -> 1205.4646 | H102: =M40 -> 954.49988 | I102: =M67 -> 52.695562 | K102: =H102+I102 -> 1007.1954 | M102: =IFERROR(C102/H102-1,"") -> 0.20842435 | N102: =IFERROR(D102/I102-1,"") -> -0.012749475 | P102: =IFERROR(F102/K102-1,"") -> 0.19685274
B103: ciągniki siodłowe | C103: =N41 -> 2305.5992 | D103: =N68 -> 314.44552 | F103: =C103+D103 -> 2620.0448 | H103: =M41 -> 1805.1816 | I103: =M68 -> 230.45362 | K103: =H103+I103 -> 2035.6352 | M103: =IFERROR(C103/H103-1,"") -> 0.27721183 | N103: =IFERROR(D103/I103-1,"") -> 0.36446333 | P103: =IFERROR(F103/K103-1,"") -> 0.28708954
B104: naczepy / przyczepy | C104: =N42 -> 855.76879 | D104: =N69 -> 111.88287 | F104: =C104+D104 -> 967.65166 | H104: =M42 -> 903.18723 | I104: =M69 -> 106.1661 | K104: =H104+I104 -> 1009.3533 | M104: =IFERROR(C104/H104-1,"") -> -0.052501228 | N104: =IFERROR(D104/I104-1,"") -> 0.053847343 | P104: =IFERROR(F104/K104-1,"") -> -0.041315241
B105: autobusy | C105: =N43 -> 547.54408 | D105: =N70 -> 21.365008 | F105: =C105+D105 -> 568.90909 | H105: =M43 -> 418.71961 | I105: =M70 -> 34.21493 | K105: =H105+I105 -> 452.93454 | M105: =IFERROR(C105/H105-1,"") -> 0.30766286 | N105: =IFERROR(D105/I105-1,"") -> -0.37556475 | P105: =IFERROR(F105/K105-1,"") -> 0.25605146
B106: inne | C106: =N44 -> 193.33223 | D106: =N71 -> 12.131856 | F106: =C106+D106 -> 205.46409 | H106: =M44 -> 187.62606 | I106: =M71 -> 6.3882254 | K106: =H106+I106 -> 194.01428 | M106: =IFERROR(C106/H106-1,"") -> 0.030412475 | N106: =IFERROR(D106/I106-1,"") -> 0.89909635 | P106: =IFERROR(F106/K106-1,"") -> 0.059015257
B107: MiU | C107: =N45 -> 3749.5529 | D107: =N72 -> 2603.9303 | F107: =SUM(F108:F122) -> 6353.4832 | H107: =M45 -> 3638.044 | I107: =M72 -> 2199.0792 | K107: =SUM(K108:K122) -> 5837.1231 | M107: =IFERROR(C107/H107-1,"") -> 0.030650801 | N107: =IFERROR(D107/I107-1,"") -> 0.18410029 | P107: =IFERROR(F107/K107-1,"") -> 0.088461397
B108: Sprzęt Budowlany | C108: 939.84284 | D108: 272.78248 | F108: =C108+D108 -> 1212.6253 | H108: 962.40156 | I108: 149.33825 | K108: =H108+I108 -> 1111.7398 | M108: =IFERROR(C108/H108-1,"") -> -0.023440031 | N108: =IFERROR(D108/I108-1,"") -> 0.82660822 | P108: =IFERROR(F108/K108-1,"") -> 0.090745606
B109: Maszyny Rolnicze | C109: 337.63034 | D109: 1122.6194 | F109: =C109+D109 -> 1460.2497 | H109: 270.55064 | I109: 1405.6576 | K109: =H109+I109 -> 1676.2083 | M109: =IFERROR(C109/H109-1,"") -> 0.2479377 | N109: =IFERROR(D109/I109-1,"") -> -0.20135647 | P109: =IFERROR(F109/K109-1,"") -> -0.12883754
B110: Maszyny Poligraf. | C110: 101.22139 | D110: 21.06606 | F110: =C110+D110 -> 122.28745 | H110: 83.475057 | I110: 47.151922 | K110: =H110+I110 -> 130.62698 | M110: =IFERROR(C110/H110-1,"") -> 0.21259442 | N110: =IFERROR(D110/I110-1,"") -> -0.55323009 | P110: =IFERROR(F110/K110-1,"") -> -0.063842329
B111: maszyny do produkcji tworzyw sztucznych | C111: 140.26737 | D111: 22.473346 | F111: =C111+D111 -> 162.74072 | H111: 176.26854 | I111: 18.889114 | K111: =H111+I111 -> 195.15766 | M111: =IFERROR(C111/H111-1,"") -> -0.20424046 | N111: =IFERROR(D111/I111-1,"") -> 0.18975115 | P111: =IFERROR(F111/K111-1,"") -> -0.16610641
B112: maszyny i urządzenia do obróbki metali | C112: 297.21534 | D112: 114.64431 | F112: =C112+D112 -> 411.85964 | H112: 329.92733 | I112: 48.511082 | K112: =H112+I112 -> 378.43842 | M112: =IFERROR(C112/H112-1,"") -> -0.099149097 | N112: =IFERROR(D112/I112-1,"") -> 1.3632601 | P112: =IFERROR(F112/K112-1,"") -> 0.088313512
B113: maszyny dla przemysłu spożywczego | C113: 201.63385 | D113: 146.27239 | F113: =C113+D113 -> 347.90624 | H113: 146.48007 | I113: 69.656496 | K113: =H113+I113 -> 216.13657 | M113: =IFERROR(C113/H113-1,"") -> 0.37652753 | N113: =IFERROR(D113/I113-1,"") -> 1.0999102 | P113: =IFERROR(F113/K113-1,"") -> 0.60965932
B114: Sprzęt Medyczny | C114: 94.659481 | D114: 278.91371 | F114: =C114+D114 -> 373.57319 | H114: 143.45162 | I114: 214.8732 | K114: =H114+I114 -> 358.32481 | M114: =IFERROR(C114/H114-1,"") -> -0.34012956 | N114: =IFERROR(D114/I114-1,"") -> 0.29803861 | P114: =IFERROR(F114/K114-1,"") -> 0.042554614
B115: Sprzęt Gastronom. | C115: 83.705222 | D115: 5.4204775 | F115: =C115+D115 -> 89.1257 | H115: 53.930463 | I115: 6.4767845 | K115: =H115+I115 -> 60.407248 | M115: =IFERROR(C115/H115-1,"") -> 0.55209537 | N115: =IFERROR(D115/I115-1,"") -> -0.16309127 | P115: =IFERROR(F115/K115-1,"") -> 0.47541401
B116: Wózki Widłowe | C116: 231.69842 | D116: 280.60673 | F116: =C116+D116 -> 512.30515 | H116: 249.51964 | I116: 6.9319647 | K116: =H116+I116 -> 256.45161 | M116: =IFERROR(C116/H116-1,"") -> -0.071422128 | N116: =IFERROR(D116/I116-1,"") -> 39.480115 | P116: =IFERROR(F116/K116-1,"") -> 0.99766791
B117: magazyny energii | C117: 10.237504 | D117: 0.37154552 | F117: =C117+D117 -> 10.60905 | H117: 0.68158041 | I117: 0.849082 | K117: =H117+I117 -> 1.5306624 | M117: =IFERROR(C117/H117-1,"") -> 14.020244 | N117: =IFERROR(D117/I117-1,"") -> -0.56241503 | P117: =IFERROR(F117/K117-1,"") -> 5.9310187
B118: pompy ciepła | C118: 0.72208254 | D118: 1.0486303 | F118: =C118+D118 -> 1.7707129 | H118: 2.3802673 | I118: 0.24016664 | K118: =H118+I118 -> 2.6204339 | M118: =IFERROR(C118/H118-1,"") -> -0.69663804 | N118: =IFERROR(D118/I118-1,"") -> 3.3662614 | P118: =IFERROR(F118/K118-1,"") -> -0.3242673
B119: fotowoltaika | C119: 34.216403 | D119: 63.931506 | F119: =C119+D119 -> 98.147908 | H119: 40.664729 | I119: 37.762777 | K119: =H119+I119 -> 78.427506 | M119: =IFERROR(C119/H119-1,"") -> -0.15857296 | N119: =IFERROR(D119/I119-1,"") -> 0.69297681 | P119: =IFERROR(F119/K119-1,"") -> 0.25144753
... B122: inne MiU | C122: 1274.9483 | D122: 273.57839 | F122: =C122+D122 -> 1548.5267 | H122: 1172.6474 | I122: 192.73725 | K122: =H122+I122 -> 1365.3846 | M122: =IFERROR(C122/H122-1,"") -> 0.087239237 | N122: =IFERROR(D122/I122-1,"") -> 0.41943705 | P122: =IFERROR(F122/K122-1,"") -> 0.13413217
B123: IT | C123: =N49 -> 260.9609 | D123: =N76 -> 121.64325 | F123: =SUM(F124:F126) -> 382.60415 | H123: =M49 -> 225.58193 | I123: =M76 -> 65.825976 | K123: =SUM(K124:K126) -> 291.40791 | M123: =IFERROR(C123/H123-1,"") -> 0.15683421 | N123: =IFERROR(D123/I123-1,"") -> 0.84795213 | P123: =IFERROR(F123/K123-1,"") -> 0.31295046
B124: Sprzęt | C124: 221.02333 | D124: 88.562209 | F124: =C124+D124 -> 309.58554 | H124: 180.28744 | I124: 58.082359 | K124: =H124+I124 -> 238.3698 | M124: =IFERROR(C124/H124-1,"") -> 0.22594966 | N124: =IFERROR(D124/I124-1,"") -> 0.52476949 | P124: =IFERROR(F124/K124-1,"") -> 0.29876157
B125: Oprogram. | C125: 12.442554 | D125: 31.773158 | F125: =C125+D125 -> 44.215712 | H125: 16.72934 | I125: 6.7128609 | K125: =H125+I125 -> 23.442201 | M125: =IFERROR(C125/H125-1,"") -> -0.25624358 | N125: =IFERROR(D125/I125-1,"") -> 3.7331768 | P125: =IFERROR(F125/K125-1,"") -> 0.88615872
B126: inne IT | C126: 27.495017 | D126: 1.3078847 | F126: =C126+D126 -> 28.802902 | H126: 28.565153 | I126: 1.0307553 | K126: =H126+I126 -> 29.595908 | M126: =IFERROR(C126/H126-1,"") -> -0.037462998 | N126: =IFERROR(D126/I126-1,"") -> 0.26886047 | P126: =IFERROR(F126/K126-1,"") -> -0.026794478
B127: POZOSTAŁE ŚRODKI TRANSPORTU | C127: =N50 -> 209.52572 | D127: =N77 -> 72.924804 | F127: =SUM(F128:F130) -> 282.45052 | H127: =M50 -> 263.87138 | I127: =M77 -> 24.421165 | K127: =SUM(K128:K130) -> 288.29254 | M127: =IFERROR(C127/H127-1,"") -> -0.20595512 | N127: =IFERROR(D127/I127-1,"") -> 1.9861312 | P127: =IFERROR(F127/K127-1,"") -> -0.020264211
B128: Powietrzne | C128: 79.68782 | D128: 0.02088727 | F128: =C128+D128 -> 79.708707 | H128: 41.583568 | I128: 0.066058699 | K128: =H128+I128 -> 41.649627 | M128: =IFERROR(C128/H128-1,"") -> 0.91632953 | N128: =IFERROR(D128/I128-1,"") -> -0.68380743 | P128: =IFERROR(F128/K128-1,"") -> 0.91379162
B129: Wodne | C129: 63.999014 | D129: 12.188317 | F129: =C129+D129 -> 76.187331 | H129: 61.938786 | I129: 8.6998939 | K129: =H129+I129 -> 70.63868 | M129: =IFERROR(C129/H129-1,"") -> 0.033262324 | N129: =IFERROR(D129/I129-1,"") -> 0.40097304 | P129: =IFERROR(F129/K129-1,"") -> 0.078549754
B130: Kolejowe | C130: 65.838883 | D130: 60.7156 | F130: =C130+D130 -> 126.55448 | H130: 160.34902 | I130: 15.655212 | K130: =H130+I130 -> 176.00423 | M130: =IFERROR(C130/H130-1,"") -> -0.58940265 | N130: =IFERROR(D130/I130-1,"") -> 2.8782993 | P130: =IFERROR(F130/K130-1,"") -> -0.28095774
B131: INNE RUCHOMOŚCI | C131: =N51 -> 73.825733 | D131: =N78 -> 18.509036 | F131: =C131+D131 -> 92.334769 | H131: =M51 -> 101.48345 | I131: =M78 -> 12.838594 | K131: =H131+I131 -> 114.32204 | M131: =IFERROR(C131/H131-1,"") -> -0.27253424 | N131: =IFERROR(D131/I131-1,"") -> 0.44167154 | P131: =IFERROR(F131/K131-1,"") -> -0.1923275
B132: RUCHOMOŚCI | C132: =C98+C107+C123+C127+C131 -> 24594.789 | D132: =D98+D107+D123+D127+D131 -> 4597.9925 | F132: =SUM(F131,F127,F123,F107,F98) -> 29192.781 | H132: =H98+H107+H123+H127+H131 -> 22682.752 | I132: =I98+I107+I123+I127+I131 -> 3551.1142 | K132: =SUM(K131,K127,K123,K107,K98) -> 26233.866 | M132: =IFERROR(C132/H132-1,"") -> 0.084294766 | N132: =IFERROR(D132/I132-1,"") -> 0.29480279 | P132: =IFERROR(F132/K132-1,"") -> 0.11278992
B133: NIERUCHOMOŚCI | C133: =N55 -> 8.35 | D133: =N82 -> 2.4301792 | F133: =N27 -> 10.780179 | H133: =M55 -> 118.40735 | I133: =M82 -> 14.09473 | K133: =M27 -> 132.50208 | M133: =IFERROR(C133/H133-1,"") -> -0.92948073 | N133: =IFERROR(D133/I133-1,"") -> -0.82758242 | P133: =IFERROR(F133/K133-1,"") -> -0.91864143
B134: budynki przemysłowe | F134: 0 | K134: 12.976015 | M134: =IFERROR(C134/H134-1,"") | N134: =IFERROR(D134/I134-1,"") | P134: =IFERROR(F134/K134-1,"") -> -1
B135: obiekty handlowe i usługowe | F135: 0.96252994 | K135: 99.115572 | M135: =IFERROR(C135/H135-1,"") | N135: =IFERROR(D135/I135-1,"") | P135: =IFERROR(F135/K135-1,"") -> -0.99028881
B136: obiekty biurowe | F136: 0 | K136: 2.2442178 | M136: =IFERROR(C136/H136-1,"") | N136: =IFERROR(D136/I136-1,"") | P136: =IFERROR(F136/K136-1,"") -> -1
B137: hotele i obiekty rekreacyjne | F137: 0.68029754 | K137: 0 | M137: =IFERROR(C137/H137-1,"") | N137: =IFERROR(D137/I137-1,"") | P137: =IFERROR(F137/K137-1,"")
B138: inne | F138: 9.1373518 | K138: 18.166274 | M138: =IFERROR(C138/H138-1,"") | N138: =IFERROR(D138/I138-1,"") | P138: =IFERROR(F138/K138-1,"") -> -0.49701564
B139: OGÓŁEM RUCHOMOŚCI I NIERUCHOMOŚCI | C139: =C132+C133 -> 24603.139 | D139: =D132+D133 -> 4600.4227 | F139: =F133+F132 -> 29203.562 | H139: =H132+H133 -> 22801.159 | I139: =I132+I133 -> 3565.2089 | K139: =K132+K133 -> 26366.368 | M139: =IFERROR(C139/H139-1,"") -> 0.079030189 | N139: =IFERROR(D139/I139-1,"") -> 0.29036554 | P139: =IFERROR(F139/K139-1,"") -> 0.10760654
