Workbook
Name cx: '[1]Dane Le'!#REF!
Name cx: '[1]Dane Le'!#REF!
Name cx: '[1]Dane Le'!#REF!
Name Excel_BuiltIn_Print_Area_2: #REF!
Name Excel_BuiltIn_Print_Area_2: #REF!
Name Excel_BuiltIn_Print_Area_2: #REF!
Name Excel_BuiltIn_Print_Area_4: #REF!
Name Excel_BuiltIn_Print_Area_4: #REF!
Name Excel_BuiltIn_Print_Area_4: #REF!
Name v: #REF!
Name v: #REF!
Name v: #REF!

Sheet summary_04 2026
B2: Związek Polskiego Leasingu, 19-05-2026
C5: FINANSOWANIE POJAZDÓW LEKKICH | T5: FINANSOWANIE POJAZDÓW LEKKICH - kwiecień 2026r. Łączne finansowanie leasingiem i pożyczką
J10: 11 2025 | N10: 11 2025
I11: leasing | J11: =('szacunek rynku_04 2026'!I39+'szacunek rynku_04 2026'!I40)/('szacunek rynku_04 2026'!I11+'szacunek rynku_04 2026'!I12) -> 0.90928969 | M11: osobowe | N11: ='szacunek rynku_04 2026'!I11/SUM('szacunek rynku_04 2026'!I11:I12) -> 0.88442928
I12: pożyczka | J12: =1-J11 -> 0.090710311 | M12: dostawcze | N12: =1-N11 -> 0.11557072
I14: leasing | J14: =('szacunek rynku_04 2026'!I39+'szacunek rynku_04 2026'!I40)/('szacunek rynku_04 2026'!H39+'szacunek rynku_04 2026'!H40)-1 -> 0.010596036 | K14: =('szacunek rynku_04 2026'!N39+'szacunek rynku_04 2026'!N40)/('szacunek rynku_04 2026'!M39+'szacunek rynku_04 2026'!M40)-1 -> 0.057507342
I15: pożyczka | J15: =('szacunek rynku_04 2026'!I66+'szacunek rynku_04 2026'!I67)/('szacunek rynku_04 2026'!H66+'szacunek rynku_04 2026'!H67)-1 -> 0.55774451 | K15: =('szacunek rynku_04 2026'!N66+'szacunek rynku_04 2026'!N67)/('szacunek rynku_04 2026'!M66+'szacunek rynku_04 2026'!M67)-1 -> 0.55194968
I16: L+P | J16: =('szacunek rynku_04 2026'!I12+'szacunek rynku_04 2026'!I11)/('szacunek rynku_04 2026'!H11+'szacunek rynku_04 2026'!H12)-1 -> 0.043854768 | K16: =('szacunek rynku_04 2026'!N12+'szacunek rynku_04 2026'!N11)/('szacunek rynku_04 2026'!M11+'szacunek rynku_04 2026'!M12)-1 -> 0.085326844
C40: FINANSOWANIE POJAZDÓW CIĘŻKICH | T40: FINANSOWANIE POJAZDÓW CIĘŻKICH - kwiecień 2026r. Łączne finansowanie leasingiem i pożyczką
J45: 07/2025 | N45: 07/2025
I46: leasing | J46: ='szacunek rynku_04 2026'!I41/'szacunek rynku_04 2026'!I13 -> 0.85879225 | M46: ciężarowe pow. 3.5t | N46: ='szacunek rynku_04 2026'!I14/'szacunek rynku_04 2026'!$I$13 -> 0.22032459
I47: pożyczka | J47: =1-J46 -> 0.14120775 | M47: ciągniki siodłowe | N47: ='szacunek rynku_04 2026'!I15/'szacunek rynku_04 2026'!$I$13 -> 0.49355537
M48: przyczepy/naczepy | N48: ='szacunek rynku_04 2026'!I16/'szacunek rynku_04 2026'!$I$13 -> 0.18085758
M49: autobusy | N49: ='szacunek rynku_04 2026'!I17/'szacunek rynku_04 2026'!$I$13 -> 0.10526247
C73: FINANSOWANIE MASZYN | T73: FINANSOWANIE MASZYN - kwiecień 2026r. Łączne finansowanie leasingiem i pożyczką
J78: 07/2025 | N78: 07/2025
I79: leasing | J79: ='szacunek rynku_04 2026'!I47/'szacunek rynku_04 2026'!I19 -> 0.62284693 | M79: sprzęt budowlany | N79: ='szacunek rynku_04 2026'!I20/'szacunek rynku_04 2026'!$I$19 -> 0.18565405
I80: pożyczka | J80: =1-J79 -> 0.37715307 | M80: maszyny rolnicze | N80: ='szacunek rynku_04 2026'!I21/'szacunek rynku_04 2026'!$I$19 -> 0.27617762
M81: pozostałe maszyny | N81: ='szacunek rynku_04 2026'!I22/'szacunek rynku_04 2026'!$I$19 -> 0.53816833
C109: FINANSOWANIE RUCHOMOŚCI
J114: 07/2025 | N114: 07/2025
I115: leasing | J115: ='szacunek rynku_04 2026'!I55/'szacunek rynku_04 2026'!I27 -> 0.83028663 | M115: OSD | N115: =('szacunek rynku_04 2026'!I11+'szacunek rynku_04 2026'!I12)/'szacunek rynku_04 2026'!I27 -> 0.54357267
I116: pożyczka | J116: =1-J115 -> 0.16971337 | M116: TRK | N116: ='szacunek rynku_04 2026'!I13/'szacunek rynku_04 2026'!I27 -> 0.20613259
M117: maszyny | N117: ='szacunek rynku_04 2026'!I19/'szacunek rynku_04 2026'!I27 -> 0.21163299
M118: IT | N118: ='szacunek rynku_04 2026'!I23/'szacunek rynku_04 2026'!I27 -> 0.0096876929
M119: pozostałe | N119: =('szacunek rynku_04 2026'!I18+'szacunek rynku_04 2026'!I24+'szacunek rynku_04 2026'!I25)/'szacunek rynku_04 2026'!I27 -> 0.028974052

Sheet szacunek rynku_04 2026
B2: Związek Polskiego Leasingu, 19-05-2026
B4: Łączne finansowanie leasingiem i pożyczką
C7: =C$35 -> I-III 2026 vs I-III 2025 | H7: =H$35 -> IV 2026 vs IV 2025 | M7: =M$35 -> I-IV 2026 vs I-IV 2025
C9: =C$37 -> I-III 2025 | D9: =D$37 -> I-III 2026 | F9: =F$37 -> I-III 26/ I-III 25 | H9: =H$37 -> IV 2025 | I9: =I$37 -> IV 2026 | K9: =K$37 -> IV 2026/ IV 2025 | M9: =M$37 -> I-IV 2025 | N9: =N$37 -> I-IV 2026 | P9: =P$37 -> I-IV 2026/ I-IV 2025
B10: pojazdy | C10: =SUM(C11:C12,C14:C18) -> 19702.72 | D10: =SUM(D11:D12,D14:D18) -> 22081.909 | F10: =IF(C10,D10/C10-1,"") -> 0.12075432 | H10: =SUM(H11:H12,H14:H18) -> 7378.9779 | I10: =SUM(I11:I12,I14:I18) -> 8104.7912 | K10: =IF(H10,I10/H10-1,"") -> 0.098362307 | M10: =SUM(M11:M12,M14:M18) -> 27081.698 | N10: =SUM(N11:N12,N14:N18) -> 30186.7 | P10: =IF(M10,N10/M10-1,"") -> 0.11465315
B11: osobowe | C11: =C39+C66 -> 13052.065 | D11: =D39+D66 -> 14466.308 | F11: =IF(C11,D11/C11-1,"") -> 0.10835401 | H11: =H39+H66 -> 4915.6281 | I11: =I39+I66 -> 5132.9387 | K11: =IF(H11,I11/H11-1,"") -> 0.04420809 | M11: =C11+H11 -> 17967.693 | N11: =D11+I11 -> 19599.247 | P11: =IF(M11,N11/M11-1,"") -> 0.090804875
B12: ciężarowe do 3,5 t | C12: =C40+C67 -> 1951.5228 | D12: =D40+D67 -> 2048.0664 | F12: =IF(C12,D12/C12-1,"") -> 0.049470912 | H12: =H40+H67 -> 644.21939 | I12: =I40+I67 -> 670.73468 | K12: =IF(H12,I12/H12-1,"") -> 0.041158793 | M12: =C12+H12 -> 2595.7422 | N12: =D12+I12 -> 2718.8011 | P12: =IF(M12,N12/M12-1,"") -> 0.047407984
B13: pojazdy ciężkie | C13: =C14+C15+C16+C17 -> 4505.1185 | D13: =D14+D15+D16+D17 -> 5362.0701 | F13: =IF(C13,D13/C13-1,"") -> 0.19021733 | H13: =H14+H15+H16+H17 -> 1701.5221 | I13: =I14+I15+I16+I17 -> 2200.8579 | K13: =IF(H13,I13/H13-1,"") -> 0.29346419 | M13: =M14+M15+M16+M17 -> 6206.6406 | N13: =N14+N15+N16+N17 -> 7562.928 | P13: =IF(M13,N13/M13-1,"") -> 0.21852199
B14: ciężarowe pow. 3,5 t | C14: =C42+C69 -> 1007.1954 | D14: =D42+D69 -> 1205.4646 | F14: =IF(C14,D14/C14-1,"") -> 0.19685274 | H14: =H42+H69 -> 406.69589 | I14: =I42+I69 -> 484.9031 | K14: =IF(H14,I14/H14-1,"") -> 0.192299 | M14: =C14+H14 -> 1413.8913 | N14: =D14+I14 -> 1690.3677 | P14: =IF(M14,N14/M14-1,"") -> 0.19554289
B15: ciągniki siodłowe | C15: =C43+C70 -> 2035.6352 | D15: =D43+D70 -> 2620.0448 | F15: =IF(C15,D15/C15-1,"") -> 0.28708954 | H15: =H43+H70 -> 763.90485 | I15: =I43+I70 -> 1086.2452 | K15: =IF(H15,I15/H15-1,"") -> 0.42196405 | M15: =C15+H15 -> 2799.54 | N15: =D15+I15 -> 3706.29 | P15: =IF(M15,N15/M15-1,"") -> 0.32389248
B16: naczepy / przyczepy | C16: =C44+C71 -> 1009.3533 | D16: =D44+D71 -> 967.65166 | F16: =IF(C16,D16/C16-1,"") -> -0.041315241 | H16: =H44+H71 -> 359.92376 | I16: =I44+I71 -> 398.04182 | K16: =IF(H16,I16/H16-1,"") -> 0.10590594 | M16: =C16+H16 -> 1369.2771 | N16: =D16+I16 -> 1365.6935 | P16: =IF(M16,N16/M16-1,"") -> -0.0026171551
B17: autobusy | C17: =C45+C72 -> 452.93454 | D17: =D45+D72 -> 568.90909 | F17: =IF(C17,D17/C17-1,"") -> 0.25605146 | H17: =H45+H72 -> 170.99759 | I17: =I45+I72 -> 231.66773 | K17: =IF(H17,I17/H17-1,"") -> 0.35480117 | M17: =C17+H17 -> 623.93213 | N17: =D17+I17 -> 800.57682 | P17: =IF(M17,N17/M17-1,"") -> 0.28311524
B18: inne | C18: =C46+C73 -> 194.01428 | D18: =D46+D73 -> 205.46409 | F18: =IF(C18,D18/C18-1,"") -> 0.059015257 | H18: =H46+H73 -> 117.60832 | I18: =I46+I73 -> 100.25998 | K18: =IF(H18,I18/H18-1,"") -> -0.14750948 | M18: =C18+H18 -> 311.62261 | N18: =D18+I18 -> 305.72407 | P18: =IF(M18,N18/M18-1,"") -> -0.018928471
B19: maszyny | C19: =SUM(C20:C22) -> 5837.1231 | D19: =SUM(D20:D22) -> 6353.4832 | F19: =IF(C19,D19/C19-1,"") -> 0.088461397 | H19: =SUM(H20:H22) -> 2286.746 | I19: =SUM(I20:I22) -> 2259.5852 | K19: =IF(H19,I19/H19-1,"") -> -0.011877518 | M19: =SUM(M20:M22) -> 8123.8692 | N19: =SUM(N20:N22) -> 8613.0684 | P19: =IF(M19,N19/M19-1,"") -> 0.060217513
B20: sprzęt budowlany | C20: =C48+C75 -> 1111.7398 | D20: =D48+D75 -> 1212.6253 | F20: =IF(C20,D20/C20-1,"") -> 0.090745606 | H20: =H48+H75 -> 405.3436 | I20: =I48+I75 -> 419.50115 | K20: =IF(H20,I20/H20-1,"") -> 0.034927265 | M20: =C20+H20 -> 1517.0834 | N20: =D20+I20 -> 1632.1265 | P20: =IF(M20,N20/M20-1,"") -> 0.075831721
B21: maszyny rolnicze | C21: =C49+C76 -> 1676.2083 | D21: =D49+D76 -> 1460.2497 | F21: =IF(C21,D21/C21-1,"") -> -0.12883754 | H21: =H49+H76 -> 694.05783 | I21: =I49+I76 -> 624.04686 | K21: =IF(H21,I21/H21-1,"") -> -0.10087195 | M21: =C21+H21 -> 2370.2661 | N21: =D21+I21 -> 2084.2966 | P21: =IF(M21,N21/M21-1,"") -> -0.1206487
B22: inne MiU | C22: =C50+C77 -> 3049.175 | D22: =D50+D77 -> 3680.6082 | F22: =IF(C22,D22/C22-1,"") -> 0.20708326 | H22: =H50+H77 -> 1187.3446 | I22: =I50+I77 -> 1216.0372 | K22: =IF(H22,I22/H22-1,"") -> 0.024165316 | M22: =C22+H22 -> 4236.5197 | N22: =D22+I22 -> 4896.6453 | P22: =IF(M22,N22/M22-1,"") -> 0.15581792
B23: IT | C23: =C51+C78 -> 291.40791 | D23: =D51+D78 -> 382.60415 | F23: =IF(C23,D23/C23-1,"") -> 0.31295046 | H23: =H51+H78 -> 133.69239 | I23: =I51+I78 -> 103.43457 | K23: =IF(H23,I23/H23-1,"") -> -0.22632417 | M23: =C23+H23 -> 425.1003 | N23: =D23+I23 -> 486.03872 | P23: =IF(M23,N23/M23-1,"") -> 0.14335069
B24: statki, samoloty, kolej | C24: =C52+C79 -> 288.29254 | D24: =D52+D79 -> 282.45052 | F24: =IF(C24,D24/C24-1,"") -> -0.020264211 | H24: =H52+H79 -> 151.79063 | I24: =I52+I79 -> 163.46037 | K24: =IF(H24,I24/H24-1,"") -> 0.076880458 | M24: =C24+H24 -> 440.08318 | N24: =D24+I24 -> 445.91089 | P24: =IF(M24,N24/M24-1,"") -> 0.013242298
B25: inne | C25: =C53+C80 -> 114.32204 | D25: =D53+D80 -> 92.334769 | F25: =IF(C25,D25/C25-1,"") -> -0.1923275 | H25: =H53+H80 -> 28.799773 | I25: =I53+I80 -> 45.632829 | K25: =IF(H25,I25/H25-1,"") -> 0.5844857 | M25: =C25+H25 -> 143.12181 | N25: =D25+I25 -> 137.9676 | P25: =IF(M25,N25/M25-1,"") -> -0.036012796
B27: ruchomości - leasing + pożyczka | C27: =SUM(C10,C20:C25) -> 26233.866 | D27: =SUM(D10,D20:D25) -> 29192.781 | F27: =IF(C27,D27/C27-1,"") -> 0.11278992 | H27: =SUM(H10,H20:H25) -> 9980.0068 | I27: =SUM(I10,I20:I25) -> 10676.904 | K27: =IF(H27,I27/H27-1,"") -> 0.069829351 | M27: =SUM(M10,M20:M25) -> 36213.873 | N27: =SUM(N10,N20:N25) -> 39869.686 | P27: =IF(M27,N27/M27-1,"") -> 0.10095062
B34: Finansowanie leasingiem
C35: I-III 2026 vs I-III 2025 | H35: IV 2026 vs IV 2025 | M35: I-IV 2026 vs I-IV 2025
C37: I-III 2025 | D37: I-III 2026 | F37: I-III 26/ I-III 25 | H37: IV 2025 | I37: IV 2026 | K37: IV 2026/ IV 2025 | M37: I-IV 2025 | N37: I-IV 2026 | P37: I-IV 2026/ I-IV 2025
B38: pojazdy | C38: 18453.771 | D38: 20300.924 | F38: =IF(C38,D38/C38-1,"") -> 0.10009622 | H38: 6888.2772 | I38: 7262.5891 | K38: =IF(H38,I38/H38-1,"") -> 0.054340422 | M38: =SUM(M39:M40,M42:M46) -> 25342.048 | N38: =SUM(N39:N40,N42:N46) -> 27563.513 | P38: =IF(M38,N38/M38-1,"") -> 0.087659236
B39: osobowe | C39: 12331.349 | D39: 13273.601 | F39: =IF(C39,D39/C39-1,"") -> 0.076411167 | H39: 4603.7195 | I39: 4640.5659 | K39: =IF(H39,I39/H39-1,"") -> 0.0080036319 | M39: =C39+H39 -> 16935.068 | N39: =D39+I39 -> 17914.167 | P39: =IF(M39,N39/M39-1,"") -> 0.057814897
B40: ciężarowe do 3,5 t | C40: 1853.208 | D40: 1971.637 | F40: =IF(C40,D40/C40-1,"") -> 0.063904886 | H40: 618.16954 | I40: 636.65439 | K40: =IF(H40,I40/H40-1,"") -> 0.02990255 | M40: =C40+H40 -> 2471.3775 | N40: =D40+I40 -> 2608.2914 | P40: =IF(M40,N40/M40-1,"") -> 0.055399828
B41: pojazdy ciężkie | C41: 4081.5883 | D41: 4862.353 | F41: =IF(C41,D41/C41-1,"") -> 0.19128944 | H41: 1554.3932 | I41: 1890.0797 | K41: =IF(H41,I41/H41-1,"") -> 0.21595982 | M41: =M42+M43+M44+M45 -> 5635.9815 | N41: =N42+N43+N44+N45 -> 6752.4327 | P41: =IF(M41,N41/M41-1,"") -> 0.19809349
B42: ciężarowe pow. 3,5 t | C42: 954.49988 | D42: 1153.4409 | F42: =IF(C42,D42/C42-1,"") -> 0.20842435 | H42: 389.14382 | I42: 458.56581 | K42: =IF(H42,I42/H42-1,"") -> 0.17839674 | M42: =C42+H42 -> 1343.6437 | N42: =D42+I42 -> 1612.0067 | P42: =IF(M42,N42/M42-1,"") -> 0.19972781
B43: ciągniki siodłowe | C43: 1805.1816 | D43: 2305.5992 | F43: =IF(C43,D43/C43-1,"") -> 0.27721183 | H43: 689.62423 | I43: 885.26511 | K43: =IF(H43,I43/H43-1,"") -> 0.28369201 | M43: =C43+H43 -> 2494.8058 | N43: =D43+I43 -> 3190.8644 | P43: =IF(M43,N43/M43-1,"") -> 0.2790031
B44: naczepy / przyczepy | C44: 903.18723 | D44: 855.76879 | F44: =IF(C44,D44/C44-1,"") -> -0.052501228 | H44: 325.16496 | I44: 333.42807 | K44: =IF(H44,I44/H44-1,"") -> 0.025412055 | M44: =C44+H44 -> 1228.3522 | N44: =D44+I44 -> 1189.1969 | P44: =IF(M44,N44/M44-1,"") -> -0.031876305
B45: autobusy | C45: 418.71961 | D45: 547.54408 | F45: =IF(C45,D45/C45-1,"") -> 0.30766286 | H45: 150.46022 | I45: 212.82073 | K45: =IF(H45,I45/H45-1,"") -> 0.41446509 | M45: =C45+H45 -> 569.17983 | N45: =D45+I45 -> 760.36481 | P45: =IF(M45,N45/M45-1,"") -> 0.33589557
B46: inne | C46: 187.62606 | D46: 193.33223 | F46: =IF(C46,D46/C46-1,"") -> 0.030412475 | H46: 111.99494 | I46: 95.28902 | K46: =IF(H46,I46/H46-1,"") -> -0.14916672 | M46: =C46+H46 -> 299.621 | N46: =D46+I46 -> 288.62125 | P46: =IF(M46,N46/M46-1,"") -> -0.036712196
B47: maszyny | C47: 3638.044 | D47: 3749.5529 | F47: =IF(C47,D47/C47-1,"") -> 0.030650801 | H47: 1422.9306 | I47: 1407.3757 | K47: =IF(H47,I47/H47-1,"") -> -0.01093157 | M47: =SUM(M48:M50) -> 5060.9745 | N47: =SUM(N48:N50) -> 5156.9286 | P47: =IF(M47,N47/M47-1,"") -> 0.018959609
B48: sprzęt budowlany | C48: 962.40156 | D48: 939.84284 | F48: =IF(C48,D48/C48-1,"") -> -0.023440031 | H48: 352.64242 | I48: 387.06306 | K48: =IF(H48,I48/H48-1,"") -> 0.097607786 | M48: =C48+H48 -> 1315.044 | N48: =D48+I48 -> 1326.9059 | P48: =IF(M48,N48/M48-1,"") -> 0.0090201723
B49: maszyny rolnicze | C49: 270.55064 | D49: 337.63034 | F49: =IF(C49,D49/C49-1,"") -> 0.2479377 | H49: 122.92595 | I49: 120.68224 | K49: =IF(H49,I49/H49-1,"") -> -0.01825259 | M49: =C49+H49 -> 393.47659 | N49: =D49+I49 -> 458.31258 | P49: =IF(M49,N49/M49-1,"") -> 0.16477724
B50: inne MiU | C50: 2405.0918 | D50: 2472.0797 | F50: =IF(C50,D50/C50-1,"") -> 0.027852568 | H50: 947.36219 | I50: 899.6304 | K50: =IF(H50,I50/H50-1,"") -> -0.050383892 | M50: =C50+H50 -> 3352.454 | N50: =D50+I50 -> 3371.7101 | P50: =IF(M50,N50/M50-1,"") -> 0.0057439084
B51: IT | C51: 225.58193 | D51: 260.9609 | F51: =IF(C51,D51/C51-1,"") -> 0.15683421 | H51: 85.481615 | I51: 69.127895 | K51: =IF(H51,I51/H51-1,"") -> -0.19131271 | M51: =C51+H51 -> 311.06355 | N51: =D51+I51 -> 330.08879 | P51: =IF(M51,N51/M51-1,"") -> 0.061161922
B52: statki, samoloty, kolej | C52: 263.87138 | D52: 209.52572 | F52: =IF(C52,D52/C52-1,"") -> -0.20595512 | H52: 99.501055 | I52: 88.835637 | K52: =IF(H52,I52/H52-1,"") -> -0.107189 | M52: =C52+H52 -> 363.37243 | N52: =D52+I52 -> 298.36135 | P52: =IF(M52,N52/M52-1,"") -> -0.17891032
B53: inne | C53: 101.48345 | D53: 73.825733 | F53: =IF(C53,D53/C53-1,"") -> -0.27253424 | H53: 24.894953 | I53: 36.962444 | K53: =IF(H53,I53/H53-1,"") -> 0.48473645 | M53: =C53+H53 -> 126.3784 | N53: =D53+I53 -> 110.78818 | P53: =IF(M53,N53/M53-1,"") -> -0.12336145
...
