Workbook

Sheet leasing
A2: Związek Polskiego Leasingu
A4: Ilość środków trwałych oddanych w leasing w I kw 2021 r. (sztuki)
A6: Lp. | B6: Spółka | C6: ŚRODKI TRANSPORTU DROGOWEGO | D6: Osobowe | E6: Cięzarowe: | F6: o masie do 3,5t | G6: o masie powyżej 3,5t | H6: Ciągniki siodłowe | I6: Naczepy / przyczepy | J6: Autobusy | K6: inne pojazdy | L6: MiU | M6: Sprzęt Budowlany | N6: Maszyny Rolnicze | O6: Maszyny Poligraf. | P6: maszyny do produkcji tworzyw sztucznych | Q6: maszyny i urządzenia do obróbki metali | R6: maszyny dla przemysłu spożywczego | S6: Sprzęt Medyczny | T6: Sprzęt Gastronom. | U6: Wózki Widłowe | V6: inne MiU | W6: IT | X6: Sprzęt | Y6: Oprogram. | Z6: inne IT | AA6: POZOSTAŁE ŚRODKI TRANSPORTU | AB6: Powietrzne | AC6: Wodne | AD6: Kolejowe | AE6: Inne ruchomości | AF6: RUCHOMOŚCI | AG6: NIERUCHOMOŚCI | AH6: budynki przemysłowe | AI6: obiekty handlowe i usługowe | AJ6: obiekty biurowe | AK6: hotele i obiekty rekreacyjne | AL6: inne | AM6: OGÓŁEM RUCHOMOŚCI I NIERUCHOMOŚCI
A7: 1. | B7: BOS EKO Leasing | C7: 34 | D7: 8 | E7: 17 | F7: 16 | G7: 1 | H7: 5 | I7: 3 | J7: 0 | K7: 1 | L7: 35 | M7: 0 | N7: 9 | O7: 0 | P7: 4 | Q7: 1 | R7: 1 | S7: 0 | T7: 0 | U7: 2 | V7: 18 | W7: 0 | X7: 0 | Y7: 0 | Z7: 0 | AA7: 208 | AB7: 1 | AC7: 0 | AD7: 207 | AE7: 0 | AF7: =C7+L7+W7+AA7+AE7 -> 277 | AG7: 0 | AH7: 0 | AI7: 0 | AJ7: 0 | AK7: 0 | AL7: 0 | AM7: =IFERROR(AF7+AG7,0) -> 277
A8: 2. | B8: BPS Leasing S.A | C8: 242 | D8: 147 | E8: 52 | F8: 44 | G8: 8 | H8: 17 | I8: 20 | J8: 0 | K8: 6 | L8: 22 | M8: 7 | N8: 0 | O8: 2 | P8: 2 | Q8: 0 | R8: 1 | S8: 2 | T8: 0 | U8: 4 | V8: 4 | W8: 0 | X8: 0 | Y8: 0 | Z8: 0 | AA8: 1 | AB8: 0 | AC8: 0 | AD8: 1 | AE8: 9 | AF8: =C8+L8+W8+AA8+AE8 -> 274 | AG8: 0 | AH8: 0 | AI8: 0 | AJ8: 0 | AK8: 0 | AL8: 0 | AM8: =IFERROR(AF8+AG8,0) -> 274
A9: 3. | B9: Caterpillar Financial Services Poland Sp. z o. o. | C9: 0 | D9: 0 | E9: 0 | F9: 0 | G9: 0 | H9: 0 | I9: 0 | J9: 0 | K9: 0 | L9: 208 | M9: 208 | N9: 0 | O9: 0 | P9: 0 | Q9: 0 | R9: 0 | S9: 0 | T9: 0 | U9: 0 | V9: 0 | W9: 0 | X9: 0 | Y9: 0 | Z9: 0 | AA9: 0 | AB9: 0 | AC9: 0 | AD9: 0 | AE9: 0 | AF9: =C9+L9+W9+AA9+AE9 -> 208 | AG9: 0 | AH9: 0 | AI9: 0 | AJ9: 0 | AK9: 0 | AL9: 0 | AM9: =IFERROR(AF9+AG9,0) -> 208
A10: 4. | B10: De Lage Landen Leasing Polska S.A. | C10: 25 | D10: 3 | E10: 3 | F10: 3 | G10: 0 | H10: 19 | I10: 0 | J10: 0 | K10: 0 | L10: 140 | M10: 32 | N10: 14 | O10: 0 | P10: 0 | Q10: 0 | R10: 0 | S10: 24 | T10: 0 | U10: 17 | V10: 53 | W10: 100 | X10: 100 | Y10: 0 | Z10: 0 | AA10: 0 | AB10: 0 | AC10: 0 | AD10: 0 | AE10: 0 | AF10: =C10+L10+W10+AA10+AE10 -> 265 | AG10: 0 | AH10: 0 | AI10: 0 | AJ10: 0 | AK10: 0 | AL10: 0 | AM10: =IFERROR(AF10+AG10,0) -> 265
A11: 5. | B11: Europejski Fundusz Leasingowy S.A. | C11: 9288 | D11: 4682 | E11: 2270 | F11: 1775 | G11: 495 | H11: 1090 | I11: 1064 | J11: 29 | K11: 153 | L11: 3825 | M11: 1179 | N11: 435 | O11: 52 | P11: 53 | Q11: 176 | R11: 61 | S11: 62 | T11: 323 | U11: 230 | V11: 1254 | W11: 466 | X11: 242 | Y11: 115 | Z11: 109 | AA11: 30 | AB11: 7 | AC11: 23 | AD11: 0 | AE11: 0 | AF11: =C11+L11+W11+AA11+AE11 -> 13609 | AG11: 4 | AH11: 0 | AI11: 0 | AJ11: 0 | AK11: 0 | AL11: 4 | AM11: =IFERROR(AF11+AG11,0) -> 13613
A12: 6. | B12: FCA Leasing Sp. z o.o. | C12: 621 | D12: 218 | E12: 398 | F12: 398 | G12: 0 | H12: 0 | I12: 0 | J12: 0 | K12: 5 | L12: 0 | M12: 0 | N12: 0 | O12: 0 | P12: 0 | Q12: 0 | R12: 0 | S12: 0 | T12: 0 | U12: 0 | V12: 0 | W12: 0 | X12: 0 | Y12: 0 | Z12: 0 | AA12: 0 | AB12: 0 | AC12: 0 | AD12: 0 | AE12: 0 | AF12: =C12+L12+W12+AA12+AE12 -> 621 | AG12: 0 | AH12: 0 | AI12: 0 | AJ12: 0 | AK12: 0 | AL12: 0 | AM12: =IFERROR(AF12+AG12,0) -> 621
A13: 7. | B13: Idea Leasing S.A. | C13: 4761 | D13: 2186 | E13: 1135 | F13: 887 | G13: 248 | H13: 727 | I13: 600 | J13: 22 | K13: 91 | L13: 1065 | M13: 237 | N13: 376 | O13: 27 | P13: 43 | Q13: 29 | R13: 21 | S13: 77 | T13: 36 | U13: 62 | V13: 157 | W13: 40 | X13: 26 | Y13: 0 | Z13: 14 | AA13: 17 | AB13: 4 | AC13: 13 | AD13: 0 | AE13: 237 | AF13: =C13+L13+W13+AA13+AE13 -> 6120 | AG13: 0 | AH13: 0 | AI13: 0 | AJ13: 0 | AK13: 0 | AL13: 0 | AM13: =IFERROR(AF13+AG13,0) -> 6120
A14: 8. | B14: Impuls-Leasing Polska Sp. z o. o. | C14: 1811 | D14: 1106 | E14: 361 | F14: 307 | G14: 54 | H14: 139 | I14: 176 | J14: 5 | K14: 24 | L14: 333 | M14: 41 | N14: 32 | O14: 11 | P14: 6 | Q14: 9 | R14: 0 | S14: 23 | T14: 37 | U14: 96 | V14: 78 | W14: 3 | X14: 3 | Y14: 0 | Z14: 0 | AA14: 0 | AB14: 0 | AC14: 0 | AD14: 0 | AE14: 0 | AF14: =C14+L14+W14+AA14+AE14 -> 2147 | AG14: 0 | AH14: 0 | AI14: 0 | AJ14: 0 | AK14: 0 | AL14: 0 | AM14: =IFERROR(AF14+AG14,0) -> 2147
A15: 9. | B15: ING Lease (Polska ) Sp. z o. o. | C15: 6032 | D15: 3054 | E15: 1696 | F15: 1533 | G15: 163 | H15: 617 | I15: 601 | J15: 4 | K15: 60 | L15: 1199 | M15: 208 | N15: 38 | O15: 25 | P15: 59 | Q15: 167 | R15: 85 | S15: 58 | T15: 14 | U15: 202 | V15: 343 | W15: 72 | X15: 72 | Y15: 0 | Z15: 0 | AA15: 10 | AB15: 0 | AC15: 3 | AD15: 7 | AE15: 166 | AF15: =C15+L15+W15+AA15+AE15 -> 7479 | AG15: 2 | AH15: 0 | AI15: 0 | AJ15: 0 | AK15: 0 | AL15: 2 | AM15: =IFERROR(AF15+AG15,0) -> 7481
A16: 10. | B16: Millennium Leasing Sp. z o. o. | C16: 3256 | D16: 1359 | E16: 645 | F16: 518 | G16: 127 | H16: 461 | I16: 706 | J16: 27 | K16: 58 | L16: 1183 | M16: 192 | N16: 21 | O16: 31 | P16: 108 | Q16: 0 | R16: 65 | S16: 63 | T16: 0 | U16: 269 | V16: 434 | W16: 32 | X16: 0 | Y16: 32 | Z16: 0 | AA16: 5 | AB16: 2 | AC16: 2 | AD16: 1 | AE16: 0 | AF16: =C16+L16+W16+AA16+AE16 -> 4476 | AG16: 0 | AH16: 0 | AI16: 0 | AJ16: 0 | AK16: 0 | AL16: 0 | AM16: =IFERROR(AF16+AG16,0) -> 4476
A17: 11. | B17: mLeasing Sp. z o. o. | C17: 7146 | D17: 5438 | E17: 890 | F17: 785 | G17: 105 | H17: 287 | I17: 485 | J17: 14 | K17: 32 | L17: 1376 | M17: 92 | N17: 10 | O17: 79 | P17: 22 | Q17: 81 | R17: 15 | S17: 92 | T17: 128 | U17: 197 | V17: 660 | W17: 524 | X17: 524 | Y17: 0 | Z17: 0 | AA17: 31 | AB17: 7 | AC17: 23 | AD17: 1 | AE17: 585 | AF17: =C17+L17+W17+AA17+AE17 -> 9662 | AG17: 4 | AH17: 0 | AI17: 4 | AJ17: 0 | AK17: 0 | AL17: 0 | AM17: =IFERROR(AF17+AG17,0) -> 9666
A18: 12. | B18: PEAC (POLAND) sp. z o. o. | C18: 161 | D18: 132 | E18: 1 | F18: 0 | G18: 1 | H18: 0 | I18: 28 | J18: 0 | K18: 0 | L18: 252 | M18: 5 | N18: 10 | O18: 1 | P18: 3 | Q18: 8 | R18: 7 | S18: 7 | T18: 0 | U18: 15 | V18: 196 | W18: 16 | X18: 16 | Y18: 0 | Z18: 0 | AA18: 0 | AB18: 0 | AC18: 0 | AD18: 0 | AE18: 0 | AF18: =C18+L18+W18+AA18+AE18 -> 429 | AG18: 0 | AH18: 0 | AI18: 0 | AJ18: 0 | AK18: 0 | AL18: 0 | AM18: =IFERROR(AF18+AG18,0) -> 429
... A26: 20. | B26: Siemens Finance Sp. z o. o. | C26: 7 | D26: 1 | E26: 0 | F26: 0 | G26: 0 | H26: 5 | I26: 1 | J26: 0 | K26: 0 | L26: 622 | M26: 13 | N26: 12 | O26: 14 | P26: 6 | Q26: 28 | R26: 0 | S26: 451 | T26: 0 | U26: 2 | V26: 96 | W26: 1017 | X26: 992 | Y26: 25 | Z26: 0 | AA26: 0 | AB26: 0 | AC26: 0 | AD26: 0 | AE26: 0 | AF26: =C26+L26+W26+AA26+AE26 -> 1646 | AG26: 0 | AH26: 0 | AI26: 0 | AJ26: 0 | AK26: 0 | AL26: 0 | AM26: =IFERROR(AF26+AG26,0) -> 1646
B27: RAZEM | C27: =SUM(C7:C26) -> 61444 | D27: =SUM(D7:D26) -> 35429 | E27: =SUM(E7:E26) -> 12091 | F27: =SUM(F7:F26) -> 10095 | G27: =SUM(G7:G26) -> 1996 | H27: =SUM(H7:H26) -> 6050 | I27: =SUM(I7:I26) -> 6805 | J27: =SUM(J7:J26) -> 179 | ... AE27: =SUM(AE7:AE26) -> 1048 | AF27: =C27+L27+W27+AA27+AE27 -> 86356 | AG27: =SUM(AG7:AG26) -> 12 | AH27: =SUM(AH7:AH26) -> 0 | AI27: =SUM(AI7:AI26) -> 4 | AJ27: =SUM(AJ7:AJ26) -> 0 | AK27: =SUM(AK7:AK26) -> 0 | AL27: =SUM(AL7:AL26) -> 8 | AM27: =AF27+AG27 -> 86368
A29: Wartość sródków trwałych w leasing w I kw 2021 r. (netto tys. PLN)
A31: Lp. | B31: Spółka | C31: ŚRODKI TRANSPORTU DROGOWEGO | D31: Osobowe | E31: Cięzarowe: | F31: o masie do 3,5t | G31: o masie powyżej 3,5t | H31: Ciągniki siodłowe | I31: Naczepy / przyczepy | J31: Autobusy | K31: inne pojazdy | L31: MiU | M31: Sprzęt Budowlany | N31: Maszyny Rolnicze | O31: Maszyny Poligraf. | P31: maszyny do produkcji tworzyw sztucznych | Q31: maszyny i urządzenia do obróbki metali | R31: maszyny dla przemysłu spożywczego | S31: Sprzęt Medyczny | T31: Sprzęt Gastronom. | U31: Wózki Widłowe | V31: inne MiU | W31: IT | X31: Sprzęt | Y31: Oprogram. | Z31: inne IT | AA31: POZOSTAŁE ŚRODKI TRANSPORTU | AB31: Powietrzne | AC31: Wodne | AD31: Kolejowe | AE31: Inne ruchomości | AF31: RUCHOMOŚCI | AG31: NIERUCHOMOŚCI | AH31: budynki przemysłowe | AI31: obiekty handlowe i usługowe | AJ31: obiekty biurowe | AK31: hotele i obiekty rekreacyjne | AL31: inne | AM31: OGÓŁEM RUCHOMOŚCI I NIERUCHOMOŚCI
A32: 1. | B32: BOS EKO Leasing | C32: 4823 | D32: 1670 | E32: 1190 | F32: 1070 | G32: 120 | H32: 1413 | I32: 150 | J32: 0 | K32: 400 | L32: 8060 | M32: 0 | N32: 1140 | O32: 0 | P32: 360 | Q32: 2690 | R32: 140 | S32: 0 | T32: 0 | U32: 250 | V32: 3480 | W32: 0 | X32: 0 | Y32: 0 | Z32: 0 | AA32: 43824 | AB32: 19800 | AC32: 0 | AD32: 24024 | AE32: 0 | AF32: =IFERROR(C32+L32+W32+AA32+AE32,0) -> 56707 | AG32: 0 | AH32: 0 | AI32: 0 | AJ32: 0 | AK32: 0 | AL32: 0 | AM32: =IFERROR(+AF32+AG32,0) -> 56707
A33: 2. | B33: BPS Leasing S.A | C33: 30608 | D33: 13564 | E33: 7152 | F33: 4184 | G33: 2968 | H33: 4807 | I33: 4099 | J33: 0 | K33: 986 | L33: 5652 | M33: 2685 | N33: 0 | O33: 380 | P33: 260 | Q33: 0 | R33: 870 | S33: 185 | T33: 0 | U33: 330 | V33: 942 | W33: 0 | X33: 0 | Y33: 0 | Z33: 0 | AA33: 534 | AB33: 0 | AC33: 0 | AD33: 534 | AE33: 1741 | AF33: =IFERROR(C33+L33+W33+AA33+AE33,0) -> 38535 | AG33: 0 | AH33: 0 | AI33: 0 | AJ33: 0 | AK33: 0 | AL33: 0 | AM33: =IFERROR(+AF33+AG33,0) -> 38535
A34: 3. | B34: Caterpillar Financial Services Poland Sp. z o. o. | C34: 0 | D34: 0 | E34: 0 | F34: 0 | G34: 0 | H34: 0 | I34: 0 | J34: 0 | K34: 0 | L34: 100760 | M34: 100760 | N34: 0 | O34: 0 | P34: 0 | Q34: 0 | R34: 0 | S34: 0 | T34: 0 | U34: 0 | V34: 0 | W34: 0 | X34: 0 | Y34: 0 | Z34: 0 | AA34: 0 | AB34: 0 | AC34: 0 | AD34: 0 | AE34: 0 | AF34: =IFERROR(C34+L34+W34+AA34+AE34,0) -> 100760 | AG34: 0 | AH34: 0 | AI34: 0 | AJ34: 0 | AK34: 0 | AL34: 0 | AM34: =IFERROR(+AF34+AG34,0) -> 100760
A35: 4. | B35: De Lage Landen Leasing Polska S.A. | C35: 8654 | D35: 296 | E35: 441 | F35: 441 | G35: 0 | H35: 7917 | I35: 0 | J35: 0 | K35: 0 | L35: 25930 | M35: 13813 | N35: 6186 | O35: 0 | P35: 0 | Q35: 0 | R35: 0 | S35: 978 | T35: 0 | U35: 1983 | V35: 2970 | W35: 6311 | X35: 6311 | Y35: 0 | Z35: 0 | AA35: 0 | AB35: 0 | AC35: 0 | AD35: 0 | AE35: 0 | AF35: =IFERROR(C35+L35+W35+AA35+AE35,0) -> 40895 | AG35: 0 | AH35: 0 | AI35: 0 | AJ35: 0 | AK35: 0 | AL35: 0 | AM35: =IFERROR(+AF35+AG35,0) -> 40895
A36: 5. | B36: Europejski Fundusz Leasingowy S.A. | C36: 1227946 | D36: 553136 | E36: 300052 | F36: 196898 | G36: 103154 | H36: 241989 | I36: 118631 | J36: 7346 | K36: 6792 | L36: 463913 | M36: 178630 | N36: 71461 | O36: 5495 | P36: 8941 | Q36: 30236 | R36: 9752 | S36: 4496 | T36: 17528 | U36: 16062 | V36: 121312 | W36: 24292 | X36: 12882 | Y36: 7288 | Z36: 4122 | AA36: 8748 | AB36: 3799 | AC36: 4949 | AD36: 0 | AE36: 0 | AF36: =IFERROR(C36+L36+W36+AA36+AE36,0) -> 1724899 | AG36: 0 | AH36: 0 | AI36: 0 | AJ36: 0 | AK36: 0 | AL36: 0 | AM36: =IFERROR(+AF36+AG36,0) -> 1724899
A37: 6. | B37: FCA Leasing Sp. z o.o. | C37: 54994 | D37: 22742 | E37: 31949 | F37: 31949 | G37: 0 | H37: 0 | I37: 0 | J37: 0 | K37: 303 | L37: 0 | M37: 0 | N37: 0 | O37: 0 | P37: 0 | Q37: 0 | R37: 0 | S37: 0 | T37: 0 | U37: 0 | V37: 0 | W37: 0 | X37: 0 | Y37: 0 | Z37: 0 | AA37: 0 | AB37: 0 | AC37: 0 | AD37: 0 | AE37: 0 | AF37: =IFERROR(C37+L37+W37+AA37+AE37,0) -> 54994 | AG37: 0 | AH37: 0 | AI37: 0 | AJ37: 0 | AK37: 0 | AL37: 0 | AM37: =IFERROR(+AF37+AG37,0) -> 54994
A38: 7. | B38: Idea Leasing S.A. | C38: 537152 | D38: 216920 | E38: 121339 | F38: 70293 | G38: 51046 | H38: 128910 | I38: 62314 | J38: 3351 | K38: 4318 | L38: 147791 | M38: 43764 | N38: 57168 | O38: 5432 | P38: 2941 | Q38: 5282 | R38: 876 | S38: 6088 | T38: 2491 | U38: 3555 | V38: 20194 | W38: 2189 | X38: 1123 | Y38: 0 | Z38: 1066 | AA38: 3280 | AB38: 315 | AC38: 2965 | AD38: 0 | AE38: 17760 | AF38: =IFERROR(C38+L38+W38+AA38+AE38,0) -> 708172 | AG38: 0 | AH38: 0 | AI38: 0 | AJ38: 0 | AK38: 0 | AL38: 0 | AM38: =IFERROR(+AF38+AG38,0) -> 708172
A39: 8. | B39: Impuls-Leasing Polska Sp. z o. o. | C39: 226565 | D39: 127056 | E39: 41237 | F39: 26016 | G39: 15221 | H39: 32857 | I39: 21564 | J39: 2801 | K39: 1050 | L39: 33524 | M39: 6893 | N39: 3121 | O39: 1031 | P39: 1497 | Q39: 4090 | R39: 0 | S39: 1609 | T39: 1394 | U39: 3729 | V39: 10160 | W39: 176 | X39: 176 | Y39: 0 | Z39: 0 | AA39: 0 | AB39: 0 | AC39: 0 | AD39: 0 | AE39: 0 | AF39: =IFERROR(C39+L39+W39+AA39+AE39,0) -> 260265 | AG39: 0 | AH39: 0 | AI39: 0 | AJ39: 0 | AK39: 0 | AL39: 0 | AM39: =IFERROR(+AF39+AG39,0) -> 260265
A40: 9. | B40: ING Lease (Polska ) Sp. z o. o. | C40: 835207 | D40: 323843 | E40: 182835 | F40: 117849 | G40: 64986 | H40: 187361 | I40: 122000 | J40: 612 | K40: 18556 | L40: 393963 | M40: 79059 | N40: 14135 | O40: 20570 | P40: 52341 | Q40: 70239 | R40: 26837 | S40: 10039 | T40: 3214 | U40: 24774 | V40: 92755 | W40: 35810 | X40: 35810 | Y40: 0 | Z40: 0 | AA40: 71604 | AB40: 0 | AC40: 154 | AD40: 71450 | AE40: 33910 | AF40: =IFERROR(C40+L40+W40+AA40+AE40,0) -> 1370494 | AG40: 46185 | AH40: 0 | AI40: 0 | AJ40: 0 | AK40: 0 | AL40: 46185 | AM40: =IFERROR(+AF40+AG40,0) -> 1416679
A41: 10. | B41: Millennium Leasing Sp. z o. o. | C41: 475882 | D41: 175513 | E41: 93731 | F41: 47710 | G41: 46021 | H41: 110210 | I41: 76782 | J41: 7946 | K41: 11700 | L41: 270679 | M41: 47932 | N41: 3775 | O41: 10464 | P41: 35408 | Q41: 0 | R41: 35410 | S41: 3163 | T41: 0 | U41: 27531 | V41: 106996 | W41: 7565 | X41: 0 | Y41: 7565 | Z41: 0 | AA41: 7471 | AB41: 1485 | AC41: 754 | AD41: 5232 | AE41: 0 | AF41: =IFERROR(C41+L41+W41+AA41+AE41,0) -> 761597 | AG41: 0 | AH41: 0 | AI41: 0 | AJ41: 0 | AK41: 0 | AL41: 0 | AM41: =IFERROR(+AF41+AG41,0) -> 761597
A42: 11. | B42: mLeasing Sp. z o. o. | C42: 1036805 | D42: 739432 | E42: 112098 | F42: 70597 | G42: 41501 | H42: 90269 | I42: 61469 | J42: 9103 | K42: 24434 | L42: 256087 | M42: 33963 | N42: 1920 | O42: 5692 | P42: 12264 | Q42: 38886 | R42: 5832 | S42: 4492 | T42: 1472 | U42: 19469 | V42: 132097 | W42: 9013 | X42: 9013 | Y42: 0 | Z42: 0 | AA42: 41149 | AB42: 11688 | AC42: 24736 | AD42: 4725 | AE42: 27096 | AF42: =IFERROR(C42+L42+W42+AA42+AE42,0) -> 1370150 | AG42: 28317 | AH42: 0 | AI42: 28317 | AJ42: 0 | AK42: 0 | AL42: 0 | AM42: =IFERROR(+AF42+AG42,0) -> 1398467
A43: 12. | B43: PEAC (POLAND) sp. z o. o. | C43: 12474 | D43: 8590 | E43: 290 | F43: 0 | G43: 290 | H43: 0 | I43: 3594 | J43: 0 | K43: 0 | L43: 14599 | M43: 167 | N43: 757 | O43: 74 | P43: 1389 | Q43: 652 | R43: 3749 | S43: 247 | T43: 0 | U43: 825 | V43: 6739 | W43: 830 | X43: 830 | Y43: 0 | Z43: 0 | AA43: 0 | AB43: 0 | AC43: 0 | AD43: 0 | AE43: 0 | AF43: =IFERROR(C43+L43+W43+AA43+AE43,0) -> 27903 | AG43: 0 | AH43: 0 | AI43: 0 | AJ43: 0 | AK43: 0 | AL43: 0 | AM43: =IFERROR(+AF43+AG43,0) -> 27903
... A51: 20. | B51: Siemens Finance Sp. z o. o. | C51: 1836 | D51: 315 | E51: 0 | F51: 0 | G51: 0 | H51: 1442 | I51: 79 | J51: 0 | K51: 0 | L51: 124812 | M51: 6082 | N51: 7111 | O51: 6172 | P51: 4975 | Q51: 22791 | R51: 0 | S51: 65544 | T51: 0 | U51: 132 | V51: 12005 | W51: 7766 | X51: 6547 | Y51: 1219 | Z51: 0 | AA51: 0 | AB51: 0 | AC51: 0 | AD51: 0 | AE51: 0 | AF51: =IFERROR(C51+L51+W51+AA51+AE51,0) -> 134414 | AG51: 0 | AH51: 0 | AI51: 0 | AJ51: 0 | AK51: 0 | AL51: 0 | AM51: =IFERROR(+AF51+AG51,0) -> 134414
B52: RAZEM | C52: =SUM(C32:C51) -> 8237237 | D52: =SUM(D32:D51) -> 4064979 | E52: =SUM(E32:E51) -> 1539092 | F52: =SUM(F32:F51) -> 931026 | G52: =SUM(G32:G51) -> 608066 | H52: =SUM(H32:H51) -> 1593813 | I52: =SUM(I32:I51) -> 886475 | J52: =SUM(J32:J51) -> 56552 | ... AM52: =SUM(AM32:AM51) -> 11984306
A54: Wartość netto używanych sródków trwałych w I kw 2021 r. (tys. PLN)
A56: Lp. | B56: Spółka | C56: ŚRODKI TRANSPORTU DROGOWEGO | D56: Osobowe | E56: Cięzarowe: | F56: o masie do 3,5t | G56: o masie powyżej 3,5t | H56: Ciągniki siodłowe | I56: Naczepy / przyczepy | J56: Autobusy | K56: inne pojazdy | L56: MiU | M56: Sprzęt Budowlany | N56: Maszyny Rolnicze | O56: Maszyny Poligraf. | P56: maszyny do produkcji tworzyw sztucznych | Q56: maszyny i urządzenia do obróbki metali | R56: maszyny dla przemysłu spożywczego | S56: Sprzęt Medyczny | T56: Sprzęt Gastronom. | U56: Wózki Widłowe | V56: inne MiU | W56: IT | X56: Sprzęt | Y56: Oprogram. | Z56: inne IT | AA56: POZOSTAŁE ŚRODKI TRANSPORTU | AB56: Powietrzne | AC56: Wodne | AD56: Kolejowe | AE56: Inne ruchomości | AF56: RUCHOMOŚCI | AG56: NIERUCHOMOŚCI | AH56: budynki przemysłowe | AI56: obiekty handlowe i usługowe | AJ56: obiekty biurowe | AK56: hotele i obiekty rekreacyjne | AL56: inne | AM56: OGÓŁEM RUCHOMOŚCI I NIERUCHOMOŚCI
A57: 1. | B57: BOS EKO Leasing | C57: 2054 | D57: 1450 | E57: 154 | F57: 34 | G57: 120 | H57: 300 | I57: 150 | J57: 0 | K57: 0 | L57: 3630 | M57: 0 | N57: 0 | O57: 0 | P57: 40 | Q57: 2690 | R57: 0 | S57: 0 | T57: 0 | U57: 120 | V57: 780 | W57: 0 | X57: 0 | Y57: 0 | Z57: 0 | AA57: 43825 | AB57: 19800 | AC57: 0 | AD57: 24025 | AE57: 0 | AF57: =IFERROR(C57+L57+W57+AA57+AE57,0) -> 49509 | AG57: 0 | AH57: 0 | AI57: 0 | AJ57: 0 | AK57: 0 | AL57: 0 | AM57: =IFERROR(+AF57+AG57,0) -> 49509
A58: 2. | B58: BPS Leasing S.A | C58: 6413 | D58: 3890 | E58: 1102 | F58: 0 | G58: 1102 | H58: 1092 | I58: 267 | J58: 0 | K58: 62 | L58: 2778 | M58: 717 | N58: 0 | O58: 285 | P58: 0 | Q58: 0 | R58: 870 | S58: 0 | T58: 0 | U58: 106 | V58: 800 | W58: 0 | X58: 0 | Y58: 0 | Z58: 0 | AA58: 534 | AB58: 0 | AC58: 0 | AD58: 534 | AE58: 1113 | AF58: =IFERROR(C58+L58+W58+AA58+AE58,0) -> 10838 | AG58: 0 | AH58: 0 | AI58: 0 | AJ58: 0 | AK58: 0 | AL58: 0 | AM58: =IFERROR(+AF58+AG58,0) -> 10838
A59: 3. | B59: Caterpillar Financial Services Poland Sp. z o. o. | C59: 0 | D59: 0 | E59: 0 | F59: 0 | G59: 0 | H59: 0 | I59: 0 | J59: 0 | K59: 0 | L59: 16847 | M59: 16847 | N59: 0 | O59: 0 | P59: 0 | Q59: 0 | R59: 0 | S59: 0 | T59: 0 | U59: 0 | V59: 0 | W59: 0 | X59: 0 | Y59: 0 | Z59: 0 | AA59: 0 | AB59: 0 | AC59: 0 | AD59: 0 | AE59: 0 | AF59: =IFERROR(C59+L59+W59+AA59+AE59,0) -> 16847 | AG59: 0 | AH59: 0 | AI59: 0 | AJ59: 0 | AK59: 0 | AL59: 0 | AM59: =IFERROR(+AF59+AG59,0) -> 16847
A60: 4. | B60: De Lage Landen Leasing Polska S.A. | C60: 116 | D60: 116 | E60: 0 | F60: 0 | G60: 0 | H60: 0 | I60: 0 | J60: 0 | K60: 0 | L60: 3849 | M60: 2087 | N60: 1630 | O60: 0 | P60: 0 | Q60: 0 | R60: 0 | S60: 17 | T60: 0 | U60: 115 | V60: 0 | W60: 7 | X60: 7 | Y60: 0 | Z60: 0 | AA60: 0 | AB60: 0 | AC60: 0 | AD60: 0 | AE60: 0 | AF60: =IFERROR(C60+L60+W60+AA60+AE60,0) -> 3972 | AG60: 0 | AH60: 0 | AI60: 0 | AJ60: 0 | AK60: 0 | AL60: 0 | AM60: =IFERROR(+AF60+AG60,0) -> 3972
A61: 5. | B61: Europejski Fundusz Leasingowy S.A. | C61: 460961 | D61: 189125 | E61: 119369 | F61: 45665 | G61: 73704 | H61: 108887 | I61: 41150 | J61: 2430 | K61: 0 | L61: 191817 | M61: 122447 | N61: 40271 | O61: 1993 | P61: 1688 | Q61: 7357 | R61: 1081 | S61: 272 | T61: 1030 | U61: 6827 | V61: 8851 | W61: 0 | X61: 0 | Y61: 0 | Z61: 0 | AA61: 2238 | AB61: 295 | AC61: 1943 | AD61: 0 | AE61: 0 | AF61: =IFERROR(C61+L61+W61+AA61+AE61,0) -> 655016 | AG61: 0 | AH61: 0 | AI61: 0 | AJ61: 0 | AK61: 0 | AL61: 0 | AM61: =IFERROR(+AF61+AG61,0) -> 655016
...

Sheet pożyczki
A1: Związek Polskiego Leasingu
A3: Ilość środków - pożyczki w I kw 2021 r. (sztuki)
A6: Lp. | B6: Spółka | C6: ŚRODKI TRANSPORTU DROGOWEGO | D6: Osobowe | E6: Cięzarowe: | F6: o masie do 3,5t | G6: o masie powyżej 3,5t | H6: Ciągniki siodłowe | I6: Naczepy / przyczepy | J6: Autobusy | K6: inne pojazdy | L6: MiU | M6: Sprzęt Budowlany | N6: Maszyny Rolnicze | O6: Maszyny Poligraf. | P6: maszyny do produkcji tworzyw sztucznych | Q6: maszyny i urządzenia do obróbki metali | R6: maszyny dla przemysłu spożywczego | S6: Sprzęt Medyczny | T6: Sprzęt Gastronom. | U6: Wózki Widłowe | V6: inne MiU | W6: IT | X6: Sprzęt | Y6: Oprogram. | Z6: inne IT | AA6: POZOSTAŁE ŚRODKI TRANSPORTU | AB6: Powietrzne | AC6: Wodne | AD6: Kolejowe | AE6: Inne ruchomości | AF6: RUCHOMOŚCI | AG6: NIERUCHOMOŚCI | AH6: budynki przemysłowe | AI6: obiekty handlowe i usługowe | AJ6: obiekty biurowe | AK6: hotele i obiekty rekreacyjne | AL6: inne | AM6: OGÓŁEM RUCHOMOŚCI I NIERUCHOMOŚCI
A7: 1. | B7: BOS EKO Leasing | C7: 0 | D7: 0 | E7: 0 | F7: 0 | G7: 0 | H7: 0 | I7: 0 | J7: 0 | K7: 0 | L7: 0 | M7: 0 | N7: 0 | O7: 0 | P7: 0 | Q7: 0 | R7: 0 | S7: 0 | T7: 0 | U7: 0 | V7: 0 | W7: 0 | X7: 0 | Y7: 0 | Z7: 0 | AA7: 0 | AB7: 0 | AC7: 0 | AD7: 0 | AE7: 0 | AF7: =IFERROR(C7+L7+W7+AA7+AE7,0) -> 0 | AG7: 0 | AH7: 0 | AI7: 0 | AJ7: 0 | AK7: 0 | AL7: 0 | AM7: =IFERROR(+AF7+AG7,0) -> 0
A8: 2. | B8: BPS Leasing S.A | C8: 0 | D8: 0 | E8: 0 | F8: 0 | G8: 0 | H8: 0 | I8: 0 | J8: 0 | K8: 0 | L8: 0 | M8: 0 | N8: 0 | O8: 0 | P8: 0 | Q8: 0 | R8: 0 | S8: 0 | T8: 0 | U8: 0 | V8: 0 | W8: 0 | X8: 0 | Y8: 0 | Z8: 0 | AA8: 0 | AB8: 0 | AC8: 0 | AD8: 0 | AE8: 0 | AF8: =IFERROR(C8+L8+W8+AA8+AE8,0) -> 0 | AG8: 0 | AH8: 0 | AI8: 0 | AJ8: 0 | AK8: 0 | AL8: 0 | AM8: =IFERROR(+AF8+AG8,0) -> 0
A9: 3. | B9: Caterpillar Financial Services Poland Sp. z o. o. | C9: 0 | D9: 0 | E9: 0 | F9: 0 | G9: 0 | H9: 0 | I9: 0 | J9: 0 | K9: 0 | L9: 24 | M9: 24 | N9: 0 | O9: 0 | P9: 0 | Q9: 0 | R9: 0 | S9: 0 | T9: 0 | U9: 0 | V9: 0 | W9: 0 | X9: 0 | Y9: 0 | Z9: 0 | AA9: 0 | AB9: 0 | AC9: 0 | AD9: 0 | AE9: 0 | AF9: =IFERROR(C9+L9+W9+AA9+AE9,0) -> 24 | AG9: 0 | AH9: 0 | AI9: 0 | AJ9: 0 | AK9: 0 | AL9: 0 | AM9: =IFERROR(+AF9+AG9,0) -> 24
A10: 4. | B10: De Lage Landen Leasing Polska S.A. | C10: 33 | D10: 3 | E10: 2 | F10: 2 | G10: 0 | H10: 4 | I10: 24 | J10: 0 | K10: 0 | L10: 802 | M10: 6 | N10: 648 | O10: 0 | P10: 0 | Q10: 0 | R10: 0 | S10: 88 | T10: 0 | U10: 4 | V10: 56 | W10: 7 | X10: 7 | Y10: 0 | Z10: 0 | AA10: 0 | AB10: 0 | AC10: 0 | AD10: 0 | AE10: 0 | AF10: =IFERROR(C10+L10+W10+AA10+AE10,0) -> 842 | AG10: 0 | AH10: 0 | AI10: 0 | AJ10: 0 | AK10: 0 | AL10: 0 | AM10: =IFERROR(+AF10+AG10,0) -> 842
A11: 5. | B11: Europejski Fundusz Leasingowy S.A. | C11: 123 | D11: 24 | E11: 42 | F11: 39 | G11: 3 | H11: 29 | I11: 28 | J11: 0 | K11: 0 | L11: 291 | M11: 33 | N11: 185 | O11: 0 | P11: 1 | Q11: 7 | R11: 1 | S11: 32 | T11: 2 | U11: 1 | V11: 29 | W11: 23 | X11: 6 | Y11: 9 | Z11: 8 | AA11: 7 | AB11: 0 | AC11: 7 | AD11: 0 | AE11: 0 | AF11: =IFERROR(C11+L11+W11+AA11+AE11,0) -> 444 | AG11: 0 | AH11: 0 | AI11: 0 | AJ11: 0 | AK11: 0 | AL11: 0 | AM11: =IFERROR(+AF11+AG11,0) -> 444
A12: 6. | B12: FCA Leasing Sp. z o.o. | C12: 0 | D12: 0 | E12: 0 | F12: 0 | G12: 0 | H12: 0 | I12: 0 | J12: 0 | K12: 0 | L12: 0 | M12: 0 | N12: 0 | O12: 0 | P12: 0 | Q12: 0 | R12: 0 | S12: 0 | T12: 0 | U12: 0 | V12: 0 | W12: 0 | X12: 0 | Y12: 0 | Z12: 0 | AA12: 0 | AB12: 0 | AC12: 0 | AD12: 0 | AE12: 0 | AF12: =IFERROR(C12+L12+W12+AA12+AE12,0) -> 0 | AG12: 0 | AH12: 0 | AI12: 0 | AJ12: 0 | AK12: 0 | AL12: 0 | AM12: =IFERROR(+AF12+AG12,0) -> 0
A13: 7. | B13: Idea Leasing S.A. | C13: 670 | D13: 193 | E13: 105 | F13: 68 | G13: 37 | H13: 204 | I13: 162 | J13: 0 | K13: 6 | L13: 962 | M13: 30 | N13: 726 | O13: 4 | P13: 3 | Q13: 6 | R13: 3 | S13: 99 | T13: 13 | U13: 1 | V13: 77 | W13: 6 | X13: 6 | Y13: 0 | Z13: 0 | AA13: 5 | AB13: 0 | AC13: 5 | AD13: 0 | AE13: 81 | AF13: =IFERROR(C13+L13+W13+AA13+AE13,0) -> 1724 | AG13: 0 | AH13: 0 | AI13: 0 | AJ13: 0 | AK13: 0 | AL13: 0 | AM13: =IFERROR(+AF13+AG13,0) -> 1724
A14: 8. | B14: Impuls-Leasing Polska Sp. z o. o. | C14: 111 | D14: 11 | E14: 6 | F14: 4 | G14: 2 | H14: 43 | I14: 51 | J14: 0 | K14: 0 | L14: 13 | M14: 0 | N14: 1 | O14: 0 | P14: 0 | Q14: 0 | R14: 0 | S14: 8 | T14: 2 | U14: 1 | V14: 1 | W14: 0 | X14: 0 | Y14: 0 | Z14: 0 | AA14: 1 | AB14: 0 | AC14: 1 | AD14: 0 | AE14: 0 | AF14: =IFERROR(C14+L14+W14+AA14+AE14,0) -> 125 | AG14: 0 | AH14: 0 | AI14: 0 | AJ14: 0 | AK14: 0 | AL14: 0 | AM14: =IFERROR(+AF14+AG14,0) -> 125
A15: 9. | B15: ING Lease (Polska ) Sp. z o. o. | C15: 24 | D15: 0 | E15: 7 | F15: 7 | G15: 0 | H15: 17 | I15: 0 | J15: 0 | K15: 0 | L15: 5 | M15: 0 | N15: 0 | O15: 3 | P15: 0 | Q15: 1 | R15: 0 | S15: 1 | T15: 0 | U15: 0 | V15: 0 | W15: 0 | X15: 0 | Y15: 0 | Z15: 0 | AA15: 0 | AB15: 0 | AC15: 0 | AD15: 0 | AE15: 0 | AF15: =IFERROR(C15+L15+W15+AA15+AE15,0) -> 29 | AG15: 0 | AH15: 0 | AI15: 0 | AJ15: 0 | AK15: 0 | AL15: 0 | AM15: =IFERROR(+AF15+AG15,0) -> 29
A16: 10. | B16: Millennium Leasing Sp. z o. o. | C16: 0 | D16: 0 | E16: 0 | F16: 0 | G16: 0 | H16: 0 | I16: 0 | J16: 0 | K16: 0 | L16: 0 | M16: 0 | N16: 0 | O16: 0 | P16: 0 | Q16: 0 | R16: 0 | S16: 0 | T16: 0 | U16: 0 | V16: 0 | W16: 0 | X16: 0 | Y16: 0 | Z16: 0 | AA16: 0 | AB16: 0 | AC16: 0 | AD16: 0 | AE16: 0 | AF16: =IFERROR(C16+L16+W16+AA16+AE16,0) -> 0 | AG16: 0 | AH16: 0 | AI16: 0 | AJ16: 0 | AK16: 0 | AL16: 0 | AM16: =IFERROR(+AF16+AG16,0) -> 0
A17: 11. | B17: mLeasing Sp. z o. o. | C17: 88 | D17: 0 | E17: 3 | F17: 0 | G17: 3 | H17: 18 | I17: 65 | J17: 0 | K17: 2 | L17: 241 | M17: 4 | N17: 1 | O17: 0 | P17: 5 | Q17: 11 | R17: 2 | S17: 181 | T17: 0 | U17: 2 | V17: 35 | W17: 2 | X17: 1 | Y17: 1 | Z17: 0 | AA17: 1 | AB17: 0 | AC17: 1 | AD17: 0 | AE17: 8 | AF17: =IFERROR(C17+L17+W17+AA17+AE17,0) -> 340 | AG17: 2 | AH17: 0 | AI17: 2 | AJ17: 0 | AK17: 0 | AL17: 0 | AM17: =IFERROR(+AF17+AG17,0) -> 342
A18: 12. | B18: PEAC (POLAND) sp. z o. o. | C18: 5 | D18: 0 | E18: 0 | F18: 0 | G18: 0 | H18: 0 | I18: 5 | J18: 0 | K18: 0 | L18: 35 | M18: 0 | N18: 27 | O18: 0 | P18: 0 | Q18: 0 | R18: 0 | S18: 0 | T18: 0 | U18: 0 | V18: 8 | W18: 0 | X18: 0 | Y18: 0 | Z18: 0 | AA18: 0 | AB18: 0 | AC18: 0 | AD18: 0 | AE18: 0 | AF18: =IFERROR(C18+L18+W18+AA18+AE18,0) -> 40 | AG18: 0 | AH18: 0 | AI18: 0 | AJ18: 0 | AK18: 0 | AL18: 0 | AM18: =IFERROR(+AF19+AG19,0) -> 267
A19: 13. | B19: Pekao Leasing Sp. z o. o. | C19: 51 | D19: 1 | E19: 3 | F19: 0 | G19: 3 | H19: 16 | I19: 28 | J19: 0 | K19: 3 | L19: 112 | M19: 5 | N19: 21 | O19: 0 | P19: 10 | Q19: 9 | R19: 5 | S19: 41 | T19: 0 | U19: 1 | V19: 20 | W19: 3 | X19: 3 | Y19: 0 | Z19: 0 | AA19: 100 | AB19: 0 | AC19: 0 | AD19: 100 | AE19: 1 | AF19: =IFERROR(C19+L19+W19+AA19+AE19,0) -> 267 | AG19: 0 | AH19: 0 | AI19: 0 | AJ19: 0 | AK19: 0 | AL19: 0 | AM19: =IFERROR(+#REF!+#REF!,0) -> 0
A20: 14. | B20: PKO Leasing S.A. | C20: 634 | D20: 190 | E20: 67 | F20: 39 | G20: 28 | H20: 224 | I20: 152 | J20: 0 | K20: 1 | L20: 800 | M20: 26 | N20: 490 | O20: 7 | P20: 2 | Q20: 10 | R20: 6 | S20: 135 | T20: 0 | U20: 4 | V20: 120 | W20: 3 | X20: 1 | Y20: 1 | Z20: 1 | AA20: 7 | AB20: 1 | AC20: 1 | AD20: 5 | AE20: 0 | AF20: =IFERROR(C20+L20+W20+AA20+AE20,0) -> 1444 | AG20: 0 | AH20: 0 | AI20: 0 | AJ20: 0 | AK20: 0 | AL20: 0 | AM20: =IFERROR(+AF20+AG20,0) -> 1444
A21: 15. | B21: Santander Consumer Multirent Sp. z o. o. | C21: 133 | D21: 98 | E21: 30 | F21: 30 | G21: 0 | H21: 0 | I21: 0 | J21: 0 | K21: 5 | L21: 0 | M21: 0 | N21: 0 | O21: 0 | P21: 0 | Q21: 0 | R21: 0 | S21: 0 | T21: 0 | U21: 0 | V21: 0 | W21: 0 | X21: 0 | Y21: 0 | Z21: 0 | AA21: 0 | AB21: 0 | AC21: 0 | AD21: 0 | AE21: 0 | AF21: =IFERROR(C21+L21+W21+AA21+AE21,0) -> 133 | AG21: 0 | AH21: 0 | AI21: 0 | AJ21: 0 | AK21: 0 | AL21: 0 | AM21: =IFERROR(+AF21+AG21,0) -> 133
A22: 16. | B22: Santander Leasing S.A. | C22: 581 | D22: 346 | E22: 83 | F22: 71 | G22: 12 | H22: 58 | I22: 89 | J22: 1 | K22: 4 | L22: 2471 | M22: 16 | N22: 1811 | O22: 4 | P22: 4 | Q22: 10 | R22: 0 | S22: 455 | T22: 2 | U22: 5 | V22: 164 | W22: 14 | X22: 14 | Y22: 0 | Z22: 0 | AA22: 0 | AB22: 0 | AC22: 0 | AD22: 0 | AE22: 18 | AF22: =IFERROR(C22+L22+W22+AA22+AE22,0) -> 3084 | AG22: 7 | AH22: 0 | AI22: 0 | AJ22: 0 | AK22: 0 | AL22: 7 | AM22: =IFERROR(+AF22+AG22,0) -> 3091
A23: 17. | B23: Scania Finance Polska Sp. z o. o. | C23: 30 | D23: 0 | E23: 0 | F23: 0 | G23: 0 | H23: 25 | I23: 5 | J23: 0 | K23: 0 | L23: 0 | M23: 0 | N23: 0 | O23: 0 | P23: 0 | Q23: 0 | R23: 0 | S23: 0 | T23: 0 | U23: 0 | V23: 0 | W23: 0 | X23: 0 | Y23: 0 | Z23: 0 | AA23: 0 | AB23: 0 | AC23: 0 | AD23: 0 | AE23: 0 | AF23: =IFERROR(C23+L23+W23+AA23+AE23,0) -> 30 | AG23: 0 | AH23: 0 | AI23: 0 | AJ23: 0 | AK23: 0 | AL23: 0 | AM23: =IFERROR(+AF23+AG23,0) -> 30
A24: 18. | B24: SG Equipment Leasing Polska Sp. z o.o. | C24: 19 | D24: 9 | E24: 0 | F24: 0 | G24: 0 | H24: 7 | I24: 3 | J24: 0 | K24: 0 | L24: 219 | M24: 4 | N24: 201 | O24: 1 | P24: 0 | Q24: 4 | R24: 0 | S24: 0 | T24: 0 | U24: 3 | V24: 6 | W24: 26 | X24: 25 | Y24: 1 | Z24: 0 | AA24: 0 | AB24: 0 | AC24: 0 | AD24: 0 | AE24: 0 | AF24: =IFERROR(C24+L24+W24+AA24+AE24,0) -> 264 | AG24: 0 | AH24: 0 | AI24: 0 | AJ24: 0 | AK24: 0 | AL24: 0 | AM24: =IFERROR(+AF24+AG24,0) -> 264
A25: 19. | B25: SGB Leasing Sp. z o. o. | C25: 7 | D25: 6 | E25: 1 | F25: 1 | G25: 0 | H25: 0 | I25: 0 | J25: 0 | K25: 0 | L25: 33 | M25: 2 | N25: 19 | O25: 0 | P25: 0 | Q25: 0 | R25: 0 | S25: 0 | T25: 0 | U25: 3 | V25: 9 | W25: 0 | X25: 0 | Y25: 0 | Z25: 0 | AA25: 0 | AB25: 0 | AC25: 0 | AD25: 0 | AE25: 0 | AF25: =IFERROR(C25+L25+W25+AA25+AE25,0) -> 40 | AG25: 0 | AH25: 0 | AI25: 0 | AJ25: 0 | AK25: 0 | AL25: 0 | AM25: =IFERROR(+AF25+AG25,0) -> 40
A26: 20. | B26: Siemens Finance Sp. z o. o. | C26: 0 | D26: 0 | E26: 0 | F26: 0 | G26: 0 | H26: 0 | I26: 0 | J26: 0 | K26: 0 | L26: 0 | M26: 0 | N26: 0 | O26: 0 | P26: 0 | Q26: 0 | R26: 0 | S26: 0 | T26: 0 | U26: 0 | V26: 0 | W26: 0 | X26: 0 | Y26: 0 | Z26: 0 | AA26: 0 | AB26: 0 | AC26: 0 | AD26: 0 | AE26: 0 | AF26: =IFERROR(C26+L26+W26+AA26+AE26,0) -> 0 | AG26: 0 | AH26: 0 | AI26: 0 | AJ26: 0 | AK26: 0 | AL26: 0 | AM26: =IFERROR(+AF26+AG26,0) -> 0
B27: RAZEM | C27: =SUM(C7:C26) -> 2509 | D27: =SUM(D7:D26) -> 881 | E27: =SUM(E7:E26) -> 349 | F27: =SUM(F7:F26) -> 261 | G27: =SUM(G7:G26) -> 88 | H27: =SUM(H7:H26) -> 645 | I27: =SUM(I7:I26) -> 612 | J27: =SUM(J7:J26) -> 1 | ... AM27: =SUM(AM7:AM26) -> 8799
A29: Wartość środków - pożyczki w I kw 2021 r. (netto w tys. PLN)
A31: Lp. | B31: Spółka | C31: ŚRODKI TRANSPORTU DROGOWEGO | D31: Osobowe | E31: Cięzarowe: | F31: o masie do 3,5t | G31: o masie powyżej 3,5t | H31: Ciągniki siodłowe | I31: Naczepy / przyczepy | J31: Autobusy | K31: inne pojazdy | L31: MiU | M31: Sprzęt Budowlany | N31: Maszyny Rolnicze | O31: Maszyny Poligraf. | P31: maszyny do produkcji tworzyw sztucznych | Q31: maszyny i urządzenia do obróbki metali | R31: maszyny dla przemysłu spożywczego | S31: Sprzęt Medyczny | T31: Sprzęt Gastronom. | U31: Wózki Widłowe | V31: inne MiU | W31: IT | X31: Sprzęt | Y31: Oprogram. | Z31: inne IT | AA31: POZOSTAŁE ŚRODKI TRANSPORTU | AB31: Powietrzne | AC31: Wodne | AD31: Kolejowe | AE31: Inne ruchomości | AF31: RUCHOMOŚCI | AG31: NIERUCHOMOŚCI | AH31: budynki przemysłowe | AI31: obiekty handlowe i usługowe | AJ31: obiekty biurowe | AK31: hotele i obiekty rekreacyjne | AL31: inne | AM31: OGÓŁEM
A32: 1. | B32: BOS EKO Leasing | C32: 0 | D32: 0 | E32: 0 | F32: 0 | G32: 0 | H32: 0 | I32: 0 | J32: 0 | K32: 0 | L32: 0 | M32: 0 | N32: 0 | O32: 0 | P32: 0 | Q32: 0 | R32: 0 | S32: 0 | T32: 0 | U32: 0 | V32: 0 | W32: 0 | X32: 0 | Y32: 0 | Z32: 0 | AA32: 0 | AB32: 0 | AC32: 0 | AD32: 0 | AE32: 0 | AF32: =IFERROR(C32+L32+W32+AA32+AE32,0) -> 0 | AG32: 0 | AH32: 0 | AI32: 0 | AJ32: 0 | AK32: 0 | AL32: 0 | AM32: =IFERROR(+AF32+AG32,0) -> 0
A33: 2. | B33: BPS Leasing S.A | C33: 0 | D33: 0 | E33: 0 | F33: 0 | G33: 0 | H33: 0 | I33: 0 | J33: 0 | K33: 0 | L33: 0 | M33: 0 | N33: 0 | O33: 0 | P33: 0 | Q33: 0 | R33: 0 | S33: 0 | T33: 0 | U33: 0 | V33: 0 | W33: 0 | X33: 0 | Y33: 0 | Z33: 0 | AA33: 0 | AB33: 0 | AC33: 0 | AD33: 0 | AE33: 0 | AF33: =IFERROR(C33+L33+W33+AA33+AE33,0) -> 0 | AG33: 0 | AH33: 0 | AI33: 0 | AJ33: 0 | AK33: 0 | AL33: 0 | AM33: =IFERROR(+AF33+AG33,0) -> 0
A34: 3. | B34: Caterpillar Financial Services Poland Sp. z o. o. | C34: 0 | D34: 0 | E34: 0 | F34: 0 | G34: 0 | H34: 0 | I34: 0 | J34: 0 | K34: 0 | L34: 10305 | M34: 10305 | N34: 0 | O34: 0 | P34: 0 | Q34: 0 | R34: 0 | S34: 0 | T34: 0 | U34: 0 | V34: 0 | W34: 0 | X34: 0 | Y34: 0 | Z34: 0 | AA34: 0 | AB34: 0 | AC34: 0 | AD34: 0 | AE34: 0 | AF34: =IFERROR(C34+L34+W34+AA34+AE34,0) -> 10305 | AG34: 0 | AH34: 0 | AI34: 0 | AJ34: 0 | AK34: 0 | AL34: 0 | AM34: =IFERROR(+AF34+AG34,0) -> 10305
A35: 4. | B35: De Lage Landen Leasing Polska S.A. | C35: 4416 | D35: 296 | E35: 280 | F35: 280 | G35: 0 | H35: 1251 | I35: 2589 | J35: 0 | K35: 0 | L35: 154059 | M35: 609 | N35: 132979 | O35: 0 | P35: 0 | Q35: 0 | R35: 0 | S35: 13917 | T35: 0 | U35: 313 | V35: 6241 | W35: 4890 | X35: 4890 | Y35: 0 | Z35: 0 | AA35: 0 | AB35: 0 | AC35: 0 | AD35: 0 | AE35: 0 | AF35: =IFERROR(C35+L35+W35+AA35+AE35,0) -> 163365 | AG35: 0 | AH35: 0 | AI35: 0 | AJ35: 0 | AK35: 0 | AL35: 0 | AM35: =IFERROR(+AF35+AG35,0) -> 163365
A36: 5. | B36: Europejski Fundusz Leasingowy S.A. | C36: 15037 | D36: 1767 | E36: 6797 | F36: 5653 | G36: 1144 | H36: 3617 | I36: 2856 | J36: 0 | K36: 0 | L36: 77025 | M36: 5203 | N36: 55279 | O36: 0 | P36: 1733 | Q36: 2781 | R36: 779 | S36: 2978 | T36: 135 | U36: 208 | V36: 7929 | W36: 774 | X36: 107 | Y36: 367 | Z36: 300 | AA36: 467 | AB36: 0 | AC36: 467 | AD36: 0 | AE36: 0 | AF36: =IFERROR(C36+L36+W36+AA36+AE36,0) -> 93303 | AG36: 0 | AH36: 0 | AI36: 0 | AJ36: 0 | AK36: 0 | AL36: 0 | AM36: =IFERROR(+AF36+AG36,0) -> 93303
A37: 6. | B37: FCA Leasing Sp. z o.o. | C37: 0 | D37: 0 | E37: 0 | F37: 0 | G37: 0 | H37: 0 | I37: 0 | J37: 0 | K37: 0 | L37: 0 | M37: 0 | N37: 0 | O37: 0 | P37: 0 | Q37: 0 | R37: 0 | S37: 0 | T37: 0 | U37: 0 | V37: 0 | W37: 0 | X37: 0 | Y37: 0 | Z37: 0 | AA37: 0 | AB37: 0 | AC37: 0 | AD37: 0 | AE37: 0 | AF37: =IFERROR(C37+L37+W37+AA37+AE37,0) -> 0 | AG37: 0 | AH37: 0 | AI37: 0 | AJ37: 0 | AK37: 0 | AL37: 0 | AM37: =IFERROR(+AF37+AG37,0) -> 0
A38: 7. | B38: Idea Leasing S.A. | C38: 92206 | D38: 19023 | E38: 12142 | F38: 6182 | G38: 5960 | H38: 42982 | I38: 17859 | J38: 0 | K38: 200 | L38: 129740 | M38: 5481 | N38: 103634 | O38: 109 | P38: 399 | Q38: 2882 | R38: 69 | S38: 7400 | T38: 1976 | U38: 78 | V38: 7712 | W38: 182 | X38: 182 | Y38: 0 | Z38: 0 | AA38: 1155 | AB38: 0 | AC38: 1155 | AD38: 0 | AE38: 14073 | AF38: =IFERROR(C38+L38+W38+AA38+AE38,0) -> 237356 | AG38: 0 | AH38: 0 | AI38: 0 | AJ38: 0 | AK38: 0 | AL38: 0 | AM38: =IFERROR(+AF38+AG38,0) -> 237356
A39: 8. | B39: Impuls-Leasing Polska Sp. z o. o. | C39: 24611 | D39: 2360 | E39: 775 | F39: 556 | G39: 219 | H39: 14483 | I39: 6993 | J39: 0 | K39: 0 | L39: 2120 | M39: 0 | N39: 135 | O39: 0 | P39: 0 | Q39: 0 | R39: 0 | S39: 1585 | T39: 53 | U39: 112 | V39: 235 | W39: 0 | X39: 0 | Y39: 0 | Z39: 0 | AA39: 423 | AB39: 0 | AC39: 423 | AD39: 0 | AE39: 0 | AF39: =IFERROR(C39+L39+W39+AA39+AE39,0) -> 27154 | AG39: 0 | AH39: 0 | AI39: 0 | AJ39: 0 | AK39: 0 | AL39: 0 | AM39: =IFERROR(+AF39+AG39,0) -> 27154
A40: 9. | B40: ING Lease (Polska ) Sp. z o. o. | C40: 11837 | D40: 0 | E40: 3934 | F40: 3934 | G40: 0 | H40: 7903 | I40: 0 | J40: 0 | K40: 0 | L40: 6354 | M40: 0 | N40: 0 | O40: 4709 | P40: 0 | Q40: 700 | R40: 0 | S40: 945 | T40: 0 | U40: 0 | V40: 0 | W40: 0 | X40: 0 | Y40: 0 | Z40: 0 | AA40: 0 | AB40: 0 | AC40: 0 | AD40: 0 | AE40: 0 | AF40: =IFERROR(C40+L40+W40+AA40+AE40,0) -> 18191 | AG40: 0 | AH40: 0 | AI40: 0 | AJ40: 0 | AK40: 0 | AL40: 0 | AM40: =IFERROR(+AF40+AG40,0) -> 18191
A41: 10. | B41: Millennium Leasing Sp. z o. o. | C41: 0 | D41: 0 | E41: 0 | F41: 0 | G41: 0 | H41: 0 | I41: 0 | J41: 0 | K41: 0 | L41: 0 | M41: 0 | N41: 0 | O41: 0 | P41: 0 | Q41: 0 | R41: 0 | S41: 0 | T41: 0 | U41: 0 | V41: 0 | W41: 0 | X41: 0 | Y41: 0 | Z41: 0 | AA41: 0 | AB41: 0 | AC41: 0 | AD41: 0 | AE41: 0 | AF41: =IFERROR(C41+L41+W41+AA41+AE41,0) -> 0 | AG41: 0 | AH41: 0 | AI41: 0 | AJ41: 0 | AK41: 0 | AL41: 0 | AM41: =IFERROR(+AF41+AG41,0) -> 0
A42: 11. | B42: mLeasing Sp. z o. o. | C42: 23411 | D42: 0 | E42: 1372 | F42: 0 | G42: 1372 | H42: 6602 | I42: 12030 | J42: 0 | K42: 3407 | L42: 125727 | M42: 2516 | N42: 476 | O42: 0 | P42: 13112 | Q42: 12606 | R42: 6554 | S42: 21047 | T42: 0 | U42: 3132 | V42: 66284 | W42: 56 | X42: 11 | Y42: 45 | Z42: 0 | AA42: 391 | AB42: 0 | AC42: 391 | AD42: 0 | AE42: 1192 | AF42: =IFERROR(C42+L42+W42+AA42+AE42,0) -> 150777 | AG42: 6674 | AH42: 0 | AI42: 6674 | AJ42: 0 | AK42: 0 | AL42: 0 | AM42: =IFERROR(+AF42+AG42,0) -> 157451
A43: 12. | B43: PEAC (POLAND) sp. z o. o. | C43: 447 | D43: 0 | E43: 0 | F43: 0 | G43: 0 | H43: 0 | I43: 447 | J43: 0 | K43: 0 | L43: 4682 | M43: 0 | N43: 3100 | O43: 0 | P43: 0 | Q43: 0 | R43: 0 | S43: 0 | T43: 0 | U43: 0 | V43: 1582 | W43: 0 | X43: 0 | Y43: 0 | Z43: 0 | AA43: 0 | AB43: 0 | AC43: 0 | AD43: 0 | AE43: 0 | AF43: =IFERROR(C43+L43+W43+AA43+AE43,0) -> 5129 | AG43: 0 | AH43: 0 | AI43: 0 | AJ43: 0 | AK43: 0 | AL43: 0 | AM43: =IFERROR(+AF43+AG43,0) -> 5129
... A51: 20. | B51: Siemens Finance Sp. z o. o. | C51: 0 | D51: 0 | E51: 0 | F51: 0 | G51: 0 | H51: 0 | I51: 0 | J51: 0 | K51: 0 | L51: 0 | M51: 0 | N51: 0 | O51: 0 | P51: 0 | Q51: 0 | R51: 0 | S51: 0 | T51: 0 | U51: 0 | V51: 0 | W51: 0 | X51: 0 | Y51: 0 | Z51: 0 | AA51: 0 | AB51: 0 | AC51: 0 | AD51: 0 | AE51: 0 | AF51: =IFERROR(C51+L51+W51+AA51+AE51,0) -> 0 | AG51: 0 | AH51: 0 | AI51: 0 | AJ51: 0 | AK51: 0 | AL51: 0 | AM51: =IFERROR(+AF51+AG51,0) -> 0
B52: RAZEM | C52: =SUM(C32:C51) -> 365511 | D52: =SUM(D32:D51) -> 89805 | E52: =SUM(E32:E51) -> 53361 | F52: =SUM(F32:F51) -> 36231 | G52: =SUM(G32:G51) -> 17130 | H52: =SUM(H32:H51) -> 143102 | I52: =SUM(I32:I51) -> 72417 | J52: =SUM(J32:J51) -> 351 | ... AM52: =SUM(AM32:AM51) -> 1576411
...

Sheet suma
A1: Związek Polskiego Leasingu
A3: Ilość środków - leasing + pożyczki w I kw 2021 r. ( sztuki )
A6: Lp. | B6: Spółka | C6: ŚRODKI TRANSPORTU DROGOWEGO | D6: Osobowe | E6: Cięzarowe: | F6: o masie do 3,5t | G6: o masie powyżej 3,5t | H6: Ciągniki siodłowe | I6: Naczepy / przyczepy | J6: Autobusy | K6: inne pojazdy | L6: MiU | M6: Sprzęt Budowlany | N6: Maszyny Rolnicze | O6: Maszyny Poligraf. | P6: maszyny do produkcji tworzyw sztucznych | Q6: maszyny i urządzenia do obróbki metali | R6: maszyny dla przemysłu spożywczego | S6: Sprzęt Medyczny | T6: Sprzęt Gastronom. | U6: Wózki Widłowe | V6: inne MiU | W6: IT | X6: Sprzęt | Y6: Oprogram. | Z6: inne IT | AA6: POZOSTAŁE ŚRODKI TRANSPORTU | AB6: Powietrzne | AC6: Wodne | AD6: Kolejowe | AE6: Inne ruchomości | AF6: RUCHOMOŚCI | AG6: NIERUCHOMOŚCI | AH6: budynki przemysłowe | AI6: obiekty handlowe i usługowe | AJ6: obiekty biurowe | AK6: hotele i obiekty rekreacyjne | AL6: inne | AM6: OGÓŁEM RUCHOMOŚCI I NIERUCHOMOŚCI
A7: 1. | B7: BOS EKO Leasing | C7: =IFERROR(leasing!C7+pożyczki!C7,"-") -> 34 | D7: =IFERROR(leasing!D7+pożyczki!D7,"-") -> 8 | E7: =IFERROR(leasing!E7+pożyczki!E7,"-") -> 17 | F7: =IFERROR(leasing!F7+pożyczki!F7,"-") -> 16 | G7: =IFERROR(leasing!G7+pożyczki!G7,"-") -> 1 | H7: =IFERROR(leasing!H7+pożyczki!H7,"-") -> 5 | I7: =IFERROR(leasing!I7+pożyczki!I7,"-") -> 3 | J7: =IFERROR(leasing!J7+pożyczki!J7,"-") -> 0 | ... AM7: =IFERROR(leasing!AM7+pożyczki!AM7,"-") -> 277
A8: 2. | B8: BPS Leasing S.A | C8: =IFERROR(leasing!C8+pożyczki!C8,"-") -> 242 | D8: =IFERROR(leasing!D8+pożyczki!D8,"-") -> 147 | E8: =IFERROR(leasing!E8+pożyczki!E8,"-") -> 52 | F8: =IFERROR(leasing!F8+pożyczki!F8,"-") -> 44 | G8: =IFERROR(leasing!G8+pożyczki!G8,"-") -> 8 | H8: =IFERROR(leasing!H8+pożyczki!H8,"-") -> 17 | I8: =IFERROR(leasing!I8+pożyczki!I8,"-") -> 20 | J8: =IFERROR(leasing!J8+pożyczki!J8,"-") -> 0 | ... AM8: =IFERROR(leasing!AM8+pożyczki!AM8,"-") -> 274
A9: 3. | B9: Caterpillar Financial Services Poland Sp. z o. o. | C9: =IFERROR(leasing!C9+pożyczki!C9,"-") -> 0 | D9: =IFERROR(leasing!D9+pożyczki!D9,"-") -> 0 | E9: =IFERROR(leasing!E9+pożyczki!E9,"-") -> 0 | F9: =IFERROR(leasing!F9+pożyczki!F9,"-") -> 0 | G9: =IFERROR(leasing!G9+pożyczki!G9,"-") -> 0 | H9: =IFERROR(leasing!H9+pożyczki!H9,"-") -> 0 | I9: =IFERROR(leasing!I9+pożyczki!I9,"-") -> 0 | J9: =IFERROR(leasing!J9+pożyczki!J9,"-") -> 0 | ... AM9: =IFERROR(leasing!AM9+pożyczki!AM9,"-") -> 232
A10: 4. | B10: De Lage Landen Leasing Polska S.A. | C10: =IFERROR(leasing!C10+pożyczki!C10,"-") -> 58 | D10: =IFERROR(leasing!D10+pożyczki!D10,"-") -> 6 | E10: =IFERROR(leasing!E10+pożyczki!E10,"-") -> 5 | F10: =IFERROR(leasing!F10+pożyczki!F10,"-") -> 5 | G10: =IFERROR(leasing!G10+pożyczki!G10,"-") -> 0 | H10: =IFERROR(leasing!H10+pożyczki!H10,"-") -> 23 | I10: =IFERROR(leasing!I10+pożyczki!I10,"-") -> 24 | J10: =IFERROR(leasing!J10+pożyczki!J10,"-") -> 0 | ... AM10: =IFERROR(leasing!AM10+pożyczki!AM10,"-") -> 1107
A11: 5. | B11: Europejski Fundusz Leasingowy S.A. | C11: =IFERROR(leasing!C11+pożyczki!C11,"-") -> 9411 | D11: =IFERROR(leasing!D11+pożyczki!D11,"-") -> 4706 | E11: =IFERROR(leasing!E11+pożyczki!E11,"-") -> 2312 | F11: =IFERROR(leasing!F11+pożyczki!F11,"-") -> 1814 | G11: =IFERROR(leasing!G11+pożyczki!G11,"-") -> 498 | H11: =IFERROR(leasing!H11+pożyczki!H11,"-") -> 1119 | I11: =IFERROR(leasing!I11+pożyczki!I11,"-") -> 1092 | J11: =IFERROR(leasing!J11+pożyczki!J11,"-") -> 29 | ... AM11: =IFERROR(leasing!AM11+pożyczki!AM11,"-") -> 14057
A12: 6. | B12: FCA Leasing Sp. z o.o. | C12: =IFERROR(leasing!C12+pożyczki!C12,"-") -> 621 | D12: =IFERROR(leasing!D12+pożyczki!D12,"-") -> 218 | E12: =IFERROR(leasing!E12+pożyczki!E12,"-") -> 398 | F12: =IFERROR(leasing!F12+pożyczki!F12,"-") -> 398 | G12: =IFERROR(leasing!G12+pożyczki!G12,"-") -> 0 | H12: =IFERROR(leasing!H12+pożyczki!H12,"-") -> 0 | I12: =IFERROR(leasing!I12+pożyczki!I12,"-") -> 0 | J12: =IFERROR(leasing!J12+pożyczki!J12,"-") -> 0 | ... AM12: =IFERROR(leasing!AM12+pożyczki!AM12,"-") -> 621
A13: 7. | B13: Idea Leasing S.A. | C13: =IFERROR(leasing!C13+pożyczki!C13,"-") -> 5431 | D13: =IFERROR(leasing!D13+pożyczki!D13,"-") -> 2379 | E13: =IFERROR(leasing!E13+pożyczki!E13,"-") -> 1240 | F13: =IFERROR(leasing!F13+pożyczki!F13,"-") -> 955 | G13: =IFERROR(leasing!G13+pożyczki!G13,"-") -> 285 | H13: =IFERROR(leasing!H13+pożyczki!H13,"-") -> 931 | I13: =IFERROR(leasing!I13+pożyczki!I13,"-") -> 762 | J13: =IFERROR(leasing!J13+pożyczki!J13,"-") -> 22 | ... AM13: =IFERROR(leasing!AM13+pożyczki!AM13,"-") -> 7844
A14: 8. | B14: Impuls-Leasing Polska Sp. z o. o. | C14: =IFERROR(leasing!C14+pożyczki!C14,"-") -> 1922 | D14: =IFERROR(leasing!D14+pożyczki!D14,"-") -> 1117 | E14: =IFERROR(leasing!E14+pożyczki!E14,"-") -> 367 | F14: =IFERROR(leasing!F14+pożyczki!F14,"-") -> 311 | G14: =IFERROR(leasing!G14+pożyczki!G14,"-") -> 56 | H14: =IFERROR(leasing!H14+pożyczki!H14,"-") -> 182 | I14: =IFERROR(leasing!I14+pożyczki!I14,"-") -> 227 | J14: =IFERROR(leasing!J14+pożyczki!J14,"-") -> 5 | ... AM14: =IFERROR(leasing!AM14+pożyczki!AM14,"-") -> 2272
A15: 9. | B15: ING Lease (Polska ) Sp. z o. o. | C15: =IFERROR(leasing!C15+pożyczki!C15,"-") -> 6056 | D15: =IFERROR(leasing!D15+pożyczki!D15,"-") -> 3054 | E15: =IFERROR(leasing!E15+pożyczki!E15,"-") -> 1703 | F15: =IFERROR(leasing!F15+pożyczki!F15,"-") -> 1540 | G15: =IFERROR(leasing!G15+pożyczki!G15,"-") -> 163 | H15: =IFERROR(leasing!H15+pożyczki!H15,"-") -> 634 | I15: =IFERROR(leasing!I15+pożyczki!I15,"-") -> 601 | J15: =IFERROR(leasing!J15+pożyczki!J15,"-") -> 4 | ... AM15: =IFERROR(leasing!AM15+pożyczki!AM15,"-") -> 7510
A16: 10. | B16: Millennium Leasing Sp. z o. o. | C16: =IFERROR(leasing!C16+pożyczki!C16,"-") -> 3256 | D16: =IFERROR(leasing!D16+pożyczki!D16,"-") -> 1359 | E16: =IFERROR(leasing!E16+pożyczki!E16,"-") -> 645 | F16: =IFERROR(leasing!F16+pożyczki!F16,"-") -> 518 | G16: =IFERROR(leasing!G16+pożyczki!G16,"-") -> 127 | H16: =IFERROR(leasing!H16+pożyczki!H16,"-") -> 461 | I16: =IFERROR(leasing!I16+pożyczki!I16,"-") -> 706 | J16: =IFERROR(leasing!J16+pożyczki!J16,"-") -> 27 | ... AM16: =IFERROR(leasing!AM16+pożyczki!AM16,"-") -> 4476
A17: 11. | B17: mLeasing Sp. z o. o. | C17: =IFERROR(leasing!C17+pożyczki!C17,"-") -> 7234 | D17: =IFERROR(leasing!D17+pożyczki!D17,"-") -> 5438 | E17: =IFERROR(leasing!E17+pożyczki!E17,"-") -> 893 | F17: =IFERROR(leasing!F17+pożyczki!F17,"-") -> 785 | G17: =IFERROR(leasing!G17+pożyczki!G17,"-") -> 108 | H17: =IFERROR(leasing!H17+pożyczki!H17,"-") -> 305 | I17: =IFERROR(leasing!I17+pożyczki!I17,"-") -> 550 | J17: =IFERROR(leasing!J17+pożyczki!J17,"-") -> 14 | ... AM17: =IFERROR(leasing!AM17+pożyczki!AM17,"-") -> 10008
A18: 12. | B18: PEAC (POLAND) sp. z o. o. | C18: =IFERROR(leasing!C18+pożyczki!C18,"-") -> 166 | D18: =IFERROR(leasing!D18+pożyczki!D18,"-") -> 132 | E18: =IFERROR(leasing!E18+pożyczki!E18,"-") -> 1 | F18: =IFERROR(leasing!F18+pożyczki!F18,"-") -> 0 | G18: =IFERROR(leasing!G18+pożyczki!G18,"-") -> 1 | H18: =IFERROR(leasing!H18+pożyczki!H18,"-") -> 0 | I18: =IFERROR(leasing!I18+pożyczki!I18,"-") -> 33 | J18: =IFERROR(leasing!J18+pożyczki!J18,"-") -> 0 | ... AM18: =IFERROR(leasing!AM18+pożyczki!AM18,"-") -> 696
... A26: 20. | B26: Siemens Finance Sp. z o. o. | C26: =IFERROR(leasing!C26+pożyczki!C26,"-") -> 7 | D26: =IFERROR(leasing!D26+pożyczki!D26,"-") -> 1 | E26: =IFERROR(leasing!E26+pożyczki!E26,"-") -> 0 | F26: =IFERROR(leasing!F26+pożyczki!F26,"-") -> 0 | G26: =IFERROR(leasing!G26+pożyczki!G26,"-") -> 0 | H26: =IFERROR(leasing!H26+pożyczki!H26,"-") -> 5 | I26: =IFERROR(leasing!I26+pożyczki!I26,"-") -> 1 | J26: =IFERROR(leasing!J26+pożyczki!J26,"-") -> 0 | ... AM26: =IFERROR(leasing!AM26+pożyczki!AM26,"-") -> 1646
B27: RAZEM | C27: =IFERROR(leasing!C27+pożyczki!C27,"-") -> 63953 | D27: =IFERROR(leasing!D27+pożyczki!D27,"-") -> 36310 | E27: =IFERROR(leasing!E27+pożyczki!E27,"-") -> 12440 | F27: =IFERROR(leasing!F27+pożyczki!F27,"-") -> 10356 | G27: =IFERROR(leasing!G27+pożyczki!G27,"-") -> 2084 | H27: =IFERROR(leasing!H27+pożyczki!H27,"-") -> 6695 | I27: =IFERROR(leasing!I27+pożyczki!I27,"-") -> 7417 | J27: =IFERROR(leasing!J27+pożyczki!J27,"-") -> 180 | ... AM27: =IFERROR(leasing!AM27+pożyczki!AM27,"-") -> 95167
A29: Wartość środków - leasing + pożyczki w I kw 2021 r. (netto w tys. PLN)
A31: Lp. | B31: Spółka | C31: ŚRODKI TRANSPORTU DROGOWEGO | D31: Osobowe | E31: Cięzarowe: | F31: o masie do 3,5t | G31: o masie powyżej 3,5t | H31: Ciągniki siodłowe | I31: Naczepy / przyczepy | J31: Autobusy | K31: inne pojazdy | L31: MiU | M31: Sprzęt Budowlany | N31: Maszyny Rolnicze | O31: Maszyny Poligraf. | P31: maszyny do produkcji tworzyw sztucznych | Q31: maszyny i urządzenia do obróbki metali | R31: maszyny dla przemysłu spożywczego | S31: Sprzęt Medyczny | T31: Sprzęt Gastronom. | U31: Wózki Widłowe | V31: inne MiU | W31: IT | X31: Sprzęt | Y31: Oprogram. | Z31: inne IT | AA31: POZOSTAŁE ŚRODKI TRANSPORTU | AB31: Powietrzne | AC31: Wodne | AD31: Kolejowe | AE31: Inne ruchomości | AF31: RUCHOMOŚCI | AG31: NIERUCHOMOŚCI | AH31: budynki przemysłowe | AI31: obiekty handlowe i usługowe | AJ31: obiekty biurowe | AK31: hotele i obiekty rekreacyjne | AL31: inne | AM31: OGÓŁEM
A32: 1. | B32: BOS EKO Leasing | C32: =IFERROR(leasing!C32+pożyczki!C32,"-") -> 4823 | D32: =IFERROR(leasing!D32+pożyczki!D32,"-") -> 1670 | E32: =IFERROR(leasing!E32+pożyczki!E32,"-") -> 1190 | F32: =IFERROR(leasing!F32+pożyczki!F32,"-") -> 1070 | G32: =IFERROR(leasing!G32+pożyczki!G32,"-") -> 120 | H32: =IFERROR(leasing!H32+pożyczki!H32,"-") -> 1413 | I32: =IFERROR(leasing!I32+pożyczki!I32,"-") -> 150 | J32: =IFERROR(leasing!J32+pożyczki!J32,"-") -> 0 | ... AL32: =IFERROR(leasing!AL32+pożyczki!AL32,"-") -> 0 | AM32: =leasing!AM32+pożyczki!AM32 -> 56707
A33: 2. | B33: BPS Leasing S.A | C33: =IFERROR(leasing!C33+pożyczki!C33,"-") -> 30608 | D33: =IFERROR(leasing!D33+pożyczki!D33,"-") -> 13564 | E33: =IFERROR(leasing!E33+pożyczki!E33,"-") -> 7152 | F33: =IFERROR(leasing!F33+pożyczki!F33,"-") -> 4184 | G33: =IFERROR(leasing!G33+pożyczki!G33,"-") -> 2968 | H33: =IFERROR(leasing!H33+pożyczki!H33,"-") -> 4807 | I33: =IFERROR(leasing!I33+pożyczki!I33,"-") -> 4099 | J33: =IFERROR(leasing!J33+pożyczki!J33,"-") -> 0 | ... AL33: =IFERROR(leasing!AL33+pożyczki!AL33,"-") -> 0 | AM33: =leasing!AM33+pożyczki!AM33 -> 38535
A34: 3. | B34: Caterpillar Financial Services Poland Sp. z o. o. | C34: =IFERROR(leasing!C34+pożyczki!C34,"-") -> 0 | D34: =IFERROR(leasing!D34+pożyczki!D34,"-") -> 0 | E34: =IFERROR(leasing!E34+pożyczki!E34,"-") -> 0 | F34: =IFERROR(leasing!F34+pożyczki!F34,"-") -> 0 | G34: =IFERROR(leasing!G34+pożyczki!G34,"-") -> 0 | H34: =IFERROR(leasing!H34+pożyczki!H34,"-") -> 0 | I34: =IFERROR(leasing!I34+pożyczki!I34,"-") -> 0 | J34: =IFERROR(leasing!J34+pożyczki!J34,"-") -> 0 | ... AL34: =IFERROR(leasing!AL34+pożyczki!AL34,"-") -> 0 | AM34: =leasing!AM34+pożyczki!AM34 -> 111065
A35: 4. | B35: De Lage Landen Leasing Polska S.A. | C35: =IFERROR(leasing!C35+pożyczki!C35,"-") -> 13070 | D35: =IFERROR(leasing!D35+pożyczki!D35,"-") -> 592 | E35: =IFERROR(leasing!E35+pożyczki!E35,"-") -> 721 | F35: =IFERROR(leasing!F35+pożyczki!F35,"-") -> 721 | G35: =IFERROR(leasing!G35+pożyczki!G35,"-") -> 0 | H35: =IFERROR(leasing!H35+pożyczki!H35,"-") -> 9168 | I35: =IFERROR(leasing!I35+pożyczki!I35,"-") -> 2589 | J35: =IFERROR(leasing!J35+pożyczki!J35,"-") -> 0 | ... AL35: =IFERROR(leasing!AL35+pożyczki!AL35,"-") -> 0 | AM35: =leasing!AM35+pożyczki!AM35 -> 204260
A36: 5. | B36: Europejski Fundusz Leasingowy S.A. | C36: =IFERROR(leasing!C36+pożyczki!C36,"-") -> 1242983 | D36: =IFERROR(leasing!D36+pożyczki!D36,"-") -> 554903 | E36: =IFERROR(leasing!E36+pożyczki!E36,"-") -> 306849 | F36: =IFERROR(leasing!F36+pożyczki!F36,"-") -> 202551 | G36: =IFERROR(leasing!G36+pożyczki!G36,"-") -> 104298 | H36: =IFERROR(leasing!H36+pożyczki!H36,"-") -> 245606 | I36: =IFERROR(leasing!I36+pożyczki!I36,"-") -> 121487 | J36: =IFERROR(leasing!J36+pożyczki!J36,"-") -> 7346 | ... AL36: =IFERROR(leasing!AL36+pożyczki!AL36,"-") -> 0 | AM36: =leasing!AM36+pożyczki!AM36 -> 1818202
A37: 6. | B37: FCA Leasing Sp. z o.o. | C37: =IFERROR(leasing!C37+pożyczki!C37,"-") -> 54994 | D37: =IFERROR(leasing!D37+pożyczki!D37,"-") -> 22742 | E37: =IFERROR(leasing!E37+pożyczki!E37,"-") -> 31949 | F37: =IFERROR(leasing!F37+pożyczki!F37,"-") -> 31949 | G37: =IFERROR(leasing!G37+pożyczki!G37,"-") -> 0 | H37: =IFERROR(leasing!H37+pożyczki!H37,"-") -> 0 | I37: =IFERROR(leasing!I37+pożyczki!I37,"-") -> 0 | J37: =IFERROR(leasing!J37+pożyczki!J37,"-") -> 0 | ... AL37: =IFERROR(leasing!AL37+pożyczki!AL37,"-") -> 0 | AM37: =leasing!AM37+pożyczki!AM37 -> 54994
A38: 7. | B38: Idea Leasing S.A. | C38: =IFERROR(leasing!C38+pożyczki!C38,"-") -> 629358 | D38: =IFERROR(leasing!D38+pożyczki!D38,"-") -> 235943 | E38: =IFERROR(leasing!E38+pożyczki!E38,"-") -> 133481 | F38: =IFERROR(leasing!F38+pożyczki!F38,"-") -> 76475 | G38: =IFERROR(leasing!G38+pożyczki!G38,"-") -> 57006 | H38: =IFERROR(leasing!H38+pożyczki!H38,"-") -> 171892 | I38: =IFERROR(leasing!I38+pożyczki!I38,"-") -> 80173 | J38: =IFERROR(leasing!J38+pożyczki!J38,"-") -> 3351 | ... AL38: =IFERROR(leasing!AL38+pożyczki!AL38,"-") -> 0 | AM38: =leasing!AM38+pożyczki!AM38 -> 945528
A39: 8. | B39: Impuls-Leasing Polska Sp. z o. o. | C39: =IFERROR(leasing!C39+pożyczki!C39,"-") -> 251176 | D39: =IFERROR(leasing!D39+pożyczki!D39,"-") -> 129416 | E39: =IFERROR(leasing!E39+pożyczki!E39,"-") -> 42012 | F39: =IFERROR(leasing!F39+pożyczki!F39,"-") -> 26572 | G39: =IFERROR(leasing!G39+pożyczki!G39,"-") -> 15440 | H39: =IFERROR(leasing!H39+pożyczki!H39,"-") -> 47340 | I39: =IFERROR(leasing!I39+pożyczki!I39,"-") -> 28557 | J39: =IFERROR(leasing!J39+pożyczki!J39,"-") -> 2801 | ... AL39: =IFERROR(leasing!AL39+pożyczki!AL39,"-") -> 0 | AM39: =leasing!AM39+pożyczki!AM39 -> 287419
A40: 9. | B40: ING Lease (Polska ) Sp. z o. o. | C40: =IFERROR(leasing!C40+pożyczki!C40,"-") -> 847044 | D40: =IFERROR(leasing!D40+pożyczki!D40,"-") -> 323843 | E40: =IFERROR(leasing!E40+pożyczki!E40,"-") -> 186769 | F40: =IFERROR(leasing!F40+pożyczki!F40,"-") -> 121783 | G40: =IFERROR(leasing!G40+pożyczki!G40,"-") -> 64986 | H40: =IFERROR(leasing!H40+pożyczki!H40,"-") -> 195264 | I40: =IFERROR(leasing!I40+pożyczki!I40,"-") -> 122000 | J40: =IFERROR(leasing!J40+pożyczki!J40,"-") -> 612 | ... AL40: =IFERROR(leasing!AL40+pożyczki!AL40,"-") -> 46185 | AM40: =leasing!AM40+pożyczki!AM40 -> 1434870
A41: 10. | B41: Millennium Leasing Sp. z o. o. | C41: =IFERROR(leasing!C41+pożyczki!C41,"-") -> 475882 | D41: =IFERROR(leasing!D41+pożyczki!D41,"-") -> 175513 | E41: =IFERROR(leasing!E41+pożyczki!E41,"-") -> 93731 | F41: =IFERROR(leasing!F41+pożyczki!F41,"-") -> 47710 | G41: =IFERROR(leasing!G41+pożyczki!G41,"-") -> 46021 | H41: =IFERROR(leasing!H41+pożyczki!H41,"-") -> 110210 | I41: =IFERROR(leasing!I41+pożyczki!I41,"-") -> 76782 | J41: =IFERROR(leasing!J41+pożyczki!J41,"-") -> 7946 | ... AL41: =IFERROR(leasing!AL41+pożyczki!AL41,"-") -> 0 | AM41: =leasing!AM41+pożyczki!AM41 -> 761597
A42: 11. | B42: mLeasing Sp. z o. o. | C42: =IFERROR(leasing!C42+pożyczki!C42,"-") -> 1060216 | D42: =IFERROR(leasing!D42+pożyczki!D42,"-") -> 739432 | E42: =IFERROR(leasing!E42+pożyczki!E42,"-") -> 113470 | F42: =IFERROR(leasing!F42+pożyczki!F42,"-") -> 70597 | G42: =IFERROR(leasing!G42+pożyczki!G42,"-") -> 42873 | H42: =IFERROR(leasing!H42+pożyczki!H42,"-") -> 96871 | I42: =IFERROR(leasing!I42+pożyczki!I42,"-") -> 73499 | J42: =IFERROR(leasing!J42+pożyczki!J42,"-") -> 9103 | ... AL42: =IFERROR(leasing!AL42+pożyczki!AL42,"-") -> 0 | AM42: =leasing!AM42+pożyczki!AM42 -> 1555918
A43: 12. | B43: PEAC (POLAND) sp. z o. o. | C43: =IFERROR(leasing!C43+pożyczki!C43,"-") -> 12921 | D43: =IFERROR(leasing!D43+pożyczki!D43,"-") -> 8590 | E43: =IFERROR(leasing!E43+pożyczki!E43,"-") -> 290 | F43: =IFERROR(leasing!F43+pożyczki!F43,"-") -> 0 | G43: =IFERROR(leasing!G43+pożyczki!G43,"-") -> 290 | H43: =IFERROR(leasing!H43+pożyczki!H43,"-") -> 0 | I43: =IFERROR(leasing!I43+pożyczki!I43,"-") -> 4041 | J43: =IFERROR(leasing!J43+pożyczki!J43,"-") -> 0 | ... AL43: =IFERROR(leasing!AL43+pożyczki!AL43,"-") -> 0 | AM43: =leasing!AM43+pożyczki!AM43 -> 33032
... A51: 20. | B51: Siemens Finance Sp. z o. o. | C51: =IFERROR(leasing!C51+pożyczki!C51,"-") -> 1836 | D51: =IFERROR(leasing!D51+pożyczki!D51,"-") -> 315 | E51: =IFERROR(leasing!E51+pożyczki!E51,"-") -> 0 | F51: =IFERROR(leasing!F51+pożyczki!F51,"-") -> 0 | G51: =IFERROR(leasing!G51+pożyczki!G51,"-") -> 0 | H51: =IFERROR(leasing!H51+pożyczki!H51,"-") -> 1442 | I51: =IFERROR(leasing!I51+pożyczki!I51,"-") -> 79 | J51: =IFERROR(leasing!J51+pożyczki!J51,"-") -> 0 | ... AL51: =IFERROR(leasing!AL51+pożyczki!AL51,"-") -> 0 | AM51: =leasing!AM51+pożyczki!AM51 -> 134414
B52: RAZEM | C52: =IFERROR(leasing!C52+pożyczki!C52,"-") -> 8602748 | D52: =IFERROR(leasing!D52+pożyczki!D52,"-") -> 4154784 | E52: =IFERROR(leasing!E52+pożyczki!E52,"-") -> 1592453 | F52: =IFERROR(leasing!F52+pożyczki!F52,"-") -> 967257 | G52: =IFERROR(leasing!G52+pożyczki!G52,"-") -> 625196 | H52: =IFERROR(leasing!H52+pożyczki!H52,"-") -> 1736915 | I52: =IFERROR(leasing!I52+pożyczki!I52,"-") -> 958892 | J52: =IFERROR(leasing!J52+pożyczki!J52,"-") -> 56903 | ... AL52: =IFERROR(leasing!AL52+pożyczki!AL52,"-") -> 50971 | AM52: =leasing!AM52+pożyczki!AM52 -> 13560717
A54: Wartość środków netto używanych - leasing + pożyczki w I kw 2021 r. (netto w tys. PLN)
A56: Lp. | B56: Spółka | C56: ŚRODKI TRANSPORTU DROGOWEGO | D56: Osobowe | E56: Cięzarowe: | F56: o masie do 3,5t | G56: o masie powyżej 3,5t | H56: Ciągniki siodłowe | I56: Naczepy / przyczepy | J56: Autobusy | K56: inne pojazdy | L56: MiU | M56: Sprzęt Budowlany | N56: Maszyny Rolnicze | O56: Maszyny Poligraf. | P56: maszyny do produkcji tworzyw sztucznych | Q56: maszyny i urządzenia do obróbki metali | R56: maszyny dla przemysłu spożywczego | S56: Sprzęt Medyczny | T56: Sprzęt Gastronom. | U56: Wózki Widłowe | V56: inne MiU | W56: IT | X56: Sprzęt | Y56: Oprogram. | Z56: inne IT | AA56: POZOSTAŁE ŚRODKI TRANSPORTU | AB56: Powietrzne | AC56: Wodne | AD56: Kolejowe | AE56: Inne ruchomości | AF56: RUCHOMOŚCI | AG56: NIERUCHOMOŚCI | AH56: budynki przemysłowe | AI56: obiekty handlowe i usługowe | AJ56: obiekty biurowe | AK56: hotele i obiekty rekreacyjne | AL56: inne | AM56: OGÓŁEM
A57: 1. | B57: BOS EKO Leasing | C57: =IFERROR(leasing!C57+pożyczki!C57,"-") -> 2054 | D57: =IFERROR(leasing!D57+pożyczki!D57,"-") -> 1450 | E57: =IFERROR(leasing!E57+pożyczki!E57,"-") -> 154 | F57: =IFERROR(leasing!F57+pożyczki!F57,"-") -> 34 | G57: =IFERROR(leasing!G57+pożyczki!G57,"-") -> 120 | H57: =IFERROR(leasing!H57+pożyczki!H57,"-") -> 300 | I57: =IFERROR(leasing!I57+pożyczki!I57,"-") -> 150 | J57: =IFERROR(leasing!J57+pożyczki!J57,"-") -> 0 | ... AL57: =IFERROR(leasing!AL57+pożyczki!AL57,"-") -> 0 | AM57: =leasing!AM57+pożyczki!AM57 -> 49509
A58: 2. | B58: BPS Leasing S.A | C58: =IFERROR(leasing!C58+pożyczki!C58,"-") -> 6413 | D58: =IFERROR(leasing!D58+pożyczki!D58,"-") -> 3890 | E58: =IFERROR(leasing!E58+pożyczki!E58,"-") -> 1102 | F58: =IFERROR(leasing!F58+pożyczki!F58,"-") -> 0 | G58: =IFERROR(leasing!G58+pożyczki!G58,"-") -> 1102 | H58: =IFERROR(leasing!H58+pożyczki!H58,"-") -> 1092 | I58: =IFERROR(leasing!I58+pożyczki!I58,"-") -> 267 | J58: =IFERROR(leasing!J58+pożyczki!J58,"-") -> 0 | ... AL58: =IFERROR(leasing!AL58+pożyczki!AL58,"-") -> 0 | AM58: =leasing!AM58+pożyczki!AM58 -> 10838
A59: 3. | B59: Caterpillar Financial Services Poland Sp. z o. o. | C59: =IFERROR(leasing!C59+pożyczki!C59,"-") -> 0 | D59: =IFERROR(leasing!D59+pożyczki!D59,"-") -> 0 | E59: =IFERROR(leasing!E59+pożyczki!E59,"-") -> 0 | F59: =IFERROR(leasing!F59+pożyczki!F59,"-") -> 0 | G59: =IFERROR(leasing!G59+pożyczki!G59,"-") -> 0 | H59: =IFERROR(leasing!H59+pożyczki!H59,"-") -> 0 | I59: =IFERROR(leasing!I59+pożyczki!I59,"-") -> 0 | J59: =IFERROR(leasing!J59+pożyczki!J59,"-") -> 0 | ... AL59: =IFERROR(leasing!AL59+pożyczki!AL59,"-") -> 0 | AM59: =leasing!AM59+pożyczki!AM59 -> 19378
A60: 4. | B60: De Lage Landen Leasing Polska S.A. | C60: =IFERROR(leasing!C60+pożyczki!C60,"-") -> 428 | D60: =IFERROR(leasing!D60+pożyczki!D60,"-") -> 246 | E60: =IFERROR(leasing!E60+pożyczki!E60,"-") -> 182 | F60: =IFERROR(leasing!F60+pożyczki!F60,"-") -> 182 | G60: =IFERROR(leasing!G60+pożyczki!G60,"-") -> 0 | H60: =IFERROR(leasing!H60+pożyczki!H60,"-") -> 0 | I60: =IFERROR(leasing!I60+pożyczki!I60,"-") -> 0 | J60: =IFERROR(leasing!J60+pożyczki!J60,"-") -> 0 | ... AL60: =IFERROR(leasing!AL60+pożyczki!AL60,"-") -> 0 | AM60: =leasing!AM60+pożyczki!AM60 -> 11793
A61: 5. | B61: Europejski Fundusz Leasingowy S.A. | C61: =IFERROR(leasing!C61+pożyczki!C61,"-") -> 469857 | D61: =IFERROR(leasing!D61+pożyczki!D61,"-") -> 190039 | E61: =IFERROR(leasing!E61+pożyczki!E61,"-") -> 122625 | F61: =IFERROR(leasing!F61+pożyczki!F61,"-") -> 48340 | G61: =IFERROR(leasing!G61+pożyczki!G61,"-") -> 74285 | H61: =IFERROR(leasing!H61+pożyczki!H61,"-") -> 112127 | I61: =IFERROR(leasing!I61+pożyczki!I61,"-") -> 42636 | J61: =IFERROR(leasing!J61+pożyczki!J61,"-") -> 2430 | ... AL61: =IFERROR(leasing!AL61+pożyczki!AL61,"-") -> 0 | AM61: =leasing!AM61+pożyczki!AM61 -> 669843
...
