Workbook

Sheet leasing
A2: Związek Polskiego Leasingu
A4: Ilość środków trwałych oddanych w leasing w I kw 2021 r. (sztuki)
A6: Lp. | B6: Spółka | C6: ŚRODKI TRANSPORTU DROGOWEGO | D6: Osobowe | E6: Cięzarowe: | F6: o masie do 3,5t | G6: o masie powyżej 3,5t | H6: Ciągniki siodłowe | I6: Naczepy / przyczepy | J6: Autobusy | K6: inne pojazdy | L6: MiU | M6: Sprzęt Budowlany | N6: Maszyny Rolnicze | O6: Maszyny Poligraf. | P6: maszyny do produkcji tworzyw sztucznych | Q6: maszyny i urządzenia do obróbki metali | R6: maszyny dla przemysłu spożywczego | S6: Sprzęt Medyczny | T6: Sprzęt Gastronom. | U6: Wózki Widłowe | V6: inne MiU | W6: IT | X6: Sprzęt | Y6: Oprogram. | Z6: inne IT | AA6: POZOSTAŁE ŚRODKI TRANSPORTU | AB6: Powietrzne | AC6: Wodne | AD6: Kolejowe | AE6: Inne ruchomości | AF6: RUCHOMOŚCI | AG6: NIERUCHOMOŚCI | AH6: budynki przemysłowe | AI6: obiekty handlowe i usługowe | AJ6: obiekty biurowe | AK6: hotele i obiekty rekreacyjne | AL6: inne | AM6: OGÓŁEM RUCHOMOŚCI I NIERUCHOMOŚCI
A7: 1. | B7: BOS EKO Leasing | C7: 34 | D7: 8 | E7: 17 | F7: 16 | G7: 1 | H7: 5 | I7: 3 | J7: 0 | K7: 1 | L7: 35 | M7: 0 | N7: 9 | O7: 0 | P7: 4 | Q7: 1 | R7: 1 | S7: 0 | T7: 0 | U7: 2 | V7: 18 | W7: 0 | X7: 0 | Y7: 0 | Z7: 0 | AA7: 208 | AB7: 1 | AC7: 0 | AD7: 207 | AE7: 0 | AF7: =C7+L7+W7+AA7+AE7 -> 277 | AG7: 0 | AH7: 0 | AI7: 0 | AJ7: 0 | AK7: 0 | AL7: 0 | AM7: =IFERROR(AF7+AG7,0) -> 277
A8: 2. | B8: BPS Leasing S.A | C8: 242 | D8: 147 | E8: 52 | F8: 44 | G8: 8 | H8: 17 | I8: 20 | J8: 0 | K8: 6 | L8: 22 | M8: 7 | N8: 0 | O8: 2 | P8: 2 | Q8: 0 | R8: 1 | S8: 2 | T8: 0 | U8: 4 | V8: 4 | W8: 0 | X8: 0 | Y8: 0 | Z8: 0 | AA8: 1 | AB8: 0 | AC8: 0 | AD8: 1 | AE8: 9 | AF8: =C8+L8+W8+AA8+AE8 -> 274 | AG8: 0 | AH8: 0 | AI8: 0 | AJ8: 0 | AK8: 0 | AL8: 0 | AM8: =IFERROR(AF8+AG8,0) -> 274
A9: 3. | B9: Caterpillar Financial Services Poland Sp. z o. o. | C9: 0 | D9: 0 | E9: 0 | F9: 0 | G9: 0 | H9: 0 | I9: 0 | J9: 0 | K9: 0 | L9: 208 | M9: 208 | N9: 0 | O9: 0 | P9: 0 | Q9: 0 | R9: 0 | S9: 0 | T9: 0 | U9: 0 | V9: 0 | W9: 0 | X9: 0 | Y9: 0 | Z9: 0 | AA9: 0 | AB9: 0 | AC9: 0 | AD9: 0 | AE9: 0 | AF9: =C9+L9+W9+AA9+AE9 -> 208 | AG9: 0 | AH9: 0 | AI9: 0 | AJ9: 0 | AK9: 0 | AL9: 0 | AM9: =IFERROR(AF9+AG9,0) -> 208
A10: 4. | B10: De Lage Landen Leasing Polska S.A. | C10: 25 | D10: 3 | E10: 3 | F10: 3 | G10: 0 | H10: 19 | I10: 0 | J10: 0 | K10: 0 | L10: 140 | M10: 32 | N10: 14 | O10: 0 | P10: 0 | Q10: 0 | R10: 0 | S10: 24 | T10: 0 | U10: 17 | V10: 53 | W10: 100 | X10: 100 | Y10: 0 | Z10: 0 | AA10: 0 | AB10: 0 | AC10: 0 | AD10: 0 | AE10: 0 | AF10: =C10+L10+W10+AA10+AE10 -> 265 | AG10: 0 | AH10: 0 | AI10: 0 | AJ10: 0 | AK10: 0 | AL10: 0 | AM10: =IFERROR(AF10+AG10,0) -> 265
A11: 5. | B11: Europejski Fundusz Leasingowy S.A. | C11: 9288 | D11: 4682 | E11: 2270 | F11: 1775 | G11: 495 | H11: 1090 | I11: 1064 | J11: 29 | K11: 153 | L11: 3825 | M11: 1179 | N11: 435 | O11: 52 | P11: 53 | Q11: 176 | R11: 61 | S11: 62 | T11: 323 | U11: 230 | V11: 1254 | W11: 466 | X11: 242 | Y11: 115 | Z11: 109 | AA11: 30 | AB11: 7 | AC11: 23 | AD11: 0 | AE11: 0 | AF11: =C11+L11+W11+AA11+AE11 -> 13609 | AG11: 4 | AH11: 0 | AI11: 0 | AJ11: 0 | AK11: 0 | AL11: 4 | AM11: =IFERROR(AF11+AG11,0) -> 13613
A12: 6. | B12: FCA Leasing Sp. z o.o. | C12: 621 | D12: 218 | E12: 398 | F12: 398 | G12: 0 | H12: 0 | I12: 0 | J12: 0 | K12: 5 | L12: 0 | M12: 0 | N12: 0 | O12: 0 | P12: 0 | Q12: 0 | R12: 0 | S12: 0 | T12: 0 | U12: 0 | V12: 0 | W12: 0 | X12: 0 | Y12: 0 | Z12: 0 | AA12: 0 | AB12: 0 | AC12: 0 | AD12: 0 | AE12: 0 | AF12: =C12+L12+W12+AA12+AE12 -> 621 | AG12: 0 | AH12: 0 | AI12: 0 | AJ12: 0 | AK12: 0 | AL12: 0 | AM12: =IFERROR(AF12+AG12,0) -> 621
A13: 7. | B13: Idea Leasing S.A. | C13: 4761 | D13: 2186 | E13: 1135 | F13: 887 | G13: 248 | H13: 727 | I13: 600 | J13: 22 | K13: 91 | L13: 1065 | M13: 237 | N13: 376 | O13: 27 | P13: 43 | Q13: 29 | R13: 21 | S13: 77 | T13: 36 | U13: 62 | V13: 157 | W13: 40 | X13: 26 | Y13: 0 | Z13: 14 | AA13: 17 | AB13: 4 | AC13: 13 | AD13: 0 | AE13: 237 | AF13: =C13+L13+W13+AA13+AE13 -> 6120 | AG13: 0 | AH13: 0 | AI13: 0 | AJ13: 0 | AK13: 0 | AL13: 0 | AM13: =IFERROR(AF13+AG13,0) -> 6120
A14: 8. | B14: Impuls-Leasing Polska Sp. z o. o. | C14: 1811 | D14: 1106 | E14: 361 | F14: 307 | G14: 54 | H14: 139 | I14: 176 | J14: 5 | K14: 24 | L14: 333 | M14: 41 | N14: 32 | O14: 11 | P14: 6 | Q14: 9 | R14: 0 | S14: 23 | T14: 37 | U14: 96 | V14: 78 | W14: 3 | X14: 3 | Y14: 0 | Z14: 0 | AA14: 0 | AB14: 0 | AC14: 0 | AD14: 0 | AE14: 0 | AF14: =C14+L14+W14+AA14+AE14 -> 2147 | AG14: 0 | AH14: 0 | AI14: 0 | AJ14: 0 | AK14: 0 | AL14: 0 | AM14: =IFERROR(AF14+AG14,0) -> 2147
A15: 9. | B15: ING Lease (Polska ) Sp. z o. o. | C15: 6032 | D15: 3054 | E15: 1696 | F15: 1533 | G15: 163 | H15: 617 | I15: 601 | J15: 4 | K15: 60 | L15: 1199 | M15: 208 | N15: 38 | O15: 25 | P15: 59 | Q15: 167 | R15: 85 | S15: 58 | T15: 14 | U15: 202 | V15: 343 | W15: 72 | X15: 72 | Y15: 0 | Z15: 0 | AA15: 10 | AB15: 0 | AC15: 3 | AD15: 7 | AE15: 166 | AF15: =C15+L15+W15+AA15+AE15 -> 7479 | AG15: 2 | AH15: 0 | AI15: 0 | AJ15: 0 | AK15: 0 | AL15: 2 | AM15: =IFERROR(AF15+AG15,0) -> 7481
A16: 10. | B16: Millennium Leasing Sp. z o. o. | C16: 3256 | D16: 1359 | E16: 645 | F16: 518 | G16: 127 | H16: 461 | I16: 706 | J16: 27 | K16: 58 | L16: 1183 | M16: 192 | N16: 21 | O16: 31 | P16: 108 | Q16: 0 | R16: 65 | S16: 63 | T16: 0 | U16: 269 | V16: 434 | W16: 32 | X16: 0 | Y16: 32 | Z16: 0 | AA16: 5 | AB16: 2 | AC16: 2 | AD16: 1 | AE16: 0 | AF16: =C16+L16+W16+AA16+AE16 -> 4476 | AG16: 0 | AH16: 0 | AI16: 0 | AJ16: 0 | AK16: 0 | AL16: 0 | AM16: =IFERROR(AF16+AG16,0) -> 4476
A17: 11. | B17: mLeasing Sp. z o. o. | C17: 7146 | D17: 5438 | E17: 890 | F17: 785 | G17: 105 | H17: 287 | I17: 485 | J17: 14 | K17: 32 | L17: 1376 | M17: 92 | N17: 10 | O17: 79 | P17: 22 | Q17: 81 | R17: 15 | S17: 92 | T17: 128 | U17: 197 | V17: 660 | W17: 524 | X17: 524 | Y17: 0 | Z17: 0 | AA17: 31 | AB17: 7 | AC17: 23 | AD17: 1 | AE17: 585 | AF17: =C17+L17+W17+AA17+AE17 -> 9662 | AG17: 4 | AH17: 0 | AI17: 4 | AJ17: 0 | AK17: 0 | AL17: 0 | AM17: =IFERROR(AF17+AG17,0) -> 9666
A18: 12. | B18: PEAC (POLAND) sp. z o. o. | C18: 161 | D18: 132 | E18: 1 | F18: 0 | G18: 1 | H18: 0 | I18: 28 | J18: 0 | K18: 0 | L18: 252 | M18: 5 | N18: 10 | O18: 1 | P18: 3 | Q18: 8 | R18: 7 | S18: 7 | T18: 0 | U18: 15 | V18: 196 | W18: 16 | X18: 16 | Y18: 0 | Z18: 0 | AA18: 0 | AB18: 0 | AC18: 0 | AD18: 0 | AE18: 0 | AF18: =C18+L18+W18+AA18+AE18 -> 429 | AG18: 0 | AH18: 0 | AI18: 0 | AJ18: 0 | AK18: 0 | AL18: 0 | AM18: =IFERROR(AF18+AG18,0) -> 429
... A26: 20. | B26: Siemens Finance Sp. z o. o. | C26: 7 | D26: 1 | E26: 0 | F26: 0 | G26: 0 | H26: 5 | I26: 1 | J26: 0 | K26: 0 | L26: 622 | M26: 13 | N26: 12 | O26: 14 | P26: 6 | Q26: 28 | R26: 0 | S26: 451 | T26: 0 | U26: 2 | V26: 96 | W26: 1017 | X26: 992 | Y26: 25 | Z26: 0 | AA26: 0 | AB26: 0 | AC26: 0 | AD26: 0 | AE26: 0 | AF26: =C26+L26+W26+AA26+AE26 -> 1646 | AG26: 0 | AH26: 0 | AI26: 0 | AJ26: 0 | AK26: 0 | AL26: 0 | AM26: =IFERROR(AF26+AG26,0) -> 1646
B27: RAZEM | C27: =SUM(C7:C26) -> 61444 | D27: =SUM(D7:D26) -> 35429 | E27: =SUM(E7:E26) -> 12091 | F27: =SUM(F7:F26) -> 10095 | G27: =SUM(G7:G26) -> 1996 | H27: =SUM(H7:H26) -> 6050 | I27: =SUM(I7:I26) -> 6805 | J27: =SUM(J7:J26) -> 179 | ... AE27: =SUM(AE7:AE26) -> 1048 | AF27: =C27+L27+W27+AA27+AE27 -> 86356 | AG27: =SUM(AG7:AG26) -> 12 | AH27: =SUM(AH7:AH26) -> 0 | AI27: =SUM(AI7:AI26) -> 4 | AJ27: =SUM(AJ7:AJ26) -> 0 | AK27: =SUM(AK7:AK26) -> 0 | AL27: =SUM(AL7:AL26) -> 8 | AM27: =AF27+AG27 -> 86368
A29: Wartość sródków trwałych w leasing w I kw 2021 r. (netto tys. PLN)
A31: Lp. | B31: Spółka | C31: ŚRODKI TRANSPORTU DROGOWEGO | D31: Osobowe | E31: Cięzarowe: | F31: o masie do 3,5t | G31: o masie powyżej 3,5t | H31: Ciągniki siodłowe | I31: Naczepy / przyczepy | J31: Autobusy | K31: inne pojazdy | L31: MiU | M31: Sprzęt Budowlany | N31: Maszyny Rolnicze | O31: Maszyny Poligraf. | P31: maszyny do produkcji tworzyw sztucznych | Q31: maszyny i urządzenia do obróbki metali | R31: maszyny dla przemysłu spożywczego | S31: Sprzęt Medyczny | T31: Sprzęt Gastronom. | U31: Wózki Widłowe | V31: inne MiU | W31: IT | X31: Sprzęt | Y31: Oprogram. | Z31: inne IT | AA31: POZOSTAŁE ŚRODKI TRANSPORTU | AB31: Powietrzne | AC31: Wodne | AD31: Kolejowe | AE31: Inne ruchomości | AF31: RUCHOMOŚCI | AG31: NIERUCHOMOŚCI | AH31: budynki przemysłowe | AI31: obiekty handlowe i usługowe | AJ31: obiekty biurowe | AK31: hotele i obiekty rekreacyjne | AL31: inne | AM31: OGÓŁEM RUCHOMOŚCI I NIERUCHOMOŚCI
A32: 1. | B32: BOS EKO Leasing | C32: 4823 | D32: 1670 | E32: 1190 | F32: 1070 | G32: 120 | H32: 1413 | I32: 150 | J32: 0 | K32: 400 | L32: 8060 | M32: 0 | N32: 1140 | O32: 0 | P32: 360 | Q32: 2690 | R32: 140 | S32: 0 | T32: 0 | U32: 250 | V32: 3480 | W32: 0 | X32: 0 | Y32: 0 | Z32: 0 | AA32: 43824 | AB32: 19800 | AC32: 0 | AD32: 24024 | AE32: 0 | AF32: =IFERROR(C32+L32+W32+AA32+AE32,0) -> 56707 | AG32: 0 | AH32: 0 | AI32: 0 | AJ32: 0 | AK32: 0 | AL32: 0 | AM32: =IFERROR(+AF32+AG32,0) -> 56707
A33: 2. | B33: BPS Leasing S.A | C33: 30608 | D33: 13564 | E33: 7152 | F33: 4184 | G33: 2968 | H33: 4807 | I33: 4099 | J33: 0 | K33: 986 | L33: 5652 | M33: 2685 | N33: 0 | O33: 380 | P33: 260 | Q33: 0 | R33: 870 | S33: 185 | T33: 0 | U33: 330 | V33: 942 | W33: 0 | X33: 0 | Y33: 0 | Z33: 0 | AA33: 534 | AB33: 0 | AC33: 0 | AD33: 534 | AE33: 1741 | AF33: =IFERROR(C33+L33+W33+AA33+AE33,0) -> 38535 | AG33: 0 | AH33: 0 | AI33: 0 | AJ33: 0 | AK33: 0 | AL33: 0 | AM33: =IFERROR(+AF33+AG33,0) -> 38535
A34: 3. | B34: Caterpillar Financial Services Poland Sp. z o. o. | C34: 0 | D34: 0 | E34: 0 | F34: 0 | G34: 0 | H34: 0 | I34: 0 | J34: 0 | K34: 0 | L34: 100760 | M34: 100760 | N34: 0 | O34: 0 | P34: 0 | Q34: 0 | R34: 0 | S34: 0 | T34: 0 | U34: 0 | V34: 0 | W34: 0 | X34: 0 | Y34: 0 | Z34: 0 | AA34: 0 | AB34: 0 | AC34: 0 | AD34: 0 | AE34: 0 | AF34: =IFERROR(C34+L34+W34+AA34+AE34,0) -> 100760 | AG34: 0 | AH34: 0 | AI34: 0 | AJ34: 0 | AK34: 0 | AL34: 0 | AM34: =IFERROR(+AF34+AG34,0) -> 100760
A35: 4. | B35: De Lage Landen Leasing Polska S.A. | C35: 8654 | D35: 296 | E35: 441 | F35: 441 | G35: 0 | H35: 7917 | I35: 0 | J35: 0 | K35: 0 | L35: 25930 | M35: 13813 | N35: 6186 | O35: 0 | P35: 0 | Q35: 0 | R35: 0 | S35: 978 | T35: 0 | U35: 1983 | V35: 2970 | W35: 6311 | X35: 6311 | Y35: 0 | Z35: 0 | AA35: 0 | AB35: 0 | AC35: 0 | AD35: 0 | AE35: 0 | AF35: =IFERROR(C35+L35+W35+AA35+AE35,0) -> 40895 | AG35: 0 | AH35: 0 | AI35: 0 | AJ35: 0 | AK35: 0 | AL35: 0 | AM35: =IFERROR(+AF35+AG35,0) -> 40895
A36: 5. | B36: Europejski Fundusz Leasingowy S.A. | C36: 1227946 | D36: 553136 | E36: 300052 | F36: 196898 | G36: 103154 | H36: 241989 | I36: 118631 | J36: 7346 | K36: 6792 | L36: 463913 | M36: 178630 | N36: 71461 | O36: 5495 | P36: 8941 | Q36: 30236 | R36: 9752 | S36: 4496 | T36: 17528 | U36: 16062 | V36: 121312 | W36: 24292 | X36: 12882 | Y36: 7288 | Z36: 4122 | AA36: 8748 | AB36: 3799 | AC36: 4949 | AD36: 0 | AE36: 0 | AF36: =IFERROR(C36+L36+W36+AA36+AE36,0) -> 1724899 | AG36: 0 | AH36: 0 | AI36: 0 | AJ36: 0 | AK36: 0 | AL36: 0 | AM36: =IFERROR(+AF36+AG36,0) -> 1724899
A37: 6. | B37: FCA Leasing Sp. z o.o. | C37: 54994 | D37: 22742 | E37: 31949 | F37: 31949 | G37: 0 | H37: 0 | I37: 0 | J37: 0 | K37: 303 | L37: 0 | M37: 0 | N37: 0 | O37: 0 | P37: 0 | Q37: 0 | R37: 0 | S37: 0 | T37: 0 | U37: 0 | V37: 0 | W37: 0 | X37: 0 | Y37: 0 | Z37: 0 | AA37: 0 | AB37: 0 | AC37: 0 | AD37: 0 | AE37: 0 | AF37: =IFERROR(C37+L37+W37+AA37+AE37,0) -> 54994 | AG37: 0 | AH37: 0 | AI37: 0 | AJ37: 0 | AK37: 0 | AL37: 0 | AM37: =IFERROR(+AF37+AG37,0) -> 54994
A38: 7. | B38: Idea Leasing S.A. | C38: 537152 | D38: 216920 | E38: 121339 | F38: 70293 | G38: 51046 | H38: 128910 | I38: 62314 | J38: 3351 | K38: 4318 | L38: 147791 | M38: 43764 | N38: 57168 | O38: 5432 | P38: 2941 | Q38: 5282 | R38: 876 | S38: 6088 | T38: 2491 | U38: 3555 | V38: 20194 | W38: 2189 | X38: 1123 | Y38: 0 | Z38: 1066 | AA38: 3280 | AB38: 315 | AC38: 2965 | AD38: 0 | AE38: 17760 | AF38: =IFERROR(C38+L38+W38+AA38+AE38,0) -> 708172 | AG38: 0 | AH38: 0 | AI38: 0 | AJ38: 0 | AK38: 0 | AL38: 0 | AM38: =IFERROR(+AF38+AG38,0) -> 708172
A39: 8. | B39: Impuls-Leasing Polska Sp. z o. o. | C39: 226565 | D39: 127056 | E39: 41237 | F39: 26016 | G39: 15221 | H39: 32857 | I39: 21564 | J39: 2801 | K39: 1050 | L39: 33524 | M39: 6893 | N39: 3121 | O39: 1031 | P39: 1497 | Q39: 4090 | R39: 0 | S39: 1609 | T39: 1394 | U39: 3729 | V39: 10160 | W39: 176 | X39: 176 | Y39: 0 | Z39: 0 | AA39: 0 | AB39: 0 | AC39: 0 | AD39: 0 | AE39: 0 | AF39: =IFERROR(C39+L39+W39+AA39+AE39,0) -> 260265 | AG39: 0 | AH39: 0 | AI39: 0 | AJ39: 0 | AK39: 0 | AL39: 0 | AM39: =IFERROR(+AF39+AG39,0) -> 260265
A40: 9. | B40: ING Lease (Polska ) Sp. z o. o. | C40: 835207 | D40: 323843 | E40: 182835 | F40: 117849 | G40: 64986 | H40: 187361 | I40: 122000 | J40: 612 | K40: 18556 | L40: 393963 | M40: 79059 | N40: 14135 | O40: 20570 | P40: 52341 | Q40: 70239 | R40: 26837 | S40: 10039 | T40: 3214 | U40: 24774 | V40: 92755 | W40: 35810 | X40: 35810 | Y40: 0 | Z40: 0 | AA40: 71604 | AB40: 0 | AC40: 154 | AD40: 71450 | AE40: 33910 | AF40: =IFERROR(C40+L40+W40+AA40+AE40,0) -> 1370494 | AG40: 46185 | AH40: 0 | AI40: 0 | AJ40: 0 | AK40: 0 | AL40: 46185 | AM40: =IFERROR(+AF40+AG40,0) -> 1416679
A41: 10. | B41: Millennium Leasing Sp. z o. o. | C41: 475882 | D41: 175513 | E41: 93731 | F41: 47710 | G41: 46021 | H41: 110210 | I41: 76782 | J41: 7946 | K41: 11700 | L41: 270679 | M41: 47932 | N41: 3775 | O41: 10464 | P41: 35408 | Q41: 0 | R41: 35410 | S41: 3163 | T41: 0 | U41: 27531 | V41: 106996 | W41: 7565 | X41: 0 | Y41: 7565 | Z41: 0 | AA41: 7471 | AB41: 1485 | AC41: 754 | AD41: 5232 | AE41: 0 | AF41: =IFERROR(C41+L41+W41+AA41+AE41,0) -> 761597 | AG41: 0 | AH41: 0 | AI41: 0 | AJ41: 0 | AK41: 0 | AL41: 0 | AM41: =IFERROR(+AF41+AG41,0) -> 761597
A42: 11. | B42: mLeasing Sp. z o. o. | C42: 1036805 | D42: 739432 | E42: 112098 | F42: 70597 | G42: 41501 | H42: 90269 | I42: 61469 | J42: 9103 | K42: 24434 | L42: 256087 | M42: 33963 | N42: 1920 | O42: 5692 | P42: 12264 | Q42: 38886 | R42: 5832 | S42: 4492 | T42: 1472 | U42: 19469 | V42: 132097 | W42: 9013 | X42: 9013 | Y42: 0 | Z42: 0 | AA42: 41149 | AB42: 11688 | AC42: 24736 | AD42: 4725 | AE42: 27096 | AF42: =IFERROR(C42+L42+W42+AA42+AE42,0) -> 1370150 | AG42: 28317 | AH42: 0 | AI42: 28317 | AJ42: 0 | AK42: 0 | AL42: 0 | AM42: =IFERROR(+AF42+AG42,0) -> 1398467
A43: 12. | B43: PEAC (POLAND) sp. z o. o. | C43: 12474 | D43: 8590 | E43: 290 | F43: 0 | G43: 290 | H43: 0 | I43: 3594 | J43: 0 | K43: 0 | L43: 14599 | M43: 167 | N43: 757 | O43: 74 | P43: 1389 | Q43: 652 | R43: 3749 | S43: 247 | T43: 0 | U43: 825 | V43: 6739 | W43: 830 | X43: 830 | Y43: 0 | Z43: 0 | AA43: 0 | AB43: 0 | AC43: 0 | AD43: 0 | AE43: 0 | AF43: =IFERROR(C43+L43+W43+AA43+AE43,0) -> 27903 | AG43: 0 | AH43: 0 | AI43: 0 | AJ43: 0 | AK43: 0 | AL43: 0 | AM43: =IFERROR(+AF43+AG43,0) -> 27903
... A51: 20. | B51: Siemens Finance Sp. z o. o. | C51: 1836 | D51: 315 | E51: 0 | F51: 0 | G51: 0 | H51: 1442 | I51: 79 | J51: 0 | K51: 0 | L51: 124812 | M51: 6082 | N51: 7111 | O51: 6172 | P51: 4975 | Q51: 22791 | R51: 0 | S51: 65544 | T51: 0 | U51: 132 | V51: 12005 | W51: 7766 | X51: 6547 | Y51: 1219 | Z51: 0 | AA51: 0 | AB51: 0 | AC51: 0 | AD51: 0 | AE51: 0 | AF51: =IFERROR(C51+L51+W51+AA51+AE51,0) -> 134414 | AG51: 0 | AH51: 0 | AI51: 0 | AJ51: 0 | AK51: 0 | AL51: 0 | AM51: =IFERROR(+AF51+AG51,0) -> 134414
B52: RAZEM | C52: =SUM(C32:C51) -> 8237237 | D52: =SUM(D32:D51) -> 4064979 | E52: =SUM(E32:E51) -> 1539092 | F52: =SUM(F32:F51) -> 931026 | G52: =SUM(G32:G51) -> 608066 | H52: =SUM(H32:H51) -> 1593813 | I52: =SUM(I32:I51) -> 886475 | J52: =SUM(J32:J51) -> 56552 | ... AM52: =SUM(AM32:AM51) -> 11984306
A54: Wartość netto używanych sródków trwałych w I kw 2021 r. (tys. PLN)
A56: Lp. | B56: Spółka | C56: ŚRODKI TRANSPORTU DROGOWEGO | D56: Osobowe | E56: Cięzarowe: | F56: o masie do 3,5t | G56: o masie powyżej 3,5t | H56: Ciągniki siodłowe | I56: Naczepy / przyczepy | J56: Autobusy | K56: inne pojazdy | L56: MiU | M56: Sprzęt Budowlany | N56: Maszyny Rolnicze | O56: Maszyny Poligraf. | P56: maszyny do produkcji tworzyw sztucznych | Q56: maszyny i urządzenia do obróbki metali | R56: maszyny dla przemysłu spożywczego | S56: Sprzęt Medyczny | T56: Sprzęt Gastronom. | U56: Wózki Widłowe | V56: inne MiU | W56: IT | X56: Sprzęt | Y56: Oprogram. | Z56: inne IT | AA56: POZOSTAŁE ŚRODKI TRANSPORTU | AB56: Powietrzne | AC56: Wodne | AD56: Kolejowe | AE56: Inne ruchomości | AF56: RUCHOMOŚCI | AG56: NIERUCHOMOŚCI | AH56: budynki przemysłowe | AI56: obiekty handlowe i usługowe | AJ56: obiekty biurowe | AK56: hotele i obiekty rekreacyjne | AL56: inne | AM56: OGÓŁEM RUCHOMOŚCI I NIERUCHOMOŚCI
A57: 1. | B57: BOS EKO Leasing | C57: 2054 | D57: 1450 | E57: 154 | F57: 34 | G57: 120 | H57: 300 | I57: 150 | J57: 0 | K57: 0 | L57: 3630 | M57: 0 | N57: 0 | O57: 0 | P57: 40 | Q57: 2690 | R57: 0 | S57: 0 | T57: 0 | U57: 120 | V57: 780 | W57: 0 | X57: 0 | Y57: 0 | Z57: 0 | AA57: 43825 | AB57: 19800 | AC57: 0 | AD57: 24025 | AE57: 0 | AF57: =IFERROR(C57+L57+W57+AA57+AE57,0) -> 49509 | AG57: 0 | AH57: 0 | AI57: 0 | AJ57: 0 | AK57: 0 | AL57: 0 | AM57: =IFERROR(+AF57+AG57,0) -> 49509
A58: 2. | B58: BPS Leasing S.A | C58: 6413 | D58: 3890 | E58: 1102 | F58: 0 | G58: 1102 | H58: 1092 | I58: 267 | J58: 0 | K58: 62 | L58: 2778 | M58: 717 | N58: 0 | O58: 285 | P58: 0 | Q58: 0 | R58: 870 | S58: 0 | T58: 0 | U58: 106 | V58: 800 | W58: 0 | X58: 0 | Y58: 0 | Z58: 0 | AA58: 534 | AB58: 0 | AC58: 0 | AD58: 534 | AE58: 1113 | AF58: =IFERROR(C58+L58+W58+AA58+AE58,0) -> 10838 | AG58: 0 | AH58: 0 | AI58: 0 | AJ58: 0 | AK58: 0 | AL58: 0 | AM58: =IFERROR(+AF58+AG58,0) -> 10838
A59: 3. | B59: Caterpillar Financial Services Poland Sp. z o. o. | C59: 0 | D59: 0 | E59: 0 | F59: 0 | G59: 0 | H59: 0 | I59: 0 | J59: 0 | K59: 0 | L59: 16847 | M59: 16847 | N59: 0 | O59: 0 | P59: 0 | Q59: 0 | R59: 0 | S59: 0 | T59: 0 | U59: 0 | V59: 0 | W59: 0 | X59: 0 | Y59: 0 | Z59: 0 | AA59: 0 | AB59: 0 | AC59: 0 | AD59: 0 | AE59: 0 | AF59: =IFERROR(C59+L59+W59+AA59+AE59,0) -> 16847 | AG59: 0 | AH59: 0 | AI59: 0 | AJ59: 0 | AK59: 0 | AL59: 0 | AM59: =IFERROR(+AF59+AG59,0) -> 16847
A60: 4. | B60: De Lage Landen Leasing Polska S.A. | C60: 116 | D60: 116 | E60: 0 | F60: 0 | G60: 0 | H60: 0 | I60: 0 | J60: 0 | K60: 0 | L60: 3849 | M60: 2087 | N60: 1630 | O60: 0 | P60: 0 | Q60: 0 | R60: 0 | S60: 17 | T60: 0 | U60: 115 | V60: 0 | W60: 7 | X60: 7 | Y60: 0 | Z60: 0 | AA60: 0 | AB60: 0 | AC60: 0 | AD60: 0 | AE60: 0 | AF60: =IFERROR(C60+L60+W60+AA60+AE60,0) -> 3972 | AG60: 0 | AH60: 0 | AI60: 0 | AJ60: 0 | AK60: 0 | AL60: 0 | AM60: =IFERROR(+AF60+AG60,0) -> 3972
A61: 5. | B61: Europejski Fundusz Leasingowy S.A. | C61: 460961 | D61: 189125 | E61: 119369 | F61: 45665 | G61: 73704 | H61: 108887 | I61: 41150 | J61: 2430 | K61: 0 | L61: 191817 | M61: 122447 | N61: 40271 | O61: 1993 | P61: 1688 | Q61: 7357 | R61: 1081 | S61: 272 | T61: 1030 | U61: 6827 | V61: 8851 | W61: 0 | X61: 0 | Y61: 0 | Z61: 0 | AA61: 2238 | AB61: 295 | AC61: 1943 | AD61: 0 | AE61: 0 | AF61: =IFERROR(C61+L61+W61+AA61+AE61,0) -> 655016 | AG61: 0 | AH61: 0 | AI61: 0 | AJ61: 0 | AK61: 0 | AL61: 0 | AM61: =IFERROR(+AF61+AG61,0) -> 655016
A62: 6. | B62: FCA Leasing Sp. z o.o. | C62: 3905 | D62: 3072 | E62: 756 | F62: 756 | G62: 0 | H62: 0 | I62: 0 | J62: 0 | K62: 77 | L62: 0 | M62: 0 | N62: 0 | O62: 0 | P62: 0 | Q62: 0 | R62: 0 | S62: 0 | T62: 0 | U62: 0 | V62: 0 | W62: 0 | X62: 0 | Y62: 0 | Z62: 0 | AA62: 0 | AB62: 0 | AC62: 0 | AD62: 0 | AE62: 0 | AF62: =IFERROR(C62+L62+W62+AA62+AE62,0) -> 3905 | AG62: 0 | AH62: 0 | AI62: 0 | AJ62: 0 | AK62: 0 | AL62: 0 | AM62: =IFERROR(+AF62+AG62,0) -> 3905
A63: 7. | B63: Idea Leasing S.A. | C63: 280216 | D63: 103124 | E63: 59270 | F63: 23164 | G63: 36106 | H63: 93561 | I63: 21160 | J63: 2475 | K63: 626 | L63: 63432 | M63: 24782 | N63: 32616 | O63: 79 | P63: 472 | Q63: 445 | R63: 263 | S63: 543 | T63: 59 | U63: 2295 | V63: 1878 | W63: 131 | X63: 131 | Y63: 0 | Z63: 0 | AA63: 393 | AB63: 0 | AC63: 393 | AD63: 0 | AE63: 743 | AF63: =IFERROR(C63+L63+W63+AA63+AE63,0) -> 344915 | AG63: 0 | AH63: 0 | AI63: 0 | AJ63: 0 | AK63: 0 | AL63: 0 | AM63: =IFERROR(+AF63+AG63,0) -> 344915
A64: 8. | B64: Impuls-Leasing Polska Sp. z o. o. | C64: 62039 | D64: 37527 | E64: 7002 | F64: 4183 | G64: 2819 | H64: 14067 | I64: 3388 | J64: 0 | K64: 55 | L64: 4558 | M64: 2927 | N64: 0 | O64: 0 | P64: 0 | Q64: 495 | R64: 0 | S64: 124 | T64: 0 | U64: 841 | V64: 171 | W64: 0 | X64: 0 | Y64: 0 | Z64: 0 | AA64: 0 | AB64: 0 | AC64: 0 | AD64: 0 | AE64: 0 | AF64: =IFERROR(C64+L64+W64+AA64+AE64,0) -> 66597 | AG64: 0 | AH64: 0 | AI64: 0 | AJ64: 0 | AK64: 0 | AL64: 0 | AM64: =IFERROR(+AF64+AG64,0) -> 66597
A65: 9. | B65: ING Lease (Polska ) Sp. z o. o. | C65: 214502 | D65: 124561 | E65: 36290 | F65: 21604 | G65: 14686 | H65: 33621 | I65: 9906 | J65: 362 | K65: 9762 | L65: 46942 | M65: 22736 | N65: 1295 | O65: 3562 | P65: 772 | Q65: 8532 | R65: 1415 | S65: 245 | T65: 320 | U65: 3718 | V65: 4347 | W65: 0 | X65: 0 | Y65: 0 | Z65: 0 | AA65: 56104 | AB65: 0 | AC65: 154 | AD65: 55950 | AE65: 51 | AF65: =IFERROR(C65+L65+W65+AA65+AE65,0) -> 317599 | AG65: 0 | AH65: 0 | AI65: 0 | AJ65: 0 | AK65: 0 | AL65: 0 | AM65: =IFERROR(+AF65+AG65,0) -> 317599
A66: 10. | B66: Millennium Leasing Sp. z o. o. | C66: 179638 | D66: 66557 | E66: 23588 | F66: 10843 | G66: 12745 | H66: 50491 | I66: 28965 | J66: 4047 | K66: 5990 | L66: 53044 | M66: 25813 | N66: 830 | O66: 1004 | P66: 4138 | Q66: 0 | R66: 7139 | S66: 12 | T66: 0 | U66: 3277 | V66: 10831 | W66: 0 | X66: 0 | Y66: 0 | Z66: 0 | AA66: 6641 | AB66: 1409 | AC66: 0 | AD66: 5232 | AE66: 0 | AF66: =IFERROR(C66+L66+W66+AA66+AE66,0) -> 239323 | AG66: 0 | AH66: 0 | AI66: 0 | AJ66: 0 | AK66: 0 | AL66: 0 | AM66: =IFERROR(+AF66+AG66,0) -> 239323
A67: 11. | B67: mLeasing Sp. z o. o. | C67: 211045 | D67: 163971 | E67: 18144 | F67: 10827 | G67: 7317 | H67: 15645 | I67: 5308 | J67: 3002 | K67: 4975 | L67: 35800 | M67: 12178 | N67: 964 | O67: 691 | P67: 383 | Q67: 2942 | R67: 0 | S67: 191 | T67: 0 | U67: 1559 | V67: 16892 | W67: 0 | X67: 0 | Y67: 0 | Z67: 0 | AA67: 15936 | AB67: 10470 | AC67: 741 | AD67: 4725 | AE67: 37 | AF67: =IFERROR(C67+L67+W67+AA67+AE67,0) -> 262818 | AG67: 0 | AH67: 0 | AI67: 0 | AJ67: 0 | AK67: 0 | AL67: 0 | AM67: =IFERROR(+AF67+AG67,0) -> 262818
A68: 12. | B68: PEAC (POLAND) sp. z o. o. | C68: 290 | D68: 0 | E68: 290 | F68: 0 | G68: 290 | H68: 0 | I68: 0 | J68: 0 | K68: 0 | L68: 2368 | M68: 110 | N68: 696 | O68: 0 | P68: 85 | Q68: 585 | R68: 218 | S68: 0 | T68: 0 | U68: 288 | V68: 386 | W68: 105 | X68: 105 | Y68: 0 | Z68: 0 | AA68: 0 | AB68: 0 | AC68: 0 | AD68: 0 | AE68: 0 | AF68: =IFERROR(C68+L68+W68+AA68+AE68,0) -> 2763 | AG68: 0 | AH68: 0 | AI68: 0 | AJ68: 0 | AK68: 0 | AL68: 0 | AM68: =IFERROR(+AF68+AG68,0) -> 2763
... A76: 20. | B76: Siemens Finance Sp. z o. o. | C76: 0 | D76: 0 | E76: 0 | F76: 0 | G76: 0 | H76: 0 | I76: 0 | J76: 0 | K76: 0 | L76: 0 | M76: 0 | N76: 0 | O76: 0 | P76: 0 | Q76: 0 | R76: 0 | S76: 0 | T76: 0 | U76: 0 | V76: 0 | W76: 0 | X76: 0 | Y76: 0 | Z76: 0 | AA76: 0 | AB76: 0 | AC76: 0 | AD76: 0 | AE76: 0 | AF76: =IFERROR(C76+L76+W76+AA76+AE76,0) -> 0 | AG76: 0 | AH76: 0 | AI76: 0 | AJ76: 0 | AK76: 0 | AL76: 0 | AM76: =IFERROR(+AF76+AG76,0) -> 0
B77: RAZEM | C77: =SUM(C57:C76) -> 2445414 | D77: =SUM(D57:D76) -> 1340561 | E77: =SUM(E57:E76) -> 407577 | F77: =SUM(F57:F76) -> 197391 | G77: =SUM(G57:G76) -> 210186 | H77: =SUM(H57:H76) -> 493880 | I77: =SUM(I57:I76) -> 156219 | J77: =SUM(J57:J76) -> 20651 | ... AM77: =SUM(AM57:AM76) -> 3317509
A79: Struktura wartościowa umów (ruchomości)
A81: Lp. | B81: Spółka | C81: ŚRODKI TRANSPORTU DROGOWEGO | D81: Osobowe | E81: Cięzarowe: | F81: o masie do 3,5t | G81: o masie powyżej 3,5t | H81: Ciągniki siodłowe | I81: Naczepy / przyczepy | J81: Autobusy | K81: inne pojazdy | L81: MiU | M81: Sprzęt Budowlany | N81: Maszyny Rolnicze | O81: Maszyny Poligraf. | P81: maszyny do produkcji tworzyw sztucznych | Q81: maszyny i urządzenia do obróbki metali | R81: maszyny dla przemysłu spożywczego | S81: Sprzęt Medyczny | T81: Sprzęt Gastronom. | U81: Wózki Widłowe | V81: inne MiU | W81: IT | X81: Sprzęt | Y81: Oprogram. | Z81: inne IT | AA81: POZOSTAŁE ŚRODKI TRANSPORTU | AB81: Powietrzne | AC81: Wodne | AD81: Kolejowe | AE81: Inne ruchomości | AF81: RUCHOMOŚCI | AG81: NIERUCHOMOŚCI | AH81: budynki przemysłowe | AI81: obiekty handlowe i usługowe | AJ81: obiekty biurowe | AK81: hotele i obiekty rekreacyjne | AL81: inne | AM81: OGÓŁEM RUCHOMOŚCI I NIERUCHOMOŚCI
A82: 1. | B82: BOS EKO Leasing | C82: =IF($AF32,C32/$AF32,0) -> 0.085051228 | D82: =IF($AF32,D32/$AF32,0) -> 0.029449627 | E82: =IF($AF32,E32/$AF32,0) -> 0.020985064 | F82: =IF($AF32,F32/$AF32,0) -> 0.018868923 | G82: =IF($AF32,G32/$AF32,0) -> 0.0021161409 | H82: =IF($AF32,H32/$AF32,0) -> 0.024917559 | I82: =IF($AF32,I32/$AF32,0) -> 0.0026451761 | J82: =IF($AF32,J32/$AF32,0) -> 0 | ... AF82: =IF($AF32,AF32/$AF32,0) -> 1
A83: 2. | B83: BPS Leasing S.A | C83: =IF($AF33,C33/$AF33,0) -> 0.7942909 | D83: =IF($AF33,D33/$AF33,0) -> 0.3519917 | E83: =IF($AF33,E33/$AF33,0) -> 0.18559751 | F83: =IF($AF33,F33/$AF33,0) -> 0.10857662 | G83: =IF($AF33,G33/$AF33,0) -> 0.07702089 | H83: =IF($AF33,H33/$AF33,0) -> 0.12474374 | I83: =IF($AF33,I33/$AF33,0) -> 0.10637083 | J83: =IF($AF33,J33/$AF33,0) -> 0 | ... AF83: =IF($AF33,AF33/$AF33,0) -> 1
A84: 3. | B84: Caterpillar Financial Services Poland Sp. z o. o. | C84: =IF($AF34,C34/$AF34,0) -> 0 | D84: =IF($AF34,D34/$AF34,0) -> 0 | E84: =IF($AF34,E34/$AF34,0) -> 0 | F84: =IF($AF34,F34/$AF34,0) -> 0 | G84: =IF($AF34,G34/$AF34,0) -> 0 | H84: =IF($AF34,H34/$AF34,0) -> 0 | I84: =IF($AF34,I34/$AF34,0) -> 0 | J84: =IF($AF34,J34/$AF34,0) -> 0 | ... AF84: =IF($AF34,AF34/$AF34,0) -> 1
A85: 4. | B85: De Lage Landen Leasing Polska S.A. | C85: =IF($AF35,C35/$AF35,0) -> 0.21161511 | D85: =IF($AF35,D35/$AF35,0) -> 0.0072380487 | E85: =IF($AF35,E35/$AF35,0) -> 0.010783714 | F85: =IF($AF35,F35/$AF35,0) -> 0.010783714 | G85: =IF($AF35,G35/$AF35,0) -> 0 | H85: =IF($AF35,H35/$AF35,0) -> 0.19359335 | I85: =IF($AF35,I35/$AF35,0) -> 0 | J85: =IF($AF35,J35/$AF35,0) -> 0 | ... AF85: =IF($AF35,AF35/$AF35,0) -> 1
A86: 5. | B86: Europejski Fundusz Leasingowy S.A. | C86: =IF($AF36,C36/$AF36,0) -> 0.71189444 | D86: =IF($AF36,D36/$AF36,0) -> 0.32067733 | E86: =IF($AF36,E36/$AF36,0) -> 0.17395337 | F86: =IF($AF36,F36/$AF36,0) -> 0.11415045 | G86: =IF($AF36,G36/$AF36,0) -> 0.059802922 | H86: =IF($AF36,H36/$AF36,0) -> 0.14029169 | I86: =IF($AF36,I36/$AF36,0) -> 0.068775621 | J86: =IF($AF36,J36/$AF36,0) -> 0.0042588001 | ... AF86: =IF($AF36,AF36/$AF36,0) -> 1
A87: 6. | B87: FCA Leasing Sp. z o.o. | C87: =IF($AF37,C37/$AF37,0) -> 1 | D87: =IF($AF37,D37/$AF37,0) -> 0.41353602 | E87: =IF($AF37,E37/$AF37,0) -> 0.58095429 | F87: =IF($AF37,F37/$AF37,0) -> 0.58095429 | G87: =IF($AF37,G37/$AF37,0) -> 0 | H87: =IF($AF37,H37/$AF37,0) -> 0 | I87: =IF($AF37,I37/$AF37,0) -> 0 | J87: =IF($AF37,J37/$AF37,0) -> 0 | ... AF87: =IF($AF37,AF37/$AF37,0) -> 1
A88: 7. | B88: Idea Leasing S.A. | C88: =IF($AF38,C38/$AF38,0) -> 0.758505 | D88: =IF($AF38,D38/$AF38,0) -> 0.30630977 | E88: =IF($AF38,E38/$AF38,0) -> 0.17134114 | F88: =IF($AF38,F38/$AF38,0) -> 0.099259784 | G88: =IF($AF38,G38/$AF38,0) -> 0.072081359 | H88: =IF($AF38,H38/$AF38,0) -> 0.18203205 | I88: =IF($AF38,I38/$AF38,0) -> 0.087992748 | J88: =IF($AF38,J38/$AF38,0) -> 0.0047319013 | ... AF88: =IF($AF38,AF38/$AF38,0) -> 1
A89: 8. | B89: Impuls-Leasing Polska Sp. z o. o. | C89: =IF($AF39,C39/$AF39,0) -> 0.87051659 | D89: =IF($AF39,D39/$AF39,0) -> 0.48817936 | E89: =IF($AF39,E39/$AF39,0) -> 0.15844236 | F89: =IF($AF39,F39/$AF39,0) -> 0.099959657 | G89: =IF($AF39,G39/$AF39,0) -> 0.0584827 | H89: =IF($AF39,H39/$AF39,0) -> 0.1262444 | I89: =IF($AF39,I39/$AF39,0) -> 0.082854014 | J89: =IF($AF39,J39/$AF39,0) -> 0.010762108 | ... AF89: =IF($AF39,AF39/$AF39,0) -> 1
A90: 9. | B90: ING Lease (Polska ) Sp. z o. o. | C90: =IF($AF40,C40/$AF40,0) -> 0.6094204 | D90: =IF($AF40,D40/$AF40,0) -> 0.23629655 | E90: =IF($AF40,E40/$AF40,0) -> 0.1334081 | F90: =IF($AF40,F40/$AF40,0) -> 0.085990161 | G90: =IF($AF40,G40/$AF40,0) -> 0.047417938 | H90: =IF($AF40,H40/$AF40,0) -> 0.13671056 | I90: =IF($AF40,I40/$AF40,0) -> 0.089018996 | J90: =IF($AF40,J40/$AF40,0) -> 0.00044655431 | ... AF90: =IF($AF40,AF40/$AF40,0) -> 1
A91: 10. | B91: Millennium Leasing Sp. z o. o. | C91: =IF($AF41,C41/$AF41,0) -> 0.62484752 | D91: =IF($AF41,D41/$AF41,0) -> 0.2304539 | E91: =IF($AF41,E41/$AF41,0) -> 0.12307165 | F91: =IF($AF41,F41/$AF41,0) -> 0.06264468 | G91: =IF($AF41,G41/$AF41,0) -> 0.060426971 | H91: =IF($AF41,H41/$AF41,0) -> 0.14470908 | I91: =IF($AF41,I41/$AF41,0) -> 0.1008171 | J91: =IF($AF41,J41/$AF41,0) -> 0.010433339 | ... AF91: =IF($AF41,AF41/$AF41,0) -> 1
A92: 11. | B92: mLeasing Sp. z o. o. | C92: =IF($AF42,C42/$AF42,0) -> 0.75670912 | D92: =IF($AF42,D42/$AF42,0) -> 0.5396723 | E92: =IF($AF42,E42/$AF42,0) -> 0.0818144 | F92: =IF($AF42,F42/$AF42,0) -> 0.051525016 | G92: =IF($AF42,G42/$AF42,0) -> 0.030289384 | H92: =IF($AF42,H42/$AF42,0) -> 0.065882568 | I92: =IF($AF42,I42/$AF42,0) -> 0.044862971 | J92: =IF($AF42,J42/$AF42,0) -> 0.0066437981 | ... AF92: =IF($AF42,AF42/$AF42,0) -> 1
A93: 12. | B93: PEAC (POLAND) sp. z o. o. | C93: =IF($AF43,C43/$AF43,0) -> 0.4470487 | D93: =IF($AF43,D43/$AF43,0) -> 0.3078522 | E93: =IF($AF43,E43/$AF43,0) -> 0.010393148 | F93: =IF($AF43,F43/$AF43,0) -> 0 | G93: =IF($AF43,G43/$AF43,0) -> 0.010393148 | H93: =IF($AF43,H43/$AF43,0) -> 0 | I93: =IF($AF43,I43/$AF43,0) -> 0.12880335 | J93: =IF($AF43,J43/$AF43,0) -> 0 | ... AF93: =IF($AF43,AF43/$AF43,0) -> 1
... A101: 20. | B101: Siemens Finance Sp. z o. o. | C101: =IF($AF51,C51/$AF51,0) -> 0.013659291 | D101: =IF($AF51,D51/$AF51,0) -> 0.0023435059 | E101: =IF($AF51,E51/$AF51,0) -> 0 | F101: =IF($AF51,F51/$AF51,0) -> 0 | G101: =IF($AF51,G51/$AF51,0) -> 0 | H101: =IF($AF51,H51/$AF51,0) -> 0.010728049 | I101: =IF($AF51,I51/$AF51,0) -> 0.0005877364 | J101: =IF($AF51,J51/$AF51,0) -> 0 | ... AF101: =IF($AF51,AF51/$AF51,0) -> 1
A103: Struktura walutowa
A105: Lp. | B105: Spółka | C105: Środki transportu drogowego | H105: Maszyny i urzadzenia przemysłowe | M105: Sprzęt budowlany | R105: Maszyny rolnicze | W105: Maszyny poligraficzne | AB105: Maszyny do produkcji tworzyw sztucznych | AG105: Maszyny obróbki metali | AL105: Maszyny dla przemysłu spożywczego | AQ105: Sprzęt medyczny | AV105: Sprzęt gastronomiczny | BA105: Wózki widłowe | BF105: Inne maszyny | BK105: Komputery i sprzęt biurowy | BP105: Pozostałe środki transportu | BU105: Inne ruchomości | BZ105: Ruchomości | CE105: Nieruchomości | CJ105: Ogółem Aktywa
C106: PLN | D106: EUR | E106: CHF | F106: USD | G106: inne | H106: PLN | I106: EUR | J106: CHF | K106: USD | L106: inne | M106: PLN | N106: EUR | O106: CHF | P106: USD | Q106: inne | R106: PLN | S106: EUR | T106: CHF | U106: USD | V106: inne | W106: PLN | X106: EUR | Y106: CHF | Z106: USD | AA106: inne | AB106: PLN | AC106: EUR | AD106: CHF | AE106: USD | AF106: inne | AG106: PLN | AH106: EUR | AI106: CHF | AJ106: USD | AK106: inne | AL106: PLN | AM106: EUR | AN106: CHF | AO106: USD | AP106: inne | AQ106: PLN | AR106: EUR | AS106: CHF | AT106: USD | AU106: inne | AV106: PLN | AW106: EUR | AX106: CHF | AY106: USD | AZ106: inne | BA106: PLN | BB106: EUR | BC106: CHF | BD106: USD | BE106: inne | BF106: PLN | BG106: EUR | BH106: CHF | BI106: USD | BJ106: inne | BK106: PLN | BL106: EUR | BM106: CHF | BN106: USD | BO106: inne | BP106: PLN | BQ106: EUR | BR106: CHF | BS106: USD | BT106: inne | BU106: PLN | BV106: EUR | BW106: CHF | BX106: USD | BY106: inne | BZ106: PLN | CA106: EUR | CB106: CHF | CC106: USD | CD106: inne | CE106: PLN | CF106: EUR | CG106: CHF | CH106: USD | CI106: inne | CJ106: PLN | CK106: EUR | CL106: CHF | CM106: USD | CN106: inne
A107: 1. | B107: BOS EKO Leasing | C107: 1 | D107: 0 | E107: 0 | F107: 0 | G107: 0 | H107: 1 | I107: 0 | J107: 0 | K107: 0 | L107: 0 | M107: 0 | N107: 0 | O107: 0 | P107: 0 | Q107: 0 | R107: 1 | S107: 0 | T107: 0 | U107: 0 | V107: 0 | W107: 0 | X107: 0 | Y107: 0 | Z107: 0 | AA107: 0 | AB107: 1 | AC107: 0 | AD107: 0 | AE107: 0 | AF107: 0 | AG107: 1 | AH107: 0 | AI107: 0 | AJ107: 0 | AK107: 0 | AL107: 1 | AM107: 0 | AN107: 0 | AO107: 0 | AP107: 0 | AQ107: 0 | AR107: 0 | AS107: 0 | AT107: 0 | AU107: 0 | AV107: 0 | AW107: 0 | AX107: 0 | AY107: 0 | AZ107: 0 | BA107: 1 | BB107: 0 | BC107: 0 | BD107: 0 | BE107: 0 | BF107: 1 | BG107: 0 | BH107: 0 | BI107: 0 | BJ107: 0 | BK107: 0 | BL107: 0 | BM107: 0 | BN107: 0 | BO107: 0 | BP107: 1 | BQ107: 0 | BR107: 0 | BS107: 0 | BT107: 0 | BU107: 0 | BV107: 0 | BW107: 0 | BX107: 0 | BY107: 0 | BZ107: 1 | CA107: 0 | CB107: 0 | CC107: 0 | CD107: 0 | CE107: 0 | CF107: 0 | CG107: 0 | CH107: 0 | CI107: 0 | CJ107: 1 | CK107: 0 | CL107: 0 | CM107: 0 | CN107: 0
A108: 2. | B108: BPS Leasing S.A | C108: 0.77950209 | D108: 0.22049791 | E108: 0 | F108: 0 | G108: 0 | H108: 0.98832272 | I108: 0.011677282 | J108: 0 | K108: 0 | L108: 0 | M108: 1 | N108: 0 | O108: 0 | P108: 0 | Q108: 0 | R108: 0 | S108: 0 | T108: 0 | U108: 0 | V108: 0 | W108: 1 | X108: 0 | Y108: 0 | Z108: 0 | AA108: 0 | AB108: 1 | AC108: 0 | AD108: 0 | AE108: 0 | AF108: 0 | AG108: 0 | AH108: 0 | AI108: 0 | AJ108: 0 | AK108: 0 | AL108: 1 | AM108: 0 | AN108: 0 | AO108: 0 | AP108: 0 | AQ108: 1 | AR108: 0 | AS108: 0 | AT108: 0 | AU108: 0 | AV108: 0 | AW108: 0 | AX108: 0 | AY108: 0 | AZ108: 0 | BA108: 0.8 | BB108: 0.2 | BC108: 0 | BD108: 0 | BE108: 0 | BF108: 1 | BG108: 0 | BH108: 0 | BI108: 0 | BJ108: 0 | BK108: 0 | BL108: 0 | BM108: 0 | BN108: 0 | BO108: 0 | BP108: 1 | BQ108: 0 | BR108: 0 | BS108: 0 | BT108: 0 | BU108: 1 | BV108: 0 | BW108: 0 | BX108: 0 | BY108: 0 | BZ108: 0.82314779 | CA108: 0.17685221 | CB108: 0 | CC108: 0 | CD108: 0 | CE108: 0 | CF108: 0 | CG108: 0 | CH108: 0 | CI108: 0 | CJ108: 0.82314779 | CK108: 0.17685221 | CL108: 0 | CM108: 0 | CN108: 0
A109: 3. | B109: Caterpillar Financial Services Poland Sp. z o. o. | C109: 0 | D109: 0 | E109: 0 | F109: 0 | G109: 0 | H109: 0.4831977 | I109: 0.5168023 | J109: 0 | K109: 0 | L109: 0 | M109: 0.4831977 | N109: 0.5168023 | O109: 0 | P109: 0 | Q109: 0 | R109: 0 | S109: 0 | T109: 0 | U109: 0 | V109: 0 | W109: 0 | X109: 0 | Y109: 0 | Z109: 0 | AA109: 0 | AB109: 0 | AC109: 0 | AD109: 0 | AE109: 0 | AF109: 0 | AG109: 0 | AH109: 0 | AI109: 0 | AJ109: 0 | AK109: 0 | AL109: 0 | AM109: 0 | AN109: 0 | AO109: 0 | AP109: 0 | AQ109: 0 | AR109: 0 | AS109: 0 | AT109: 0 | AU109: 0 | AV109: 0 | AW109: 0 | AX109: 0 | AY109: 0 | AZ109: 0 | BA109: 0 | BB109: 0 | BC109: 0 | BD109: 0 | BE109: 0 | BF109: 0 | BG109: 0 | BH109: 0 | BI109: 0 | BJ109: 0 | BK109: 0 | BL109: 0 | BM109: 0 | BN109: 0 | BO109: 0 | BP109: 0 | BQ109: 0 | BR109: 0 | BS109: 0 | BT109: 0 | BU109: 0 | BV109: 0 | BW109: 0 | BX109: 0 | BY109: 0 | BZ109: 0.4831977 | CA109: 0.5168023 | CB109: 0 | CC109: 0 | CD109: 0 | CE109: 0 | CF109: 0 | CG109: 0 | CH109: 0 | CI109: 0 | CJ109: 0.4831977 | CK109: 0.5168023 | CL109: 0 | CM109: 0 | CN109: 0
A110: 4. | B110: De Lage Landen Leasing Polska S.A. | C110: 0.08516293 | D110: 0.91483707 | E110: 0 | F110: 0 | G110: 0 | H110: 0.72549171 | I110: 0.27450829 | J110: 0 | K110: 0 | L110: 0 | M110: 0.61992326 | N110: 0.38007674 | O110: 0 | P110: 0 | Q110: 0 | R110: 1 | S110: 0 | T110: 0 | U110: 0 | V110: 0 | W110: 0 | X110: 0 | Y110: 0 | Z110: 0 | AA110: 0 | AB110: 0 | AC110: 0 | AD110: 0 | AE110: 0 | AF110: 0 | AG110: 0 | AH110: 0 | AI110: 0 | AJ110: 0 | AK110: 0 | AL110: 0 | AM110: 0 | AN110: 0 | AO110: 0 | AP110: 0 | AQ110: 1 | AR110: 0 | AS110: 0 | AT110: 0 | AU110: 0 | AV110: 0 | AW110: 0 | AX110: 0 | AY110: 0 | AZ110: 0 | BA110: 0.05799294 | BB110: 0.94200706 | BC110: 0 | BD110: 0 | BE110: 0 | BF110: 1 | BG110: 0 | BH110: 0 | BI110: 0 | BJ110: 0 | BK110: 1 | BL110: 0 | BM110: 0 | BN110: 0 | BO110: 0 | BP110: 0 | BQ110: 0 | BR110: 0 | BS110: 0 | BT110: 0 | BU110: 0 | BV110: 0 | BW110: 0 | BX110: 0 | BY110: 0 | BZ110: 0.63235114 | CA110: 0.36764886 | CB110: 0 | CC110: 0 | CD110: 0 | CE110: 0 | CF110: 0 | CG110: 0 | CH110: 0 | CI110: 0 | CJ110: 0.63235114 | CK110: 0.36764886 | CL110: 0 | CM110: 0 | CN110: 0
A111: 5. | B111: Europejski Fundusz Leasingowy S.A. | C111: 0.81669308 | D111: 0.18330692 | E111: 0 | F111: 0 | G111: 0 | H111: 0.94928791 | I111: 0.050712095 | J111: 0 | K111: 0 | L111: 0 | M111: 0.9789565 | N111: 0.021043498 | O111: 0 | P111: 0 | Q111: 0 | R111: 0.99787297 | S111: 0.0021270343 | T111: 0 | U111: 0 | V111: 0 | W111: 0.95159236 | X111: 0.048407643 | Y111: 0 | Z111: 0 | AA111: 0 | AB111: 0.78112068 | AC111: 0.21887932 | AD111: 0 | AE111: 0 | AF111: 0 | AG111: 0.78952242 | AH111: 0.21047758 | AI111: 0 | AJ111: 0 | AK111: 0 | AL111: 0.94124282 | AM111: 0.058757178 | AN111: 0 | AO111: 0 | AP111: 0 | AQ111: 1 | AR111: 0 | AS111: 0 | AT111: 0 | AU111: 0 | AV111: 0.97484026 | AW111: 0.025159744 | AX111: 0 | AY111: 0 | AZ111: 0 | BA111: 0.88637779 | BB111: 0.11362221 | BC111: 0 | BD111: 0 | BE111: 0 | BF111: 0.93249637 | BG111: 0.067503627 | BH111: 0 | BI111: 0 | BJ111: 0 | BK111: 0.96414457 | BL111: 0.035855426 | BM111: 0 | BN111: 0 | BO111: 0 | BP111: 0.92489712 | BQ111: 0.075102881 | BR111: 0 | BS111: 0 | BT111: 0 | BU111: 0 | BV111: 0 | BW111: 0 | BX111: 0 | BY111: 0 | BZ111: 0.85497991 | CA111: 0.14502009 | CB111: 0 | CC111: 0 | CD111: 0 | CE111: 1 | CF111: 0 | CG111: 0 | CH111: 0 | CI111: 0 | CJ111: 0.85503706 | CK111: 0.14496294 | CL111: 0 | CM111: 0 | CN111: 0
A112: 6. | B112: FCA Leasing Sp. z o.o. | C112: 1 | D112: 0 | E112: 0 | F112: 0 | G112: 0 | H112: 0 | I112: 0 | J112: 0 | K112: 0 | L112: 0 | M112: 0 | N112: 0 | O112: 0 | P112: 0 | Q112: 0 | R112: 0 | S112: 0 | T112: 0 | U112: 0 | V112: 0 | W112: 0 | X112: 0 | Y112: 0 | Z112: 0 | AA112: 0 | AB112: 0 | AC112: 0 | AD112: 0 | AE112: 0 | AF112: 0 | AG112: 0 | AH112: 0 | AI112: 0 | AJ112: 0 | AK112: 0 | AL112: 0 | AM112: 0 | AN112: 0 | AO112: 0 | AP112: 0 | AQ112: 0 | AR112: 0 | AS112: 0 | AT112: 0 | AU112: 0 | AV112: 0 | AW112: 0 | AX112: 0 | AY112: 0 | AZ112: 0 | BA112: 0 | BB112: 0 | BC112: 0 | BD112: 0 | BE112: 0 | BF112: 0 | BG112: 0 | BH112: 0 | BI112: 0 | BJ112: 0 | BK112: 0 | BL112: 0 | BM112: 0 | BN112: 0 | BO112: 0 | BP112: 0 | BQ112: 0 | BR112: 0 | BS112: 0 | BT112: 0 | BU112: 0 | BV112: 0 | BW112: 0 | BX112: 0 | BY112: 0 | BZ112: 1 | CA112: 0 | CB112: 0 | CC112: 0 | CD112: 0 | CE112: 0 | CF112: 0 | CG112: 0 | CH112: 0 | CI112: 0 | CJ112: 1 | CK112: 0 | CL112: 0 | CM112: 0 | CN112: 0
A113: 7. | B113: Idea Leasing S.A. | C113: 0.89387175 | D113: 0.10612825 | E113: 0 | F113: 0 | G113: 0 | H113: 0.96265672 | I113: 0.037343275 | J113: 0 | K113: 0 | L113: 0 | M113: 0.92475551 | N113: 0.075244493 | O113: 0 | P113: 0 | Q113: 0 | R113: 1 | S113: 0 | T113: 0 | U113: 0 | V113: 0 | W113: 1 | X113: 0 | Y113: 0 | Z113: 0 | AA113: 0 | AB113: 1 | AC113: 0 | AD113: 0 | AE113: 0 | AF113: 0 | AG113: 0.92635365 | AH113: 0.073646346 | AI113: 0 | AJ113: 0 | AK113: 0 | AL113: 1 | AM113: 0 | AN113: 0 | AO113: 0 | AP113: 0 | AQ113: 1 | AR113: 0 | AS113: 0 | AT113: 0 | AU113: 0 | AV113: 1 | AW113: 0 | AX113: 0 | AY113: 0 | AZ113: 0 | BA113: 1 | BB113: 0 | BC113: 0 | BD113: 0 | BE113: 0 | BF113: 0.90903239 | BG113: 0.090967614 | BH113: 0 | BI113: 0 | BJ113: 0 | BK113: 0.96482412 | BL113: 0.035175879 | BM113: 0 | BN113: 0 | BO113: 0 | BP113: 0.8152439 | BQ113: 0.1847561 | BR113: 0 | BS113: 0 | BT113: 0 | BU113: 1 | BV113: 0 | BW113: 0 | BX113: 0 | BY113: 0 | BZ113: 0.91074344 | CA113: 0.089256565 | CB113: 0 | CC113: 0 | CD113: 0 | CE113: 0 | CF113: 0 | CG113: 0 | CH113: 0 | CI113: 0 | CJ113: 0.91074344 | CK113: 0.089256565 | CL113: 0 | CM113: 0 | CN113: 0
A114: 8. | B114: Impuls-Leasing Polska Sp. z o. o. | C114: 0.82394015 | D114: 0.17605985 | E114: 0 | F114: 0 | G114: 0 | H114: 0.80461759 | I114: 0.19538241 | J114: 0 | K114: 0 | L114: 0 | M114: 0.98041491 | N114: 0.019585086 | O114: 0 | P114: 0 | Q114: 0 | R114: 0.96058955 | S114: 0.039410445 | T114: 0 | U114: 0 | V114: 0 | W114: 1 | X114: 0 | Y114: 0 | Z114: 0 | AA114: 0 | AB114: 0.28724115 | AC114: 0.71275885 | AD114: 0 | AE114: 0 | AF114: 0 | AG114: 0.35843521 | AH114: 0.64156479 | AI114: 0 | AJ114: 0 | AK114: 0 | AL114: 0 | AM114: 0 | AN114: 0 | AO114: 0 | AP114: 0 | AQ114: 1 | AR114: 0 | AS114: 0 | AT114: 0 | AU114: 0 | AV114: 1 | AW114: 0 | AX114: 0 | AY114: 0 | AZ114: 0 | BA114: 0.77366586 | BB114: 0.22633414 | BC114: 0 | BD114: 0 | BE114: 0 | BF114: 0.82706693 | BG114: 0.17293307 | BH114: 0 | BI114: 0 | BJ114: 0 | BK114: 1 | BL114: 0 | BM114: 0 | BN114: 0 | BO114: 0 | BP114: 0 | BQ114: 0 | BR114: 0 | BS114: 0 | BT114: 0 | BU114: 0 | BV114: 0 | BW114: 0 | BX114: 0 | BY114: 0 | BZ114: 0.82157032 | CA114: 0.17842968 | CB114: 0 | CC114: 0 | CD114: 0 | CE114: 0 | CF114: 0 | CG114: 0 | CH114: 0 | CI114: 0 | CJ114: 0.82157032 | CK114: 0.17842968 | CL114: 0 | CM114: 0 | CN114: 0
A115: 9. | B115: ING Lease (Polska ) Sp. z o. o. | C115: 0.68762953 | D115: 0.31237047 | E115: 0 | F115: 0 | G115: 0 | H115: 0.66694588 | I115: 0.33305412 | J115: 0 | K115: 0 | L115: 0 | M115: 0.94725458 | N115: 0.052745418 | O115: 0 | P115: 0 | Q115: 0 | R115: 0.5580474 | S115: 0.4419526 | T115: 0 | U115: 0 | V115: 0 | W115: 0.33228002 | X115: 0.66771998 | Y115: 0 | Z115: 0 | AA115: 0 | AB115: 0.26319711 | AC115: 0.73680289 | AD115: 0 | AE115: 0 | AF115: 0 | AG115: 0.47600336 | AH115: 0.52399664 | AI115: 0 | AJ115: 0 | AK115: 0 | AL115: 0.84036964 | AM115: 0.15963036 | AN115: 0 | AO115: 0 | AP115: 0 | AQ115: 0.9671282 | AR115: 0.0328718 | AS115: 0 | AT115: 0 | AU115: 0 | AV115: 1 | AW115: 0 | AX115: 0 | AY115: 0 | AZ115: 0 | BA115: 0.82304028 | BB115: 0.17695972 | BC115: 0 | BD115: 0 | BE115: 0 | BF115: 0.75536629 | BG115: 0.24463371 | BH115: 0 | BI115: 0 | BJ115: 0 | BK115: 0.94434515 | BL115: 0.055654845 | BM115: 0 | BN115: 0 | BO115: 0 | BP115: 1 | BQ115: 0 | BR115: 0 | BS115: 0 | BT115: 0 | BU115: 0.62084931 | BV115: 0.37915069 | BW115: 0 | BX115: 0 | BY115: 0 | BZ115: 0.70305963 | CA115: 0.29694037 | CB115: 0 | CC115: 0 | CD115: 0 | CE115: 0 | CF115: 1 | CG115: 0 | CH115: 0 | CI115: 0 | CJ115: 0.68013926 | CK115: 0.31986074 | CL115: 0 | CM115: 0 | CN115: 0
A116: 10. | B116: Millennium Leasing Sp. z o. o. | C116: 0.7505327 | D116: 0.2494673 | E116: 0 | F116: 0 | G116: 0 | H116: 0.77787712 | I116: 0.22212288 | J116: 0 | K116: 0 | L116: 0 | M116: 0.97836518 | N116: 0.021634816 | O116: 0 | P116: 0 | Q116: 0 | R116: 0.7584106 | S116: 0.2415894 | T116: 0 | U116: 0 | V116: 0 | W116: 0.50544725 | X116: 0.49455275 | Y116: 0 | Z116: 0 | AA116: 0 | AB116: 0.67431089 | AC116: 0.32568911 | AD116: 0 | AE116: 0 | AF116: 0 | AG116: 0 | AH116: 0 | AI116: 0 | AJ116: 0 | AK116: 0 | AL116: 0.71056199 | AM116: 0.28943801 | AN116: 0 | AO116: 0 | AP116: 0 | AQ116: 1 | AR116: 0 | AS116: 0 | AT116: 0 | AU116: 0 | AV116: 0 | AW116: 0 | AX116: 0 | AY116: 0 | AZ116: 0 | BA116: 0.48196578 | BB116: 0.51803422 | BC116: 0 | BD116: 0 | BE116: 0 | BF116: 0.84151744 | BG116: 0.15848256 | BH116: 0 | BI116: 0 | BJ116: 0 | BK116: 1 | BL116: 0 | BM116: 0 | BN116: 0 | BO116: 0 | BP116: 0.52496319 | BQ116: 0.47503681 | BR116: 0 | BS116: 0 | BT116: 0 | BU116: 0 | BV116: 0 | BW116: 0 | BX116: 0 | BY116: 0 | BZ116: 0.76051639 | CA116: 0.23948361 | CB116: 0 | CC116: 0 | CD116: 0 | CE116: 0 | CF116: 0 | CG116: 0 | CH116: 0 | CI116: 0 | CJ116: 0.76051639 | CK116: 0.23948361 | CL116: 0 | CM116: 0 | CN116: 0
A117: 11. | B117: mLeasing Sp. z o. o. | C117: 0.86022058 | D117: 0.13977942 | E117: 0 | F117: 0 | G117: 0 | H117: 0.81854214 | I117: 0.18145786 | J117: 0 | K117: 0 | L117: 0 | M117: 0.92527162 | N117: 0.074728381 | O117: 0 | P117: 0 | Q117: 0 | R117: 1 | S117: 0 | T117: 0 | U117: 0 | V117: 0 | W117: 0.57695011 | X117: 0.42304989 | Y117: 0 | Z117: 0 | AA117: 0 | AB117: 0.66560665 | AC117: 0.33439335 | AD117: 0 | AE117: 0 | AF117: 0 | AG117: 0.72491385 | AH117: 0.27508615 | AI117: 0 | AJ117: 0 | AK117: 0 | AL117: 1 | AM117: 0 | AN117: 0 | AO117: 0 | AP117: 0 | AQ117: 1 | AR117: 0 | AS117: 0 | AT117: 0 | AU117: 0 | AV117: 1 | AW117: 0 | AX117: 0 | AY117: 0 | AZ117: 0 | BA117: 0.56715805 | BB117: 0.43284195 | BC117: 0 | BD117: 0 | BE117: 0 | BF117: 0.86148058 | BG117: 0.13851942 | BH117: 0 | BI117: 0 | BJ117: 0 | BK117: 1 | BL117: 0 | BM117: 0 | BN117: 0 | BO117: 0 | BP117: 0.79199981 | BQ117: 0.20800019 | BR117: 0 | BS117: 0 | BT117: 0 | BU117: 0.98516386 | BV117: 0.014836138 | BW117: 0 | BX117: 0 | BY117: 0 | BZ117: 0.85377221 | CA117: 0.14622779 | CB117: 0 | CC117: 0 | CD117: 0 | CE117: 0 | CF117: 1 | CG117: 0 | CH117: 0 | CI117: 0 | CJ117: 0.83648452 | CK117: 0.16351548 | CL117: 0 | CM117: 0 | CN117: 0
A118: 12. | B118: PEAC (POLAND) sp. z o. o. | C118: 0.72486772 | D118: 0.27513228 | E118: 0 | F118: 0 | G118: 0 | H118: 0.75539421 | I118: 0.24460579 | J118: 0 | K118: 0 | L118: 0 | M118: 1 | N118: 0 | O118: 0 | P118: 0 | Q118: 0 | R118: 0.22589168 | S118: 0.77410832 | T118: 0 | U118: 0 | V118: 0 | W118: 1 | X118: 0 | Y118: 0 | Z118: 0 | AA118: 0 | AB118: 0.061195104 | AC118: 0.9388049 | AD118: 0 | AE118: 0 | AF118: 0 | AG118: 1 | AH118: 0 | AI118: 0 | AJ118: 0 | AK118: 0 | AL118: 0.98959723 | AM118: 0.010402774 | AN118: 0 | AO118: 0 | AP118: 0 | AQ118: 1 | AR118: 0 | AS118: 0 | AT118: 0 | AU118: 0 | AV118: 0 | AW118: 0 | AX118: 0 | AY118: 0 | AZ118: 0 | BA118: 0.34909091 | BB118: 0.65090909 | BC118: 0 | BD118: 0 | BE118: 0 | BF118: 0.83602908 | BG118: 0.16397092 | BH118: 0 | BI118: 0 | BJ118: 0 | BK118: 1 | BL118: 0 | BM118: 0 | BN118: 0 | BO118: 0 | BP118: 0 | BQ118: 0 | BR118: 0 | BS118: 0 | BT118: 0 | BU118: 0 | BV118: 0 | BW118: 0 | BX118: 0 | BY118: 0 | BZ118: 0.7490234 | CA118: 0.2509766 | CB118: 0 | CC118: 0 | CD118: 0 | CE118: 0 | CF118: 0 | CG118: 0 | CH118: 0 | CI118: 0 | CJ118: 0.7490234 | CK118: 0.2509766 | CL118: 0 | CM118: 0 | CN118: 0
... A126: 20. | B126: Siemens Finance Sp. z o. o. | C126: 0 | D126: 0 | E126: 0 | F126: 0 | G126: 0 | H126: 0 | I126: 0 | J126: 0 | K126: 0 | L126: 0 | M126: 0 | N126: 0 | O126: 0 | P126: 0 | Q126: 0 | R126: 0 | S126: 0 | T126: 0 | U126: 0 | V126: 0 | W126: 0 | X126: 0 | Y126: 0 | Z126: 0 | AA126: 0 | AB126: 0 | AC126: 0 | AD126: 0 | AE126: 0 | AF126: 0 | AG126: 0 | AH126: 0 | AI126: 0 | AJ126: 0 | AK126: 0 | AL126: 0 | AM126: 0 | AN126: 0 | AO126: 0 | AP126: 0 | AQ126: 0 | AR126: 0 | AS126: 0 | AT126: 0 | AU126: 0 | AV126: 0 | AW126: 0 | AX126: 0 | AY126: 0 | AZ126: 0 | BA126: 0 | BB126: 0 | BC126: 0 | BD126: 0 | BE126: 0 | BF126: 0 | BG126: 0 | BH126: 0 | BI126: 0 | BJ126: 0 | BK126: 0 | BL126: 0 | BM126: 0 | BN126: 0 | BO126: 0 | BP126: 0 | BQ126: 0 | BR126: 0 | BS126: 0 | BT126: 0 | BU126: 0 | BV126: 0 | BW126: 0 | BX126: 0 | BY126: 0 | BZ126: 0 | CA126: 0 | CB126: 0 | CC126: 0 | CD126: 0 | CE126: 0 | CF126: 0 | CG126: 0 | CH126: 0 | CI126: 0 | CJ126: 0 | CK126: 0 | CL126: 0 | CM126: 0 | CN126: 0
A128: Śred. Wkład własny [%]
A130: Lp. | B130: Spółka | C130: ŚRODKI TRANSPORTU DROGOWEGO | D130: Osobowe | E130: Cięzarowe: | F130: o masie do 3,5t | G130: o masie powyżej 3,5t | H130: Ciągniki siodłowe | I130: Naczepy / przyczepy | J130: Autobusy | K130: inne pojazdy | L130: MiU | M130: Sprzęt Budowlany | N130: Maszyny Rolnicze | O130: Maszyny Poligraf. | P130: maszyny do produkcji tworzyw sztucznych | Q130: maszyny i urządzenia do obróbki metali | R130: maszyny dla przemysłu spożywczego | S130: Sprzęt Medyczny | T130: Sprzęt Gastronom. | U130: Wózki Widłowe | V130: inne MiU | W130: IT | X130: Sprzęt | Y130: Oprogram. | Z130: inne IT | AA130: POZOSTAŁE ŚRODKI TRANSPORTU | AB130: Powietrzne | AC130: Wodne | AD130: Kolejowe | AE130: Inne ruchomości | AF130: RUCHOMOŚCI | AG130: NIERUCHOMOŚCI | AH130: budynki przemysłowe | AI130: obiekty handlowe i usługowe | AJ130: obiekty biurowe | AK130: hotele i obiekty rekreacyjne | AL130: inne | AM130: OGÓŁEM RUCHOMOŚCI I NIERUCHOMOŚCI | CN130: 0
A131: 1. | B131: BOS EKO Leasing | C131: 0 | D131: 0.07 | E131: 0 | F131: 0.019 | G131: 0.45 | H131: 0.07 | I131: 0.05 | J131: 0 | K131: 0.1 | L131: 0 | M131: 0 | N131: 0.056 | O131: 0 | P131: 0.108 | Q131: 0.088 | R131: 0.1 | S131: 0 | T131: 0 | U131: 0.275 | V131: 0.121 | W131: 0 | X131: 0 | Y131: 0 | Z131: 0 | AA131: 0 | AB131: 0.159 | AC131: 0 | AD131: 0.41 | AE131: 0 | CN131: 0
A132: 2. | B132: BPS Leasing S.A | C132: 0 | D132: 0.13 | E132: 0 | F132: 0.16 | G132: 0.31 | H132: 0.13 | I132: 0.14 | J132: 0 | K132: 0.18 | L132: 0 | M132: 0.3 | N132: 0 | O132: 0.18 | P132: 0.18 | Q132: 0 | R132: 0.2 | S132: 0.1 | T132: 0 | U132: 0.13 | V132: 0.19 | W132: 0 | X132: 0 | Y132: 0 | Z132: 0 | AA132: 0 | AB132: 0 | AC132: 0 | AD132: 0.2 | AE132: 0.28
A133: 3. | B133: Caterpillar Financial Services Poland Sp. z o. o. | C133: 0 | D133: 0 | E133: 0 | F133: 0 | G133: 0 | H133: 0 | I133: 0 | J133: 0 | K133: 0 | L133: 0 | M133: 0.098 | N133: 0 | O133: 0 | P133: 0 | Q133: 0 | R133: 0 | S133: 0 | T133: 0 | U133: 0 | V133: 0 | W133: 0 | X133: 0 | Y133: 0 | Z133: 0 | AA133: 0 | AB133: 0 | AC133: 0 | AD133: 0 | AE133: 0
A134: 4. | B134: De Lage Landen Leasing Polska S.A. | C134: 0 | D134: 0.2 | E134: 0 | F134: 0.22 | G134: 0 | H134: 0.1 | I134: 0 | J134: 0 | K134: 0 | L134: 0 | M134: 0.14 | N134: 0.22 | O134: 0 | P134: 0 | Q134: 0 | R134: 0 | S134: 0.16 | T134: 0 | U134: 0 | V134: 0.09 | W134: 0 | X134: 0.1 | Y134: 0 | Z134: 0 | AA134: 0 | AB134: 0 | AC134: 0 | AD134: 0 | AE134: 0
A135: 5. | B135: Europejski Fundusz Leasingowy S.A. | C135: 0 | D135: 0.18 | E135: 0 | F135: 0.16 | G135: 0.13 | H135: 0.08 | I135: 0.12 | J135: 0.1 | K135: 0.25 | L135: 0 | M135: 0.19 | N135: 0.18 | O135: 0.15 | P135: 0.2 | Q135: 0.17 | R135: 0.16 | S135: 0.1 | T135: 0.13 | U135: 0.15 | V135: 0.16 | W135: 0 | X135: 0.11 | Y135: 0.1 | Z135: 0.1 | AA135: 0 | AB135: 0.15 | AC135: 0.24 | AD135: 0 | AE135: 0
A136: 6. | B136: FCA Leasing Sp. z o.o. | C136: 0 | D136: 0.267 | E136: 0 | F136: 0.209 | G136: 0 | H136: 0 | I136: 0 | J136: 0 | K136: 0.344 | L136: 0 | M136: 0 | N136: 0 | O136: 0 | P136: 0 | Q136: 0 | R136: 0 | S136: 0 | T136: 0 | U136: 0 | V136: 0 | W136: 0 | X136: 0 | Y136: 0 | Z136: 0 | AA136: 0 | AB136: 0 | AC136: 0 | AD136: 0 | AE136: 0
A137: 7. | B137: Idea Leasing S.A. | C137: 0 | D137: 0.18 | E137: 0 | F137: 0.13 | G137: 0.17 | H137: 0.11 | I137: 0.13 | J137: 0.11 | K137: 0.19 | L137: 0 | M137: 0.2 | N137: 0.14 | O137: 0.12 | P137: 0.18 | Q137: 0.16 | R137: 0.13 | S137: 0.14 | T137: 0.14 | U137: 0.13 | V137: 0.13 | W137: 0 | X137: 0.23 | Y137: 0 | Z137: 0.07 | AA137: 0 | AB137: 0.08 | AC137: 0.28 | AD137: 0 | AE137: 0.16
A138: 8. | B138: Impuls-Leasing Polska Sp. z o. o. | C138: 0 | D138: 0 | E138: 0 | F138: 0 | G138: 0 | H138: 0 | I138: 0 | J138: 0 | K138: 0 | L138: 0 | M138: 0 | N138: 0 | O138: 0 | P138: 0 | Q138: 0 | R138: 0 | S138: 0 | T138: 0 | U138: 0 | V138: 0 | W138: 0 | X138: 0 | Y138: 0 | Z138: 0 | AA138: 0 | AB138: 0 | AC138: 0 | AD138: 0 | AE138: 0
A139: 9. | B139: ING Lease (Polska ) Sp. z o. o. | C139: 0 | D139: 0 | E139: 0 | F139: 0 | G139: 0 | H139: 0 | I139: 0 | J139: 0 | K139: 0 | L139: 0 | M139: 0 | N139: 0 | O139: 0 | P139: 0 | Q139: 0 | R139: 0 | S139: 0 | T139: 0 | U139: 0 | V139: 0 | W139: 0 | X139: 0 | Y139: 0 | Z139: 0 | AA139: 0 | AB139: 0 | AC139: 0 | AD139: 0 | AE139: 0
A140: 10. | B140: Millennium Leasing Sp. z o. o. | C140: 0 | D140: 0.19 | E140: 0 | F140: 0.13 | G140: 0.16 | H140: 0.12 | I140: 0.08 | J140: 0.29 | K140: 0.23 | L140: 0 | M140: 0.22 | N140: 0.22 | O140: 0.19 | P140: 0.13 | Q140: 0 | R140: 0.22 | S140: 0.18 | T140: 0 | U140: 0.08 | V140: 0.13 | W140: 0 | X140: 0 | Y140: 0.09 | Z140: 0 | AA140: 0 | AB140: 0.3 | AC140: 0.21 | AD140: 0 | AE140: 0
A141: 11. | B141: mLeasing Sp. z o. o. | C141: 0 | D141: 0.18 | E141: 0 | F141: 0.16 | G141: 0.11 | H141: 0.09 | I141: 0.09 | J141: 0.06 | K141: 0.1 | L141: 0 | M141: 0.16 | N141: 0.15 | O141: 0.15 | P141: 0.11 | Q141: 0.12 | R141: 0.12 | S141: 0.18 | T141: 0.13 | U141: 0.08 | V141: 0.12 | W141: 0 | X141: 0.09 | Y141: 0 | Z141: 0 | AA141: 0 | AB141: 0.23 | AC141: 0.23 | AD141: 0.1 | AE141: 0.13
A142: 12. | B142: PEAC (POLAND) sp. z o. o. | C142: 0 | D142: 0 | E142: 0 | F142: 0 | G142: 0.15 | H142: 0 | I142: 0.9 | J142: 0 | K142: 0 | L142: 0 | M142: 0.16 | N142: 0.111 | O142: 0.45 | P142: 0.0184 | Q142: 0.201 | R142: 0.108 | S142: 0.227 | T142: 0 | U142: 0.052 | V142: 0.139 | W142: 0 | X142: 0.07 | Y142: 0 | Z142: 0 | AA142: 0 | AB142: 0 | AC142: 0 | AD142: 0 | AE142: 0
A143: 13. | B143: Pekao Leasing Sp. z o. o. | D143: 0.18711731 | E143: 0 | F143: 0.17767162 | G143: 0.14088075 | H143: 0.15780714 | I143: 0.13304836 | J143: 0.26036408 | K143: 0.10647709 | L143: 0 | M143: 0.15105003 | N143: 0.20460071 | O143: 0.10707096 | P143: 0.19920654 | Q143: 0.16640301 | R143: 0.13726748 | S143: 0.11421979 | T143: 0.12811694 | U143: 0.14393148 | V143: 0.16639647 | W143: 0 | X143: 0.057880212 | AA143: 0 | AC143: 0.15322129 | AE143: 0.13596699
A144: 14. | B144: PKO Leasing S.A. | C144: 0 | D144: 0.1824 | E144: 0 | F144: 0.1712 | G144: 0.1329 | H144: 0.1375 | I144: 0.1332 | J144: 0.1302 | K144: 0.2379 | L144: 0 | M144: 0.2125 | N144: 0.1621 | O144: 0.1233 | P144: 0.1445 | Q144: 0.1774 | R144: 0.1505 | S144: 0.1775 | T144: 0.1393 | U144: 0.0954 | V144: 0.1536 | W144: 0 | X144: 0.1183 | Y144: 0.1153 | Z144: 0.0965 | AA144: 0 | AB144: 0.3921 | AC144: 0.2894 | AD144: 0.1573 | AE144: 0
A145: 15. | B145: Santander Consumer Multirent Sp. z o. o. | C145: 0 | D145: 0.26 | E145: 0 | F145: 0.25 | G145: 0 | H145: 0 | I145: 0 | J145: 0 | K145: 0.25 | L145: 0 | M145: 0 | N145: 0 | O145: 0 | P145: 0 | Q145: 0 | R145: 0 | S145: 0 | T145: 0 | U145: 0 | V145: 0 | W145: 0 | X145: 0 | Y145: 0 | Z145: 0 | AA145: 0 | AB145: 0 | AC145: 0 | AD145: 0 | AE145: 0
A146: 16. | B146: Santander Leasing S.A. | C146: 0 | D146: 0.206 | E146: 0 | F146: 0.175 | G146: 0.107 | H146: 0.079 | I146: 0.106 | J146: 0.152 | K146: 0.231 | L146: 0 | M146: 0.189 | N146: 0.137 | O146: 0.134 | P146: 0.078 | Q146: 0.13 | R146: 0.174 | S146: 0.151 | T146: 0.112 | U146: 0.027 | V146: 0.13 | W146: 0 | X146: 0.087 | Y146: 0 | Z146: 0 | AA146: 0 | AB146: 0.206 | AC146: 0.278 | AD146: 0.041 | AE146: 0
A147: 17. | B147: Scania Finance Polska Sp. z o. o. | C147: 0 | D147: 0 | E147: 0 | F147: 0 | G147: 0 | H147: 0 | I147: 0 | J147: 0 | K147: 0 | L147: 0 | M147: 0 | N147: 0 | O147: 0 | P147: 0 | Q147: 0 | R147: 0 | S147: 0 | T147: 0 | U147: 0 | V147: 0 | W147: 0 | X147: 0 | Y147: 0 | Z147: 0 | AA147: 0 | AB147: 0 | AC147: 0 | AD147: 0 | AE147: 0
A148: 18. | B148: SG Equipment Leasing Polska Sp. z o.o. | C148: 0 | D148: 0 | E148: 0 | F148: 0 | G148: 0 | H148: 0 | I148: 0 | J148: 0 | K148: 0 | L148: 0 | M148: 0 | N148: 0 | O148: 0 | P148: 0 | Q148: 0 | R148: 0 | S148: 0 | T148: 0 | U148: 0 | V148: 0 | W148: 0 | X148: 0 | Y148: 0 | Z148: 0 | AA148: 0 | AB148: 0 | AC148: 0 | AD148: 0 | AE148: 0
...

Sheet pożyczki
A1: Związek Polskiego Leasingu
A3: Ilość środków - pożyczki w I kw 2021 r. (sztuki)
A6: Lp. | B6: Spółka | C6: ŚRODKI TRANSPORTU DROGOWEGO | D6: Osobowe | E6: Cięzarowe: | F6: o masie do 3,5t | G6: o masie powyżej 3,5t | H6: Ciągniki siodłowe | I6: Naczepy / przyczepy | J6: Autobusy | K6: inne pojazdy | L6: MiU | M6: Sprzęt Budowlany | N6: Maszyny Rolnicze | O6: Maszyny Poligraf. | P6: maszyny do produkcji tworzyw sztucznych | Q6: maszyny i urządzenia do obróbki metali | R6: maszyny dla przemysłu spożywczego | S6: Sprzęt Medyczny | T6: Sprzęt Gastronom. | U6: Wózki Widłowe | V6: inne MiU | W6: IT | X6: Sprzęt | Y6: Oprogram. | Z6: inne IT | AA6: POZOSTAŁE ŚRODKI TRANSPORTU | AB6: Powietrzne | AC6: Wodne | AD6: Kolejowe | AE6: Inne ruchomości | AF6: RUCHOMOŚCI | AG6: NIERUCHOMOŚCI | AH6: budynki przemysłowe | AI6: obiekty handlowe i usługowe | AJ6: obiekty biurowe | AK6: hotele i obiekty rekreacyjne | AL6: inne | AM6: OGÓŁEM RUCHOMOŚCI I NIERUCHOMOŚCI
A7: 1. | B7: BOS EKO Leasing | C7: 0 | D7: 0 | E7: 0 | F7: 0 | G7: 0 | H7: 0 | I7: 0 | J7: 0 | K7: 0 | L7: 0 | M7: 0 | N7: 0 | O7: 0 | P7: 0 | Q7: 0 | R7: 0 | S7: 0 | T7: 0 | U7: 0 | V7: 0 | W7: 0 | X7: 0 | Y7: 0 | Z7: 0 | AA7: 0 | AB7: 0 | AC7: 0 | AD7: 0 | AE7: 0 | AF7: =IFERROR(C7+L7+W7+AA7+AE7,0) -> 0 | AG7: 0 | AH7: 0 | AI7: 0 | AJ7: 0 | AK7: 0 | AL7: 0 | AM7: =IFERROR(+AF7+AG7,0) -> 0
A8: 2. | B8: BPS Leasing S.A | C8: 0 | D8: 0 | E8: 0 | F8: 0 | G8: 0 | H8: 0 | I8: 0 | J8: 0 | K8: 0 | L8: 0 | M8: 0 | N8: 0 | O8: 0 | P8: 0 | Q8: 0 | R8: 0 | S8: 0 | T8: 0 | U8: 0 | V8: 0 | W8: 0 | X8: 0 | Y8: 0 | Z8: 0 | AA8: 0 | AB8: 0 | AC8: 0 | AD8: 0 | AE8: 0 | AF8: =IFERROR(C8+L8+W8+AA8+AE8,0) -> 0 | AG8: 0 | AH8: 0 | AI8: 0 | AJ8: 0 | AK8: 0 | AL8: 0 | AM8: =IFERROR(+AF8+AG8,0) -> 0
A9: 3. | B9: Caterpillar Financial Services Poland Sp. z o. o. | C9: 0 | D9: 0 | E9: 0 | F9: 0 | G9: 0 | H9: 0 | I9: 0 | J9: 0 | K9: 0 | L9: 24 | M9: 24 | N9: 0 | O9: 0 | P9: 0 | Q9: 0 | R9: 0 | S9: 0 | T9: 0 | U9: 0 | V9: 0 | W9: 0 | X9: 0 | Y9: 0 | Z9: 0 | AA9: 0 | AB9: 0 | AC9: 0 | AD9: 0 | AE9: 0 | AF9: =IFERROR(C9+L9+W9+AA9+AE9,0) -> 24 | AG9: 0 | AH9: 0 | AI9: 0 | AJ9: 0 | AK9: 0 | AL9: 0 | AM9: =IFERROR(+AF9+AG9,0) -> 24
A10: 4. | B10: De Lage Landen Leasing Polska S.A. | C10: 33 | D10: 3 | E10: 2 | F10: 2 | G10: 0 | H10: 4 | I10: 24 | J10: 0 | K10: 0 | L10: 802 | M10: 6 | N10: 648 | O10: 0 | P10: 0 | Q10: 0 | R10: 0 | S10: 88 | T10: 0 | U10: 4 | V10: 56 | W10: 7 | X10: 7 | Y10: 0 | Z10: 0 | AA10: 0 | AB10: 0 | AC10: 0 | AD10: 0 | AE10: 0 | AF10: =IFERROR(C10+L10+W10+AA10+AE10,0) -> 842 | AG10: 0 | AH10: 0 | AI10: 0 | AJ10: 0 | AK10: 0 | AL10: 0 | AM10: =IFERROR(+AF10+AG10,0) -> 842
A11: 5. | B11: Europejski Fundusz Leasingowy S.A. | C11: 123 | D11: 24 | E11: 42 | F11: 39 | G11: 3 | H11: 29 | I11: 28 | J11: 0 | K11: 0 | L11: 291 | M11: 33 | N11: 185 | O11: 0 | P11: 1 | Q11: 7 | R11: 1 | S11: 32 | T11: 2 | U11: 1 | V11: 29 | W11: 23 | X11: 6 | Y11: 9 | Z11: 8 | AA11: 7 | AB11: 0 | AC11: 7 | AD11: 0 | AE11: 0 | AF11: =IFERROR(C11+L11+W11+AA11+AE11,0) -> 444 | AG11: 0 | AH11: 0 | AI11: 0 | AJ11: 0 | AK11: 0 | AL11: 0 | AM11: =IFERROR(+AF11+AG11,0) -> 444
A12: 6. | B12: FCA Leasing Sp. z o.o. | C12: 0 | D12: 0 | E12: 0 | F12: 0 | G12: 0 | H12: 0 | I12: 0 | J12: 0 | K12: 0 | L12: 0 | M12: 0 | N12: 0 | O12: 0 | P12: 0 | Q12: 0 | R12: 0 | S12: 0 | T12: 0 | U12: 0 | V12: 0 | W12: 0 | X12: 0 | Y12: 0 | Z12: 0 | AA12: 0 | AB12: 0 | AC12: 0 | AD12: 0 | AE12: 0 | AF12: =IFERROR(C12+L12+W12+AA12+AE12,0) -> 0 | AG12: 0 | AH12: 0 | AI12: 0 | AJ12: 0 | AK12: 0 | AL12: 0 | AM12: =IFERROR(+AF12+AG12,0) -> 0
A13: 7. | B13: Idea Leasing S.A. | C13: 670 | D13: 193 | E13: 105 | F13: 68 | G13: 37 | H13: 204 | I13: 162 | J13: 0 | K13: 6 | L13: 962 | M13: 30 | N13: 726 | O13: 4 | P13: 3 | Q13: 6 | R13: 3 | S13: 99 | T13: 13 | U13: 1 | V13: 77 | W13: 6 | X13: 6 | Y13: 0 | Z13: 0 | AA13: 5 | AB13: 0 | AC13: 5 | AD13: 0 | AE13: 81 | AF13: =IFERROR(C13+L13+W13+AA13+AE13,0) -> 1724 | AG13: 0 | AH13: 0 | AI13: 0 | AJ13: 0 | AK13: 0 | AL13: 0 | AM13: =IFERROR(+AF13+AG13,0) -> 1724
A14: 8. | B14: Impuls-Leasing Polska Sp. z o. o. | C14: 111 | D14: 11 | E14: 6 | F14: 4 | G14: 2 | H14: 43 | I14: 51 | J14: 0 | K14: 0 | L14: 13 | M14: 0 | N14: 1 | O14: 0 | P14: 0 | Q14: 0 | R14: 0 | S14: 8 | T14: 2 | U14: 1 | V14: 1 | W14: 0 | X14: 0 | Y14: 0 | Z14: 0 | AA14: 1 | AB14: 0 | AC14: 1 | AD14: 0 | AE14: 0 | AF14: =IFERROR(C14+L14+W14+AA14+AE14,0) -> 125 | AG14: 0 | AH14: 0 | AI14: 0 | AJ14: 0 | AK14: 0 | AL14: 0 | AM14: =IFERROR(+AF14+AG14,0) -> 125
A15: 9. | B15: ING Lease (Polska ) Sp. z o. o. | C15: 24 | D15: 0 | E15: 7 | F15: 7 | G15: 0 | H15: 17 | I15: 0 | J15: 0 | K15: 0 | L15: 5 | M15: 0 | N15: 0 | O15: 3 | P15: 0 | Q15: 1 | R15: 0 | S15: 1 | T15: 0 | U15: 0 | V15: 0 | W15: 0 | X15: 0 | Y15: 0 | Z15: 0 | AA15: 0 | AB15: 0 | AC15: 0 | AD15: 0 | AE15: 0 | AF15: =IFERROR(C15+L15+W15+AA15+AE15,0) -> 29 | AG15: 0 | AH15: 0 | AI15: 0 | AJ15: 0 | AK15: 0 | AL15: 0 | AM15: =IFERROR(+AF15+AG15,0) -> 29
A16: 10. | B16: Millennium Leasing Sp. z o. o. | C16: 0 | D16: 0 | E16: 0 | F16: 0 | G16: 0 | H16: 0 | I16: 0 | J16: 0 | K16: 0 | L16: 0 | M16: 0 | N16: 0 | O16: 0 | P16: 0 | Q16: 0 | R16: 0 | S16: 0 | T16: 0 | U16: 0 | V16: 0 | W16: 0 | X16: 0 | Y16: 0 | Z16: 0 | AA16: 0 | AB16: 0 | AC16: 0 | AD16: 0 | AE16: 0 | AF16: =IFERROR(C16+L16+W16+AA16+AE16,0) -> 0 | AG16: 0 | AH16: 0 | AI16: 0 | AJ16: 0 | AK16: 0 | AL16: 0 | AM16: =IFERROR(+AF16+AG16,0) -> 0
A17: 11. | B17: mLeasing Sp. z o. o. | C17: 88 | D17: 0 | E17: 3 | F17: 0 | G17: 3 | H17: 18 | I17: 65 | J17: 0 | K17: 2 | L17: 241 | M17: 4 | N17: 1 | O17: 0 | P17: 5 | Q17: 11 | R17: 2 | S17: 181 | T17: 0 | U17: 2 | V17: 35 | W17: 2 | X17: 1 | Y17: 1 | Z17: 0 | AA17: 1 | AB17: 0 | AC17: 1 | AD17: 0 | AE17: 8 | AF17: =IFERROR(C17+L17+W17+AA17+AE17,0) -> 340 | AG17: 2 | AH17: 0 | AI17: 2 | AJ17: 0 | AK17: 0 | AL17: 0 | AM17: =IFERROR(+AF17+AG17,0) -> 342
A18: 12. | B18: PEAC (POLAND) sp. z o. o. | C18: 5 | D18: 0 | E18: 0 | F18: 0 | G18: 0 | H18: 0 | I18: 5 | J18: 0 | K18: 0 | L18: 35 | M18: 0 | N18: 27 | O18: 0 | P18: 0 | Q18: 0 | R18: 0 | S18: 0 | T18: 0 | U18: 0 | V18: 8 | W18: 0 | X18: 0 | Y18: 0 | Z18: 0 | AA18: 0 | AB18: 0 | AC18: 0 | AD18: 0 | AE18: 0 | AF18: =IFERROR(C18+L18+W18+AA18+AE18,0) -> 40 | AG18: 0 | AH18: 0 | AI18: 0 | AJ18: 0 | AK18: 0 | AL18: 0 | AM18: =IFERROR(+AF19+AG19,0) -> 267
A19: 13. | B19: Pekao Leasing Sp. z o. o. | C19: 51 | D19: 1 | E19: 3 | F19: 0 | G19: 3 | H19: 16 | I19: 28 | J19: 0 | K19: 3 | L19: 112 | M19: 5 | N19: 21 | O19: 0 | P19: 10 | Q19: 9 | R19: 5 | S19: 41 | T19: 0 | U19: 1 | V19: 20 | W19: 3 | X19: 3 | Y19: 0 | Z19: 0 | AA19: 100 | AB19: 0 | AC19: 0 | AD19: 100 | AE19: 1 | AF19: =IFERROR(C19+L19+W19+AA19+AE19,0) -> 267 | AG19: 0 | AH19: 0 | AI19: 0 | AJ19: 0 | AK19: 0 | AL19: 0 | AM19: =IFERROR(+#REF!+#REF!,0) -> 0
A20: 14. | B20: PKO Leasing S.A. | C20: 634 | D20: 190 | E20: 67 | F20: 39 | G20: 28 | H20: 224 | I20: 152 | J20: 0 | K20: 1 | L20: 800 | M20: 26 | N20: 490 | O20: 7 | P20: 2 | Q20: 10 | R20: 6 | S20: 135 | T20: 0 | U20: 4 | V20: 120 | W20: 3 | X20: 1 | Y20: 1 | Z20: 1 | AA20: 7 | AB20: 1 | AC20: 1 | AD20: 5 | AE20: 0 | AF20: =IFERROR(C20+L20+W20+AA20+AE20,0) -> 1444 | AG20: 0 | AH20: 0 | AI20: 0 | AJ20: 0 | AK20: 0 | AL20: 0 | AM20: =IFERROR(+AF20+AG20,0) -> 1444
A21: 15. | B21: Santander Consumer Multirent Sp. z o. o. | C21: 133 | D21: 98 | E21: 30 | F21: 30 | G21: 0 | H21: 0 | I21: 0 | J21: 0 | K21: 5 | L21: 0 | M21: 0 | N21: 0 | O21: 0 | P21: 0 | Q21: 0 | R21: 0 | S21: 0 | T21: 0 | U21: 0 | V21: 0 | W21: 0 | X21: 0 | Y21: 0 | Z21: 0 | AA21: 0 | AB21: 0 | AC21: 0 | AD21: 0 | AE21: 0 | AF21: =IFERROR(C21+L21+W21+AA21+AE21,0) -> 133 | AG21: 0 | AH21: 0 | AI21: 0 | AJ21: 0 | AK21: 0 | AL21: 0 | AM21: =IFERROR(+AF21+AG21,0) -> 133
A22: 16. | B22: Santander Leasing S.A. | C22: 581 | D22: 346 | E22: 83 | F22: 71 | G22: 12 | H22: 58 | I22: 89 | J22: 1 | K22: 4 | L22: 2471 | M22: 16 | N22: 1811 | O22: 4 | P22: 4 | Q22: 10 | R22: 0 | S22: 455 | T22: 2 | U22: 5 | V22: 164 | W22: 14 | X22: 14 | Y22: 0 | Z22: 0 | AA22: 0 | AB22: 0 | AC22: 0 | AD22: 0 | AE22: 18 | AF22: =IFERROR(C22+L22+W22+AA22+AE22,0) -> 3084 | AG22: 7 | AH22: 0 | AI22: 0 | AJ22: 0 | AK22: 0 | AL22: 7 | AM22: =IFERROR(+AF22+AG22,0) -> 3091
A23: 17. | B23: Scania Finance Polska Sp. z o. o. | C23: 30 | D23: 0 | E23: 0 | F23: 0 | G23: 0 | H23: 25 | I23: 5 | J23: 0 | K23: 0 | L23: 0 | M23: 0 | N23: 0 | O23: 0 | P23: 0 | Q23: 0 | R23: 0 | S23: 0 | T23: 0 | U23: 0 | V23: 0 | W23: 0 | X23: 0 | Y23: 0 | Z23: 0 | AA23: 0 | AB23: 0 | AC23: 0 | AD23: 0 | AE23: 0 | AF23: =IFERROR(C23+L23+W23+AA23+AE23,0) -> 30 | AG23: 0 | AH23: 0 | AI23: 0 | AJ23: 0 | AK23: 0 | AL23: 0 | AM23: =IFERROR(+AF23+AG23,0) -> 30
A24: 18. | B24: SG Equipment Leasing Polska Sp. z o.o. | C24: 19 | D24: 9 | E24: 0 | F24: 0 | G24: 0 | H24: 7 | I24: 3 | J24: 0 | K24: 0 | L24: 219 | M24: 4 | N24: 201 | O24: 1 | P24: 0 | Q24: 4 | R24: 0 | S24: 0 | T24: 0 | U24: 3 | V24: 6 | W24: 26 | X24: 25 | Y24: 1 | Z24: 0 | AA24: 0 | AB24: 0 | AC24: 0 | AD24: 0 | AE24: 0 | AF24: =IFERROR(C24+L24+W24+AA24+AE24,0) -> 264 | AG24: 0 | AH24: 0 | AI24: 0 | AJ24: 0 | AK24: 0 | AL24: 0 | AM24: =IFERROR(+AF24+AG24,0) -> 264
A25: 19. | B25: SGB Leasing Sp. z o. o. | C25: 7 | D25: 6 | E25: 1 | F25: 1 | G25: 0 | H25: 0 | I25: 0 | J25: 0 | K25: 0 | L25: 33 | M25: 2 | N25: 19 | O25: 0 | P25: 0 | Q25: 0 | R25: 0 | S25: 0 | T25: 0 | U25: 3 | V25: 9 | W25: 0 | X25: 0 | Y25: 0 | Z25: 0 | AA25: 0 | AB25: 0 | AC25: 0 | AD25: 0 | AE25: 0 | AF25: =IFERROR(C25+L25+W25+AA25+AE25,0) -> 40 | AG25: 0 | AH25: 0 | AI25: 0 | AJ25: 0 | AK25: 0 | AL25: 0 | AM25: =IFERROR(+AF25+AG25,0) -> 40
A26: 20. | B26: Siemens Finance Sp. z o. o. | C26: 0 | D26: 0 | E26: 0 | F26: 0 | G26: 0 | H26: 0 | I26: 0 | J26: 0 | K26: 0 | L26: 0 | M26: 0 | N26: 0 | O26: 0 | P26: 0 | Q26: 0 | R26: 0 | S26: 0 | T26: 0 | U26: 0 | V26: 0 | W26: 0 | X26: 0 | Y26: 0 | Z26: 0 | AA26: 0 | AB26: 0 | AC26: 0 | AD26: 0 | AE26: 0 | AF26: =IFERROR(C26+L26+W26+AA26+AE26,0) -> 0 | AG26: 0 | AH26: 0 | AI26: 0 | AJ26: 0 | AK26: 0 | AL26: 0 | AM26: =IFERROR(+AF26+AG26,0) -> 0
B27: RAZEM | C27: =SUM(C7:C26) -> 2509 | D27: =SUM(D7:D26) -> 881 | E27: =SUM(E7:E26) -> 349 | F27: =SUM(F7:F26) -> 261 | G27: =SUM(G7:G26) -> 88 | H27: =SUM(H7:H26) -> 645 | I27: =SUM(I7:I26) -> 612 | J27: =SUM(J7:J26) -> 1 | ... AM27: =SUM(AM7:AM26) -> 8799
A29: Wartość środków - pożyczki w I kw 2021 r. (netto w tys. PLN)
A31: Lp. | B31: Spółka | C31: ŚRODKI TRANSPORTU DROGOWEGO | D31: Osobowe | E31: Cięzarowe: | F31: o masie do 3,5t | G31: o masie powyżej 3,5t | H31: Ciągniki siodłowe | I31: Naczepy / przyczepy | J31: Autobusy | K31: inne pojazdy | L31: MiU | M31: Sprzęt Budowlany | N31: Maszyny Rolnicze | O31: Maszyny Poligraf. | P31: maszyny do produkcji tworzyw sztucznych | Q31: maszyny i urządzenia do obróbki metali | R31: maszyny dla przemysłu spożywczego | S31: Sprzęt Medyczny | T31: Sprzęt Gastronom. | U31: Wózki Widłowe | V31: inne MiU | W31: IT | X31: Sprzęt | Y31: Oprogram. | Z31: inne IT | AA31: POZOSTAŁE ŚRODKI TRANSPORTU | AB31: Powietrzne | AC31: Wodne | AD31: Kolejowe | AE31: Inne ruchomości | AF31: RUCHOMOŚCI | AG31: NIERUCHOMOŚCI | AH31: budynki przemysłowe | AI31: obiekty handlowe i usługowe | AJ31: obiekty biurowe | AK31: hotele i obiekty rekreacyjne | AL31: inne | AM31: OGÓŁEM
A32: 1. | B32: BOS EKO Leasing | C32: 0 | D32: 0 | E32: 0 | F32: 0 | G32: 0 | H32: 0 | I32: 0 | J32: 0 | K32: 0 | L32: 0 | M32: 0 | N32: 0 | O32: 0 | P32: 0 | Q32: 0 | R32: 0 | S32: 0 | T32: 0 | U32: 0 | V32: 0 | W32: 0 | X32: 0 | Y32: 0 | Z32: 0 | AA32: 0 | AB32: 0 | AC32: 0 | AD32: 0 | AE32: 0 | AF32: =IFERROR(C32+L32+W32+AA32+AE32,0) -> 0 | AG32: 0 | AH32: 0 | AI32: 0 | AJ32: 0 | AK32: 0 | AL32: 0 | AM32: =IFERROR(+AF32+AG32,0) -> 0
A33: 2. | B33: BPS Leasing S.A | C33: 0 | D33: 0 | E33: 0 | F33: 0 | G33: 0 | H33: 0 | I33: 0 | J33: 0 | K33: 0 | L33: 0 | M33: 0 | N33: 0 | O33: 0 | P33: 0 | Q33: 0 | R33: 0 | S33: 0 | T33: 0 | U33: 0 | V33: 0 | W33: 0 | X33: 0 | Y33: 0 | Z33: 0 | AA33: 0 | AB33: 0 | AC33: 0 | AD33: 0 | AE33: 0 | AF33: =IFERROR(C33+L33+W33+AA33+AE33,0) -> 0 | AG33: 0 | AH33: 0 | AI33: 0 | AJ33: 0 | AK33: 0 | AL33: 0 | AM33: =IFERROR(+AF33+AG33,0) -> 0
A34: 3. | B34: Caterpillar Financial Services Poland Sp. z o. o. | C34: 0 | D34: 0 | E34: 0 | F34: 0 | G34: 0 | H34: 0 | I34: 0 | J34: 0 | K34: 0 | L34: 10305 | M34: 10305 | N34: 0 | O34: 0 | P34: 0 | Q34: 0 | R34: 0 | S34: 0 | T34: 0 | U34: 0 | V34: 0 | W34: 0 | X34: 0 | Y34: 0 | Z34: 0 | AA34: 0 | AB34: 0 | AC34: 0 | AD34: 0 | AE34: 0 | AF34: =IFERROR(C34+L34+W34+AA34+AE34,0) -> 10305 | AG34: 0 | AH34: 0 | AI34: 0 | AJ34: 0 | AK34: 0 | AL34: 0 | AM34: =IFERROR(+AF34+AG34,0) -> 10305
A35: 4. | B35: De Lage Landen Leasing Polska S.A. | C35: 4416 | D35: 296 | E35: 280 | F35: 280 | G35: 0 | H35: 1251 | I35: 2589 | J35: 0 | K35: 0 | L35: 154059 | M35: 609 | N35: 132979 | O35: 0 | P35: 0 | Q35: 0 | R35: 0 | S35: 13917 | T35: 0 | U35: 313 | V35: 6241 | W35: 4890 | X35: 4890 | Y35: 0 | Z35: 0 | AA35: 0 | AB35: 0 | AC35: 0 | AD35: 0 | AE35: 0 | AF35: =IFERROR(C35+L35+W35+AA35+AE35,0) -> 163365 | AG35: 0 | AH35: 0 | AI35: 0 | AJ35: 0 | AK35: 0 | AL35: 0 | AM35: =IFERROR(+AF35+AG35,0) -> 163365
A36: 5. | B36: Europejski Fundusz Leasingowy S.A. | C36: 15037 | D36: 1767 | E36: 6797 | F36: 5653 | G36: 1144 | H36: 3617 | I36: 2856 | J36: 0 | K36: 0 | L36: 77025 | M36: 5203 | N36: 55279 | O36: 0 | P36: 1733 | Q36: 2781 | R36: 779 | S36: 2978 | T36: 135 | U36: 208 | V36: 7929 | W36: 774 | X36: 107 | Y36: 367 | Z36: 300 | AA36: 467 | AB36: 0 | AC36: 467 | AD36: 0 | AE36: 0 | AF36: =IFERROR(C36+L36+W36+AA36+AE36,0) -> 93303 | AG36: 0 | AH36: 0 | AI36: 0 | AJ36: 0 | AK36: 0 | AL36: 0 | AM36: =IFERROR(+AF36+AG36,0) -> 93303
A37: 6. | B37: FCA Leasing Sp. z o.o. | C37: 0 | D37: 0 | E37: 0 | F37: 0 | G37: 0 | H37: 0 | I37: 0 | J37: 0 | K37: 0 | L37: 0 | M37: 0 | N37: 0 | O37: 0 | P37: 0 | Q37: 0 | R37: 0 | S37: 0 | T37: 0 | U37: 0 | V37: 0 | W37: 0 | X37: 0 | Y37: 0 | Z37: 0 | AA37: 0 | AB37: 0 | AC37: 0 | AD37: 0 | AE37: 0 | AF37: =IFERROR(C37+L37+W37+AA37+AE37,0) -> 0 | AG37: 0 | AH37: 0 | AI37: 0 | AJ37: 0 | AK37: 0 | AL37: 0 | AM37: =IFERROR(+AF37+AG37,0) -> 0
A38: 7. | B38: Idea Leasing S.A. | C38: 92206 | D38: 19023 | E38: 12142 | F38: 6182 | G38: 5960 | H38: 42982 | I38: 17859 | J38: 0 | K38: 200 | L38: 129740 | M38: 5481 | N38: 103634 | O38: 109 | P38: 399 | Q38: 2882 | R38: 69 | S38: 7400 | T38: 1976 | U38: 78 | V38: 7712 | W38: 182 | X38: 182 | Y38: 0 | Z38: 0 | AA38: 1155 | AB38: 0 | AC38: 1155 | AD38: 0 | AE38: 14073 | AF38: =IFERROR(C38+L38+W38+AA38+AE38,0) -> 237356 | AG38: 0 | AH38: 0 | AI38: 0 | AJ38: 0 | AK38: 0 | AL38: 0 | AM38: =IFERROR(+AF38+AG38,0) -> 237356
A39: 8. | B39: Impuls-Leasing Polska Sp. z o. o. | C39: 24611 | D39: 2360 | E39: 775 | F39: 556 | G39: 219 | H39: 14483 | I39: 6993 | J39: 0 | K39: 0 | L39: 2120 | M39: 0 | N39: 135 | O39: 0 | P39: 0 | Q39: 0 | R39: 0 | S39: 1585 | T39: 53 | U39: 112 | V39: 235 | W39: 0 | X39: 0 | Y39: 0 | Z39: 0 | AA39: 423 | AB39: 0 | AC39: 423 | AD39: 0 | AE39: 0 | AF39: =IFERROR(C39+L39+W39+AA39+AE39,0) -> 27154 | AG39: 0 | AH39: 0 | AI39: 0 | AJ39: 0 | AK39: 0 | AL39: 0 | AM39: =IFERROR(+AF39+AG39,0) -> 27154
A40: 9. | B40: ING Lease (Polska ) Sp. z o. o. | C40: 11837 | D40: 0 | E40: 3934 | F40: 3934 | G40: 0 | H40: 7903 | I40: 0 | J40: 0 | K40: 0 | L40: 6354 | M40: 0 | N40: 0 | O40: 4709 | P40: 0 | Q40: 700 | R40: 0 | S40: 945 | T40: 0 | U40: 0 | V40: 0 | W40: 0 | X40: 0 | Y40: 0 | Z40: 0 | AA40: 0 | AB40: 0 | AC40: 0 | AD40: 0 | AE40: 0 | AF40: =IFERROR(C40+L40+W40+AA40+AE40,0) -> 18191 | AG40: 0 | AH40: 0 | AI40: 0 | AJ40: 0 | AK40: 0 | AL40: 0 | AM40: =IFERROR(+AF40+AG40,0) -> 18191
A41: 10. | B41: Millennium Leasing Sp. z o. o. | C41: 0 | D41: 0 | E41: 0 | F41: 0 | G41: 0 | H41: 0 | I41: 0 | J41: 0 | K41: 0 | L41: 0 | M41: 0 | N41: 0 | O41: 0 | P41: 0 | Q41: 0 | R41: 0 | S41: 0 | T41: 0 | U41: 0 | V41: 0 | W41: 0 | X41: 0 | Y41: 0 | Z41: 0 | AA41: 0 | AB41: 0 | AC41: 0 | AD41: 0 | AE41: 0 | AF41: =IFERROR(C41+L41+W41+AA41+AE41,0) -> 0 | AG41: 0 | AH41: 0 | AI41: 0 | AJ41: 0 | AK41: 0 | AL41: 0 | AM41: =IFERROR(+AF41+AG41,0) -> 0
A42: 11. | B42: mLeasing Sp. z o. o. | C42: 23411 | D42: 0 | E42: 1372 | F42: 0 | G42: 1372 | H42: 6602 | I42: 12030 | J42: 0 | K42: 3407 | L42: 125727 | M42: 2516 | N42: 476 | O42: 0 | P42: 13112 | Q42: 12606 | R42: 6554 | S42: 21047 | T42: 0 | U42: 3132 | V42: 66284 | W42: 56 | X42: 11 | Y42: 45 | Z42: 0 | AA42: 391 | AB42: 0 | AC42: 391 | AD42: 0 | AE42: 1192 | AF42: =IFERROR(C42+L42+W42+AA42+AE42,0) -> 150777 | AG42: 6674 | AH42: 0 | AI42: 6674 | AJ42: 0 | AK42: 0 | AL42: 0 | AM42: =IFERROR(+AF42+AG42,0) -> 157451
A43: 12. | B43: PEAC (POLAND) sp. z o. o. | C43: 447 | D43: 0 | E43: 0 | F43: 0 | G43: 0 | H43: 0 | I43: 447 | J43: 0 | K43: 0 | L43: 4682 | M43: 0 | N43: 3100 | O43: 0 | P43: 0 | Q43: 0 | R43: 0 | S43: 0 | T43: 0 | U43: 0 | V43: 1582 | W43: 0 | X43: 0 | Y43: 0 | Z43: 0 | AA43: 0 | AB43: 0 | AC43: 0 | AD43: 0 | AE43: 0 | AF43: =IFERROR(C43+L43+W43+AA43+AE43,0) -> 5129 | AG43: 0 | AH43: 0 | AI43: 0 | AJ43: 0 | AK43: 0 | AL43: 0 | AM43: =IFERROR(+AF43+AG43,0) -> 5129
... A51: 20. | B51: Siemens Finance Sp. z o. o. | C51: 0 | D51: 0 | E51: 0 | F51: 0 | G51: 0 | H51: 0 | I51: 0 | J51: 0 | K51: 0 | L51: 0 | M51: 0 | N51: 0 | O51: 0 | P51: 0 | Q51: 0 | R51: 0 | S51: 0 | T51: 0 | U51: 0 | V51: 0 | W51: 0 | X51: 0 | Y51: 0 | Z51: 0 | AA51: 0 | AB51: 0 | AC51: 0 | AD51: 0 | AE51: 0 | AF51: =IFERROR(C51+L51+W51+AA51+AE51,0) -> 0 | AG51: 0 | AH51: 0 | AI51: 0 | AJ51: 0 | AK51: 0 | AL51: 0 | AM51: =IFERROR(+AF51+AG51,0) -> 0
B52: RAZEM | C52: =SUM(C32:C51) -> 365511 | D52: =SUM(D32:D51) -> 89805 | E52: =SUM(E32:E51) -> 53361 | F52: =SUM(F32:F51) -> 36231 | G52: =SUM(G32:G51) -> 17130 | H52: =SUM(H32:H51) -> 143102 | I52: =SUM(I32:I51) -> 72417 | J52: =SUM(J32:J51) -> 351 | ... AM52: =SUM(AM32:AM51) -> 1576411
A54: Wartość środków netto używanych - pożyczki w I kw 2021 r. (netto w tys. PLN)
A56: Lp. | B56: Spółka | C56: ŚRODKI TRANSPORTU DROGOWEGO | D56: Osobowe | E56: Cięzarowe: | F56: o masie do 3,5t | G56: o masie powyżej 3,5t | H56: Ciągniki siodłowe | I56: Naczepy / przyczepy | J56: Autobusy | K56: inne pojazdy | L56: MiU | M56: Sprzęt Budowlany | N56: Maszyny Rolnicze | O56: Maszyny Poligraf. | P56: maszyny do produkcji tworzyw sztucznych | Q56: maszyny i urządzenia do obróbki metali | R56: maszyny dla przemysłu spożywczego | S56: Sprzęt Medyczny | T56: Sprzęt Gastronom. | U56: Wózki Widłowe | V56: inne MiU | W56: IT | X56: Sprzęt | Y56: Oprogram. | Z56: inne IT | AA56: POZOSTAŁE ŚRODKI TRANSPORTU | AB56: Powietrzne | AC56: Wodne | AD56: Kolejowe | AE56: Inne ruchomości | AF56: RUCHOMOŚCI | AG56: NIERUCHOMOŚCI | AH56: budynki przemysłowe | AI56: obiekty handlowe i usługowe | AJ56: obiekty biurowe | AK56: hotele i obiekty rekreacyjne | AL56: inne | AM56: OGÓŁEM
A57: 1. | B57: BOS EKO Leasing | C57: 0 | D57: 0 | E57: 0 | F57: 0 | G57: 0 | H57: 0 | I57: 0 | J57: 0 | K57: 0 | L57: 0 | M57: 0 | N57: 0 | O57: 0 | P57: 0 | Q57: 0 | R57: 0 | S57: 0 | T57: 0 | U57: 0 | V57: 0 | W57: 0 | X57: 0 | Y57: 0 | Z57: 0 | AA57: 0 | AB57: 0 | AC57: 0 | AD57: 0 | AE57: 0 | AF57: =IFERROR(C57+L57+W57+AA57+AE57,0) -> 0 | AG57: 0 | AH57: 0 | AI57: 0 | AJ57: 0 | AK57: 0 | AL57: 0 | AM57: =IFERROR(+AF57+AG57,0) -> 0
A58: 2. | B58: BPS Leasing S.A | C58: 0 | D58: 0 | E58: 0 | F58: 0 | G58: 0 | H58: 0 | I58: 0 | J58: 0 | K58: 0 | L58: 0 | M58: 0 | N58: 0 | O58: 0 | P58: 0 | Q58: 0 | R58: 0 | S58: 0 | T58: 0 | U58: 0 | V58: 0 | W58: 0 | X58: 0 | Y58: 0 | Z58: 0 | AA58: 0 | AB58: 0 | AC58: 0 | AD58: 0 | AE58: 0 | AF58: =IFERROR(C58+L58+W58+AA58+AE58,0) -> 0 | AG58: 0 | AH58: 0 | AI58: 0 | AJ58: 0 | AK58: 0 | AL58: 0 | AM58: =IFERROR(+AF58+AG58,0) -> 0
A59: 3. | B59: Caterpillar Financial Services Poland Sp. z o. o. | C59: 0 | D59: 0 | E59: 0 | F59: 0 | G59: 0 | H59: 0 | I59: 0 | J59: 0 | K59: 0 | L59: 2531 | M59: 2531 | N59: 0 | O59: 0 | P59: 0 | Q59: 0 | R59: 0 | S59: 0 | T59: 0 | U59: 0 | V59: 0 | W59: 0 | X59: 0 | Y59: 0 | Z59: 0 | AA59: 0 | AB59: 0 | AC59: 0 | AD59: 0 | AE59: 0 | AF59: =IFERROR(C59+L59+W59+AA59+AE59,0) -> 2531 | AG59: 0 | AH59: 0 | AI59: 0 | AJ59: 0 | AK59: 0 | AL59: 0 | AM59: =IFERROR(+AF59+AG59,0) -> 2531
A60: 4. | B60: De Lage Landen Leasing Polska S.A. | C60: 312 | D60: 130 | E60: 182 | F60: 182 | G60: 0 | H60: 0 | I60: 0 | J60: 0 | K60: 0 | L60: 7509 | M60: 0 | N60: 6522 | O60: 0 | P60: 0 | Q60: 0 | R60: 0 | S60: 674 | T60: 0 | U60: 313 | V60: 0 | W60: 0 | X60: 0 | Y60: 0 | Z60: 0 | AA60: 0 | AB60: 0 | AC60: 0 | AD60: 0 | AE60: 0 | AF60: =IFERROR(C60+L60+W60+AA60+AE60,0) -> 7821 | AG60: 0 | AH60: 0 | AI60: 0 | AJ60: 0 | AK60: 0 | AL60: 0 | AM60: =IFERROR(+AF60+AG60,0) -> 7821
A61: 5. | B61: Europejski Fundusz Leasingowy S.A. | C61: 8896 | D61: 914 | E61: 3256 | F61: 2675 | G61: 581 | H61: 3240 | I61: 1486 | J61: 0 | K61: 0 | L61: 5693 | M61: 3250 | N61: 1980 | O61: 0 | P61: 0 | Q61: 0 | R61: 0 | S61: 311 | T61: 0 | U61: 0 | V61: 152 | W61: 0 | X61: 0 | Y61: 0 | Z61: 0 | AA61: 238 | AB61: 0 | AC61: 238 | AD61: 0 | AE61: 0 | AF61: =IFERROR(C61+L61+W61+AA61+AE61,0) -> 14827 | AG61: 0 | AH61: 0 | AI61: 0 | AJ61: 0 | AK61: 0 | AL61: 0 | AM61: =IFERROR(+AF61+AG61,0) -> 14827
A62: 6. | B62: FCA Leasing Sp. z o.o. | C62: 0 | D62: 0 | E62: 0 | F62: 0 | G62: 0 | H62: 0 | I62: 0 | J62: 0 | K62: 0 | L62: 0 | M62: 0 | N62: 0 | O62: 0 | P62: 0 | Q62: 0 | R62: 0 | S62: 0 | T62: 0 | U62: 0 | V62: 0 | W62: 0 | X62: 0 | Y62: 0 | Z62: 0 | AA62: 0 | AB62: 0 | AC62: 0 | AD62: 0 | AE62: 0 | AF62: =IFERROR(C62+L62+W62+AA62+AE62,0) -> 0 | AG62: 0 | AH62: 0 | AI62: 0 | AJ62: 0 | AK62: 0 | AL62: 0 | AM62: =IFERROR(+AF62+AG62,0) -> 0
A63: 7. | B63: Idea Leasing S.A. | C63: 62548 | D63: 13267 | E63: 7640 | F63: 2234 | G63: 5406 | H63: 35545 | I63: 5951 | J63: 0 | K63: 145 | L63: 37963 | M63: 3727 | N63: 32135 | O63: 34 | P63: 0 | Q63: 584 | R63: 0 | S63: 1348 | T63: 135 | U63: 0 | V63: 0 | W63: 78 | X63: 78 | Y63: 0 | Z63: 0 | AA63: 609 | AB63: 0 | AC63: 609 | AD63: 0 | AE63: 133 | AF63: =IFERROR(C63+L63+W63+AA63+AE63,0) -> 101331 | AG63: 0 | AH63: 0 | AI63: 0 | AJ63: 0 | AK63: 0 | AL63: 0 | AM63: =IFERROR(+AF63+AG63,0) -> 101331
A64: 8. | B64: Impuls-Leasing Polska Sp. z o. o. | C64: 5473 | D64: 2085 | E64: 219 | F64: 0 | G64: 219 | H64: 2942 | I64: 227 | J64: 0 | K64: 0 | L64: 0 | M64: 0 | N64: 0 | O64: 0 | P64: 0 | Q64: 0 | R64: 0 | S64: 0 | T64: 0 | U64: 0 | V64: 0 | W64: 0 | X64: 0 | Y64: 0 | Z64: 0 | AA64: 0 | AB64: 0 | AC64: 0 | AD64: 0 | AE64: 0 | AF64: =IFERROR(C64+L64+W64+AA64+AE64,0) -> 5473 | AG64: 0 | AH64: 0 | AI64: 0 | AJ64: 0 | AK64: 0 | AL64: 0 | AM64: =IFERROR(+AF64+AG64,0) -> 5473
A65: 9. | B65: ING Lease (Polska ) Sp. z o. o. | C65: 0 | D65: 0 | E65: 0 | F65: 0 | G65: 0 | H65: 0 | I65: 0 | J65: 0 | K65: 0 | L65: 1 | M65: 0 | N65: 0 | O65: 0 | P65: 0 | Q65: 0 | R65: 0 | S65: 1 | T65: 0 | U65: 0 | V65: 0 | W65: 0 | X65: 0 | Y65: 0 | Z65: 0 | AA65: 0 | AB65: 0 | AC65: 0 | AD65: 0 | AE65: 0 | AF65: =IFERROR(C65+L65+W65+AA65+AE65,0) -> 1 | AG65: 0 | AH65: 0 | AI65: 0 | AJ65: 0 | AK65: 0 | AL65: 0 | AM65: =IFERROR(+AF65+AG65,0) -> 1
A66: 10. | B66: Millennium Leasing Sp. z o. o. | C66: 0 | D66: 0 | E66: 0 | F66: 0 | G66: 0 | H66: 0 | I66: 0 | J66: 0 | K66: 0 | L66: 0 | M66: 0 | N66: 0 | O66: 0 | P66: 0 | Q66: 0 | R66: 0 | S66: 0 | T66: 0 | U66: 0 | V66: 0 | W66: 0 | X66: 0 | Y66: 0 | Z66: 0 | AA66: 0 | AB66: 0 | AC66: 0 | AD66: 0 | AE66: 0 | AF66: =IFERROR(C66+L66+W66+AA66+AE66,0) -> 0 | AG66: 0 | AH66: 0 | AI66: 0 | AJ66: 0 | AK66: 0 | AL66: 0 | AM66: =IFERROR(+AF66+AG66,0) -> 0
A67: 11. | B67: mLeasing Sp. z o. o. | C67: 4089 | D67: 0 | E67: 0 | F67: 0 | G67: 0 | H67: 259 | I67: 423 | J67: 0 | K67: 3407 | L67: 1681 | M67: 799 | N67: 0 | O67: 0 | P67: 0 | Q67: 0 | R67: 0 | S67: 882 | T67: 0 | U67: 0 | V67: 0 | W67: 0 | X67: 0 | Y67: 0 | Z67: 0 | AA67: 0 | AB67: 0 | AC67: 0 | AD67: 0 | AE67: 0 | AF67: =IFERROR(C67+L67+W67+AA67+AE67,0) -> 5770 | AG67: 0 | AH67: 0 | AI67: 0 | AJ67: 0 | AK67: 0 | AL67: 0 | AM67: =IFERROR(+AF67+AG67,0) -> 5770
A68: 12. | B68: PEAC (POLAND) sp. z o. o. | C68: 0 | D68: 0 | E68: 0 | F68: 0 | G68: 0 | H68: 0 | I68: 0 | J68: 0 | K68: 0 | L68: 1574 | M68: 0 | N68: 1424 | O68: 0 | P68: 0 | Q68: 0 | R68: 0 | S68: 0 | T68: 0 | U68: 0 | V68: 150 | W68: 0 | X68: 0 | Y68: 0 | Z68: 0 | AA68: 0 | AB68: 0 | AC68: 0 | AD68: 0 | AE68: 0 | AF68: =IFERROR(C68+L68+W68+AA68+AE68,0) -> 1574 | AG68: 0 | AH68: 0 | AI68: 0 | AJ68: 0 | AK68: 0 | AL68: 0 | AM68: =IFERROR(+AF68+AG68,0) -> 1574
... A76: 20. | B76: Siemens Finance Sp. z o. o. | C76: 0 | D76: 0 | E76: 0 | F76: 0 | G76: 0 | H76: 0 | I76: 0 | J76: 0 | K76: 0 | L76: 0 | M76: 0 | N76: 0 | O76: 0 | P76: 0 | Q76: 0 | R76: 0 | S76: 0 | T76: 0 | U76: 0 | V76: 0 | W76: 0 | X76: 0 | Y76: 0 | Z76: 0 | AA76: 0 | AB76: 0 | AC76: 0 | AD76: 0 | AE76: 0 | AF76: =IFERROR(C76+L76+W76+AA76+AE76,0) -> 0 | AG76: 0 | AH76: 0 | AI76: 0 | AJ76: 0 | AK76: 0 | AL76: 0 | AM76: =IFERROR(+AF76+AG76,0) -> 0
B77: RAZEM | C77: =SUM(C57:C76) -> 153287 | D77: =SUM(D57:D76) -> 56550 | E77: =SUM(E57:E76) -> 17670 | F77: =SUM(F57:F76) -> 9068 | G77: =SUM(G57:G76) -> 8602 | H77: =SUM(H57:H76) -> 59700 | I77: =SUM(I57:I76) -> 12860 | J77: =SUM(J57:J76) -> 351 | ... AM77: =SUM(AM57:AM76) -> 267277
A79: Struktura wartościowa umów (ruchomości)
A81: Lp. | B81: Spółka | C81: ŚRODKI TRANSPORTU DROGOWEGO | D81: Osobowe | E81: Cięzarowe: | F81: o masie do 3,5t | G81: o masie powyżej 3,5t | H81: Ciągniki siodłowe | I81: Naczepy / przyczepy | J81: Autobusy | K81: inne pojazdy | L81: MiU | M81: Sprzęt Budowlany | N81: Maszyny Rolnicze | O81: Maszyny Poligraf. | P81: maszyny do produkcji tworzyw sztucznych | Q81: maszyny i urządzenia do obróbki metali | R81: maszyny dla przemysłu spożywczego | S81: Sprzęt Medyczny | T81: Sprzęt Gastronom. | U81: Wózki Widłowe | V81: inne MiU | W81: IT | X81: Sprzęt | Y81: Oprogram. | Z81: inne IT | AA81: POZOSTAŁE ŚRODKI TRANSPORTU | AB81: Powietrzne | AC81: Wodne | AD81: Kolejowe | AE81: Inne ruchomości | AF81: RUCHOMOŚCI | AG81: NIERUCHOMOŚCI | AH81: budynki przemysłowe | AI81: obiekty handlowe i usługowe | AJ81: obiekty biurowe | AK81: hotele i obiekty rekreacyjne | AL81: inne | AM81: OGÓŁEM RUCHOMOŚCI I NIERUCHOMOŚCI
A82: 1. | B82: BOS EKO Leasing | C82: =IF($AF35,C35/$AF35,0) -> 0.027031494 | D82: =IF($AF35,D35/$AF35,0) -> 0.0018118936 | E82: =IF($AF35,E35/$AF35,0) -> 0.0017139534 | F82: =IF($AF35,F35/$AF35,0) -> 0.0017139534 | G82: =IF($AF35,G35/$AF35,0) -> 0 | H82: =IF($AF35,H35/$AF35,0) -> 0.007657699 | I82: =IF($AF35,I35/$AF35,0) -> 0.015847948 | J82: =IF($AF35,J35/$AF35,0) -> 0 | ... AE82: =IF($AF35,AE35/$AF35,0) -> 0 | AF82: =IF($AF32,AF32/$AF32,0) -> 0 | AM82: =IFERROR(+AF82+AG82,0) -> 0
A83: 2. | B83: BPS Leasing S.A | C83: =IF($AF36,C36/$AF36,0) -> 0.16116309 | D83: =IF($AF36,D36/$AF36,0) -> 0.018938298 | E83: =IF($AF36,E36/$AF36,0) -> 0.072848676 | F83: =IF($AF36,F36/$AF36,0) -> 0.060587548 | G83: =IF($AF36,G36/$AF36,0) -> 0.012261128 | H83: =IF($AF36,H36/$AF36,0) -> 0.03876617 | I83: =IF($AF36,I36/$AF36,0) -> 0.030609948 | J83: =IF($AF36,J36/$AF36,0) -> 0 | ... AE83: =IF($AF36,AE36/$AF36,0) -> 0 | AF83: =IF($AF33,AF33/$AF33,0) -> 0 | AM83: =IFERROR(+AF83+AG83,0) -> 0
A84: 3. | B84: Caterpillar Financial Services Poland Sp. z o. o. | C84: =IF($AF37,C37/$AF37,0) -> 0 | D84: =IF($AF37,D37/$AF37,0) -> 0 | E84: =IF($AF37,E37/$AF37,0) -> 0 | F84: =IF($AF37,F37/$AF37,0) -> 0 | G84: =IF($AF37,G37/$AF37,0) -> 0 | H84: =IF($AF37,H37/$AF37,0) -> 0 | I84: =IF($AF37,I37/$AF37,0) -> 0 | J84: =IF($AF37,J37/$AF37,0) -> 0 | ... AE84: =IF($AF37,AE37/$AF37,0) -> 0 | AF84: =IF($AF34,AF34/$AF34,0) -> 1 | AM84: =IFERROR(+AF84+AG84,0) -> 1
A85: 4. | B85: De Lage Landen Leasing Polska S.A. | C85: =IF($AF38,C38/$AF38,0) -> 0.38847133 | D85: =IF($AF38,D38/$AF38,0) -> 0.080145436 | E85: =IF($AF38,E38/$AF38,0) -> 0.051155227 | F85: =IF($AF38,F38/$AF38,0) -> 0.026045265 | G85: =IF($AF38,G38/$AF38,0) -> 0.025109961 | H85: =IF($AF38,H38/$AF38,0) -> 0.18108664 | I85: =IF($AF38,I38/$AF38,0) -> 0.07524141 | J85: =IF($AF38,J38/$AF38,0) -> 0 | ... AE85: =IF($AF38,AE38/$AF38,0) -> 0.059290686 | AF85: =IF($AF35,AF35/$AF35,0) -> 1 | AM85: =IFERROR(+AF85+AG85,0) -> 1
A86: 5. | B86: Europejski Fundusz Leasingowy S.A. | C86: =IF($AF39,C39/$AF39,0) -> 0.90634897 | D86: =IF($AF39,D39/$AF39,0) -> 0.086911689 | E86: =IF($AF39,E39/$AF39,0) -> 0.028540915 | F86: =IF($AF39,F39/$AF39,0) -> 0.020475805 | G86: =IF($AF39,G39/$AF39,0) -> 0.0080651101 | H86: =IF($AF39,H39/$AF39,0) -> 0.53336525 | I86: =IF($AF39,I39/$AF39,0) -> 0.25753112 | J86: =IF($AF39,J39/$AF39,0) -> 0 | ... AE86: =IF($AF39,AE39/$AF39,0) -> 0 | AF86: =IF($AF36,AF36/$AF36,0) -> 1 | AM86: =IFERROR(+AF86+AG86,0) -> 1
A87: 6. | B87: FCA Leasing Sp. z o.o. | C87: =IF($AF40,C40/$AF40,0) -> 0.65070639 | D87: =IF($AF40,D40/$AF40,0) -> 0 | E87: =IF($AF40,E40/$AF40,0) -> 0.21626079 | F87: =IF($AF40,F40/$AF40,0) -> 0.21626079 | G87: =IF($AF40,G40/$AF40,0) -> 0 | H87: =IF($AF40,H40/$AF40,0) -> 0.4344456 | I87: =IF($AF40,I40/$AF40,0) -> 0 | J87: =IF($AF40,J40/$AF40,0) -> 0 | ... AE87: =IF($AF40,AE40/$AF40,0) -> 0 | AF87: =IF($AF37,AF37/$AF37,0) -> 0 | AM87: =IFERROR(+AF87+AG87,0) -> 0
A88: 7. | B88: Idea Leasing S.A. | C88: =IF($AF41,C41/$AF41,0) -> 0 | D88: =IF($AF41,D41/$AF41,0) -> 0 | E88: =IF($AF41,E41/$AF41,0) -> 0 | F88: =IF($AF41,F41/$AF41,0) -> 0 | G88: =IF($AF41,G41/$AF41,0) -> 0 | H88: =IF($AF41,H41/$AF41,0) -> 0 | I88: =IF($AF41,I41/$AF41,0) -> 0 | J88: =IF($AF41,J41/$AF41,0) -> 0 | ... AE88: =IF($AF41,AE41/$AF41,0) -> 0 | AF88: =IF($AF38,AF38/$AF38,0) -> 1 | AM88: =IFERROR(+AF88+AG88,0) -> 1
A89: 8. | B89: Impuls-Leasing Polska Sp. z o. o. | C89: =IF($AF42,C42/$AF42,0) -> 0.15526904 | D89: =IF($AF42,D42/$AF42,0) -> 0 | E89: =IF($AF42,E42/$AF42,0) -> 0.0090995311 | F89: =IF($AF42,F42/$AF42,0) -> 0 | G89: =IF($AF42,G42/$AF42,0) -> 0.0090995311 | H89: =IF($AF42,H42/$AF42,0) -> 0.043786519 | I89: =IF($AF42,I42/$AF42,0) -> 0.079786705 | J89: =IF($AF42,J42/$AF42,0) -> 0 | ... AE89: =IF($AF42,AE42/$AF42,0) -> 0.0079057151 | AF89: =IF($AF39,AF39/$AF39,0) -> 1 | AM89: =IFERROR(+AF89+AG89,0) -> 1
A90: 9. | B90: ING Lease (Polska ) Sp. z o. o. | C90: =IF($AF43,C43/$AF43,0) -> 0.087151492 | D90: =IF($AF43,D43/$AF43,0) -> 0 | E90: =IF($AF43,E43/$AF43,0) -> 0 | F90: =IF($AF43,F43/$AF43,0) -> 0 | G90: =IF($AF43,G43/$AF43,0) -> 0 | H90: =IF($AF43,H43/$AF43,0) -> 0 | I90: =IF($AF43,I43/$AF43,0) -> 0.087151492 | J90: =IF($AF43,J43/$AF43,0) -> 0 | ... AE90: =IF($AF43,AE43/$AF43,0) -> 0 | AF90: =IF($AF40,AF40/$AF40,0) -> 1 | AM90: =IFERROR(+AF90+AG90,0) -> 1
A91: 10. | B91: Millennium Leasing Sp. z o. o. | C91: =IF($AF44,C44/$AF44,0) -> 0.11189752 | D91: =IF($AF44,D44/$AF44,0) -> 0.0023824951 | E91: =IF($AF44,E44/$AF44,0) -> 0.0076658526 | F91: =IF($AF44,F44/$AF44,0) -> 0 | G91: =IF($AF44,G44/$AF44,0) -> 0.0076658526 | H91: =IF($AF44,H44/$AF44,0) -> 0.051069132 | I91: =IF($AF44,I44/$AF44,0) -> 0.026436724 | J91: =IF($AF44,J44/$AF44,0) -> 0 | ... AE91: =IF($AF44,AE44/$AF44,0) -> 9.9685989e-06 | AF91: =IF($AF41,AF41/$AF41,0) -> 0 | AM91: =IFERROR(+AF91+AG91,0) -> 0
A92: 11. | B92: mLeasing Sp. z o. o. | C92: =IF($AF45,C45/$AF45,0) -> 0.30219164 | D92: =IF($AF45,D45/$AF45,0) -> 0.0655086 | E92: =IF($AF45,E45/$AF45,0) -> 0.043858708 | F92: =IF($AF45,F45/$AF45,0) -> 0.028253314 | G92: =IF($AF45,G45/$AF45,0) -> 0.015605394 | H92: =IF($AF45,H45/$AF45,0) -> 0.13823507 | I92: =IF($AF45,I45/$AF45,0) -> 0.054467118 | J92: =IF($AF45,J45/$AF45,0) -> 0 | ... AE92: =IF($AF45,AE45/$AF45,0) -> 0 | AF92: =IF($AF42,AF42/$AF42,0) -> 1 | AM92: =IFERROR(+AF92+AG92,0) -> 1
A93: 12. | B93: PEAC (POLAND) sp. z o. o. | C93: =IF($AF46,C46/$AF46,0) -> 1 | D93: =IF($AF46,D46/$AF46,0) -> 0.74585966 | E93: =IF($AF46,E46/$AF46,0) -> 0.23442035 | F93: =IF($AF46,F46/$AF46,0) -> 0.23442035 | G93: =IF($AF46,G46/$AF46,0) -> 0 | H93: =IF($AF46,H46/$AF46,0) -> 0 | I93: =IF($AF46,I46/$AF46,0) -> 0 | J93: =IF($AF46,J46/$AF46,0) -> 0 | ... AE93: =IF($AF46,AE46/$AF46,0) -> 0 | AF93: =IF($AF43,AF43/$AF43,0) -> 1 | AM93: =IFERROR(+AF93+AG93,0) -> 1
... A101: 20. | B101: Siemens Finance Sp. z o. o. | C101: =IF($AF54,C54/$AF54,0) -> 0 | D101: =IF($AF54,D54/$AF54,0) -> 0 | E101: =IF($AF54,E54/$AF54,0) -> 0 | F101: =IF($AF54,F54/$AF54,0) -> 0 | G101: =IF($AF54,G54/$AF54,0) -> 0 | H101: =IF($AF54,H54/$AF54,0) -> 0 | I101: =IF($AF54,I54/$AF54,0) -> 0 | J101: =IF($AF54,J54/$AF54,0) -> 0 | ... AE101: =IF($AF54,AE54/$AF54,0) -> 0 | AF101: =IF($AF51,AF51/$AF51,0) -> 0 | AM101: =IFERROR(+AF101+AG101,0) -> 0
A103: Struktura walutowa
A105: Lp. | B105: Spółka | C105: Środki transportu drogowego | H105: Maszyny i urzadzenia przemysłowe | M105: Sprzęt budowlany | R105: Maszyny rolnicze | W105: Maszyny poligraficzne | AB105: Maszyny do produkcji tworzyw sztucznych | AG105: Maszyny obróbki metali | AL105: Maszyny dla przemysłu spożywczego | AQ105: Sprzęt medyczny | AV105: Sprzęt gastronomiczny | BA105: Wózki widłowe | BF105: Inne maszyny | BK105: Komputery i sprzęt biurowy | BP105: Pozostałe środki transportu | BU105: Inne ruchomości | BZ105: Ruchomości | CE105: Nieruchomości | CJ105: Ogółem Aktywa
C106: PLN | D106: EUR | E106: CHF | F106: USD | G106: inne | H106: PLN | I106: EUR | J106: CHF | K106: USD | L106: inne | M106: PLN | N106: EUR | O106: CHF | P106: USD | Q106: inne | R106: PLN | S106: EUR | T106: CHF | U106: USD | V106: inne | W106: PLN | X106: EUR | Y106: CHF | Z106: USD | AA106: inne | AB106: PLN | AC106: EUR | AD106: CHF | AE106: USD | AF106: inne | AG106: PLN | AH106: EUR | AI106: CHF | AJ106: USD | AK106: inne | AL106: PLN | AM106: EUR | AN106: CHF | AO106: USD | AP106: inne | AQ106: PLN | AR106: EUR | AS106: CHF | AT106: USD | AU106: inne | AV106: PLN | AW106: EUR | AX106: CHF | AY106: USD | AZ106: inne | BA106: PLN | BB106: EUR | BC106: CHF | BD106: USD | BE106: inne | BF106: PLN | BG106: EUR | BH106: CHF | BI106: USD | BJ106: inne | BK106: PLN | BL106: EUR | BM106: CHF | BN106: USD | BO106: inne | BP106: PLN | BQ106: EUR | BR106: CHF | BS106: USD | BT106: inne | BU106: PLN | BV106: EUR | BW106: CHF | BX106: USD | BY106: inne | BZ106: PLN | CA106: EUR | CB106: CHF | CC106: USD | CD106: inne | CE106: PLN | CF106: EUR | CG106: CHF | CH106: USD | CI106: inne | CJ106: PLN | CK106: EUR | CL106: CHF | CM106: USD | CN106: inne
A107: 1. | B107: BOS EKO Leasing | C107: 0 | D107: 0 | E107: 0 | F107: 0 | G107: 0 | H107: 0 | I107: 0 | J107: 0 | K107: 0 | L107: 0 | M107: 0 | N107: 0 | O107: 0 | P107: 0 | Q107: 0 | R107: 0 | S107: 0 | T107: 0 | U107: 0 | V107: 0 | W107: 0 | X107: 0 | Y107: 0 | Z107: 0 | AA107: 0 | AB107: 0 | AC107: 0 | AD107: 0 | AE107: 0 | AF107: 0 | AG107: 0 | AH107: 0 | AI107: 0 | AJ107: 0 | AK107: 0 | AL107: 0 | AM107: 0 | AN107: 0 | AO107: 0 | AP107: 0 | AQ107: 0 | AR107: 0 | AS107: 0 | AT107: 0 | AU107: 0 | AV107: 0 | AW107: 0 | AX107: 0 | AY107: 0 | AZ107: 0 | BA107: 0 | BB107: 0 | BC107: 0 | BD107: 0 | BE107: 0 | BF107: 0 | BG107: 0 | BH107: 0 | BI107: 0 | BJ107: 0 | BK107: 0 | BL107: 0 | BM107: 0 | BN107: 0 | BO107: 0 | BP107: 0 | BQ107: 0 | BR107: 0 | BS107: 0 | BT107: 0 | BU107: 0 | BV107: 0 | BW107: 0 | BX107: 0 | BY107: 0 | BZ107: 0 | CA107: 0 | CB107: 0 | CC107: 0 | CD107: 0 | CE107: 0 | CF107: 0 | CG107: 0 | CH107: 0 | CI107: 0 | CJ107: 0 | CK107: 0 | CL107: 0 | CM107: 0 | CN107: 0
A108: 2. | B108: BPS Leasing S.A | C108: 0 | D108: 0 | E108: 0 | F108: 0 | G108: 0 | H108: 0 | I108: 0 | J108: 0 | K108: 0 | L108: 0 | M108: 0 | N108: 0 | O108: 0 | P108: 0 | Q108: 0 | R108: 0 | S108: 0 | T108: 0 | U108: 0 | V108: 0 | W108: 0 | X108: 0 | Y108: 0 | Z108: 0 | AA108: 0 | AB108: 0 | AC108: 0 | AD108: 0 | AE108: 0 | AF108: 0 | AG108: 0 | AH108: 0 | AI108: 0 | AJ108: 0 | AK108: 0 | AL108: 0 | AM108: 0 | AN108: 0 | AO108: 0 | AP108: 0 | AQ108: 0 | AR108: 0 | AS108: 0 | AT108: 0 | AU108: 0 | AV108: 0 | AW108: 0 | AX108: 0 | AY108: 0 | AZ108: 0 | BA108: 0 | BB108: 0 | BC108: 0 | BD108: 0 | BE108: 0 | BF108: 0 | BG108: 0 | BH108: 0 | BI108: 0 | BJ108: 0 | BK108: 0 | BL108: 0 | BM108: 0 | BN108: 0 | BO108: 0 | BP108: 0 | BQ108: 0 | BR108: 0 | BS108: 0 | BT108: 0 | BU108: 0 | BV108: 0 | BW108: 0 | BX108: 0 | BY108: 0 | BZ108: 0 | CA108: 0 | CB108: 0 | CC108: 0 | CD108: 0 | CE108: 0 | CF108: 0 | CG108: 0 | CH108: 0 | CI108: 0 | CJ108: 0 | CK108: 0 | CL108: 0 | CM108: 0 | CN108: 0
A109: 3. | B109: Caterpillar Financial Services Poland Sp. z o. o. | C109: 0 | D109: 0 | E109: 0 | F109: 0 | G109: 0 | H109: 0.4792819 | I109: 0.5207181 | J109: 0 | K109: 0 | L109: 0 | M109: 0.4792819 | N109: 0.5207181 | O109: 0 | P109: 0 | Q109: 0 | R109: 0 | S109: 0 | T109: 0 | U109: 0 | V109: 0 | W109: 0 | X109: 0 | Y109: 0 | Z109: 0 | AA109: 0 | AB109: 0 | AC109: 0 | AD109: 0 | AE109: 0 | AF109: 0 | AG109: 0 | AH109: 0 | AI109: 0 | AJ109: 0 | AK109: 0 | AL109: 0 | AM109: 0 | AN109: 0 | AO109: 0 | AP109: 0 | AQ109: 0 | AR109: 0 | AS109: 0 | AT109: 0 | AU109: 0 | AV109: 0 | AW109: 0 | AX109: 0 | AY109: 0 | AZ109: 0 | BA109: 0 | BB109: 0 | BC109: 0 | BD109: 0 | BE109: 0 | BF109: 0 | BG109: 0 | BH109: 0 | BI109: 0 | BJ109: 0 | BK109: 0 | BL109: 0 | BM109: 0 | BN109: 0 | BO109: 0 | BP109: 0 | BQ109: 0 | BR109: 0 | BS109: 0 | BT109: 0 | BU109: 0 | BV109: 0 | BW109: 0 | BX109: 0 | BY109: 0 | BZ109: 0.4792819 | CA109: 0.5207181 | CB109: 0 | CC109: 0 | CD109: 0 | CE109: 0 | CF109: 0 | CG109: 0 | CH109: 0 | CI109: 0 | CJ109: 0.4792819 | CK109: 0.5207181 | CL109: 0 | CM109: 0 | CN109: 0
A110: 4. | B110: De Lage Landen Leasing Polska S.A. | C110: 0.71671196 | D110: 0.28328804 | E110: 0 | F110: 0 | G110: 0 | H110: 0.97123829 | I110: 0.028761708 | J110: 0 | K110: 0 | L110: 0 | M110: 0 | N110: 1 | O110: 0 | P110: 0 | Q110: 0 | R110: 0.97803413 | S110: 0.021965874 | T110: 0 | U110: 0 | V110: 0 | W110: 0 | X110: 0 | Y110: 0 | Z110: 0 | AA110: 0 | AB110: 0 | AC110: 0 | AD110: 0 | AE110: 0 | AF110: 0 | AG110: 0 | AH110: 0 | AI110: 0 | AJ110: 0 | AK110: 0 | AL110: 0 | AM110: 0 | AN110: 0 | AO110: 0 | AP110: 0 | AQ110: 1 | AR110: 0 | AS110: 0 | AT110: 0 | AU110: 0 | AV110: 0 | AW110: 0 | AX110: 0 | AY110: 0 | AZ110: 0 | BA110: 0 | BB110: 1 | BC110: 0 | BD110: 0 | BE110: 0 | BF110: 0.90578433 | BG110: 0.094215671 | BH110: 0 | BI110: 0 | BJ110: 0 | BK110: 1 | BL110: 0 | BM110: 0 | BN110: 0 | BO110: 0 | BP110: 0 | BQ110: 0 | BR110: 0 | BS110: 0 | BT110: 0 | BU110: 0 | BV110: 0 | BW110: 0 | BX110: 0 | BY110: 0 | BZ110: 0.96521899 | CA110: 0.034781012 | CB110: 0 | CC110: 0 | CD110: 0 | CE110: 0 | CF110: 0 | CG110: 0 | CH110: 0 | CI110: 0 | CJ110: 0.96521899 | CK110: 0.034781012 | CL110: 0 | CM110: 0 | CN110: 0
A111: 5. | B111: Europejski Fundusz Leasingowy S.A. | C111: 1 | D111: 0 | E111: 0 | F111: 0 | G111: 0 | H111: 1 | I111: 0 | J111: 0 | K111: 0 | L111: 0 | M111: 1 | N111: 0 | O111: 0 | P111: 0 | Q111: 0 | R111: 1 | S111: 0 | T111: 0 | U111: 0 | V111: 0 | W111: 0 | X111: 0 | Y111: 0 | Z111: 0 | AA111: 0 | AB111: 1 | AC111: 0 | AD111: 0 | AE111: 0 | AF111: 0 | AG111: 1 | AH111: 0 | AI111: 0 | AJ111: 0 | AK111: 0 | AL111: 1 | AM111: 0 | AN111: 0 | AO111: 0 | AP111: 0 | AQ111: 1 | AR111: 0 | AS111: 0 | AT111: 0 | AU111: 0 | AV111: 1 | AW111: 0 | AX111: 0 | AY111: 0 | AZ111: 0 | BA111: 1 | BB111: 0 | BC111: 0 | BD111: 0 | BE111: 0 | BF111: 1 | BG111: 0 | BH111: 0 | BI111: 0 | BJ111: 0 | BK111: 1 | BL111: 0 | BM111: 0 | BN111: 0 | BO111: 0 | BP111: 1 | BQ111: 0 | BR111: 0 | BS111: 0 | BT111: 0 | BU111: 0 | BV111: 0 | BW111: 0 | BX111: 0 | BY111: 0 | BZ111: 1 | CA111: 0 | CB111: 0 | CC111: 0 | CD111: 0 | CE111: 0 | CF111: 0 | CG111: 0 | CH111: 0 | CI111: 0 | CJ111: 1 | CK111: 0 | CL111: 0 | CM111: 0 | CN111: 0
A112: 6. | B112: FCA Leasing Sp. z o.o. | C112: 0 | D112: 0 | E112: 0 | F112: 0 | G112: 0 | H112: 0 | I112: 0 | J112: 0 | K112: 0 | L112: 0 | M112: 0 | N112: 0 | O112: 0 | P112: 0 | Q112: 0 | R112: 0 | S112: 0 | T112: 0 | U112: 0 | V112: 0 | W112: 0 | X112: 0 | Y112: 0 | Z112: 0 | AA112: 0 | AB112: 0 | AC112: 0 | AD112: 0 | AE112: 0 | AF112: 0 | AG112: 0 | AH112: 0 | AI112: 0 | AJ112: 0 | AK112: 0 | AL112: 0 | AM112: 0 | AN112: 0 | AO112: 0 | AP112: 0 | AQ112: 0 | AR112: 0 | AS112: 0 | AT112: 0 | AU112: 0 | AV112: 0 | AW112: 0 | AX112: 0 | AY112: 0 | AZ112: 0 | BA112: 0 | BB112: 0 | BC112: 0 | BD112: 0 | BE112: 0 | BF112: 0 | BG112: 0 | BH112: 0 | BI112: 0 | BJ112: 0 | BK112: 0 | BL112: 0 | BM112: 0 | BN112: 0 | BO112: 0 | BP112: 0 | BQ112: 0 | BR112: 0 | BS112: 0 | BT112: 0 | BU112: 0 | BV112: 0 | BW112: 0 | BX112: 0 | BY112: 0 | BZ112: 0 | CA112: 0 | CB112: 0 | CC112: 0 | CD112: 0 | CE112: 0 | CF112: 0 | CG112: 0 | CH112: 0 | CI112: 0 | CJ112: 0 | CK112: 0 | CL112: 0 | CM112: 0 | CN112: 0
A113: 7. | B113: Idea Leasing S.A. | C113: 0.74231612 | D113: 0.25768388 | E113: 0 | F113: 0 | G113: 0 | H113: 0.99375674 | I113: 0.0062432557 | J113: 0 | K113: 0 | L113: 0 | M113: 1 | N113: 0 | O113: 0 | P113: 0 | Q113: 0 | R113: 1 | S113: 0 | T113: 0 | U113: 0 | V113: 0 | W113: 1 | X113: 0 | Y113: 0 | Z113: 0 | AA113: 0 | AB113: 1 | AC113: 0 | AD113: 0 | AE113: 0 | AF113: 0 | AG113: 1 | AH113: 0 | AI113: 0 | AJ113: 0 | AK113: 0 | AL113: 1 | AM113: 0 | AN113: 0 | AO113: 0 | AP113: 0 | AQ113: 1 | AR113: 0 | AS113: 0 | AT113: 0 | AU113: 0 | AV113: 1 | AW113: 0 | AX113: 0 | AY113: 0 | AZ113: 0 | BA113: 1 | BB113: 0 | BC113: 0 | BD113: 0 | BE113: 0 | BF113: 0.89496888 | BG113: 0.10503112 | BH113: 0 | BI113: 0 | BJ113: 0 | BK113: 1 | BL113: 0 | BM113: 0 | BN113: 0 | BO113: 0 | BP113: 0.74978355 | BQ113: 0.25021645 | BR113: 0 | BS113: 0 | BT113: 0 | BU113: 1 | BV113: 0 | BW113: 0 | BX113: 0 | BY113: 0 | BZ113: 0.89526703 | CA113: 0.10473297 | CB113: 0 | CC113: 0 | CD113: 0 | CE113: 0 | CF113: 0 | CG113: 0 | CH113: 0 | CI113: 0 | CJ113: 0.89526703 | CK113: 0.10473297 | CL113: 0 | CM113: 0 | CN113: 0
A114: 8. | B114: Impuls-Leasing Polska Sp. z o. o. | C114: 0.22266466 | D114: 0.77733534 | E114: 0 | F114: 0 | G114: 0 | H114: 0.94716981 | I114: 0.052830189 | J114: 0 | K114: 0 | L114: 0 | M114: 0 | N114: 0 | O114: 0 | P114: 0 | Q114: 0 | R114: 1 | S114: 0 | T114: 0 | U114: 0 | V114: 0 | W114: 0 | X114: 0 | Y114: 0 | Z114: 0 | AA114: 0 | AB114: 0 | AC114: 0 | AD114: 0 | AE114: 0 | AF114: 0 | AG114: 0 | AH114: 0 | AI114: 0 | AJ114: 0 | AK114: 0 | AL114: 0 | AM114: 0 | AN114: 0 | AO114: 0 | AP114: 0 | AQ114: 1 | AR114: 0 | AS114: 0 | AT114: 0 | AU114: 0 | AV114: 1 | AW114: 0 | AX114: 0 | AY114: 0 | AZ114: 0 | BA114: 0 | BB114: 1 | BC114: 0 | BD114: 0 | BE114: 0 | BF114: 1 | BG114: 0 | BH114: 0 | BI114: 0 | BJ114: 0 | BK114: 0 | BL114: 0 | BM114: 0 | BN114: 0 | BO114: 0 | BP114: 1 | BQ114: 0 | BR114: 0 | BS114: 0 | BT114: 0 | BU114: 0 | BV114: 0 | BW114: 0 | BX114: 0 | BY114: 0 | BZ114: 0.29133829 | CA114: 0.70866171 | CB114: 0 | CC114: 0 | CD114: 0 | CE114: 0 | CF114: 0 | CG114: 0 | CH114: 0 | CI114: 0 | CJ114: 0.29133829 | CK114: 0.70866171 | CL114: 0 | CM114: 0 | CN114: 0
A115: 9. | B115: ING Lease (Polska ) Sp. z o. o. | C115: 0.056771141 | D115: 0.94322886 | E115: 0 | F115: 0 | G115: 0 | H115: 0.25889204 | I115: 0.74110796 | J115: 0 | K115: 0 | L115: 0 | M115: 0 | N115: 0 | O115: 0 | P115: 0 | Q115: 0 | R115: 0 | S115: 0 | T115: 0 | U115: 0 | V115: 0 | W115: 0 | X115: 1 | Y115: 0 | Z115: 0 | AA115: 0 | AB115: 0 | AC115: 0 | AD115: 0 | AE115: 0 | AF115: 0 | AG115: 1 | AH115: 0 | AI115: 0 | AJ115: 0 | AK115: 0 | AL115: 0 | AM115: 0 | AN115: 0 | AO115: 0 | AP115: 0 | AQ115: 1 | AR115: 0 | AS115: 0 | AT115: 0 | AU115: 0 | AV115: 0 | AW115: 0 | AX115: 0 | AY115: 0 | AZ115: 0 | BA115: 0 | BB115: 0 | BC115: 0 | BD115: 0 | BE115: 0 | BF115: 0 | BG115: 0 | BH115: 0 | BI115: 0 | BJ115: 0 | BK115: 0 | BL115: 0 | BM115: 0 | BN115: 0 | BO115: 0 | BP115: 0 | BQ115: 0 | BR115: 0 | BS115: 0 | BT115: 0 | BU115: 0 | BV115: 0 | BW115: 0 | BX115: 0 | BY115: 0 | BZ115: 0.12737068 | CA115: 0.87262932 | CB115: 0 | CC115: 0 | CD115: 0 | CE115: 0 | CF115: 0 | CG115: 0 | CH115: 0 | CI115: 0 | CJ115: 0.12737068 | CK115: 0.87262932 | CL115: 0 | CM115: 0 | CN115: 0
A116: 10. | B116: Millennium Leasing Sp. z o. o. | C116: 0 | D116: 0 | E116: 0 | F116: 0 | G116: 0 | H116: 0 | I116: 0 | J116: 0 | K116: 0 | L116: 0 | M116: 0 | N116: 0 | O116: 0 | P116: 0 | Q116: 0 | R116: 0 | S116: 0 | T116: 0 | U116: 0 | V116: 0 | W116: 0 | X116: 0 | Y116: 0 | Z116: 0 | AA116: 0 | AB116: 0 | AC116: 0 | AD116: 0 | AE116: 0 | AF116: 0 | AG116: 0 | AH116: 0 | AI116: 0 | AJ116: 0 | AK116: 0 | AL116: 0 | AM116: 0 | AN116: 0 | AO116: 0 | AP116: 0 | AQ116: 0 | AR116: 0 | AS116: 0 | AT116: 0 | AU116: 0 | AV116: 0 | AW116: 0 | AX116: 0 | AY116: 0 | AZ116: 0 | BA116: 0 | BB116: 0 | BC116: 0 | BD116: 0 | BE116: 0 | BF116: 0 | BG116: 0 | BH116: 0 | BI116: 0 | BJ116: 0 | BK116: 0 | BL116: 0 | BM116: 0 | BN116: 0 | BO116: 0 | BP116: 0 | BQ116: 0 | BR116: 0 | BS116: 0 | BT116: 0 | BU116: 0 | BV116: 0 | BW116: 0 | BX116: 0 | BY116: 0 | BZ116: 0 | CA116: 0 | CB116: 0 | CC116: 0 | CD116: 0 | CE116: 0 | CF116: 0 | CG116: 0 | CH116: 0 | CI116: 0 | CJ116: 0 | CK116: 0 | CL116: 0 | CM116: 0 | CN116: 0
A117: 11. | B117: mLeasing Sp. z o. o. | C117: 0.15283414 | D117: 0.84716586 | E117: 0 | F117: 0 | G117: 0 | H117: 0.52576614 | I117: 0.47423386 | J117: 0 | K117: 0 | L117: 0 | M117: 0.85373609 | N117: 0.14626391 | O117: 0 | P117: 0 | Q117: 0 | R117: 0 | S117: 1 | T117: 0 | U117: 0 | V117: 0 | W117: 0 | X117: 0 | Y117: 0 | Z117: 0 | AA117: 0 | AB117: 0.26876144 | AC117: 0.73123856 | AD117: 0 | AE117: 0 | AF117: 0 | AG117: 0.85316516 | AH117: 0.14683484 | AI117: 0 | AJ117: 0 | AK117: 0 | AL117: 0.2506866 | AM117: 0.7493134 | AN117: 0 | AO117: 0 | AP117: 0 | AQ117: 1 | AR117: 0 | AS117: 0 | AT117: 0 | AU117: 0 | AV117: 0 | AW117: 0 | AX117: 0 | AY117: 0 | AZ117: 0 | BA117: 0.095466156 | BB117: 0.90453384 | BC117: 0 | BD117: 0 | BE117: 0 | BF117: 0.40261602 | BG117: 0.59738398 | BH117: 0 | BI117: 0 | BJ117: 0 | BK117: 1 | BL117: 0 | BM117: 0 | BN117: 0 | BO117: 0 | BP117: 0 | BQ117: 1 | BR117: 0 | BS117: 0 | BT117: 0 | BU117: 1 | BV117: 0 | BW117: 0 | BX117: 0 | BY117: 0 | BZ117: 0.47042321 | CA117: 0.52957679 | CB117: 0 | CC117: 0 | CD117: 0 | CE117: 1 | CF117: 0 | CG117: 0 | CH117: 0 | CI117: 0 | CJ117: 0.4928708 | CK117: 0.5071292 | CL117: 0 | CM117: 0 | CN117: 0
A118: 12. | B118: PEAC (POLAND) sp. z o. o. | C118: 1 | D118: 0 | E118: 0 | F118: 0 | G118: 0 | H118: 0.98697138 | I118: 0.01302862 | J118: 0 | K118: 0 | L118: 0 | M118: 0 | N118: 0 | O118: 0 | P118: 0 | Q118: 0 | R118: 0.98032258 | S118: 0.019677419 | T118: 0 | U118: 0 | V118: 0 | W118: 0 | X118: 0 | Y118: 0 | Z118: 0 | AA118: 0 | AB118: 0 | AC118: 0 | AD118: 0 | AE118: 0 | AF118: 0 | AG118: 0 | AH118: 0 | AI118: 0 | AJ118: 0 | AK118: 0 | AL118: 0 | AM118: 0 | AN118: 0 | AO118: 0 | AP118: 0 | AQ118: 0 | AR118: 0 | AS118: 0 | AT118: 0 | AU118: 0 | AV118: 0 | AW118: 0 | AX118: 0 | AY118: 0 | AZ118: 0 | BA118: 0 | BB118: 0 | BC118: 0 | BD118: 0 | BE118: 0 | BF118: 1 | BG118: 0 | BH118: 0 | BI118: 0 | BJ118: 0 | BK118: 0 | BL118: 0 | BM118: 0 | BN118: 0 | BO118: 0 | BP118: 0 | BQ118: 0 | BR118: 0 | BS118: 0 | BT118: 0 | BU118: 0 | BV118: 0 | BW118: 0 | BX118: 0 | BY118: 0 | BZ118: 0.98810684 | CA118: 0.011893157 | CB118: 0 | CC118: 0 | CD118: 0 | CE118: 0 | CF118: 0 | CG118: 0 | CH118: 0 | CI118: 0 | CJ118: 0.98810684 | CK118: 0.011893157 | CL118: 0 | CM118: 0 | CN118: 0
... A126: 20. | B126: Siemens Finance Sp. z o. o. | C126: 0 | D126: 0 | E126: 0 | F126: 0 | G126: 0 | H126: 0 | I126: 0 | J126: 0 | K126: 0 | L126: 0 | M126: 0 | N126: 0 | O126: 0 | P126: 0 | Q126: 0 | R126: 0 | S126: 0 | T126: 0 | U126: 0 | V126: 0 | W126: 0 | X126: 0 | Y126: 0 | Z126: 0 | AA126: 0 | AB126: 0 | AC126: 0 | AD126: 0 | AE126: 0 | AF126: 0 | AG126: 0 | AH126: 0 | AI126: 0 | AJ126: 0 | AK126: 0 | AL126: 0 | AM126: 0 | AN126: 0 | AO126: 0 | AP126: 0 | AQ126: 0 | AR126: 0 | AS126: 0 | AT126: 0 | AU126: 0 | AV126: 0 | AW126: 0 | AX126: 0 | AY126: 0 | AZ126: 0 | BA126: 0 | BB126: 0 | BC126: 0 | BD126: 0 | BE126: 0 | BF126: 0 | BG126: 0 | BH126: 0 | BI126: 0 | BJ126: 0 | BK126: 0 | BL126: 0 | BM126: 0 | BN126: 0 | BO126: 0 | BP126: 0 | BQ126: 0 | BR126: 0 | BS126: 0 | BT126: 0 | BU126: 0 | BV126: 0 | BW126: 0 | BX126: 0 | BY126: 0 | BZ126: 0 | CA126: 0 | CB126: 0 | CC126: 0 | CD126: 0 | CE126: 0 | CF126: 0 | CG126: 0 | CH126: 0 | CI126: 0 | CJ126: 0 | CK126: 0 | CL126: 0 | CM126: 0 | CN126: 0
A128: Śred. Wkład własny [%]
A130: Lp. | B130: Spółka | C130: ŚRODKI TRANSPORTU DROGOWEGO | D130: Osobowe | E130: Cięzarowe: | F130: o masie do 3,5t | G130: o masie powyżej 3,5t | H130: Ciągniki siodłowe | I130: Naczepy / przyczepy | J130: Autobusy | K130: inne pojazdy | L130: MiU | M130: Sprzęt Budowlany | N130: Maszyny Rolnicze | O130: Maszyny Poligraf. | P130: maszyny do produkcji tworzyw sztucznych | Q130: maszyny i urządzenia do obróbki metali | R130: maszyny dla przemysłu spożywczego | S130: Sprzęt Medyczny | T130: Sprzęt Gastronom. | U130: Wózki Widłowe | V130: inne MiU | W130: IT | X130: Sprzęt | Y130: Oprogram. | Z130: inne IT | AA130: POZOSTAŁE ŚRODKI TRANSPORTU | AB130: Powietrzne | AC130: Wodne | AD130: Kolejowe | AE130: Inne ruchomości | AF130: RUCHOMOŚCI | AG130: NIERUCHOMOŚCI | AH130: budynki przemysłowe | AI130: obiekty handlowe i usługowe | AJ130: obiekty biurowe | AK130: hotele i obiekty rekreacyjne | AL130: inne | AM130: OGÓŁEM RUCHOMOŚCI I NIERUCHOMOŚCI
A131: 1. | B131: BOS EKO Leasing | C131: 0 | D131: 0 | E131: 0 | F131: 0 | G131: 0 | H131: 0 | I131: 0 | J131: 0 | K131: 0 | L131: 0 | M131: 0 | N131: 0 | O131: 0 | P131: 0 | Q131: 0 | R131: 0 | S131: 0 | T131: 0 | U131: 0 | V131: 0 | W131: 0 | X131: 0 | Y131: 0 | Z131: 0 | AA131: 0 | AB131: 0 | AC131: 0 | AD131: 0 | AE131: 0 | AF131: =IFERROR(C131+L131+W131+AA131+AE131,0) -> 0 | AG131: 0 | AM131: =IFERROR(+AF131+AG131,0) -> 0
A132: 2. | B132: BPS Leasing S.A | C132: 0 | D132: 0 | E132: 0 | F132: 0 | G132: 0 | H132: 0 | I132: 0 | J132: 0 | K132: 0 | L132: 0 | M132: 0 | N132: 0 | O132: 0 | P132: 0 | Q132: 0 | R132: 0 | S132: 0 | T132: 0 | U132: 0 | V132: 0 | W132: 0 | X132: 0 | Y132: 0 | Z132: 0 | AA132: 0 | AB132: 0 | AC132: 0 | AD132: 0 | AE132: 0 | AF132: =IFERROR(C132+L132+W132+AA132+AE132,0) -> 0 | AG132: 0 | AM132: =IFERROR(+AF132+AG132,0) -> 0
A133: 3. | B133: Caterpillar Financial Services Poland Sp. z o. o. | C133: 0 | D133: 0 | E133: 0 | F133: 0 | G133: 0 | H133: 0 | I133: 0 | J133: 0 | K133: 0 | L133: 0 | M133: 0.168 | N133: 0 | O133: 0 | P133: 0 | Q133: 0 | R133: 0 | S133: 0 | T133: 0 | U133: 0 | V133: 0 | W133: 0 | X133: 0 | Y133: 0 | Z133: 0 | AA133: 0 | AB133: 0 | AC133: 0 | AD133: 0 | AE133: 0 | AF133: =IFERROR(C133+L133+W133+AA133+AE133,0) -> 0 | AG133: 0 | AM133: =IFERROR(+AF133+AG133,0) -> 0
A134: 4. | B134: De Lage Landen Leasing Polska S.A. | C134: 0 | D134: 0.2 | E134: 0 | F134: 0.22 | G134: 0 | H134: 0.1 | I134: 0.23 | J134: 0 | K134: 0 | L134: 0 | M134: 0 | N134: 0.24 | O134: 0 | P134: 0 | Q134: 0 | R134: 0 | S134: 0.21 | T134: 0 | U134: 0 | V134: 0.09 | W134: 0 | X134: 0.1 | Y134: 0 | Z134: 0 | AA134: 0 | AB134: 0 | AC134: 0 | AD134: 0 | AE134: 0 | AF134: =IFERROR(C134+L134+W134+AA134+AE134,0) -> 0 | AG134: 0 | AM134: =IFERROR(+AF134+AG134,0) -> 0
A135: 5. | B135: Europejski Fundusz Leasingowy S.A. | C135: 0 | D135: 0.28 | E135: 0 | F135: 0.21 | G135: 0.25 | H135: 0.15 | I135: 0.1 | J135: 0 | K135: 0 | L135: 0 | M135: 0.21 | N135: 0.24 | O135: 0 | P135: 0 | Q135: 0.13 | R135: 0.12 | S135: 0.11 | T135: 0.13 | U135: 0.3 | V135: 0.21 | W135: 0 | X135: 0.15 | Y135: 0.14 | Z135: 0.17 | AA135: 0 | AB135: 0 | AC135: 0.22 | AD135: 0 | AE135: 0 | AF135: =IFERROR(C135+L135+W135+AA135+AE135,0) -> 0 | AG135: 0 | AM135: =IFERROR(+AF135+AG135,0) -> 0
A136: 6. | B136: FCA Leasing Sp. z o.o. | C136: 0 | D136: 0 | E136: 0 | F136: 0 | G136: 0 | H136: 0 | I136: 0 | J136: 0 | K136: 0 | L136: 0 | M136: 0 | N136: 0 | O136: 0 | P136: 0 | Q136: 0 | R136: 0 | S136: 0 | T136: 0 | U136: 0 | V136: 0 | W136: 0 | X136: 0 | Y136: 0 | Z136: 0 | AA136: 0 | AB136: 0 | AC136: 0 | AD136: 0 | AE136: 0 | AF136: =IFERROR(C136+L136+W136+AA136+AE136,0) -> 0 | AG136: 0 | AM136: =IFERROR(+AF136+AG136,0) -> 0
A137: 7. | B137: Idea Leasing S.A. | C137: 0 | D137: 0 | E137: 0 | F137: 0 | G137: 0 | H137: 0 | I137: 0 | J137: 0 | K137: 0 | L137: 0 | M137: 0 | N137: 0 | O137: 0 | P137: 0 | Q137: 0 | R137: 0 | S137: 0 | T137: 0 | U137: 0 | V137: 0 | W137: 0 | X137: 0 | Y137: 0 | Z137: 0 | AA137: 0 | AB137: 0 | AC137: 0 | AD137: 0 | AE137: 0 | AF137: =IFERROR(C137+L137+W137+AA137+AE137,0) -> 0 | AG137: 0 | AM137: =IFERROR(+AF137+AG137,0) -> 0
A138: 8. | B138: Impuls-Leasing Polska Sp. z o. o. | C138: 0 | D138: 0 | E138: 0 | F138: 0 | G138: 0 | H138: 0 | I138: 0 | J138: 0 | K138: 0 | L138: 0 | M138: 0 | N138: 0 | O138: 0 | P138: 0 | Q138: 0 | R138: 0 | S138: 0 | T138: 0 | U138: 0 | V138: 0 | W138: 0 | X138: 0 | Y138: 0 | Z138: 0 | AA138: 0 | AB138: 0 | AC138: 0 | AD138: 0 | AE138: 0 | AF138: =IFERROR(C138+L138+W138+AA138+AE138,0) -> 0 | AG138: 0 | AM138: =IFERROR(+AF138+AG138,0) -> 0
A139: 9. | B139: ING Lease (Polska ) Sp. z o. o. | C139: 0 | D139: 0 | E139: 0 | F139: 0 | G139: 0 | H139: 0 | I139: 0 | J139: 0 | K139: 0 | L139: 0 | M139: 0 | N139: 0 | O139: 0 | P139: 0 | Q139: 0 | R139: 0 | S139: 0 | T139: 0 | U139: 0 | V139: 0 | W139: 0 | X139: 0 | Y139: 0 | Z139: 0 | AA139: 0 | AB139: 0 | AC139: 0 | AD139: 0 | AE139: 0 | AF139: =IFERROR(C139+L139+W139+AA139+AE139,0) -> 0 | AG139: 0 | AM139: =IFERROR(+AF139+AG139,0) -> 0
A140: 10. | B140: Millennium Leasing Sp. z o. o. | C140: 0 | D140: 0 | E140: 0 | F140: 0 | G140: 0 | H140: 0 | I140: 0 | J140: 0 | K140: 0 | L140: 0 | M140: 0 | N140: 0 | O140: 0 | P140: 0 | Q140: 0 | R140: 0 | S140: 0 | T140: 0 | U140: 0 | V140: 0 | W140: 0 | X140: 0 | Y140: 0 | Z140: 0 | AA140: 0 | AB140: 0 | AC140: 0 | AD140: 0 | AE140: 0 | AF140: =IFERROR(C140+L140+W140+AA140+AE140,0) -> 0 | AG140: 0 | AM140: =IFERROR(+AF140+AG140,0) -> 0
A141: 11. | B141: mLeasing Sp. z o. o. | C141: 0 | D141: 0.14 | E141: 0.17 | F141: 0.25 | G141: 0 | H141: 0.24 | I141: 0 | J141: 0.17 | K141: 0 | L141: 0 | M141: 0.22 | N141: 0.26 | O141: 0.16 | P141: 0.08 | Q141: 0 | R141: 0.2 | S141: 0.3 | T141: 0 | U141: 0.22 | V141: 0 | W141: 0 | X141: 0 | Y141: 0 | Z141: 0 | AA141: 0 | AB141: 0.18 | AC141: 0 | AD141: 0 | AE141: 0 | AF141: =IFERROR(C141+L141+W141+AA141+AE141,0) -> 0 | AG141: 0 | AM141: =IFERROR(+AF141+AG141,0) -> 0
...

Sheet suma
A1: Związek Polskiego Leasingu
A3: Ilość środków - leasing + pożyczki w I kw 2021 r. ( sztuki )
A6: Lp. | B6: Spółka | C6: ŚRODKI TRANSPORTU DROGOWEGO | D6: Osobowe | E6: Cięzarowe: | F6: o masie do 3,5t | G6: o masie powyżej 3,5t | H6: Ciągniki siodłowe | I6: Naczepy / przyczepy | J6: Autobusy | K6: inne pojazdy | L6: MiU | M6: Sprzęt Budowlany | N6: Maszyny Rolnicze | O6: Maszyny Poligraf. | P6: maszyny do produkcji tworzyw sztucznych | Q6: maszyny i urządzenia do obróbki metali | R6: maszyny dla przemysłu spożywczego | S6: Sprzęt Medyczny | T6: Sprzęt Gastronom. | U6: Wózki Widłowe | V6: inne MiU | W6: IT | X6: Sprzęt | Y6: Oprogram. | Z6: inne IT | AA6: POZOSTAŁE ŚRODKI TRANSPORTU | AB6: Powietrzne | AC6: Wodne | AD6: Kolejowe | AE6: Inne ruchomości | AF6: RUCHOMOŚCI | AG6: NIERUCHOMOŚCI | AH6: budynki przemysłowe | AI6: obiekty handlowe i usługowe | AJ6: obiekty biurowe | AK6: hotele i obiekty rekreacyjne | AL6: inne | AM6: OGÓŁEM RUCHOMOŚCI I NIERUCHOMOŚCI
A7: 1. | B7: BOS EKO Leasing | C7: =IFERROR(leasing!C7+pożyczki!C7,"-") -> 34 | D7: =IFERROR(leasing!D7+pożyczki!D7,"-") -> 8 | E7: =IFERROR(leasing!E7+pożyczki!E7,"-") -> 17 | F7: =IFERROR(leasing!F7+pożyczki!F7,"-") -> 16 | G7: =IFERROR(leasing!G7+pożyczki!G7,"-") -> 1 | H7: =IFERROR(leasing!H7+pożyczki!H7,"-") -> 5 | I7: =IFERROR(leasing!I7+pożyczki!I7,"-") -> 3 | J7: =IFERROR(leasing!J7+pożyczki!J7,"-") -> 0 | ... AM7: =IFERROR(leasing!AM7+pożyczki!AM7,"-") -> 277
A8: 2. | B8: BPS Leasing S.A | C8: =IFERROR(leasing!C8+pożyczki!C8,"-") -> 242 | D8: =IFERROR(leasing!D8+pożyczki!D8,"-") -> 147 | E8: =IFERROR(leasing!E8+pożyczki!E8,"-") -> 52 | F8: =IFERROR(leasing!F8+pożyczki!F8,"-") -> 44 | G8: =IFERROR(leasing!G8+pożyczki!G8,"-") -> 8 | H8: =IFERROR(leasing!H8+pożyczki!H8,"-") -> 17 | I8: =IFERROR(leasing!I8+pożyczki!I8,"-") -> 20 | J8: =IFERROR(leasing!J8+pożyczki!J8,"-") -> 0 | ... AM8: =IFERROR(leasing!AM8+pożyczki!AM8,"-") -> 274
A9: 3. | B9: Caterpillar Financial Services Poland Sp. z o. o. | C9: =IFERROR(leasing!C9+pożyczki!C9,"-") -> 0 | D9: =IFERROR(leasing!D9+pożyczki!D9,"-") -> 0 | E9: =IFERROR(leasing!E9+pożyczki!E9,"-") -> 0 | F9: =IFERROR(leasing!F9+pożyczki!F9,"-") -> 0 | G9: =IFERROR(leasing!G9+pożyczki!G9,"-") -> 0 | H9: =IFERROR(leasing!H9+pożyczki!H9,"-") -> 0 | I9: =IFERROR(leasing!I9+pożyczki!I9,"-") -> 0 | J9: =IFERROR(leasing!J9+pożyczki!J9,"-") -> 0 | ... AM9: =IFERROR(leasing!AM9+pożyczki!AM9,"-") -> 232
A10: 4. | B10: De Lage Landen Leasing Polska S.A. | C10: =IFERROR(leasing!C10+pożyczki!C10,"-") -> 58 | D10: =IFERROR(leasing!D10+pożyczki!D10,"-") -> 6 | E10: =IFERROR(leasing!E10+pożyczki!E10,"-") -> 5 | F10: =IFERROR(leasing!F10+pożyczki!F10,"-") -> 5 | G10: =IFERROR(leasing!G10+pożyczki!G10,"-") -> 0 | H10: =IFERROR(leasing!H10+pożyczki!H10,"-") -> 23 | I10: =IFERROR(leasing!I10+pożyczki!I10,"-") -> 24 | J10: =IFERROR(leasing!J10+pożyczki!J10,"-") -> 0 | ... AM10: =IFERROR(leasing!AM10+pożyczki!AM10,"-") -> 1107
A11: 5. | B11: Europejski Fundusz Leasingowy S.A. | C11: =IFERROR(leasing!C11+pożyczki!C11,"-") -> 9411 | D11: =IFERROR(leasing!D11+pożyczki!D11,"-") -> 4706 | E11: =IFERROR(leasing!E11+pożyczki!E11,"-") -> 2312 | F11: =IFERROR(leasing!F11+pożyczki!F11,"-") -> 1814 | G11: =IFERROR(leasing!G11+pożyczki!G11,"-") -> 498 | H11: =IFERROR(leasing!H11+pożyczki!H11,"-") -> 1119 | I11: =IFERROR(leasing!I11+pożyczki!I11,"-") -> 1092 | J11: =IFERROR(leasing!J11+pożyczki!J11,"-") -> 29 | ... AM11: =IFERROR(leasing!AM11+pożyczki!AM11,"-") -> 14057
A12: 6. | B12: FCA Leasing Sp. z o.o. | C12: =IFERROR(leasing!C12+pożyczki!C12,"-") -> 621 | D12: =IFERROR(leasing!D12+pożyczki!D12,"-") -> 218 | E12: =IFERROR(leasing!E12+pożyczki!E12,"-") -> 398 | F12: =IFERROR(leasing!F12+pożyczki!F12,"-") -> 398 | G12: =IFERROR(leasing!G12+pożyczki!G12,"-") -> 0 | H12: =IFERROR(leasing!H12+pożyczki!H12,"-") -> 0 | I12: =IFERROR(leasing!I12+pożyczki!I12,"-") -> 0 | J12: =IFERROR(leasing!J12+pożyczki!J12,"-") -> 0 | ... AM12: =IFERROR(leasing!AM12+pożyczki!AM12,"-") -> 621
A13: 7. | B13: Idea Leasing S.A. | C13: =IFERROR(leasing!C13+pożyczki!C13,"-") -> 5431 | D13: =IFERROR(leasing!D13+pożyczki!D13,"-") -> 2379 | E13: =IFERROR(leasing!E13+pożyczki!E13,"-") -> 1240 | F13: =IFERROR(leasing!F13+pożyczki!F13,"-") -> 955 | G13: =IFERROR(leasing!G13+pożyczki!G13,"-") -> 285 | H13: =IFERROR(leasing!H13+pożyczki!H13,"-") -> 931 | I13: =IFERROR(leasing!I13+pożyczki!I13,"-") -> 762 | J13: =IFERROR(leasing!J13+pożyczki!J13,"-") -> 22 | ... AM13: =IFERROR(leasing!AM13+pożyczki!AM13,"-") -> 7844
A14: 8. | B14: Impuls-Leasing Polska Sp. z o. o. | C14: =IFERROR(leasing!C14+pożyczki!C14,"-") -> 1922 | D14: =IFERROR(leasing!D14+pożyczki!D14,"-") -> 1117 | E14: =IFERROR(leasing!E14+pożyczki!E14,"-") -> 367 | F14: =IFERROR(leasing!F14+pożyczki!F14,"-") -> 311 | G14: =IFERROR(leasing!G14+pożyczki!G14,"-") -> 56 | H14: =IFERROR(leasing!H14+pożyczki!H14,"-") -> 182 | I14: =IFERROR(leasing!I14+pożyczki!I14,"-") -> 227 | J14: =IFERROR(leasing!J14+pożyczki!J14,"-") -> 5 | ... AM14: =IFERROR(leasing!AM14+pożyczki!AM14,"-") -> 2272
A15: 9. | B15: ING Lease (Polska ) Sp. z o. o. | C15: =IFERROR(leasing!C15+pożyczki!C15,"-") -> 6056 | D15: =IFERROR(leasing!D15+pożyczki!D15,"-") -> 3054 | E15: =IFERROR(leasing!E15+pożyczki!E15,"-") -> 1703 | F15: =IFERROR(leasing!F15+pożyczki!F15,"-") -> 1540 | G15: =IFERROR(leasing!G15+pożyczki!G15,"-") -> 163 | H15: =IFERROR(leasing!H15+pożyczki!H15,"-") -> 634 | I15: =IFERROR(leasing!I15+pożyczki!I15,"-") -> 601 | J15: =IFERROR(leasing!J15+pożyczki!J15,"-") -> 4 | ... AM15: =IFERROR(leasing!AM15+pożyczki!AM15,"-") -> 7510
A16: 10. | B16: Millennium Leasing Sp. z o. o. | C16: =IFERROR(leasing!C16+pożyczki!C16,"-") -> 3256 | D16: =IFERROR(leasing!D16+pożyczki!D16,"-") -> 1359 | E16: =IFERROR(leasing!E16+pożyczki!E16,"-") -> 645 | F16: =IFERROR(leasing!F16+pożyczki!F16,"-") -> 518 | G16: =IFERROR(leasing!G16+pożyczki!G16,"-") -> 127 | H16: =IFERROR(leasing!H16+pożyczki!H16,"-") -> 461 | I16: =IFERROR(leasing!I16+pożyczki!I16,"-") -> 706 | J16: =IFERROR(leasing!J16+pożyczki!J16,"-") -> 27 | ... AM16: =IFERROR(leasing!AM16+pożyczki!AM16,"-") -> 4476
A17: 11. | B17: mLeasing Sp. z o. o. | C17: =IFERROR(leasing!C17+pożyczki!C17,"-") -> 7234 | D17: =IFERROR(leasing!D17+pożyczki!D17,"-") -> 5438 | E17: =IFERROR(leasing!E17+pożyczki!E17,"-") -> 893 | F17: =IFERROR(leasing!F17+pożyczki!F17,"-") -> 785 | G17: =IFERROR(leasing!G17+pożyczki!G17,"-") -> 108 | H17: =IFERROR(leasing!H17+pożyczki!H17,"-") -> 305 | I17: =IFERROR(leasing!I17+pożyczki!I17,"-") -> 550 | J17: =IFERROR(leasing!J17+pożyczki!J17,"-") -> 14 | ... AM17: =IFERROR(leasing!AM17+pożyczki!AM17,"-") -> 10008
A18: 12. | B18: PEAC (POLAND) sp. z o. o. | C18: =IFERROR(leasing!C18+pożyczki!C18,"-") -> 166 | D18: =IFERROR(leasing!D18+pożyczki!D18,"-") -> 132 | E18: =IFERROR(leasing!E18+pożyczki!E18,"-") -> 1 | F18: =IFERROR(leasing!F18+pożyczki!F18,"-") -> 0 | G18: =IFERROR(leasing!G18+pożyczki!G18,"-") -> 1 | H18: =IFERROR(leasing!H18+pożyczki!H18,"-") -> 0 | I18: =IFERROR(leasing!I18+pożyczki!I18,"-") -> 33 | J18: =IFERROR(leasing!J18+pożyczki!J18,"-") -> 0 | ... AM18: =IFERROR(leasing!AM18+pożyczki!AM18,"-") -> 696
... A26: 20. | B26: Siemens Finance Sp. z o. o. | C26: =IFERROR(leasing!C26+pożyczki!C26,"-") -> 7 | D26: =IFERROR(leasing!D26+pożyczki!D26,"-") -> 1 | E26: =IFERROR(leasing!E26+pożyczki!E26,"-") -> 0 | F26: =IFERROR(leasing!F26+pożyczki!F26,"-") -> 0 | G26: =IFERROR(leasing!G26+pożyczki!G26,"-") -> 0 | H26: =IFERROR(leasing!H26+pożyczki!H26,"-") -> 5 | I26: =IFERROR(leasing!I26+pożyczki!I26,"-") -> 1 | J26: =IFERROR(leasing!J26+pożyczki!J26,"-") -> 0 | ... AM26: =IFERROR(leasing!AM26+pożyczki!AM26,"-") -> 1646
B27: RAZEM | C27: =IFERROR(leasing!C27+pożyczki!C27,"-") -> 63953 | D27: =IFERROR(leasing!D27+pożyczki!D27,"-") -> 36310 | E27: =IFERROR(leasing!E27+pożyczki!E27,"-") -> 12440 | F27: =IFERROR(leasing!F27+pożyczki!F27,"-") -> 10356 | G27: =IFERROR(leasing!G27+pożyczki!G27,"-") -> 2084 | H27: =IFERROR(leasing!H27+pożyczki!H27,"-") -> 6695 | I27: =IFERROR(leasing!I27+pożyczki!I27,"-") -> 7417 | J27: =IFERROR(leasing!J27+pożyczki!J27,"-") -> 180 | ... AM27: =IFERROR(leasing!AM27+pożyczki!AM27,"-") -> 95167
A29: Wartość środków - leasing + pożyczki w I kw 2021 r. (netto w tys. PLN)
A31: Lp. | B31: Spółka | C31: ŚRODKI TRANSPORTU DROGOWEGO | D31: Osobowe | E31: Cięzarowe: | F31: o masie do 3,5t | G31: o masie powyżej 3,5t | H31: Ciągniki siodłowe | I31: Naczepy / przyczepy | J31: Autobusy | K31: inne pojazdy | L31: MiU | M31: Sprzęt Budowlany | N31: Maszyny Rolnicze | O31: Maszyny Poligraf. | P31: maszyny do produkcji tworzyw sztucznych | Q31: maszyny i urządzenia do obróbki metali | R31: maszyny dla przemysłu spożywczego | S31: Sprzęt Medyczny | T31: Sprzęt Gastronom. | U31: Wózki Widłowe | V31: inne MiU | W31: IT | X31: Sprzęt | Y31: Oprogram. | Z31: inne IT | AA31: POZOSTAŁE ŚRODKI TRANSPORTU | AB31: Powietrzne | AC31: Wodne | AD31: Kolejowe | AE31: Inne ruchomości | AF31: RUCHOMOŚCI | AG31: NIERUCHOMOŚCI | AH31: budynki przemysłowe | AI31: obiekty handlowe i usługowe | AJ31: obiekty biurowe | AK31: hotele i obiekty rekreacyjne | AL31: inne | AM31: OGÓŁEM
A32: 1. | B32: BOS EKO Leasing | C32: =IFERROR(leasing!C32+pożyczki!C32,"-") -> 4823 | D32: =IFERROR(leasing!D32+pożyczki!D32,"-") -> 1670 | E32: =IFERROR(leasing!E32+pożyczki!E32,"-") -> 1190 | F32: =IFERROR(leasing!F32+pożyczki!F32,"-") -> 1070 | G32: =IFERROR(leasing!G32+pożyczki!G32,"-") -> 120 | H32: =IFERROR(leasing!H32+pożyczki!H32,"-") -> 1413 | I32: =IFERROR(leasing!I32+pożyczki!I32,"-") -> 150 | J32: =IFERROR(leasing!J32+pożyczki!J32,"-") -> 0 | ... AL32: =IFERROR(leasing!AL32+pożyczki!AL32,"-") -> 0 | AM32: =leasing!AM32+pożyczki!AM32 -> 56707
A33: 2. | B33: BPS Leasing S.A | C33: =IFERROR(leasing!C33+pożyczki!C33,"-") -> 30608 | D33: =IFERROR(leasing!D33+pożyczki!D33,"-") -> 13564 | E33: =IFERROR(leasing!E33+pożyczki!E33,"-") -> 7152 | F33: =IFERROR(leasing!F33+pożyczki!F33,"-") -> 4184 | G33: =IFERROR(leasing!G33+pożyczki!G33,"-") -> 2968 | H33: =IFERROR(leasing!H33+pożyczki!H33,"-") -> 4807 | I33: =IFERROR(leasing!I33+pożyczki!I33,"-") -> 4099 | J33: =IFERROR(leasing!J33+pożyczki!J33,"-") -> 0 | ... AL33: =IFERROR(leasing!AL33+pożyczki!AL33,"-") -> 0 | AM33: =leasing!AM33+pożyczki!AM33 -> 38535
A34: 3. | B34: Caterpillar Financial Services Poland Sp. z o. o. | C34: =IFERROR(leasing!C34+pożyczki!C34,"-") -> 0 | D34: =IFERROR(leasing!D34+pożyczki!D34,"-") -> 0 | E34: =IFERROR(leasing!E34+pożyczki!E34,"-") -> 0 | F34: =IFERROR(leasing!F34+pożyczki!F34,"-") -> 0 | G34: =IFERROR(leasing!G34+pożyczki!G34,"-") -> 0 | H34: =IFERROR(leasing!H34+pożyczki!H34,"-") -> 0 | I34: =IFERROR(leasing!I34+pożyczki!I34,"-") -> 0 | J34: =IFERROR(leasing!J34+pożyczki!J34,"-") -> 0 | ... AL34: =IFERROR(leasing!AL34+pożyczki!AL34,"-") -> 0 | AM34: =leasing!AM34+pożyczki!AM34 -> 111065
A35: 4. | B35: De Lage Landen Leasing Polska S.A. | C35: =IFERROR(leasing!C35+pożyczki!C35,"-") -> 13070 | D35: =IFERROR(leasing!D35+pożyczki!D35,"-") -> 592 | E35: =IFERROR(leasing!E35+pożyczki!E35,"-") -> 721 | F35: =IFERROR(leasing!F35+pożyczki!F35,"-") -> 721 | G35: =IFERROR(leasing!G35+pożyczki!G35,"-") -> 0 | H35: =IFERROR(leasing!H35+pożyczki!H35,"-") -> 9168 | I35: =IFERROR(leasing!I35+pożyczki!I35,"-") -> 2589 | J35: =IFERROR(leasing!J35+pożyczki!J35,"-") -> 0 | ... AL35: =IFERROR(leasing!AL35+pożyczki!AL35,"-") -> 0 | AM35: =leasing!AM35+pożyczki!AM35 -> 204260
A36: 5. | B36: Europejski Fundusz Leasingowy S.A. | C36: =IFERROR(leasing!C36+pożyczki!C36,"-") -> 1242983 | D36: =IFERROR(leasing!D36+pożyczki!D36,"-") -> 554903 | E36: =IFERROR(leasing!E36+pożyczki!E36,"-") -> 306849 | F36: =IFERROR(leasing!F36+pożyczki!F36,"-") -> 202551 | G36: =IFERROR(leasing!G36+pożyczki!G36,"-") -> 104298 | H36: =IFERROR(leasing!H36+pożyczki!H36,"-") -> 245606 | I36: =IFERROR(leasing!I36+pożyczki!I36,"-") -> 121487 | J36: =IFERROR(leasing!J36+pożyczki!J36,"-") -> 7346 | ... AL36: =IFERROR(leasing!AL36+pożyczki!AL36,"-") -> 0 | AM36: =leasing!AM36+pożyczki!AM36 -> 1818202
A37: 6. | B37: FCA Leasing Sp. z o.o. | C37: =IFERROR(leasing!C37+pożyczki!C37,"-") -> 54994 | D37: =IFERROR(leasing!D37+pożyczki!D37,"-") -> 22742 | E37: =IFERROR(leasing!E37+pożyczki!E37,"-") -> 31949 | F37: =IFERROR(leasing!F37+pożyczki!F37,"-") -> 31949 | G37: =IFERROR(leasing!G37+pożyczki!G37,"-") -> 0 | H37: =IFERROR(leasing!H37+pożyczki!H37,"-") -> 0 | I37: =IFERROR(leasing!I37+pożyczki!I37,"-") -> 0 | J37: =IFERROR(leasing!J37+pożyczki!J37,"-") -> 0 | ... AL37: =IFERROR(leasing!AL37+pożyczki!AL37,"-") -> 0 | AM37: =leasing!AM37+pożyczki!AM37 -> 54994
A38: 7. | B38: Idea Leasing S.A. | C38: =IFERROR(leasing!C38+pożyczki!C38,"-") -> 629358 | D38: =IFERROR(leasing!D38+pożyczki!D38,"-") -> 235943 | E38: =IFERROR(leasing!E38+pożyczki!E38,"-") -> 133481 | F38: =IFERROR(leasing!F38+pożyczki!F38,"-") -> 76475 | G38: =IFERROR(leasing!G38+pożyczki!G38,"-") -> 57006 | H38: =IFERROR(leasing!H38+pożyczki!H38,"-") -> 171892 | I38: =IFERROR(leasing!I38+pożyczki!I38,"-") -> 80173 | J38: =IFERROR(leasing!J38+pożyczki!J38,"-") -> 3351 | ... AL38: =IFERROR(leasing!AL38+pożyczki!AL38,"-") -> 0 | AM38: =leasing!AM38+pożyczki!AM38 -> 945528
A39: 8. | B39: Impuls-Leasing Polska Sp. z o. o. | C39: =IFERROR(leasing!C39+pożyczki!C39,"-") -> 251176 | D39: =IFERROR(leasing!D39+pożyczki!D39,"-") -> 129416 | E39: =IFERROR(leasing!E39+pożyczki!E39,"-") -> 42012 | F39: =IFERROR(leasing!F39+pożyczki!F39,"-") -> 26572 | G39: =IFERROR(leasing!G39+pożyczki!G39,"-") -> 15440 | H39: =IFERROR(leasing!H39+pożyczki!H39,"-") -> 47340 | I39: =IFERROR(leasing!I39+pożyczki!I39,"-") -> 28557 | J39: =IFERROR(leasing!J39+pożyczki!J39,"-") -> 2801 | ... AL39: =IFERROR(leasing!AL39+pożyczki!AL39,"-") -> 0 | AM39: =leasing!AM39+pożyczki!AM39 -> 287419
A40: 9. | B40: ING Lease (Polska ) Sp. z o. o. | C40: =IFERROR(leasing!C40+pożyczki!C40,"-") -> 847044 | D40: =IFERROR(leasing!D40+pożyczki!D40,"-") -> 323843 | E40: =IFERROR(leasing!E40+pożyczki!E40,"-") -> 186769 | F40: =IFERROR(leasing!F40+pożyczki!F40,"-") -> 121783 | G40: =IFERROR(leasing!G40+pożyczki!G40,"-") -> 64986 | H40: =IFERROR(leasing!H40+pożyczki!H40,"-") -> 195264 | I40: =IFERROR(leasing!I40+pożyczki!I40,"-") -> 122000 | J40: =IFERROR(leasing!J40+pożyczki!J40,"-") -> 612 | ... AL40: =IFERROR(leasing!AL40+pożyczki!AL40,"-") -> 46185 | AM40: =leasing!AM40+pożyczki!AM40 -> 1434870
A41: 10. | B41: Millennium Leasing Sp. z o. o. | C41: =IFERROR(leasing!C41+pożyczki!C41,"-") -> 475882 | D41: =IFERROR(leasing!D41+pożyczki!D41,"-") -> 175513 | E41: =IFERROR(leasing!E41+pożyczki!E41,"-") -> 93731 | F41: =IFERROR(leasing!F41+pożyczki!F41,"-") -> 47710 | G41: =IFERROR(leasing!G41+pożyczki!G41,"-") -> 46021 | H41: =IFERROR(leasing!H41+pożyczki!H41,"-") -> 110210 | I41: =IFERROR(leasing!I41+pożyczki!I41,"-") -> 76782 | J41: =IFERROR(leasing!J41+pożyczki!J41,"-") -> 7946 | ... AL41: =IFERROR(leasing!AL41+pożyczki!AL41,"-") -> 0 | AM41: =leasing!AM41+pożyczki!AM41 -> 761597
A42: 11. | B42: mLeasing Sp. z o. o. | C42: =IFERROR(leasing!C42+pożyczki!C42,"-") -> 1060216 | D42: =IFERROR(leasing!D42+pożyczki!D42,"-") -> 739432 | E42: =IFERROR(leasing!E42+pożyczki!E42,"-") -> 113470 | F42: =IFERROR(leasing!F42+pożyczki!F42,"-") -> 70597 | G42: =IFERROR(leasing!G42+pożyczki!G42,"-") -> 42873 | H42: =IFERROR(leasing!H42+pożyczki!H42,"-") -> 96871 | I42: =IFERROR(leasing!I42+pożyczki!I42,"-") -> 73499 | J42: =IFERROR(leasing!J42+pożyczki!J42,"-") -> 9103 | ... AL42: =IFERROR(leasing!AL42+pożyczki!AL42,"-") -> 0 | AM42: =leasing!AM42+pożyczki!AM42 -> 1555918
A43: 12. | B43: PEAC (POLAND) sp. z o. o. | C43: =IFERROR(leasing!C43+pożyczki!C43,"-") -> 12921 | D43: =IFERROR(leasing!D43+pożyczki!D43,"-") -> 8590 | E43: =IFERROR(leasing!E43+pożyczki!E43,"-") -> 290 | F43: =IFERROR(leasing!F43+pożyczki!F43,"-") -> 0 | G43: =IFERROR(leasing!G43+pożyczki!G43,"-") -> 290 | H43: =IFERROR(leasing!H43+pożyczki!H43,"-") -> 0 | I43: =IFERROR(leasing!I43+pożyczki!I43,"-") -> 4041 | J43: =IFERROR(leasing!J43+pożyczki!J43,"-") -> 0 | ... AL43: =IFERROR(leasing!AL43+pożyczki!AL43,"-") -> 0 | AM43: =leasing!AM43+pożyczki!AM43 -> 33032
... A51: 20. | B51: Siemens Finance Sp. z o. o. | C51: =IFERROR(leasing!C51+pożyczki!C51,"-") -> 1836 | D51: =IFERROR(leasing!D51+pożyczki!D51,"-") -> 315 | E51: =IFERROR(leasing!E51+pożyczki!E51,"-") -> 0 | F51: =IFERROR(leasing!F51+pożyczki!F51,"-") -> 0 | G51: =IFERROR(leasing!G51+pożyczki!G51,"-") -> 0 | H51: =IFERROR(leasing!H51+pożyczki!H51,"-") -> 1442 | I51: =IFERROR(leasing!I51+pożyczki!I51,"-") -> 79 | J51: =IFERROR(leasing!J51+pożyczki!J51,"-") -> 0 | ... AL51: =IFERROR(leasing!AL51+pożyczki!AL51,"-") -> 0 | AM51: =leasing!AM51+pożyczki!AM51 -> 134414
B52: RAZEM | C52: =IFERROR(leasing!C52+pożyczki!C52,"-") -> 8602748 | D52: =IFERROR(leasing!D52+pożyczki!D52,"-") -> 4154784 | E52: =IFERROR(leasing!E52+pożyczki!E52,"-") -> 1592453 | F52: =IFERROR(leasing!F52+pożyczki!F52,"-") -> 967257 | G52: =IFERROR(leasing!G52+pożyczki!G52,"-") -> 625196 | H52: =IFERROR(leasing!H52+pożyczki!H52,"-") -> 1736915 | I52: =IFERROR(leasing!I52+pożyczki!I52,"-") -> 958892 | J52: =IFERROR(leasing!J52+pożyczki!J52,"-") -> 56903 | ... AL52: =IFERROR(leasing!AL52+pożyczki!AL52,"-") -> 50971 | AM52: =leasing!AM52+pożyczki!AM52 -> 13560717
A54: Wartość środków netto używanych - leasing + pożyczki w I kw 2021 r. (netto w tys. PLN)
A56: Lp. | B56: Spółka | C56: ŚRODKI TRANSPORTU DROGOWEGO | D56: Osobowe | E56: Cięzarowe: | F56: o masie do 3,5t | G56: o masie powyżej 3,5t | H56: Ciągniki siodłowe | I56: Naczepy / przyczepy | J56: Autobusy | K56: inne pojazdy | L56: MiU | M56: Sprzęt Budowlany | N56: Maszyny Rolnicze | O56: Maszyny Poligraf. | P56: maszyny do produkcji tworzyw sztucznych | Q56: maszyny i urządzenia do obróbki metali | R56: maszyny dla przemysłu spożywczego | S56: Sprzęt Medyczny | T56: Sprzęt Gastronom. | U56: Wózki Widłowe | V56: inne MiU | W56: IT | X56: Sprzęt | Y56: Oprogram. | Z56: inne IT | AA56: POZOSTAŁE ŚRODKI TRANSPORTU | AB56: Powietrzne | AC56: Wodne | AD56: Kolejowe | AE56: Inne ruchomości | AF56: RUCHOMOŚCI | AG56: NIERUCHOMOŚCI | AH56: budynki przemysłowe | AI56: obiekty handlowe i usługowe | AJ56: obiekty biurowe | AK56: hotele i obiekty rekreacyjne | AL56: inne | AM56: OGÓŁEM
A57: 1. | B57: BOS EKO Leasing | C57: =IFERROR(leasing!C57+pożyczki!C57,"-") -> 2054 | D57: =IFERROR(leasing!D57+pożyczki!D57,"-") -> 1450 | E57: =IFERROR(leasing!E57+pożyczki!E57,"-") -> 154 | F57: =IFERROR(leasing!F57+pożyczki!F57,"-") -> 34 | G57: =IFERROR(leasing!G57+pożyczki!G57,"-") -> 120 | H57: =IFERROR(leasing!H57+pożyczki!H57,"-") -> 300 | I57: =IFERROR(leasing!I57+pożyczki!I57,"-") -> 150 | J57: =IFERROR(leasing!J57+pożyczki!J57,"-") -> 0 | ... AL57: =IFERROR(leasing!AL57+pożyczki!AL57,"-") -> 0 | AM57: =leasing!AM57+pożyczki!AM57 -> 49509
A58: 2. | B58: BPS Leasing S.A | C58: =IFERROR(leasing!C58+pożyczki!C58,"-") -> 6413 | D58: =IFERROR(leasing!D58+pożyczki!D58,"-") -> 3890 | E58: =IFERROR(leasing!E58+pożyczki!E58,"-") -> 1102 | F58: =IFERROR(leasing!F58+pożyczki!F58,"-") -> 0 | G58: =IFERROR(leasing!G58+pożyczki!G58,"-") -> 1102 | H58: =IFERROR(leasing!H58+pożyczki!H58,"-") -> 1092 | I58: =IFERROR(leasing!I58+pożyczki!I58,"-") -> 267 | J58: =IFERROR(leasing!J58+pożyczki!J58,"-") -> 0 | ... AL58: =IFERROR(leasing!AL58+pożyczki!AL58,"-") -> 0 | AM58: =leasing!AM58+pożyczki!AM58 -> 10838
A59: 3. | B59: Caterpillar Financial Services Poland Sp. z o. o. | C59: =IFERROR(leasing!C59+pożyczki!C59,"-") -> 0 | D59: =IFERROR(leasing!D59+pożyczki!D59,"-") -> 0 | E59: =IFERROR(leasing!E59+pożyczki!E59,"-") -> 0 | F59: =IFERROR(leasing!F59+pożyczki!F59,"-") -> 0 | G59: =IFERROR(leasing!G59+pożyczki!G59,"-") -> 0 | H59: =IFERROR(leasing!H59+pożyczki!H59,"-") -> 0 | I59: =IFERROR(leasing!I59+pożyczki!I59,"-") -> 0 | J59: =IFERROR(leasing!J59+pożyczki!J59,"-") -> 0 | ... AL59: =IFERROR(leasing!AL59+pożyczki!AL59,"-") -> 0 | AM59: =leasing!AM59+pożyczki!AM59 -> 19378
A60: 4. | B60: De Lage Landen Leasing Polska S.A. | C60: =IFERROR(leasing!C60+pożyczki!C60,"-") -> 428 | D60: =IFERROR(leasing!D60+pożyczki!D60,"-") -> 246 | E60: =IFERROR(leasing!E60+pożyczki!E60,"-") -> 182 | F60: =IFERROR(leasing!F60+pożyczki!F60,"-") -> 182 | G60: =IFERROR(leasing!G60+pożyczki!G60,"-") -> 0 | H60: =IFERROR(leasing!H60+pożyczki!H60,"-") -> 0 | I60: =IFERROR(leasing!I60+pożyczki!I60,"-") -> 0 | J60: =IFERROR(leasing!J60+pożyczki!J60,"-") -> 0 | ... AL60: =IFERROR(leasing!AL60+pożyczki!AL60,"-") -> 0 | AM60: =leasing!AM60+pożyczki!AM60 -> 11793
A61: 5. | B61: Europejski Fundusz Leasingowy S.A. | C61: =IFERROR(leasing!C61+pożyczki!C61,"-") -> 469857 | D61: =IFERROR(leasing!D61+pożyczki!D61,"-") -> 190039 | E61: =IFERROR(leasing!E61+pożyczki!E61,"-") -> 122625 | F61: =IFERROR(leasing!F61+pożyczki!F61,"-") -> 48340 | G61: =IFERROR(leasing!G61+pożyczki!G61,"-") -> 74285 | H61: =IFERROR(leasing!H61+pożyczki!H61,"-") -> 112127 | I61: =IFERROR(leasing!I61+pożyczki!I61,"-") -> 42636 | J61: =IFERROR(leasing!J61+pożyczki!J61,"-") -> 2430 | ... AL61: =IFERROR(leasing!AL61+pożyczki!AL61,"-") -> 0 | AM61: =leasing!AM61+pożyczki!AM61 -> 669843
A62: 6. | B62: FCA Leasing Sp. z o.o. | C62: =IFERROR(leasing!C62+pożyczki!C62,"-") -> 3905 | D62: =IFERROR(leasing!D62+pożyczki!D62,"-") -> 3072 | E62: =IFERROR(leasing!E62+pożyczki!E62,"-") -> 756 | F62: =IFERROR(leasing!F62+pożyczki!F62,"-") -> 756 | G62: =IFERROR(leasing!G62+pożyczki!G62,"-") -> 0 | H62: =IFERROR(leasing!H62+pożyczki!H62,"-") -> 0 | I62: =IFERROR(leasing!I62+pożyczki!I62,"-") -> 0 | J62: =IFERROR(leasing!J62+pożyczki!J62,"-") -> 0 | ... AL62: =IFERROR(leasing!AL62+pożyczki!AL62,"-") -> 0 | AM62: =leasing!AM62+pożyczki!AM62 -> 3905
A63: 7. | B63: Idea Leasing S.A. | C63: =IFERROR(leasing!C63+pożyczki!C63,"-") -> 342764 | D63: =IFERROR(leasing!D63+pożyczki!D63,"-") -> 116391 | E63: =IFERROR(leasing!E63+pożyczki!E63,"-") -> 66910 | F63: =IFERROR(leasing!F63+pożyczki!F63,"-") -> 25398 | G63: =IFERROR(leasing!G63+pożyczki!G63,"-") -> 41512 | H63: =IFERROR(leasing!H63+pożyczki!H63,"-") -> 129106 | I63: =IFERROR(leasing!I63+pożyczki!I63,"-") -> 27111 | J63: =IFERROR(leasing!J63+pożyczki!J63,"-") -> 2475 | ... AL63: =IFERROR(leasing!AL63+pożyczki!AL63,"-") -> 0 | AM63: =leasing!AM63+pożyczki!AM63 -> 446246
A64: 8. | B64: Impuls-Leasing Polska Sp. z o. o. | C64: =IFERROR(leasing!C64+pożyczki!C64,"-") -> 67512 | D64: =IFERROR(leasing!D64+pożyczki!D64,"-") -> 39612 | E64: =IFERROR(leasing!E64+pożyczki!E64,"-") -> 7221 | F64: =IFERROR(leasing!F64+pożyczki!F64,"-") -> 4183 | G64: =IFERROR(leasing!G64+pożyczki!G64,"-") -> 3038 | H64: =IFERROR(leasing!H64+pożyczki!H64,"-") -> 17009 | I64: =IFERROR(leasing!I64+pożyczki!I64,"-") -> 3615 | J64: =IFERROR(leasing!J64+pożyczki!J64,"-") -> 0 | ... AL64: =IFERROR(leasing!AL64+pożyczki!AL64,"-") -> 0 | AM64: =leasing!AM64+pożyczki!AM64 -> 72070
A65: 9. | B65: ING Lease (Polska ) Sp. z o. o. | C65: =IFERROR(leasing!C65+pożyczki!C65,"-") -> 214502 | D65: =IFERROR(leasing!D65+pożyczki!D65,"-") -> 124561 | E65: =IFERROR(leasing!E65+pożyczki!E65,"-") -> 36290 | F65: =IFERROR(leasing!F65+pożyczki!F65,"-") -> 21604 | G65: =IFERROR(leasing!G65+pożyczki!G65,"-") -> 14686 | H65: =IFERROR(leasing!H65+pożyczki!H65,"-") -> 33621 | I65: =IFERROR(leasing!I65+pożyczki!I65,"-") -> 9906 | J65: =IFERROR(leasing!J65+pożyczki!J65,"-") -> 362 | ... AL65: =IFERROR(leasing!AL65+pożyczki!AL65,"-") -> 0 | AM65: =leasing!AM65+pożyczki!AM65 -> 317600
A66: 10. | B66: Millennium Leasing Sp. z o. o. | C66: =IFERROR(leasing!C66+pożyczki!C66,"-") -> 179638 | D66: =IFERROR(leasing!D66+pożyczki!D66,"-") -> 66557 | E66: =IFERROR(leasing!E66+pożyczki!E66,"-") -> 23588 | F66: =IFERROR(leasing!F66+pożyczki!F66,"-") -> 10843 | G66: =IFERROR(leasing!G66+pożyczki!G66,"-") -> 12745 | H66: =IFERROR(leasing!H66+pożyczki!H66,"-") -> 50491 | I66: =IFERROR(leasing!I66+pożyczki!I66,"-") -> 28965 | J66: =IFERROR(leasing!J66+pożyczki!J66,"-") -> 4047 | ... AL66: =IFERROR(leasing!AL66+pożyczki!AL66,"-") -> 0 | AM66: =leasing!AM66+pożyczki!AM66 -> 239323
A67: 11. | B67: mLeasing Sp. z o. o. | C67: =IFERROR(leasing!C67+pożyczki!C67,"-") -> 215134 | D67: =IFERROR(leasing!D67+pożyczki!D67,"-") -> 163971 | E67: =IFERROR(leasing!E67+pożyczki!E67,"-") -> 18144 | F67: =IFERROR(leasing!F67+pożyczki!F67,"-") -> 10827 | G67: =IFERROR(leasing!G67+pożyczki!G67,"-") -> 7317 | H67: =IFERROR(leasing!H67+pożyczki!H67,"-") -> 15904 | I67: =IFERROR(leasing!I67+pożyczki!I67,"-") -> 5731 | J67: =IFERROR(leasing!J67+pożyczki!J67,"-") -> 3002 | ... AL67: =IFERROR(leasing!AL67+pożyczki!AL67,"-") -> 0 | AM67: =leasing!AM67+pożyczki!AM67 -> 268588
A68: 12. | B68: PEAC (POLAND) sp. z o. o. | C68: =IFERROR(leasing!C68+pożyczki!C68,"-") -> 290 | D68: =IFERROR(leasing!D68+pożyczki!D68,"-") -> 0 | E68: =IFERROR(leasing!E68+pożyczki!E68,"-") -> 290 | F68: =IFERROR(leasing!F68+pożyczki!F68,"-") -> 0 | G68: =IFERROR(leasing!G68+pożyczki!G68,"-") -> 290 | H68: =IFERROR(leasing!H68+pożyczki!H68,"-") -> 0 | I68: =IFERROR(leasing!I68+pożyczki!I68,"-") -> 0 | J68: =IFERROR(leasing!J68+pożyczki!J68,"-") -> 0 | ... AL68: =IFERROR(leasing!AL68+pożyczki!AL68,"-") -> 0 | AM68: =leasing!AM68+pożyczki!AM68 -> 4337
... A76: 20. | B76: Siemens Finance Sp. z o. o. | C76: =IFERROR(leasing!C76+pożyczki!C76,"-") -> 0 | D76: =IFERROR(leasing!D76+pożyczki!D76,"-") -> 0 | E76: =IFERROR(leasing!E76+pożyczki!E76,"-") -> 0 | F76: =IFERROR(leasing!F76+pożyczki!F76,"-") -> 0 | G76: =IFERROR(leasing!G76+pożyczki!G76,"-") -> 0 | H76: =IFERROR(leasing!H76+pożyczki!H76,"-") -> 0 | I76: =IFERROR(leasing!I76+pożyczki!I76,"-") -> 0 | J76: =IFERROR(leasing!J76+pożyczki!J76,"-") -> 0 | ... AL76: =IFERROR(leasing!AL76+pożyczki!AL76,"-") -> 0 | AM76: =leasing!AM76+pożyczki!AM76 -> 0
B77: RAZEM | C77: =leasing!C77+pożyczki!C77 -> 2598701 | D77: =leasing!D77+pożyczki!D77 -> 1397111 | E77: =leasing!E77+pożyczki!E77 -> 425247 | F77: =leasing!F77+pożyczki!F77 -> 206459 | G77: =leasing!G77+pożyczki!G77 -> 218788 | H77: =leasing!H77+pożyczki!H77 -> 553580 | I77: =leasing!I77+pożyczki!I77 -> 169079 | J77: =leasing!J77+pożyczki!J77 -> 21002 | ... AM77: =leasing!AM77+pożyczki!AM77 -> 3584786
B79: Warszawa, 2021.10.19
