Workbook

Sheet Leasing I - III kw.2023
A1: Związek Polskiego Leasingu
A3: Wartość środków - leasing I - III kwartał 2023r. ( netto w mln PLN) - doszacowanie do 100% rynku.
C4: POJAZDY | D4: Osobowe | E4: Cięzarowe: | F4: o masie do 3,5t | G4: o masie powyżej 3,5t | H4: Ciągniki siodłowe | I4: Naczepy / przyczepy | J4: Autobusy | K4: inne pojazdy | L4: MiU | M4: Sprzęt Budowlany | N4: Maszyny Rolnicze | O4: Maszyny Poligraf. | P4: maszyny do produkcji tworzyw sztucznych | Q4: maszyny i urządzenia do obróbki metali | R4: maszyny dla przemysłu spożywczego | S4: Sprzęt Medyczny | T4: Sprzęt Gastronom. | U4: Wózki Widłowe | V4: inne MiU | W4: IT | X4: Sprzęt | Y4: Oprogram. | Z4: inne IT | AA4: POZOSTAŁE ŚRODKI TRANSPORTU | AB4: Powietrzne | AC4: Wodne | AD4: Kolejowe | AE4: Inne ruchomości | AF4: RUCHOMOŚCI | AG4: NIERUCHOMOŚCI | AH4: budynki przemysłowe | AI4: obiekty handlowe i usługowe | AJ4: obiekty biurowe | AK4: hotele i obiekty rekreacyjne | AL4: inne | AM4: OGÓŁEM RUCHOMOŚCI I NIERUCHOMOŚCI
A5: Doszacowanie do 100% rynku po I - III kwartale 2023 - leasing | C5: 48389.693 | D5: 27600.22 | E5: =SUM(F5:G5) -> 7802.4394 | F5: 4732.6733 | G5: 3069.7661 | H5: 8145.0308 | I5: 3387.9796 | J5: 865.77257 | K5: 588.25076 | L5: 12249.322 | M5: 2756.8165 | N5: 1076.4393 | O5: 364.41626 | P5: 586.75471 | Q5: 1353.8082 | R5: 543.85326 | S5: 295.4947 | T5: 142.41493 | U5: 1005.5156 | V5: 4123.8083 | W5: 553.02123 | X5: 407.35949 | Y5: 34.971897 | Z5: 110.68984 | AA5: 1082.9859 | AB5: 103.66496 | AC5: 241.51041 | AD5: 737.8105 | AE5: 303.00845 | AF5: 62578.031 | AG5: 528.72971 | AH5: b.d. | AI5: b..d | AJ5: b.d. | AK5: b.d. | AL5: b.d. | AM5: 63106.76
A6: Doszacowanie do 100% rynku po Ii III kwartale 2022 - leasing | C6: 40069.423 | D6: 21361.931 | E6: =SUM(F6:G6) -> 7161.1391 | F6: 4079.1218 | G6: 3082.0173 | H6: 6942.7327 | I6: 3359.3225 | J6: 655.76642 | K6: 588.53131 | L6: 12922.229 | M6: 2497.949 | N6: 943.53509 | O6: 373.09043 | P6: 675.1645 | Q6: 1414.2771 | R6: 531.54165 | S6: 348.33523 | T6: 112.13556 | U6: 1057.2245 | V6: 4968.9757 | W6: 624.00983 | X6: 518.92721 | Y6: 50.330257 | Z6: 54.752359 | AA6: 798.92876 | AB6: 342.95979 | AC6: 249.64449 | AD6: 206.32448 | AE6: 433.89147 | AF6: 54848.482 | AG6: 253.32726 | AH6: b.d. | AI6: b..d | AJ6: b.d. | AK6: b.d. | AL6: b.d. | AM6: 55101.809
A7: Zmiana | C7: =(C5-C6)/C6 -> 0.20764637 | D7: =(D5-D6)/D6 -> 0.29202835 | E7: =(E5-E6)/E6 -> 0.089552828 | F7: =(F5-F6)/F6 -> 0.16021868 | G7: =(G5-G6)/G6 -> -0.0039750702 | H7: =(H5-H6)/H6 -> 0.17317361 | I7: =(I5-I6)/I6 -> 0.0085306063 | J7: =(J5-J6)/J6 -> 0.32024535 | ... AG7: =(AG5-AG6)/AG6 -> 1.087141 | AM7: =(AM5-AM6)/AM6 -> 0.14527565
A9: *Zaprezentowany wynik wartości finansowania udzielonego przez firmy leasingowe uwzględnia korekty historycznych wartości dokonane w trakcie okresu objętego badaniem, wynikające z informacji napływających po zakończeniu publikacji poszczególnych danych cząstkowych (miesięcznych/kwartalnych).
A10: Warszawa, 07.11.2023r.

Sheet pożyczki I - III kw.2023
A1: Związek Polskiego Leasingu
A3: Wartość środków - pożyczki I - III kwartał 2023r. ( netto w mln PLN) - doszacowanie do 100% rynku.
C5: POJAZDY | D5: Osobowe | E5: Cięzarowe: | F5: o masie do 3,5t | G5: o masie powyżej 3,5t | H5: Ciągniki siodłowe | I5: Naczepy / przyczepy | J5: Autobusy | K5: inne pojazdy | L5: MiU | M5: Sprzęt Budowlany | N5: Maszyny Rolnicze | O5: Maszyny Poligraf. | P5: maszyny do produkcji tworzyw sztucznych | Q5: maszyny i urządzenia do obróbki metali | R5: maszyny dla przemysłu spożywczego | S5: Sprzęt Medyczny | T5: Sprzęt Gastronom. | U5: Wózki Widłowe | V5: inne MiU | W5: IT | X5: Sprzęt | Y5: Oprogram. | Z5: inne IT | AA5: POZOSTAŁE ŚRODKI TRANSPORTU | AB5: Powietrzne | AC5: Wodne | AD5: Kolejowe | AE5: Inne ruchomości | AF5: RUCHOMOŚCI | AG5: NIERUCHOMOŚCI | AH5: budynki przemysłowe | AI5: obiekty handlowe i usługowe | AJ5: obiekty biurowe | AK5: hotele i obiekty rekreacyjne | AL5: inne | AM5: OGÓŁEM RUCHOMOŚCI I NIERUCHOMOŚCI
A6: Doszacowanie do 100% rynku po I -III kwartale 2023 - pożyczki | C6: 3439.1188 | D6: 1731.3774 | E6: =SUM(F6:G6) -> 399.36623 | F6: 261.55777 | G6: 137.80846 | H6: 876.05947 | I6: 343.02823 | J6: 60.207503 | K6: 29.079928 | L6: 5796.2066 | M6: 272.74928 | N6: 3569.8069 | O6: 108.88184 | P6: 137.23754 | Q6: 240.55165 | R6: 70.525416 | S6: 595.4718 | T6: 2.5976142 | U6: 20.921971 | V6: 777.46251 | W6: 187.56074 | X6: 139.0596 | Y6: 47.630437 | Z6: 0.87070868 | AA6: 183.90828 | AB6: 38.482314 | AC6: 63.318585 | AD6: 82.10738 | AE6: 75.453359 | AF6: 9682.2477 | AG6: 21.165663 | AH6: b.d. | AI6: b.d. | AJ6: b.d. | AK6: b.d. | AL6: b.d. | AM6: 9703.4134
A7: Doszacowanie do 100% rynku po I-III kwartale 2022 - pożyczki | C7: 2311.2969 | D7: 1001.9156 | E7: =SUM(F7:G7) -> 300.27098 | F7: 214.2044 | G7: 86.066578 | H7: 632.30054 | I7: 338.27924 | J7: 10.11409 | K7: 28.4164 | L7: 5702.8232 | M7: 187.91914 | N7: 3665.1313 | O7: 85.372579 | P7: 117.35302 | Q7: 234.3062 | R7: 50.525406 | S7: 635.79314 | T7: 1.288368 | U7: 17.764393 | V7: 524.69587 | W7: 158.36628 | X7: 104.46301 | Y7: 31.854695 | Z7: 22.048579 | AA7: 60.220793 | AB7: 2.3489542 | AC7: 14.120487 | AD7: 43.751352 | AE7: 63.167608 | AF7: 8295.8748 | AG7: 17.425202 | AH7: b.d. | AI7: b.d. | AJ7: b.d. | AK7: b.d. | AL7: b.d. | AM7: 8313.3
A8: Zmiana | C8: =(C6-C7)/C7 -> 0.48796063 | D8: =(D6-D7)/D7 -> 0.72806705 | E8: =(E6-E7)/E7 -> 0.33001942 | F8: =(F6-F7)/F7 -> 0.22106628 | G8: =(G6-G7)/G7 -> 0.60118441 | H8: =(H6-H7)/H7 -> 0.38551118 | I8: =(I6-I7)/I7 -> 0.014038668 | J8: =(J6-J7)/J7 -> 4.9528342 | ... AG8: =(AG6-AG7)/AG7 -> 0.21465816 | AM8: =(AM6-AM7)/AM7 -> 0.16721559
A11: *Zaprezentowany wynik wartości finansowania udzielonego przez firmy leasingowe uwzględnia korekty historycznych wartości dokonane w trakcie okresu objętego badaniem, wynikające z informacji napływających po zakończeniu publikacji poszczególnych danych cząstkowych (miesięcznych/kwartalnych).
A12: Warszawa, 07.11.2023r.

Sheet leasing+pożyczki I-III kw.2023
A1: Związek Polskiego Leasingu
A3: Wartość środków - leasing + pożyczki - I - III kwartał 2023r. ( netto w mln PLN) - doszacowanie do 100% rynku.
C5: POJAZDY | D5: Osobowe | E5: Cięzarowe: | F5: o masie do 3,5t | G5: o masie powyżej 3,5t | H5: Ciągniki siodłowe | I5: Naczepy / przyczepy | J5: Autobusy | K5: inne pojazdy | L5: MiU | M5: Sprzęt Budowlany | N5: Maszyny Rolnicze | O5: Maszyny Poligraf. | P5: maszyny do produkcji tworzyw sztucznych | Q5: maszyny i urządzenia do obróbki metali | R5: maszyny dla przemysłu spożywczego | S5: Sprzęt Medyczny | T5: Sprzęt Gastronom. | U5: Wózki Widłowe | V5: inne MiU | W5: IT | X5: Sprzęt | Y5: Oprogram. | Z5: inne IT | AA5: POZOSTAŁE ŚRODKI TRANSPORTU | AB5: Powietrzne | AC5: Wodne | AD5: Kolejowe | AE5: Inne ruchomości | AF5: RUCHOMOŚCI | AG5: NIERUCHOMOŚCI | AH5: budynki przemysłowe | AI5: obiekty handlowe i usługowe | AJ5: obiekty biurowe | AK5: hotele i obiekty rekreacyjne | AL5: inne | AM5: OGÓŁEM RUCHOMOŚCI I NIERUCHOMOŚCI
A6: Doszacowanie do 100% rynku po I- III kwartale 2023 - leasing + pożyczka | C6: ='Leasing I - III kw.2023'!C5+'pożyczki I - III kw.2023'!C6 -> 51828.812 | D6: ='Leasing I - III kw.2023'!D5+'pożyczki I - III kw.2023'!D6 -> 29331.598 | E6: ='Leasing I - III kw.2023'!E5+'pożyczki I - III kw.2023'!E6 -> 8201.8056 | F6: ='Leasing I - III kw.2023'!F5+'pożyczki I - III kw.2023'!F6 -> 4994.2311 | G6: ='Leasing I - III kw.2023'!G5+'pożyczki I - III kw.2023'!G6 -> 3207.5746 | H6: ='Leasing I - III kw.2023'!H5+'pożyczki I - III kw.2023'!H6 -> 9021.0902 | I6: ='Leasing I - III kw.2023'!I5+'pożyczki I - III kw.2023'!I6 -> 3731.0078 | J6: ='Leasing I - III kw.2023'!J5+'pożyczki I - III kw.2023'!J6 -> 925.98007 | ... AG6: ='Leasing I - III kw.2023'!AG5+'pożyczki I - III kw.2023'!AG6 -> 549.89537 | AH6: 35.874853 | AI6: 392.17809 | AJ6: 34.568618 | AK6: 0.49622795 | AL6: 86.777579 | AM6: ='Leasing I - III kw.2023'!AM5+'pożyczki I - III kw.2023'!AM6 -> 72810.174
A7: Doszacowanie do 100% rynku po I - III kwartale 2022 - leasing + pożyczka | C7: ='Leasing I - III kw.2023'!C6+'pożyczki I - III kw.2023'!C7 -> 42380.72 | D7: ='Leasing I - III kw.2023'!D6+'pożyczki I - III kw.2023'!D7 -> 22363.847 | E7: ='Leasing I - III kw.2023'!E6+'pożyczki I - III kw.2023'!E7 -> 7461.4101 | F7: ='Leasing I - III kw.2023'!F6+'pożyczki I - III kw.2023'!F7 -> 4293.3262 | G7: ='Leasing I - III kw.2023'!G6+'pożyczki I - III kw.2023'!G7 -> 3168.0839 | H7: ='Leasing I - III kw.2023'!H6+'pożyczki I - III kw.2023'!H7 -> 7575.0332 | I7: ='Leasing I - III kw.2023'!I6+'pożyczki I - III kw.2023'!I7 -> 3697.6018 | J7: ='Leasing I - III kw.2023'!J6+'pożyczki I - III kw.2023'!J7 -> 665.88051 | ... U7: ='Leasing I - III kw.2023'!U6+'pożyczki I - III kw.2023'!U7 -> 1074.9889 | V7: =L7-SUM(M7:U7) -> 5676.3454 | W7: ='Leasing I - III kw.2023'!W6+'pożyczki I - III kw.2023'!W7 -> 782.37611 | X7: ='Leasing I - III kw.2023'!X6+'pożyczki I - III kw.2023'!X7 -> 623.39022 | Y7: ='Leasing I - III kw.2023'!Y6+'pożyczki I - III kw.2023'!Y7 -> 82.184953 | Z7: ='Leasing I - III kw.2023'!Z6+'pożyczki I - III kw.2023'!Z7 -> 76.800938 | AA7: ='Leasing I - III kw.2023'!AA6+'pożyczki I - III kw.2023'!AA7 -> 859.14955 | AB7: ='Leasing I - III kw.2023'!AB6+'pożyczki I - III kw.2023'!AB7 -> 345.30874 | AC7: ='Leasing I - III kw.2023'!AC6+'pożyczki I - III kw.2023'!AC7 -> 263.76498 | AD7: ='Leasing I - III kw.2023'!AD6+'pożyczki I - III kw.2023'!AD7 -> 250.07583 | ... AG7: ='Leasing I - III kw.2023'!AG6+'pożyczki I - III kw.2023'!AG7 -> 270.75246 | AH7: 19.831138 | AI7: 216.05115 | AJ7: 0.33134367 | AK7: 1.2002755 | AL7: 33.338555 | AM7: ='Leasing I - III kw.2023'!AM6+'pożyczki I - III kw.2023'!AM7 -> 63415.109
A8: Zmiana | C8: =(C6-C7)/C7 -> 0.22293374 | D8: =(D6-D7)/D7 -> 0.31156318 | E8: =(E6-E7)/E7 -> 0.099229972 | F8: =(F6-F7)/F7 -> 0.16325451 | G8: =(G6-G7)/G7 -> 0.012465153 | H8: =(H6-H7)/H7 -> 0.19089778 | I8: =(I6-I7)/I7 -> 0.0090345175 | J8: =(J6-J7)/J7 -> 0.39060996 | ... AM8: =(AM6-AM7)/AM7 -> 0.14815183
A10: *Zaprezentowany wynik wartości finansowania udzielonego przez firmy leasingowe uwzględnia korekty historycznych wartości dokonane w trakcie okresu objętego badaniem, wynikające z informacji napływających po zakończeniu publikacji poszczególnych danych cząstkowych (miesięcznych/kwartalnych).
A12: Warszawa, 07.11.2023r.
