Workbook

Sheet Leasing_I-II kw.2023  (2)
A1: Związek Polskiego Leasingu
A3: Wartość środków oddanych w leasing- netto w tys. PLN
C4: 01.01.2023-30.06.2023
A6: Lp. | B6: Spółka | C6: POJAZDY | D6: Osobowe | E6: osobowe - zeroemisyjne | F6: osobowe - hybryda plug-in | G6: Cięzarowe: | H6: o masie do 3,5 tony | I6: o masie do 3,5 tony - zeroemisyjne | J6: o masie do 3,5 tony - hybryda plug-in | K6: o masie powyzej 3,5 tony | L6: o masie powyżej 3,5 tony - zeroemisyjne | M6: o masie powyżej 3,5 tony - hybryda plug-in | N6: ciagniki siodlowe | O6: ciągniki siodłowe - zeroemisyjne | P6: ciągniki siodłowe - hybryda plug-in | Q6: naczepy / przyczepy | R6: autobusy | S6: autobusy - zeroemisyjne | T6: autobusy - hybryda plug-in | U6: inne | V6: inne - zeroemisyjne | W6: inne - hybryda plug-in | X6: MiU | Y6: Sprzęt Budowlany | Z6: Maszyny Rolnicze | AA6: Maszyny Poligraf. | AB6: maszyny do produkcji tworzyw sztucznych | AC6: maszyny i urządzenia do obróbki metali | AD6: maszyny dla przemysłu spożywczego | AE6: Sprzęt Medyczny | AF6: Sprzęt Gastronom. | AG6: Wózki Widłowe | AH6: fotowoltaika | AI6: wiatraki i turbiny wiatrowe | AJ6: stacje ładowania pojazdów elektrycznych (na użytek własny i komercyjny) | AK6: inne MiU | AL6: IT | AM6: Sprzęt | AN6: Oprogram. | AO6: inne IT | AP6: POZOSTAŁE ŚRODKI TRANSPORTU | AQ6: Powietrzne | AR6: Wodne | AS6: Kolejowe | AT6: Inne ruchomości | AU6: RUCHOMOŚCI | AV6: Nieruchomości | AW6: budynki przemysłowe | AX6: obiekty handlowe i usługowe | AY6: obiekty biurowe | AZ6: hotele i obiekty rekreacyjne | BA6: inne | BB6: OGÓŁEM
A7: 1 | B7: Alior Leasing Sp. z o. o. | C7: 1058882.8 | D7: 412839.84 | G7: 209577.64 | H7: 120494.8 | K7: 89082.843 | N7: 230531.58 | Q7: 130386.46 | R7: 56650.94 | U7: 18896.338 | X7: 169436.26 | Y7: 66555.957 | Z7: 34235.979 | AA7: 2266.6714 | AB7: 2703.7542 | AC7: 24311.692 | AD7: 3383.0062 | AE7: 3174.5054 | AF7: 13.78 | AG7: 3497.3283 | AH7: 2006.7404 | AK7: 27286.847 | AL7: 4290.7698 | AM7: 4290.7698 | AP7: 26835.697 | AS7: 26835.697 | AU7: 1259445.5 | AV7: 0 | BB7: 1259445.5
A8: 2 | B8: BNP Paribas Lease Group Sp. z o.o. | C8: 1223206.9 | D8: 811292.7 | E8: 31817.326 | F8: 0 | G8: 219629.88 | H8: 157975.25 | I8: 3373.1642 | J8: 0 | K8: 61654.622 | L8: 0 | M8: 0 | N8: 127126.94 | O8: 0 | P8: 0 | Q8: 49759.575 | R8: 3228.7 | S8: 0 | T8: 0 | U8: 12169.095 | V8: 121.82936 | W8: 0 | X8: 621140.35 | Y8: 110786.88 | Z8: 87959.618 | AA8: 3342.089 | AB8: 7603.7688 | AC8: 9165.9081 | AD8: 25733.323 | AE8: 4630.6902 | AF8: 1444.4152 | AG8: 80217.766 | AH8: 12916.225 | AI8: 0 | AJ8: 615.68552 | AK8: 276723.98 | AL8: 39021.059 | AM8: 22359.178 | AN8: 1846.2413 | AO8: 14815.64 | AP8: 40.65041 | AQ8: 0 | AR8: 40.65041 | AS8: 0 | AU8: 1883409 | AV8: 87459.593 | AW8: 716.4019 | AX8: 86743.191 | AY8: 0 | AZ8: 0 | BA8: 0 | BB8: 1970868.5
A9: 3 | B9: BOŚ Leasing - EKO Profit S.A. | C9: 25658.37 | D9: 4445.07 | G9: 2957.9 | H9: 1294.3 | K9: 1663.6 | N9: 3229.52 | Q9: 5807.95 | R9: 1438.16 | U9: 7779.77 | X9: 56825.61 | Y9: 6507.84 | Z9: 4642.94 | AA9: 748.14 | AB9: 5137.46 | AC9: 2191.04 | AD9: 591.94 | AE9: 831.63 | AG9: 1486.31 | AH9: 7950.26 | AK9: 26738.05 | AL9: 203.5 | AM9: 203.5 | AP9: 8624.7 | AQ9: 8041.94 | AR9: 582.76 | AS9: 0 | AU9: 91312.18 | AV9: 0 | BB9: 91312.18
A10: 4 | B10: BPS Leasing Spółka Akcyjna (BPS Leasing S.A.) | C10: 106466.14 | D10: 30044.38 | E10: 734.59 | F10: 11638.79 | G10: 20880.46 | H10: 5041.01 | K10: 15839.45 | N10: 32070 | Q10: 13750.89 | R10: 7906.92 | U10: 1813.49 | X10: 15007.23 | Y10: 5243.48 | Z10: 959.15 | AA10: 753.17 | AB10: 448.16 | AC10: 703.27 | AD10: 2395.76 | AE10: 465.59 | AG10: 209.85 | AH10: 804.81 | AK10: 3023.99 | AL10: 110.39 | AM10: 110.39 | AP10: 598.55 | AR10: 598.55 | AT10: 3644.26 | AU10: 125826.57 | AV10: 0 | BB10: 125826.57
A11: 5 | B11: Caterpillar Financial Services Poland Sp. z o.o. | C11: 0 | G11: 0 | X11: 241225.8 | Y11: 241225.8 | AL11: 0 | AP11: 0 | AU11: 241225.8 | AV11: 0 | BB11: 241225.8
A12: 6 | B12: De Lage Landen Leasing Polska S.A. | C12: 2518 | G12: 0 | N12: 2282 | U12: 236 | X12: 27051 | Y12: 2601 | Z12: 12403 | AE12: 874 | AG12: 6645 | AH12: 680 | AK12: 3848 | AL12: 6288 | AM12: 6288 | AP12: 0 | AU12: 35857 | AV12: 0 | BB12: 35857
A13: 7 | B13: Deutsche Leasing Polska S.A. | C13: 155453 | D13: 1180 | G13: 0 | N13: 27138 | Q13: 127135 | X13: 337090 | Y13: 3132 | Z13: 5474 | AA13: 3053 | AB13: 1739 | AC13: 45866 | AD13: 12836 | AE13: 1582 | AF13: 0 | AG13: 188746 | AK13: 74662 | AL13: 0 | AP13: 0 | AU13: 492543 | AV13: 0 | BB13: 492543
A14: 8 | B14: Europejski Fundusz Leasingowy S.A. | C14: 2690333.5 | D14: 1081223.5 | E14: 44018.193 | F14: 14056.506 | G14: 672956.17 | H14: 341522.99 | I14: 23547.481 | K14: 331433.17 | N14: 551047.35 | Q14: 321859.34 | R14: 43641.618 | U14: 19605.527 | V14: 162.34958 | X14: 1094969.9 | Y14: 397795.94 | Z14: 135717.54 | AA14: 17912.271 | AB14: 27817.568 | AC14: 80199.753 | AD14: 15196.066 | AE14: 9454.0629 | AF14: 40853.04 | AG14: 28814.56 | AH14: 58855.536 | AI14: 0 | AJ14: 152.01997 | AK14: 282201.55 | AL14: 68178.569 | AM14: 30262.942 | AN14: 9082.9571 | AO14: 28832.67 | AP14: 12190.472 | AQ14: 4119.8802 | AR14: 8070.5917 | AU14: 3865672.5 | AV14: 0 | BB14: 3865672.5
A15: 9 | B15: Grupa VB Leasing | C15: 793917.13 | D15: 286581.06 | E15: 10357.403 | F15: 49811.825 | G15: 142537.68 | H15: 84372.409 | I15: 401.93089 | K15: 58165.267 | M15: 4378.9852 | N15: 196828.55 | P15: 17571.656 | Q15: 112968.02 | R15: 23693.591 | T15: 295 | U15: 31308.238 | X15: 201867.89 | Y15: 50395.604 | Z15: 89159.335 | AA15: 3157.2172 | AB15: 3383.994 | AC15: 9261.1997 | AD15: 3612.3635 | AE15: 7623.516 | AF15: 1893.779 | AG15: 4931.3932 | AH15: 8925.8617 | AK15: 19523.622 | AL15: 2307.3335 | AM15: 970.2551 | AO15: 1337.0784 | AP15: 8200.6164 | AR15: 8200.6164 | AT15: 14761.235 | AU15: 1021054.2 | AV15: 0 | BB15: 1021054.2
A16: 10 | B16: Impuls-Leasing Polska Sp. z o. o. | C16: 436933.46 | D16: 216285.23 | E16: 6116.62 | F16: 1860.72 | G16: 63905.28 | H16: 47385.3 | I16: 257 | K16: 16519.98 | N16: 90542.41 | Q16: 58612.46 | R16: 3103.26 | U16: 4484.82 | V16: 43.21 | X16: 102018.83 | Y16: 25296.26 | Z16: 12512.4 | AA16: 2590.84 | AB16: 5501.93 | AC16: 10596.41 | AE16: 1462.87 | AF16: 3014.94 | AG16: 8210.61 | AK16: 32832.57 | AL16: 665.67 | AM16: 665.67 | AP16: 657.04 | AR16: 657.04 | AU16: 540275 | AV16: 0 | BB16: 540275
A17: 11 | B17: ING Lease (Polska) Sp. z o.o. | C17: 1975726 | D17: 788304 | E17: 37601 | F17: 21155 | G17: 384447 | H17: 212116 | I17: 5352 | J17: 0 | K17: 172331 | L17: 0 | M17: 0 | N17: 452985 | O17: 0 | P17: 0 | Q17: 247061 | R17: 41803 | S17: 0 | T17: 0 | U17: 61126 | V17: 1341 | W17: 0 | X17: 1002006 | Y17: 143470 | Z17: 19168 | AA17: 32487 | AB17: 245260 | AC17: 82824 | AD17: 74411 | AE17: 16965 | AF17: 17345 | AG17: 74506 | AH17: 24237 | AI17: 0 | AJ17: 724 | AK17: 270609 | AL17: 33226 | AM17: 33226 | AN17: 0 | AO17: 0 | AP17: 86039 | AQ17: 0 | AR17: 872 | AS17: 85167 | AT17: 76402 | AU17: 3173399 | AV17: 33808 | AW17: 0 | AX17: 0 | AY17: 33808 | AZ17: 0 | BA17: 0 | BB17: 3207207
A18: 12 | B18: Leasing Polski Sp. z o. o. | C18: 87663.348 | D18: 15345.714 | E18: 240.44797 | F18: 1135.7087 | G18: 18603.912 | H18: 10069.115 | I18: 0 | J18: 0 | K18: 8534.7976 | L18: 0 | M18: 0 | N18: 28178.025 | O18: 0 | P18: 0 | Q18: 9954.637 | R18: 3722.675 | S18: 0 | T18: 0 | U18: 11858.385 | X18: 12360.458 | Y18: 8713.3076 | Z18: 3258.25 | AC18: 0 | AG18: 388.9 | AK18: 0 | AL18: 0 | AP18: 97.56098 | AR18: 97.56098 | AS18: 0 | AT18: 0 | AU18: 100121.37 | AV18: 635.7 | AX18: 0 | AZ18: 445.7 | BA18: 190 | BB18: 100757.07
A19: 13 | B19: Millennium Leasing Sp. z o.o. | C19: 991197.11 | D19: 414234.32 | E19: 21204.286 | F19: 4647.1956 | G19: 130419.76 | H19: 73699.314 | I19: 1642.7534 | K19: 56720.442 | N19: 257334.83 | O19: 853.73305 | Q19: 164612.4 | R19: 2840.5224 | T19: 1928 | U19: 21755.28 | V19: 26.82927 | X19: 506888.74 | Y19: 85555.093 | Z19: 3210.4512 | AA19: 45129.3 | AB19: 85357.317 | AD19: 54883.655 | AE19: 5994.5343 | AG19: 49432.842 | AH19: 57142.81 | AK19: 120182.74 | AL19: 6344.9993 | AM19: 6344.9993 | AP19: 14195.8 | AQ19: 479.57848 | AR19: 6079.2217 | AS19: 7637 | AU19: 1518626.6 | AV19: 61944.482 | BA19: 61944.482 | BB19: 1580571.1
A20: 14 | B20: mLeasing Sp. z o.o. | C20: 2576126.6 | D20: 1962776.8 | G20: 243498.36 | H20: 154748.84 | K20: 88749.528 | N20: 187990.76 | Q20: 108489.21 | R20: 29647.239 | U20: 43724.25 | X20: 568114.9 | Y20: 92916.249 | Z20: 24148.705 | AA20: 21237.89 | AB20: 30016.592 | AC20: 81257.818 | AD20: 18950.779 | AE20: 5387.6936 | AF20: 2040.5324 | AG20: 39916.119 | AK20: 252242.52 | AL20: 18274.247 | AM20: 18269.182 | AN20: 5.0643465 | AP20: 86228.91 | AQ20: 10832.394 | AR20: 54313.215 | AS20: 21083.301 | AT20: 44002.087 | AU20: 3292746.8 | AV20: 51189.665 | AX20: 51189.665 | BB20: 3343936.4
A21: 15 | B21: PEAC (Poland) Sp. z o.o. | C21: 55887 | D21: 13697 | G21: 2722 | H21: 2168 | K21: 554 | N21: 10671 | Q21: 11740 | R21: 16385 | U21: 672 | V21: 407 | X21: 67998 | Y21: 4587 | Z21: 12483 | AA21: 2458 | AB21: 13845 | AC21: 2019 | AD21: 636 | AE21: 6137 | AF21: 63 | AG21: 529 | AH21: 324 | AK21: 24917 | AL21: 2052 | AM21: 2052 | AP21: 170 | AR21: 170 | AU21: 126107 | AV21: 0 | BB21: 126107
A22: 16 | B22: PEKAO Leasing Sp. z o.o. | C22: 1824755.5 | D22: 637863.08 | E22: 24778.234 | F22: 9483.6065 | G22: 252136.57 | H22: 102234.33 | I22: 1433.5604 | J22: 0 | K22: 149902.25 | L22: 279.43089 | M22: 0 | N22: 530985.97 | O22: 0 | P22: 0 | Q22: 231180.31 | R22: 136283.26 | S22: 0 | T22: 0 | U22: 36306.277 | V22: 193.56669 | W22: 0 | X22: 864263.82 | Y22: 117773.24 | Z22: 36703.62 | AA22: 61344.186 | AB22: 29237.135 | AC22: 147222.02 | AD22: 56802.403 | AE22: 4565.4826 | AF22: 2638.1587 | AG22: 36832.587 | AH22: 49944.042 | AI22: 0 | AJ22: 97.52111 | AK22: 321103.43 | AL22: 31662.054 | AM22: 31662.054 | AN22: 0 | AO22: 0 | AP22: 130734.1 | AQ22: 10672.158 | AR22: 31927.606 | AS22: 88134.333 | AT22: 37727.775 | AU22: 2889143.2 | AV22: 18069.221 | AW22: 0 | AX22: 17259.157 | AY22: 0 | AZ22: 0 | BA22: 810.06419 | BB22: 2907212.4
A23: 17 | B23: PKO Leasing S.A. | C23: 4224395.6 | D23: 2299300.4 | E23: 149147.32 | F23: 31552.655 | G23: 673220.22 | H23: 413909.68 | I23: 19080.781 | J23: 243.90244 | K23: 259310.54 | L23: 1989 | N23: 721310.98 | Q23: 424294.75 | R23: 66030.015 | S23: 3500 | U23: 40239.214 | V23: 1196.5809 | X23: 1194242.3 | Y23: 248812.03 | Z23: 122200.01 | AA23: 33395.22 | AB23: 34621.729 | AC23: 161896.01 | AD23: 67671.173 | AE23: 26598.441 | AF23: 5649.7801 | AG23: 46883.608 | AH23: 36119.253 | AK23: 410395.01 | AL23: 56379.966 | AM23: 42000.505 | AN23: 791.747 | AO23: 13587.715 | AP23: 265884.54 | AQ23: 15419.708 | AR23: 8250.6819 | AS23: 242214.15 | AU23: 5740902.4 | AV23: 0 | BB23: 5740902.4
A24: 18 | B24: Santander Consumer Multirent Sp.z o.o. | C24: 887015.63 | D24: 749170.74 | G24: 115807.96 | H24: 115807.96 | U24: 22036.93 | X24: 0 | AL24: 0 | AP24: 0 | AU24: 887015.63 | AV24: 0 | BB24: 887015.63
A25: 19 | B25: Santander Leasing S.A. | C25: 1933628.4 | D25: 1126703.7 | E25: 58998.264 | F25: 39017.397 | G25: 329464.13 | H25: 218950.32 | I25: 6080.421 | J25: 0 | K25: 110513.82 | L25: 272.503 | M25: 0 | N25: 328106.91 | O25: 0 | P25: 0 | Q25: 124078.6 | R25: 12400.826 | S25: 0 | T25: 0 | U25: 12874.18 | V25: 662.804 | W25: 0 | X25: 702929.45 | Y25: 92984.985 | Z25: 71136.853 | AA25: 25957.288 | AB25: 38779.249 | AC25: 53123.491 | AD25: 24093.568 | AE25: 18540.092 | AF25: 6417.782 | AG25: 63342.707 | AH25: 38426.874 | AI25: 0 | AJ25: 850.439 | AK25: 269276.12 | AL25: 12769.934 | AM25: 12769.934 | AN25: 0 | AO25: 0 | AP25: 30080.428 | AQ25: 24142.786 | AR25: 5475.205 | AS25: 462.437 | AT25: 0 | AU25: 2679408.2 | AV25: 0 | AW25: 0 | AX25: 0 | AY25: 0 | AZ25: 0 | BA25: 0 | BB25: 2679408.2
A26: 20 | B26: Scania Finance Polska Sp. z o.o. | C26: 777389 | D26: 1955 | G26: 70005 | H26: 11105 | K26: 58900 | L26: 1147 | N26: 653522 | Q26: 43349 | R26: 8208 | U26: 350 | X26: 0 | AL26: 0 | AP26: 0 | AU26: 777389 | AV26: 0 | BB26: 777389
A27: 21 | B27: SG Equipment Leasing Polska Sp. z o.o. | C27: 87002.999 | D27: 3798.07 | G27: 23166.693 | H27: 1123.0168 | K27: 22043.676 | N27: 34969.93 | Q27: 22837.904 | U27: 2230.4022 | X27: 65028.151 | Y27: 39937.973 | Z27: 7832.149 | AA27: 856.9104 | AB27: 0 | AC27: 7376.8029 | AD27: 271.8 | AE27: 0 | AF27: 0 | AG27: 2492.0204 | AH27: 649.82002 | AK27: 5610.6747 | AL27: 9794.0824 | AM27: 9794.0824 | AP27: 13061.79 | AQ27: 13061.79 | AU27: 174887.02 | AV27: 0 | BB27: 174887.02
A28: 22 | B28: SGB Leasing Sp. z o.o. | C28: 21169 | D28: 10177 | E28: 120 | G28: 5389 | H28: 2758 | K28: 2631 | N28: 2398 | Q28: 1816 | R28: 220 | U28: 1169 | V28: 0 | W28: 0 | X28: 18629 | Y28: 3435 | Z28: 5190 | AB28: 362 | AC28: 423 | AD28: 530 | AE28: 36 | AF28: 223 | AG28: 125 | AH28: 3004 | AK28: 5301 | AL28: 0 | AP28: 15000 | AS28: 15000 | AU28: 54798 | AV28: 0 | BB28: 54798
A29: 23 | B29: Siemens Finance Sp. z o.o. | C29: 17621 | D29: 1210 | G29: 14554 | H29: 458 | K29: 14096 | Q29: 1857 | X29: 382334 | Y29: 57454 | Z29: 9170 | AA29: 18533 | AB29: 927 | AC29: 62704 | AD29: 471 | AE29: 195734 | AG29: 2627 | AH29: 45 | AK29: 34669 | AL29: 25414 | AM29: 22461 | AN29: 2953 | AP29: 0 | AU29: 425369 | AV29: 0 | BB29: 425369
B30: Razem | C30: 21952946 | D30: 10868428 | E30: 385133.69 | F30: 184359.4 | G30: 3595879.6 | H30: 2077233.6 | I30: 61169.092 | J30: 243.90244 | K30: 1518646 | L30: 3687.9339 | M30: 4378.9852 | N30: 4469249.7 | O30: 853.73305 | P30: 17571.656 | Q30: 2211550.5 | R30: 457203.73 | S30: 3500 | T30: 2223 | U30: 350635.2 | V30: 4155.1698 | W30: 0 | X30: 8251427.7 | Y30: 1805179.6 | Z30: 697564.99 | AA30: 275222.19 | AB30: 532741.66 | AC30: 781141.41 | AD30: 362469.84 | AE30: 310057.11 | AF30: 81597.208 | AG30: 639834.6 | AH30: 302032.23 | AI30: 0 | AJ30: 2439.6656 | AK30: 2461147.1 | AL30: 316982.57 | AM30: 243730.46 | AN30: 14679.01 | AO30: 58573.103 | AP30: 698639.86 | AQ30: 86770.236 | AR30: 125335.7 | AS30: 486533.92 | AT30: 176537.36 | AU30: 31396534 | AV30: 253106.66 | AW30: 716.4019 | AX30: 155192.01 | AY30: 33808 | AZ30: 445.7 | BA30: 62944.546 | BB30: 31649641
A32: Ilość środków oddanych w leasing w szt. | C32: 01.01.2023-30.06.2023
A35: Lp. | B35: Spółka | C35: POJAZDY | D35: Osobowe | E35: osobowe - zeroemisyjne | F35: osobowe - hybryda plug-in | G35: Cięzarowe: | H35: o masie do 3,5 tony | I35: o masie do 3,5 tony - zeroemisyjne | J35: o masie do 3,5 tony - hybryda plug-in | K35: o masie powyzej 3,5 tony | L35: o masie powyżej 3,5 tony - zeroemisyjne | M35: o masie powyżej 3,5 tony - hybryda plug-in | N35: ciagniki siodlowe | O35: ciągniki siodłowe - zeroemisyjne | P35: ciągniki siodłowe - hybryda plug-in | Q35: naczepy / przyczepy | R35: autobusy | S35: autobusy - zeroemisyjne | T35: autobusy - hybryda plug-in | U35: inne | V35: inne - zeroemisyjne | W35: inne - hybryda plug-in | X35: MiU | Y35: Sprzęt Budowlany | Z35: Maszyny Rolnicze | AA35: Maszyny Poligraf. | AB35: maszyny do produkcji tworzyw sztucznych | AC35: maszyny i urządzenia do obróbki metali | AD35: maszyny dla przemysłu spożywczego | AE35: Sprzęt Medyczny | AF35: Sprzęt Gastronom. | AG35: Wózki Widłowe | AH35: fotowoltaika | AI35: wiatraki i turbiny wiatrowe | AJ35: stacje ładowania pojazdów elektrycznych (na użytek własny i komercyjny) | AK35: inne MiU | AL35: IT | AM35: Sprzęt | AN35: Oprogram. | AO35: inne IT | AP35: POZOSTAŁE ŚRODKI TRANSPORTU | AQ35: Powietrzne | AR35: Wodne | AS35: Kolejowe | AT35: Inne ruchomości | AU35: RUCHOMOŚCI | AV35: Nieruchomości | AW35: budynki przemysłowe | AX35: obiekty handlowe i usługowe | AY35: obiekty biurowe | AZ35: hotele i obiekty rekreacyjne | BA35: inne | BB35: OGÓŁEM
A36: 1 | B36: Alior Leasing Sp. z o. o. | C36: 6818 | D36: 3145 | G36: 1551 | H36: 1232 | K36: 319 | N36: 844 | Q36: 964 | R36: 159 | U36: 155 | X36: 1179 | Y36: 357 | Z36: 182 | AA36: 18 | AB36: 36 | AC36: 129 | AD36: 39 | AE36: 80 | AF36: 1 | AG36: 41 | AH36: 19 | AK36: 277 | AL36: 14 | AM36: 14 | AP36: 49 | AS36: 49 | AU36: 8060 | AV36: 0 | BB36: 8060
A37: 2 | B37: BNP Paribas Lease Group Sp. z o.o. | C37: 8200 | D37: 6270 | E37: 169 | F37: 0 | G37: 1198 | H37: 997 | I37: 18 | J37: 0 | K37: 201 | L37: 0 | M37: 0 | N37: 273 | O37: 0 | P37: 0 | Q37: 244 | R37: 7 | S37: 0 | T37: 0 | U37: 208 | V37: 3 | W37: 0 | X37: 1977 | Y37: 369 | Z37: 195 | AA37: 3 | AB37: 3 | AC37: 16 | AD37: 12 | AE37: 47 | AF37: 9 | AG37: 646 | AH37: 75 | AI37: 0 | AJ37: 2 | AK37: 600 | AL37: 452 | AM37: 199 | AN37: 8 | AO37: 245 | AP37: 1 | AQ37: 0 | AR37: 1 | AS37: 0 | AU37: 10630 | AV37: 5 | AW37: 1 | AX37: 4 | AY37: 0 | AZ37: 0 | BA37: 0 | BB37: 10635
A38: 3 | B38: BOŚ Leasing - EKO Profit S.A. | C38: 115 | D38: 24 | G38: 20 | H38: 13 | K38: 7 | N38: 12 | Q38: 41 | R38: 4 | U38: 14 | X38: 153 | Y38: 22 | Z38: 9 | AA38: 2 | AB38: 2 | AC38: 4 | AD38: 11 | AE38: 3 | AG38: 15 | AH38: 42 | AK38: 43 | AL38: 1 | AM38: 1 | AP38: 5 | AQ38: 1 | AR38: 4 | AS38: 0 | AU38: 274 | AV38: 0 | BB38: 274
A39: 4 | B39: BPS Leasing Spółka Akcyjna (BPS Leasing S.A.) | C39: 499 | D39: 245 | E39: 3 | F39: 83 | G39: 82 | H39: 45 | K39: 37 | N39: 83 | Q39: 63 | R39: 20 | U39: 6 | X39: 51 | Y39: 18 | Z39: 4 | AA39: 1 | AB39: 1 | AC39: 2 | AD39: 7 | AE39: 2 | AG39: 2 | AH39: 7 | AK39: 7 | AL39: 1 | AM39: 1 | AP39: 3 | AR39: 3 | AT39: 20 | AU39: 574 | AV39: 0 | BB39: 574
A40: 5 | B40: Caterpillar Financial Services Poland Sp. z o.o. | C40: 0 | G40: 0 | X40: 487 | Y40: 487 | AL40: 0 | AP40: 0 | AU40: 487 | AV40: 0 | BB40: 487
A41: 6 | B41: De Lage Landen Leasing Polska S.A. | C41: 6 | G41: 0 | N41: 5 | U41: 1 | X41: 106 | Y41: 16 | Z41: 24 | AE41: 16 | AG41: 30 | AH41: 8 | AK41: 12 | AL41: 84 | AM41: 84 | AP41: 0 | AU41: 196 | AV41: 0 | BB41: 196
A42: 7 | B42: Deutsche Leasing Polska S.A. | C42: 1070 | D42: 5 | G42: 0 | N42: 58 | Q42: 1007 | X42: 1733 | Y42: 6 | Z42: 9 | AA42: 4 | AB42: 2 | AC42: 46 | AD42: 2 | AE42: 1 | AF42: 0 | AG42: 1611 | AK42: 52 | AL42: 0 | AP42: 0 | AU42: 2803 | AV42: 0 | BB42: 2803
A43: 8 | B43: Europejski Fundusz Leasingowy S.A. | C43: 15250 | D43: 7343 | E43: 166 | F43: 66 | G43: 3543 | H43: 2581 | I43: 99 | K43: 962 | N43: 1633 | Q43: 2215 | R43: 80 | U43: 436 | V43: 6 | X43: 6902 | Y43: 1895 | Z43: 727 | AA43: 91 | AB43: 86 | AC43: 292 | AD43: 86 | AE43: 124 | AF43: 663 | AG43: 289 | AH43: 435 | AI43: 0 | AJ43: 2 | AK43: 2212 | AL43: 718 | AM43: 371 | AN43: 142 | AO43: 205 | AP43: 43 | AQ43: 10 | AR43: 33 | AU43: 22913 | AV43: 0 | BB43: 22913
A44: 9 | B44: Grupa VB Leasing | C44: 5461 | D44: 2441 | E44: 43 | F44: 298 | G44: 1081 | H44: 820 | I44: 3 | K44: 261 | M44: 16 | N44: 731 | P44: 52 | Q44: 807 | R44: 89 | T44: 2 | U44: 312 | X44: 1089 | Y44: 240 | Z44: 253 | AA44: 31 | AB44: 17 | AC44: 32 | AD44: 39 | AE44: 134 | AF44: 31 | AG44: 47 | AH44: 89 | AK44: 176 | AL44: 33 | AM44: 25 | AO44: 8 | AP44: 26 | AR44: 26 | AT44: 184 | AU44: 6793 | AV44: 0 | BB44: 6793
A45: 10 | B45: Impuls-Leasing Polska Sp. z o. o. | C45: 2410 | D45: 1339 | E45: 26 | F45: 11 | G45: 403 | H45: 349 | I45: 2 | K45: 54 | N45: 216 | Q45: 357 | R45: 10 | U45: 85 | V45: 1 | X45: 615 | Y45: 100 | Z45: 102 | AA45: 17 | AB45: 9 | AC45: 18 | AE45: 38 | AF45: 40 | AG45: 75 | AK45: 216 | AL45: 20 | AM45: 20 | AP45: 2 | AR45: 2 | AU45: 3047 | AV45: 0 | BB45: 3047
...

Sheet Pożyczki_I_II kw.2023
A1: Związek Polskiego Leasingu
A3: Wartość środków - pożyczki - netto w tys. PLN
C4: 01.01.2023-30.06.2023
A6: Lp. | B6: Spółka | C6: POJAZDY | D6: Osobowe | E6: osobowe - zeroemisyjne | F6: osobowe - hybryda plug-in | G6: Cięzarowe: | H6: o masie do 3,5 tony | I6: o masie do 3,5 tony - zeroemisyjne | J6: o masie do 3,5 tony - hybryda plug-in | K6: o masie powyzej 3,5 tony | L6: o masie powyżej 3,5 tony - zeroemisyjne | M6: o masie powyżej 3,5 tony - hybryda plug-in | N6: ciagniki siodlowe | O6: ciągniki siodłowe - zeroemisyjne | P6: ciągniki siodłowe - hybryda plug-in | Q6: naczepy / przyczepy | R6: autobusy | S6: autobusy - zeroemisyjne | T6: autobusy - hybryda plug-in | U6: inne | V6: inne - zeroemisyjne | W6: inne - hybryda plug-in | X6: MiU | Y6: Sprzęt Budowlany | Z6: Maszyny Rolnicze | AA6: Maszyny Poligraf. | AB6: maszyny do produkcji tworzyw sztucznych | AC6: maszyny i urządzenia do obróbki metali | AD6: maszyny dla przemysłu spożywczego | AE6: Sprzęt Medyczny | AF6: Sprzęt Gastronom. | AG6: Wózki Widłowe | AH6: fotowoltaika | AI6: wiatraki i turbiny wiatrowe | AJ6: stacje ładowania pojazdów elektrycznych (na użytek własny i komercyjny) | AK6: inne MiU | AL6: IT | AM6: Sprzęt | AN6: Oprogram. | AO6: inne IT | AP6: POZOSTAŁE ŚRODKI TRANSPORTU | AQ6: Powietrzne | AR6: Wodne | AS6: Kolejowe | AT6: Inne ruchomości | AU6: RUCHOMOŚCI | AV6: Nieruchomości | AW6: budynki przemysłowe | AX6: obiekty handlowe i usługowe | AY6: obiekty biurowe | AZ6: hotele i obiekty rekreacyjne | BA6: inne | BB6: OGÓŁEM
A7: 1 | B7: Alior Leasing Sp. z o. o. | C7: 127848.13 | D7: 75179.469 | G7: 13986.217 | H7: 9758.8807 | K7: 4227.3367 | N7: 23626.938 | Q7: 11768.141 | R7: 456.28177 | U7: 2831.0793 | X7: 29997.495 | Y7: 3371.9712 | Z7: 9514.7747 | AA7: 115 | AB7: 1058.59 | AC7: 816.54084 | AD7: 111.53 | AE7: 11803.055 | AG7: 168.49832 | AH7: 207.50427 | AK7: 2830.031 | AL7: 4563.2961 | AM7: 4563.2961 | AP7: 0 | AU7: 162408.92 | AV7: 0 | BB7: 162408.92
A8: 2 | B8: BNP Paribas Lease Group Sp. z o.o. | C8: 60555.358 | D8: 7860.6725 | E8: 156.13959 | F8: 0 | G8: 27359.76 | H8: 12459.052 | I8: 0 | J8: 0 | K8: 14900.708 | L8: 0 | M8: 0 | N8: 13407.938 | O8: 0 | P8: 0 | Q8: 11887.39 | R8: 0 | S8: 0 | T8: 0 | U8: 39.5978 | V8: 0 | W8: 0 | X8: 637391.16 | Y8: 14401.394 | Z8: 572859.92 | AA8: 23.502 | AB8: 0 | AC8: 763.6668 | AD8: 1474.9652 | AE8: 15272.35 | AF8: 0 | AG8: 1133.3125 | AH8: 4665.8335 | AI8: 0 | AJ8: 0 | AK8: 26796.215 | AL8: 10567.811 | AM8: 359.82581 | AN8: 9773.5673 | AO8: 434.4181 | AP8: 0 | AQ8: 0 | AR8: 0 | AS8: 0 | AT8: 0 | AU8: 708514.33 | AV8: 0 | AW8: 0 | AX8: 0 | AY8: 0 | AZ8: 0 | BA8: 0 | BB8: 708514.33
A9: 3 | B9: BOŚ Leasing - EKO Profit S.A. | C9: 66.32 | G9: 0 | U9: 66.32 | X9: 1832.25 | Z9: 1000.72 | AE9: 149.99 | AH9: 564.55 | AK9: 116.99 | AL9: 0 | AP9: 0 | AU9: 1898.57 | AV9: 0 | BB9: 1898.57
A10: 4 | B10: BPS Leasing Spółka Akcyjna (BPS Leasing S.A.) | C10: 0 | G10: 0 | X10: 0 | AL10: 0 | AP10: 0 | AU10: 0 | AV10: 0 | BB10: 0
A11: 5 | B11: Caterpillar Financial Services Poland Sp. z o.o. | C11: 0 | G11: 0 | X11: 22968.815 | Y11: 22968.815 | AL11: 0 | AP11: 0 | AU11: 22968.815 | AV11: 0 | BB11: 22968.815
A12: 6 | B12: De Lage Landen Leasing Polska S.A. | C12: 3899 | D12: 615 | G12: 0 | N12: 544 | Q12: 2740 | X12: 328822 | Y12: 5194 | Z12: 305877 | AE12: 10830 | AH12: 2038 | AK12: 4883 | AL12: 13152 | AM12: 4585 | AN12: 8567 | AP12: 0 | AU12: 345873 | AV12: 0 | BB12: 345873
A13: 7 | B13: Deutsche Leasing Polska S.A. | C13: 49482 | D13: 205 | G13: 314 | H13: 314 | N13: 9779 | Q13: 39184 | X13: 38024 | Y13: 1279 | Z13: 32671 | AA13: 0 | AB13: 843 | AC13: 840 | AK13: 2391 | AL13: 0 | AP13: 0 | AU13: 87506 | AV13: 0 | BB13: 87506
A14: 8 | B14: Europejski Fundusz Leasingowy S.A. | C14: 55583.512 | D14: 15491.678 | E14: 629.40651 | G14: 8451.3201 | H14: 7584.3201 | I14: 269.5935 | K14: 867 | N14: 17002.092 | Q14: 14193.422 | R14: 445 | X14: 378891.87 | Y14: 14186.85 | Z14: 328395.44 | AA14: 112.28534 | AB14: 931.03316 | AC14: 2027.8795 | AD14: 11304.779 | AE14: 9022.1111 | AF14: 576.93737 | AG14: 1375.8111 | AH14: 2884.3328 | AK14: 8074.4144 | AL14: 1521.0479 | AM14: 305.0758 | AN14: 1046.8725 | AO14: 169.09963 | AP14: 2930.6137 | AR14: 2930.6137 | AU14: 438927.04 | AV14: 0 | BB14: 438927.04
A15: 9 | B15: Grupa VB Leasing | C15: 148034.58 | D15: 39205.98 | E15: 723.38556 | F15: 4278.1786 | G15: 23655.513 | H15: 7416.5281 | J15: 429.93182 | K15: 16238.985 | M15: 261.77792 | N15: 47476.265 | P15: 3383.4579 | Q15: 32581.226 | R15: 2109.1946 | U15: 3006.3973 | W15: 104.5 | X15: 169689.39 | Y15: 9534.3729 | Z15: 127719.21 | AA15: 442.72696 | AB15: 7.62331 | AC15: 5024.7539 | AD15: 1417.4186 | AE15: 16162.315 | AF15: 542.74709 | AG15: 351.41572 | AH15: 1481.8998 | AK15: 7004.9041 | AL15: 88.76335 | AM15: 88.76335 | AP15: 7745.6064 | AQ15: 21.945 | AR15: 7723.6614 | AS15: 0 | AT15: 3525.6852 | AU15: 329084.02 | AV15: 0 | BB15: 329084.02
A16: 10 | B16: Impuls-Leasing Polska Sp. z o. o. | C16: 59885.05 | D16: 20647.57 | E16: 2476.64 | F16: 235.8 | G16: 4786.06 | H16: 4460.6 | I16: 124.72 | K16: 325.46 | N16: 21196.52 | Q16: 12588.5 | R16: 290 | U16: 376.4 | X16: 10201.97 | Y16: 3410.79 | Z16: 972.34 | AA16: 284.35 | AC16: 1324.81 | AE16: 1544.61 | AG16: 504.88 | AK16: 2160.19 | AL16: 0 | AP16: 0 | AU16: 70087.02 | AV16: 0 | BB16: 70087.02
A17: 11 | B17: ING Lease (Polska) Sp. z o.o. | C17: 11140 | D17: 11140 | G17: 0 | H17: 0 | K17: 0 | N17: 0 | Q17: 0 | R17: 0 | U17: 0 | X17: 47086 | Y17: 0 | Z17: 0 | AA17: 30098 | AB17: 1369 | AC17: 448 | AD17: 0 | AE17: 10711 | AF17: 0 | AG17: 0 | AH17: 0 | AK17: 4460 | AL17: 0 | AM17: 0 | AN17: 0 | AO17: 0 | AP17: 0 | AQ17: 0 | AR17: 0 | AS17: 0 | AT17: 0 | AU17: 58226 | AV17: 0 | AW17: 0 | AX17: 0 | AY17: 0 | AZ17: 0 | BA17: 0 | BB17: 58226
A18: 12 | B18: Leasing Polski Sp. z o. o. | C18: 0 | G18: 0 | X18: 0 | AL18: 0 | AP18: 0 | AU18: 0 | AV18: 0 | BB18: 0
A19: 13 | B19: Millennium Leasing Sp. z o.o. | C19: 0 | G19: 0 | X19: 0 | AL19: 0 | AP19: 0 | AU19: 0 | AV19: 0 | BB19: 0
A20: 14 | B20: mLeasing Sp. z o.o. | C20: 45829.438 | G20: 9480.0237 | K20: 9480.0237 | N20: 26323.64 | Q20: 6283.0339 | R20: 325.95 | U20: 3416.7899 | X20: 218647.09 | Y20: 2175.4887 | Z20: 4511.246 | AA20: 107.8218 | AB20: 32055.362 | AC20: 12039.252 | AD20: 8253.0347 | AE20: 82857.803 | AF20: 109.02187 | AG20: 563.71936 | AK20: 75974.339 | AL20: 927.50719 | AM20: 927.50719 | AP20: 7764.6419 | AQ20: 514.42082 | AR20: 7250.2211 | AT20: 23470.645 | AU20: 296639.32 | AV20: 0 | BB20: 296639.32
A21: 15 | B21: PEAC (Poland) Sp. z o.o. | C21: 13619 | D21: 4589 | G21: 2116 | H21: 2116 | Q21: 6262 | U21: 652 | X21: 15481 | Y21: 546 | Z21: 8422 | AC21: 281 | AE21: 58 | AG21: 246 | AK21: 5928 | AL21: 0 | AP21: 0 | AU21: 29100 | AV21: 0 | BB21: 29100
A22: 16 | B22: PEKAO Leasing Sp. z o.o. | C22: 143038.72 | D22: 43292.651 | E22: 263.76848 | F22: 0 | G22: 5468.142 | H22: 2772.3616 | I22: 0 | J22: 0 | K22: 2695.7804 | L22: 0 | M22: 0 | N22: 72688.67 | O22: 0 | P22: 0 | Q22: 16228.854 | R22: 0 | S22: 0 | T22: 0 | U22: 5360.4034 | V22: 0 | W22: 0 | X22: 297000.71 | Y22: 21132.805 | Z22: 73147.759 | AA22: 8362.941 | AB22: 25268.488 | AC22: 61465.687 | AD22: 19622.438 | AE22: 4502.1929 | AF22: 0 | AG22: 1866.8395 | AH22: 3203.8856 | AI22: 0 | AJ22: 0 | AK22: 78427.673 | AL22: 6066.6854 | AM22: 5991.5211 | AN22: 75.16432 | AO22: 0 | AP22: 1657.2693 | AQ22: 0 | AR22: 1657.2693 | AS22: 0 | AT22: 0 | AU22: 447763.38 | AV22: 3049.06 | AW22: 221.154 | AX22: 2827.906 | AY22: 0 | AZ22: 0 | BA22: 0 | BB22: 450812.44
A23: 17 | B23: PKO Leasing S.A. | C23: 354509.7 | D23: 163131.31 | E23: 1669.4559 | F23: 832.5 | G23: 28916.887 | H23: 13937.819 | I23: 325.4211 | K23: 14979.068 | N23: 90831.473 | Q23: 48205.562 | R23: 22765.392 | U23: 659.0716 | X23: 437274.16 | Y23: 14642.947 | Z23: 222409.45 | AA23: 3066.7034 | AB23: 18932.398 | AC23: 26535.975 | AD23: 10016.927 | AE23: 36861.862 | AG23: 2585.4986 | AH23: 37169.551 | AK23: 65052.845 | AL23: 387.44091 | AM23: 13.457471 | AN23: 369.41466 | AO23: 4.5687856 | AP23: 244.43601 | AR23: 244.43601 | AU23: 792415.73 | AV23: 0 | BB23: 792415.73
A24: 18 | B24: Santander Consumer Multirent Sp.z o.o. | C24: 271826.02 | D24: 255934.52 | G24: 15364.3 | H24: 15364.3 | U24: 527.2 | X24: 0 | AL24: 0 | AP24: 0 | AU24: 271826.02 | AV24: 0 | BB24: 271826.02
A25: 19 | B25: Santander Leasing S.A. | C25: 259402.27 | D25: 154974.74 | E25: 3219.146 | F25: 4452.039 | G25: 25154.773 | H25: 11810.717 | I25: 0 | J25: 0 | K25: 13344.056 | L25: 0 | M25: 0 | N25: 50114.948 | O25: 0 | P25: 0 | Q25: 24230.947 | R25: 2368.36 | S25: 0 | T25: 0 | U25: 2558.495 | V25: 61.088 | W25: 0 | X25: 808338.65 | Y25: 12448.692 | Z25: 518336.5 | AA25: 14977.004 | AB25: 28116.478 | AC25: 36290.712 | AD25: 340.183 | AE25: 47219.265 | AF25: 229.893 | AG25: 1281.571 | AH25: 55111.477 | AI25: 0 | AJ25: 0 | AK25: 93986.876 | AL25: 20143.849 | AM25: 20143.849 | AN25: 0 | AO25: 0 | AP25: 6333.605 | AQ25: 5511.255 | AR25: 822.35 | AS25: 0 | AT25: 592.3 | AU25: 1094810.7 | AV25: 9407.046 | AW25: 0 | AX25: 0 | AY25: 0 | AZ25: 0 | BA25: 9407.046 | BB25: 1104217.7
A26: 20 | B26: Scania Finance Polska Sp. z o.o. | C26: 30091 | D26: 260 | G26: 0 | N26: 29223 | Q26: 608 | X26: 0 | AL26: 0 | AP26: 0 | AU26: 30091 | AV26: 0 | BB26: 30091
A27: 21 | B27: SG Equipment Leasing Polska Sp. z o.o. | C27: 2597.5185 | D27: 0 | G27: 0 | N27: 1504.1162 | Q27: 1093.4023 | X27: 48528.437 | Y27: 7970.2301 | Z27: 31898.408 | AE27: 132.594 | AG27: 3656.6377 | AH27: 215.68 | AK27: 4654.8867 | AL27: 44831.81 | AM27: 39463.01 | AN27: 5368.8 | AP27: 0 | AU27: 95957.765 | AV27: 0 | BB27: 95957.765
A28: 22 | B28: SGB Leasing Sp. z o.o. | C28: 7404 | D28: 1979 | F28: 288 | G28: 4872 | H28: 4872 | Q28: 553 | X28: 24665 | Y28: 1003 | Z28: 16430 | AE28: 1094 | AH28: 3562 | AK28: 2576 | AL28: 26 | AN28: 26 | AP28: 0 | AU28: 32095 | AV28: 0 | BB28: 32095
A29: 23 | B29: Siemens Finance Sp. z o.o. | C29: 0 | G29: 0 | X29: 0 | AL29: 0 | AP29: 0 | AU29: 0 | AV29: 0 | BB29: 0
B30: Razem | C30: 1644811.6 | D30: 794506.6 | E30: 9137.942 | F30: 10086.518 | G30: 169925 | H30: 92866.578 | I30: 719.7346 | J30: 429.93182 | K30: 77058.418 | L30: 0 | M30: 261.77792 | N30: 403718.6 | O30: 0 | P30: 3383.4579 | Q30: 228407.48 | R30: 28760.179 | S30: 0 | T30: 0 | U30: 19493.754 | V30: 61.088 | W30: 104.5 | X30: 3514840 | Y30: 134266.36 | Z30: 2254165.8 | AA30: 57590.335 | AB30: 108581.97 | AC30: 147858.28 | AD30: 52541.276 | AE30: 248221.15 | AF30: 1458.5993 | AG30: 13734.184 | AH30: 111104.71 | AI30: 0 | AJ30: 0 | AK30: 385317.36 | AL30: 102276.21 | AM30: 76441.306 | AN30: 25226.819 | AO30: 608.08652 | AP30: 26676.172 | AQ30: 6047.6208 | AR30: 20628.552 | AS30: 0 | AT30: 27588.63 | AU30: 5316192.6 | AV30: 12456.106 | AW30: 221.154 | AX30: 2827.906 | AY30: 0 | AZ30: 0 | BA30: 9407.046 | BB30: 5328648.7
A32: Ilość środków - pożyczki - w szt. | C32: 01.01.2023-30.06.2023
A35: Lp. | B35: Spółka | C35: POJAZDY | D35: Osobowe | E35: osobowe - zeroemisyjne | F35: osobowe - hybryda plug-in | G35: Cięzarowe: | H35: o masie do 3,5 tony | I35: o masie do 3,5 tony - zeroemisyjne | J35: o masie do 3,5 tony - hybryda plug-in | K35: o masie powyzej 3,5 tony | L35: o masie powyżej 3,5 tony - zeroemisyjne | M35: o masie powyżej 3,5 tony - hybryda plug-in | N35: ciagniki siodlowe | O35: ciągniki siodłowe - zeroemisyjne | P35: ciągniki siodłowe - hybryda plug-in | Q35: naczepy / przyczepy | R35: autobusy | S35: autobusy - zeroemisyjne | T35: autobusy - hybryda plug-in | U35: inne | V35: inne - zeroemisyjne | W35: inne - hybryda plug-in | X35: MiU | Y35: Sprzęt Budowlany | Z35: Maszyny Rolnicze | AA35: Maszyny Poligraf. | AB35: maszyny do produkcji tworzyw sztucznych | AC35: maszyny i urządzenia do obróbki metali | AD35: maszyny dla przemysłu spożywczego | AE35: Sprzęt Medyczny | AF35: Sprzęt Gastronom. | AG35: Wózki Widłowe | AH35: fotowoltaika | AI35: wiatraki i turbiny wiatrowe | AJ35: stacje ładowania pojazdów elektrycznych (na użytek własny i komercyjny) | AK35: inne MiU | AL35: IT | AM35: Sprzęt | AN35: Oprogram. | AO35: inne IT | AP35: POZOSTAŁE ŚRODKI TRANSPORTU | AQ35: Powietrzne | AR35: Wodne | AS35: Kolejowe | AT35: Inne ruchomości | AU35: RUCHOMOŚCI | AV35: Nieruchomości | AW35: budynki przemysłowe | AX35: obiekty handlowe i usługowe | AY35: obiekty biurowe | AZ35: hotele i obiekty rekreacyjne | BA35: inne | BB35: OGÓŁEM
A36: 1 | B36: Alior Leasing Sp. z o. o. | C36: 1079 | D36: 706 | G36: 155 | H36: 131 | K36: 24 | N36: 86 | Q36: 106 | R36: 3 | U36: 23 | X36: 161 | Y36: 20 | Z36: 45 | AA36: 1 | AB36: 3 | AC36: 11 | AD36: 6 | AE36: 47 | AG36: 2 | AH36: 2 | AK36: 24 | AL36: 1 | AM36: 1 | AP36: 0 | AU36: 1241 | AV36: 0 | BB36: 1241
A37: 2 | B37: BNP Paribas Lease Group Sp. z o.o. | C37: 290 | D37: 84 | E37: 1 | F37: 0 | G37: 97 | H37: 62 | I37: 0 | J37: 0 | K37: 35 | L37: 0 | M37: 0 | N37: 30 | O37: 0 | P37: 0 | Q37: 77 | R37: 0 | S37: 0 | T37: 0 | U37: 2 | V37: 0 | W37: 0 | X37: 2047 | Y37: 44 | Z37: 1672 | AA37: 1 | AB37: 0 | AC37: 1 | AD37: 2 | AE37: 238 | AF37: 0 | AG37: 9 | AH37: 36 | AI37: 0 | AJ37: 0 | AK37: 44 | AL37: 148 | AM37: 1 | AN37: 143 | AO37: 4 | AP37: 0 | AQ37: 0 | AR37: 0 | AS37: 0 | AT37: 0 | AU37: 2485 | AV37: 0 | AW37: 0 | AX37: 0 | AY37: 0 | AZ37: 0 | BA37: 0 | BB37: 2485
A38: 3 | B38: BOŚ Leasing - EKO Profit S.A. | C38: 1 | G38: 0 | U38: 1 | X38: 7 | Z38: 3 | AE38: 1 | AH38: 2 | AK38: 1 | AL38: 0 | AP38: 0 | AU38: 8 | AV38: 0 | BB38: 8
A39: 4 | B39: BPS Leasing Spółka Akcyjna (BPS Leasing S.A.) | C39: 0 | G39: 0 | X39: 0 | AL39: 0 | AP39: 0 | AU39: 0 | AV39: 0 | BB39: 0
A40: 5 | B40: Caterpillar Financial Services Poland Sp. z o.o. | C40: 0 | G40: 0 | X40: 60 | Y40: 60 | AL40: 0 | AP40: 0 | AU40: 60 | AV40: 0 | BB40: 60
A41: 6 | B41: De Lage Landen Leasing Polska S.A. | C41: 24 | D41: 3 | G41: 0 | N41: 1 | Q41: 20 | X41: 998 | Y41: 15 | Z41: 853 | AE41: 104 | AH41: 18 | AK41: 8 | AL41: 9 | AM41: 3 | AN41: 6 | AP41: 0 | AU41: 1031 | AV41: 0 | BB41: 1031
A42: 7 | B42: Deutsche Leasing Polska S.A. | C42: 272 | D42: 1 | G42: 1 | H42: 1 | N42: 21 | Q42: 249 | X42: 61 | Y42: 2 | Z42: 52 | AA42: 0 | AB42: 1 | AC42: 1 | AK42: 5 | AL42: 0 | AP42: 0 | AU42: 333 | AV42: 0 | BB42: 333
A43: 8 | B43: Europejski Fundusz Leasingowy S.A. | C43: 326 | D43: 123 | E43: 3 | G43: 43 | H43: 39 | I43: 1 | K43: 4 | N43: 64 | Q43: 95 | R43: 1 | X43: 994 | Y43: 73 | Z43: 686 | AA43: 3 | AB43: 3 | AC43: 10 | AD43: 5 | AE43: 97 | AF43: 11 | AG43: 7 | AH43: 21 | AK43: 78 | AL43: 31 | AM43: 8 | AN43: 14 | AO43: 9 | AP43: 17 | AR43: 17 | AU43: 1368 | AV43: 0 | BB43: 1368
A44: 9 | B44: Grupa VB Leasing | C44: 1019 | D44: 371 | E44: 6 | F44: 32 | G44: 150 | H44: 79 | J44: 4 | K44: 71 | M44: 2 | N44: 190 | P44: 12 | Q44: 257 | R44: 9 | U44: 42 | W44: 1 | X44: 1033 | Y44: 44 | Z44: 676 | AA44: 3 | AB44: 1 | AC44: 13 | AD44: 13 | AE44: 185 | AF44: 7 | AG44: 7 | AH44: 14 | AK44: 70 | AL44: 4 | AM44: 4 | AP44: 37 | AQ44: 1 | AR44: 36 | AS44: 0 | AT44: 53 | AU44: 2146 | AV44: 0 | BB44: 2146
A45: 10 | B45: Impuls-Leasing Polska Sp. z o. o. | C45: 239 | D45: 95 | E45: 11 | F45: 1 | G45: 19 | H45: 18 | I45: 1 | K45: 1 | N45: 46 | Q45: 74 | R45: 1 | U45: 4 | X45: 46 | Y45: 4 | Z45: 6 | AA45: 7 | AC45: 1 | AE45: 12 | AG45: 2 | AK45: 14 | AL45: 0 | AP45: 0 | AU45: 285 | AV45: 0 | BB45: 285
...

Sheet Suma (L+P)_I-II kw.2023 
A1: Związek Polskiego Leasingu
A3: Wartość środków oddanych w leasing- netto w tys. PLN
C4: 01.01.2023-30.06.2023
A6: Lp. | B6: Spółka | C6: POJAZDY | D6: Osobowe | E6: osobowe - zeroemisyjne | F6: osobowe - hybryda plug-in | G6: Cięzarowe: | H6: o masie do 3,5 tony | I6: o masie do 3,5 tony - zeroemisyjne | J6: o masie do 3,5 tony - hybryda plug-in | K6: o masie powyzej 3,5 tony | L6: o masie powyżej 3,5 tony - zeroemisyjne | M6: o masie powyżej 3,5 tony - hybryda plug-in | N6: ciagniki siodlowe | O6: ciągniki siodłowe - zeroemisyjne | P6: ciągniki siodłowe - hybryda plug-in | Q6: naczepy / przyczepy | R6: autobusy | S6: autobusy - zeroemisyjne | T6: autobusy - hybryda plug-in | U6: inne | V6: inne - zeroemisyjne | W6: inne - hybryda plug-in | X6: MiU | Y6: Sprzęt Budowlany | Z6: Maszyny Rolnicze | AA6: Maszyny Poligraf. | AB6: maszyny do produkcji tworzyw sztucznych | AC6: maszyny i urządzenia do obróbki metali | AD6: maszyny dla przemysłu spożywczego | AE6: Sprzęt Medyczny | AF6: Sprzęt Gastronom. | AG6: Wózki Widłowe | AH6: fotowoltaika | AI6: wiatraki i turbiny wiatrowe | AJ6: stacje ładowania pojazdów elektrycznych (na użytek własny i komercyjny) | AK6: inne MiU | AL6: IT | AM6: Sprzęt | AN6: Oprogram. | AO6: inne IT | AP6: POZOSTAŁE ŚRODKI TRANSPORTU | AQ6: Powietrzne | AR6: Wodne | AS6: Kolejowe | AT6: Inne ruchomości | AU6: RUCHOMOŚCI | AV6: Nieruchomości | AW6: budynki przemysłowe | AX6: obiekty handlowe i usługowe | AY6: obiekty biurowe | AZ6: hotele i obiekty rekreacyjne | BA6: inne | BB6: OGÓŁEM
A7: 1 | B7: Alior Leasing Sp. z o. o. | C7: ='Leasing_I-II kw.2023 (2)'!C7+'Pożyczki_I_II kw.2023'!C7 -> 1186730.9 | D7: ='Leasing_I-II kw.2023 (2)'!D7+'Pożyczki_I_II kw.2023'!D7 -> 488019.31 | E7: ='Leasing_I-II kw.2023 (2)'!E7+'Pożyczki_I_II kw.2023'!E7 -> 0 | F7: ='Leasing_I-II kw.2023 (2)'!F7+'Pożyczki_I_II kw.2023'!F7 -> 0 | G7: ='Leasing_I-II kw.2023 (2)'!G7+'Pożyczki_I_II kw.2023'!G7 -> 223563.86 | H7: ='Leasing_I-II kw.2023 (2)'!H7+'Pożyczki_I_II kw.2023'!H7 -> 130253.68 | I7: ='Leasing_I-II kw.2023 (2)'!I7+'Pożyczki_I_II kw.2023'!I7 -> 0 | J7: ='Leasing_I-II kw.2023 (2)'!J7+'Pożyczki_I_II kw.2023'!J7 -> 0 | ... BB7: ='Leasing_I-II kw.2023 (2)'!BB7+'Pożyczki_I_II kw.2023'!BB7 -> 1421854.4
A8: 2 | B8: BNP Paribas Lease Group Sp. z o.o. | C8: ='Leasing_I-II kw.2023 (2)'!C8+'Pożyczki_I_II kw.2023'!C8 -> 1283762.2 | D8: ='Leasing_I-II kw.2023 (2)'!D8+'Pożyczki_I_II kw.2023'!D8 -> 819153.38 | E8: ='Leasing_I-II kw.2023 (2)'!E8+'Pożyczki_I_II kw.2023'!E8 -> 31973.465 | F8: ='Leasing_I-II kw.2023 (2)'!F8+'Pożyczki_I_II kw.2023'!F8 -> 0 | G8: ='Leasing_I-II kw.2023 (2)'!G8+'Pożyczki_I_II kw.2023'!G8 -> 246989.64 | H8: ='Leasing_I-II kw.2023 (2)'!H8+'Pożyczki_I_II kw.2023'!H8 -> 170434.31 | I8: ='Leasing_I-II kw.2023 (2)'!I8+'Pożyczki_I_II kw.2023'!I8 -> 3373.1642 | J8: ='Leasing_I-II kw.2023 (2)'!J8+'Pożyczki_I_II kw.2023'!J8 -> 0 | ... BB8: ='Leasing_I-II kw.2023 (2)'!BB8+'Pożyczki_I_II kw.2023'!BB8 -> 2679382.9
A9: 3 | B9: BOŚ Leasing - EKO Profit S.A. | C9: ='Leasing_I-II kw.2023 (2)'!C9+'Pożyczki_I_II kw.2023'!C9 -> 25724.69 | D9: ='Leasing_I-II kw.2023 (2)'!D9+'Pożyczki_I_II kw.2023'!D9 -> 4445.07 | E9: ='Leasing_I-II kw.2023 (2)'!E9+'Pożyczki_I_II kw.2023'!E9 -> 0 | F9: ='Leasing_I-II kw.2023 (2)'!F9+'Pożyczki_I_II kw.2023'!F9 -> 0 | G9: ='Leasing_I-II kw.2023 (2)'!G9+'Pożyczki_I_II kw.2023'!G9 -> 2957.9 | H9: ='Leasing_I-II kw.2023 (2)'!H9+'Pożyczki_I_II kw.2023'!H9 -> 1294.3 | I9: ='Leasing_I-II kw.2023 (2)'!I9+'Pożyczki_I_II kw.2023'!I9 -> 0 | J9: ='Leasing_I-II kw.2023 (2)'!J9+'Pożyczki_I_II kw.2023'!J9 -> 0 | ... BB9: ='Leasing_I-II kw.2023 (2)'!BB9+'Pożyczki_I_II kw.2023'!BB9 -> 93210.75
A10: 4 | B10: BPS Leasing Spółka Akcyjna (BPS Leasing S.A.) | C10: ='Leasing_I-II kw.2023 (2)'!C10+'Pożyczki_I_II kw.2023'!C10 -> 106466.14 | D10: ='Leasing_I-II kw.2023 (2)'!D10+'Pożyczki_I_II kw.2023'!D10 -> 30044.38 | E10: ='Leasing_I-II kw.2023 (2)'!E10+'Pożyczki_I_II kw.2023'!E10 -> 734.59 | F10: ='Leasing_I-II kw.2023 (2)'!F10+'Pożyczki_I_II kw.2023'!F10 -> 11638.79 | G10: ='Leasing_I-II kw.2023 (2)'!G10+'Pożyczki_I_II kw.2023'!G10 -> 20880.46 | H10: ='Leasing_I-II kw.2023 (2)'!H10+'Pożyczki_I_II kw.2023'!H10 -> 5041.01 | I10: ='Leasing_I-II kw.2023 (2)'!I10+'Pożyczki_I_II kw.2023'!I10 -> 0 | J10: ='Leasing_I-II kw.2023 (2)'!J10+'Pożyczki_I_II kw.2023'!J10 -> 0 | ... BB10: ='Leasing_I-II kw.2023 (2)'!BB10+'Pożyczki_I_II kw.2023'!BB10 -> 125826.57
A11: 5 | B11: Caterpillar Financial Services Poland Sp. z o.o. | C11: ='Leasing_I-II kw.2023 (2)'!C11+'Pożyczki_I_II kw.2023'!C11 -> 0 | D11: ='Leasing_I-II kw.2023 (2)'!D11+'Pożyczki_I_II kw.2023'!D11 -> 0 | E11: ='Leasing_I-II kw.2023 (2)'!E11+'Pożyczki_I_II kw.2023'!E11 -> 0 | F11: ='Leasing_I-II kw.2023 (2)'!F11+'Pożyczki_I_II kw.2023'!F11 -> 0 | G11: ='Leasing_I-II kw.2023 (2)'!G11+'Pożyczki_I_II kw.2023'!G11 -> 0 | H11: ='Leasing_I-II kw.2023 (2)'!H11+'Pożyczki_I_II kw.2023'!H11 -> 0 | I11: ='Leasing_I-II kw.2023 (2)'!I11+'Pożyczki_I_II kw.2023'!I11 -> 0 | J11: ='Leasing_I-II kw.2023 (2)'!J11+'Pożyczki_I_II kw.2023'!J11 -> 0 | ... BB11: ='Leasing_I-II kw.2023 (2)'!BB11+'Pożyczki_I_II kw.2023'!BB11 -> 264194.62
A12: 6 | B12: De Lage Landen Leasing Polska S.A. | C12: ='Leasing_I-II kw.2023 (2)'!C12+'Pożyczki_I_II kw.2023'!C12 -> 6417 | D12: ='Leasing_I-II kw.2023 (2)'!D12+'Pożyczki_I_II kw.2023'!D12 -> 615 | E12: ='Leasing_I-II kw.2023 (2)'!E12+'Pożyczki_I_II kw.2023'!E12 -> 0 | F12: ='Leasing_I-II kw.2023 (2)'!F12+'Pożyczki_I_II kw.2023'!F12 -> 0 | G12: ='Leasing_I-II kw.2023 (2)'!G12+'Pożyczki_I_II kw.2023'!G12 -> 0 | H12: ='Leasing_I-II kw.2023 (2)'!H12+'Pożyczki_I_II kw.2023'!H12 -> 0 | I12: ='Leasing_I-II kw.2023 (2)'!I12+'Pożyczki_I_II kw.2023'!I12 -> 0 | J12: ='Leasing_I-II kw.2023 (2)'!J12+'Pożyczki_I_II kw.2023'!J12 -> 0 | ... BB12: ='Leasing_I-II kw.2023 (2)'!BB12+'Pożyczki_I_II kw.2023'!BB12 -> 381730
A13: 7 | B13: Deutsche Leasing Polska S.A. | C13: ='Leasing_I-II kw.2023 (2)'!C13+'Pożyczki_I_II kw.2023'!C13 -> 204935 | D13: ='Leasing_I-II kw.2023 (2)'!D13+'Pożyczki_I_II kw.2023'!D13 -> 1385 | E13: ='Leasing_I-II kw.2023 (2)'!E13+'Pożyczki_I_II kw.2023'!E13 -> 0 | F13: ='Leasing_I-II kw.2023 (2)'!F13+'Pożyczki_I_II kw.2023'!F13 -> 0 | G13: ='Leasing_I-II kw.2023 (2)'!G13+'Pożyczki_I_II kw.2023'!G13 -> 314 | H13: ='Leasing_I-II kw.2023 (2)'!H13+'Pożyczki_I_II kw.2023'!H13 -> 314 | I13: ='Leasing_I-II kw.2023 (2)'!I13+'Pożyczki_I_II kw.2023'!I13 -> 0 | J13: ='Leasing_I-II kw.2023 (2)'!J13+'Pożyczki_I_II kw.2023'!J13 -> 0 | ... BB13: ='Leasing_I-II kw.2023 (2)'!BB13+'Pożyczki_I_II kw.2023'!BB13 -> 580049
A14: 8 | B14: Europejski Fundusz Leasingowy S.A. | C14: ='Leasing_I-II kw.2023 (2)'!C14+'Pożyczki_I_II kw.2023'!C14 -> 2745917 | D14: ='Leasing_I-II kw.2023 (2)'!D14+'Pożyczki_I_II kw.2023'!D14 -> 1096715.2 | E14: ='Leasing_I-II kw.2023 (2)'!E14+'Pożyczki_I_II kw.2023'!E14 -> 44647.6 | F14: ='Leasing_I-II kw.2023 (2)'!F14+'Pożyczki_I_II kw.2023'!F14 -> 14056.506 | G14: ='Leasing_I-II kw.2023 (2)'!G14+'Pożyczki_I_II kw.2023'!G14 -> 681407.49 | H14: ='Leasing_I-II kw.2023 (2)'!H14+'Pożyczki_I_II kw.2023'!H14 -> 349107.31 | I14: ='Leasing_I-II kw.2023 (2)'!I14+'Pożyczki_I_II kw.2023'!I14 -> 23817.074 | J14: ='Leasing_I-II kw.2023 (2)'!J14+'Pożyczki_I_II kw.2023'!J14 -> 0 | ... BB14: ='Leasing_I-II kw.2023 (2)'!BB14+'Pożyczki_I_II kw.2023'!BB14 -> 4304599.5
A15: 9 | B15: Grupa VB Leasing | C15: ='Leasing_I-II kw.2023 (2)'!C15+'Pożyczki_I_II kw.2023'!C15 -> 941951.71 | D15: ='Leasing_I-II kw.2023 (2)'!D15+'Pożyczki_I_II kw.2023'!D15 -> 325787.04 | E15: ='Leasing_I-II kw.2023 (2)'!E15+'Pożyczki_I_II kw.2023'!E15 -> 11080.789 | F15: ='Leasing_I-II kw.2023 (2)'!F15+'Pożyczki_I_II kw.2023'!F15 -> 54090.004 | G15: ='Leasing_I-II kw.2023 (2)'!G15+'Pożyczki_I_II kw.2023'!G15 -> 166193.19 | H15: ='Leasing_I-II kw.2023 (2)'!H15+'Pożyczki_I_II kw.2023'!H15 -> 91788.937 | I15: ='Leasing_I-II kw.2023 (2)'!I15+'Pożyczki_I_II kw.2023'!I15 -> 401.93089 | J15: ='Leasing_I-II kw.2023 (2)'!J15+'Pożyczki_I_II kw.2023'!J15 -> 429.93182 | ... BB15: ='Leasing_I-II kw.2023 (2)'!BB15+'Pożyczki_I_II kw.2023'!BB15 -> 1350138.2
A16: 10 | B16: Impuls-Leasing Polska Sp. z o. o. | C16: ='Leasing_I-II kw.2023 (2)'!C16+'Pożyczki_I_II kw.2023'!C16 -> 496818.51 | D16: ='Leasing_I-II kw.2023 (2)'!D16+'Pożyczki_I_II kw.2023'!D16 -> 236932.8 | E16: ='Leasing_I-II kw.2023 (2)'!E16+'Pożyczki_I_II kw.2023'!E16 -> 8593.26 | F16: ='Leasing_I-II kw.2023 (2)'!F16+'Pożyczki_I_II kw.2023'!F16 -> 2096.52 | G16: ='Leasing_I-II kw.2023 (2)'!G16+'Pożyczki_I_II kw.2023'!G16 -> 68691.34 | H16: ='Leasing_I-II kw.2023 (2)'!H16+'Pożyczki_I_II kw.2023'!H16 -> 51845.9 | I16: ='Leasing_I-II kw.2023 (2)'!I16+'Pożyczki_I_II kw.2023'!I16 -> 381.72 | J16: ='Leasing_I-II kw.2023 (2)'!J16+'Pożyczki_I_II kw.2023'!J16 -> 0 | ... BB16: ='Leasing_I-II kw.2023 (2)'!BB16+'Pożyczki_I_II kw.2023'!BB16 -> 610362.02
A17: 11 | B17: ING Lease (Polska) Sp. z o.o. | C17: ='Leasing_I-II kw.2023 (2)'!C17+'Pożyczki_I_II kw.2023'!C17 -> 1986866 | D17: ='Leasing_I-II kw.2023 (2)'!D17+'Pożyczki_I_II kw.2023'!D17 -> 799444 | E17: ='Leasing_I-II kw.2023 (2)'!E17+'Pożyczki_I_II kw.2023'!E17 -> 37601 | F17: ='Leasing_I-II kw.2023 (2)'!F17+'Pożyczki_I_II kw.2023'!F17 -> 21155 | G17: ='Leasing_I-II kw.2023 (2)'!G17+'Pożyczki_I_II kw.2023'!G17 -> 384447 | H17: ='Leasing_I-II kw.2023 (2)'!H17+'Pożyczki_I_II kw.2023'!H17 -> 212116 | I17: ='Leasing_I-II kw.2023 (2)'!I17+'Pożyczki_I_II kw.2023'!I17 -> 5352 | J17: ='Leasing_I-II kw.2023 (2)'!J17+'Pożyczki_I_II kw.2023'!J17 -> 0 | ... BB17: ='Leasing_I-II kw.2023 (2)'!BB17+'Pożyczki_I_II kw.2023'!BB17 -> 3265433
A18: 12 | B18: Leasing Polski Sp. z o. o. | C18: ='Leasing_I-II kw.2023 (2)'!C18+'Pożyczki_I_II kw.2023'!C18 -> 87663.348 | D18: ='Leasing_I-II kw.2023 (2)'!D18+'Pożyczki_I_II kw.2023'!D18 -> 15345.714 | E18: ='Leasing_I-II kw.2023 (2)'!E18+'Pożyczki_I_II kw.2023'!E18 -> 240.44797 | F18: ='Leasing_I-II kw.2023 (2)'!F18+'Pożyczki_I_II kw.2023'!F18 -> 1135.7087 | G18: ='Leasing_I-II kw.2023 (2)'!G18+'Pożyczki_I_II kw.2023'!G18 -> 18603.912 | H18: ='Leasing_I-II kw.2023 (2)'!H18+'Pożyczki_I_II kw.2023'!H18 -> 10069.115 | I18: ='Leasing_I-II kw.2023 (2)'!I18+'Pożyczki_I_II kw.2023'!I18 -> 0 | J18: ='Leasing_I-II kw.2023 (2)'!J18+'Pożyczki_I_II kw.2023'!J18 -> 0 | ... BB18: ='Leasing_I-II kw.2023 (2)'!BB18+'Pożyczki_I_II kw.2023'!BB18 -> 100757.07
... A29: 23 | B29: Siemens Finance Sp. z o.o. | C29: ='Leasing_I-II kw.2023 (2)'!C29+'Pożyczki_I_II kw.2023'!C29 -> 17621 | D29: ='Leasing_I-II kw.2023 (2)'!D29+'Pożyczki_I_II kw.2023'!D29 -> 1210 | E29: ='Leasing_I-II kw.2023 (2)'!E29+'Pożyczki_I_II kw.2023'!E29 -> 0 | F29: ='Leasing_I-II kw.2023 (2)'!F29+'Pożyczki_I_II kw.2023'!F29 -> 0 | G29: ='Leasing_I-II kw.2023 (2)'!G29+'Pożyczki_I_II kw.2023'!G29 -> 14554 | H29: ='Leasing_I-II kw.2023 (2)'!H29+'Pożyczki_I_II kw.2023'!H29 -> 458 | I29: ='Leasing_I-II kw.2023 (2)'!I29+'Pożyczki_I_II kw.2023'!I29 -> 0 | J29: ='Leasing_I-II kw.2023 (2)'!J29+'Pożyczki_I_II kw.2023'!J29 -> 0 | ... BB29: ='Leasing_I-II kw.2023 (2)'!BB29+'Pożyczki_I_II kw.2023'!BB29 -> 425369
B30: Razem | C30: ='Leasing_I-II kw.2023 (2)'!C30+'Pożyczki_I_II kw.2023'!C30 -> 23597758 | D30: ='Leasing_I-II kw.2023 (2)'!D30+'Pożyczki_I_II kw.2023'!D30 -> 11662934 | E30: ='Leasing_I-II kw.2023 (2)'!E30+'Pożyczki_I_II kw.2023'!E30 -> 394271.63 | F30: ='Leasing_I-II kw.2023 (2)'!F30+'Pożyczki_I_II kw.2023'!F30 -> 194445.92 | G30: ='Leasing_I-II kw.2023 (2)'!G30+'Pożyczki_I_II kw.2023'!G30 -> 3765804.6 | H30: ='Leasing_I-II kw.2023 (2)'!H30+'Pożyczki_I_II kw.2023'!H30 -> 2170100.2 | I30: ='Leasing_I-II kw.2023 (2)'!I30+'Pożyczki_I_II kw.2023'!I30 -> 61888.826 | J30: ='Leasing_I-II kw.2023 (2)'!J30+'Pożyczki_I_II kw.2023'!J30 -> 673.83426 | ... BB30: ='Leasing_I-II kw.2023 (2)'!BB30+'Pożyczki_I_II kw.2023'!BB30 -> 36978289
A32: Ilość środków oddanych w leasing w szt. | C32: 01.01.2023-30.06.2023
A35: Lp. | B35: Spółka | C35: POJAZDY | D35: Osobowe | E35: osobowe - zeroemisyjne | F35: osobowe - hybryda plug-in | G35: Cięzarowe: | H35: o masie do 3,5 tony | I35: o masie do 3,5 tony - zeroemisyjne | J35: o masie do 3,5 tony - hybryda plug-in | K35: o masie powyzej 3,5 tony | L35: o masie powyżej 3,5 tony - zeroemisyjne | M35: o masie powyżej 3,5 tony - hybryda plug-in | N35: ciagniki siodlowe | O35: ciągniki siodłowe - zeroemisyjne | P35: ciągniki siodłowe - hybryda plug-in | Q35: naczepy / przyczepy | R35: autobusy | S35: autobusy - zeroemisyjne | T35: autobusy - hybryda plug-in | U35: inne | V35: inne - zeroemisyjne | W35: inne - hybryda plug-in | X35: MiU | Y35: Sprzęt Budowlany | Z35: Maszyny Rolnicze | AA35: Maszyny Poligraf. | AB35: maszyny do produkcji tworzyw sztucznych | AC35: maszyny i urządzenia do obróbki metali | AD35: maszyny dla przemysłu spożywczego | AE35: Sprzęt Medyczny | AF35: Sprzęt Gastronom. | AG35: Wózki Widłowe | AH35: fotowoltaika | AI35: wiatraki i turbiny wiatrowe | AJ35: stacje ładowania pojazdów elektrycznych (na użytek własny i komercyjny) | AK35: inne MiU | AL35: IT | AM35: Sprzęt | AN35: Oprogram. | AO35: inne IT | AP35: POZOSTAŁE ŚRODKI TRANSPORTU | AQ35: Powietrzne | AR35: Wodne | AS35: Kolejowe | AT35: Inne ruchomości | AU35: RUCHOMOŚCI | AV35: Nieruchomości | AW35: budynki przemysłowe | AX35: obiekty handlowe i usługowe | AY35: obiekty biurowe | AZ35: hotele i obiekty rekreacyjne | BA35: inne | BB35: OGÓŁEM
A36: 1 | B36: Alior Leasing Sp. z o. o. | C36: ='Leasing_I-II kw.2023 (2)'!C36+'Pożyczki_I_II kw.2023'!C36 -> 7897 | D36: ='Leasing_I-II kw.2023 (2)'!D36+'Pożyczki_I_II kw.2023'!D36 -> 3851 | E36: ='Leasing_I-II kw.2023 (2)'!E36+'Pożyczki_I_II kw.2023'!E36 -> 0 | F36: ='Leasing_I-II kw.2023 (2)'!F36+'Pożyczki_I_II kw.2023'!F36 -> 0 | G36: ='Leasing_I-II kw.2023 (2)'!G36+'Pożyczki_I_II kw.2023'!G36 -> 1706 | H36: ='Leasing_I-II kw.2023 (2)'!H36+'Pożyczki_I_II kw.2023'!H36 -> 1363 | I36: ='Leasing_I-II kw.2023 (2)'!I36+'Pożyczki_I_II kw.2023'!I36 -> 0 | J36: ='Leasing_I-II kw.2023 (2)'!J36+'Pożyczki_I_II kw.2023'!J36 -> 0 | ... BB36: ='Leasing_I-II kw.2023 (2)'!BB36+'Pożyczki_I_II kw.2023'!BB36 -> 9301
A37: 2 | B37: BNP Paribas Lease Group Sp. z o.o. | C37: ='Leasing_I-II kw.2023 (2)'!C37+'Pożyczki_I_II kw.2023'!C37 -> 8490 | D37: ='Leasing_I-II kw.2023 (2)'!D37+'Pożyczki_I_II kw.2023'!D37 -> 6354 | E37: ='Leasing_I-II kw.2023 (2)'!E37+'Pożyczki_I_II kw.2023'!E37 -> 170 | F37: ='Leasing_I-II kw.2023 (2)'!F37+'Pożyczki_I_II kw.2023'!F37 -> 0 | G37: ='Leasing_I-II kw.2023 (2)'!G37+'Pożyczki_I_II kw.2023'!G37 -> 1295 | H37: ='Leasing_I-II kw.2023 (2)'!H37+'Pożyczki_I_II kw.2023'!H37 -> 1059 | I37: ='Leasing_I-II kw.2023 (2)'!I37+'Pożyczki_I_II kw.2023'!I37 -> 18 | J37: ='Leasing_I-II kw.2023 (2)'!J37+'Pożyczki_I_II kw.2023'!J37 -> 0 | ... BB37: ='Leasing_I-II kw.2023 (2)'!BB37+'Pożyczki_I_II kw.2023'!BB37 -> 13120
A38: 3 | B38: BOŚ Leasing - EKO Profit S.A. | C38: ='Leasing_I-II kw.2023 (2)'!C38+'Pożyczki_I_II kw.2023'!C38 -> 116 | D38: ='Leasing_I-II kw.2023 (2)'!D38+'Pożyczki_I_II kw.2023'!D38 -> 24 | E38: ='Leasing_I-II kw.2023 (2)'!E38+'Pożyczki_I_II kw.2023'!E38 -> 0 | F38: ='Leasing_I-II kw.2023 (2)'!F38+'Pożyczki_I_II kw.2023'!F38 -> 0 | G38: ='Leasing_I-II kw.2023 (2)'!G38+'Pożyczki_I_II kw.2023'!G38 -> 20 | H38: ='Leasing_I-II kw.2023 (2)'!H38+'Pożyczki_I_II kw.2023'!H38 -> 13 | I38: ='Leasing_I-II kw.2023 (2)'!I38+'Pożyczki_I_II kw.2023'!I38 -> 0 | J38: ='Leasing_I-II kw.2023 (2)'!J38+'Pożyczki_I_II kw.2023'!J38 -> 0 | ... BB38: ='Leasing_I-II kw.2023 (2)'!BB38+'Pożyczki_I_II kw.2023'!BB38 -> 282
A39: 4 | B39: BPS Leasing Spółka Akcyjna (BPS Leasing S.A.) | C39: ='Leasing_I-II kw.2023 (2)'!C39+'Pożyczki_I_II kw.2023'!C39 -> 499 | D39: ='Leasing_I-II kw.2023 (2)'!D39+'Pożyczki_I_II kw.2023'!D39 -> 245 | E39: ='Leasing_I-II kw.2023 (2)'!E39+'Pożyczki_I_II kw.2023'!E39 -> 3 | F39: ='Leasing_I-II kw.2023 (2)'!F39+'Pożyczki_I_II kw.2023'!F39 -> 83 | G39: ='Leasing_I-II kw.2023 (2)'!G39+'Pożyczki_I_II kw.2023'!G39 -> 82 | H39: ='Leasing_I-II kw.2023 (2)'!H39+'Pożyczki_I_II kw.2023'!H39 -> 45 | I39: ='Leasing_I-II kw.2023 (2)'!I39+'Pożyczki_I_II kw.2023'!I39 -> 0 | J39: ='Leasing_I-II kw.2023 (2)'!J39+'Pożyczki_I_II kw.2023'!J39 -> 0 | ... BB39: ='Leasing_I-II kw.2023 (2)'!BB39+'Pożyczki_I_II kw.2023'!BB39 -> 574
A40: 5 | B40: Caterpillar Financial Services Poland Sp. z o.o. | C40: ='Leasing_I-II kw.2023 (2)'!C40+'Pożyczki_I_II kw.2023'!C40 -> 0 | D40: ='Leasing_I-II kw.2023 (2)'!D40+'Pożyczki_I_II kw.2023'!D40 -> 0 | E40: ='Leasing_I-II kw.2023 (2)'!E40+'Pożyczki_I_II kw.2023'!E40 -> 0 | F40: ='Leasing_I-II kw.2023 (2)'!F40+'Pożyczki_I_II kw.2023'!F40 -> 0 | G40: ='Leasing_I-II kw.2023 (2)'!G40+'Pożyczki_I_II kw.2023'!G40 -> 0 | H40: ='Leasing_I-II kw.2023 (2)'!H40+'Pożyczki_I_II kw.2023'!H40 -> 0 | I40: ='Leasing_I-II kw.2023 (2)'!I40+'Pożyczki_I_II kw.2023'!I40 -> 0 | J40: ='Leasing_I-II kw.2023 (2)'!J40+'Pożyczki_I_II kw.2023'!J40 -> 0 | ... BB40: ='Leasing_I-II kw.2023 (2)'!BB40+'Pożyczki_I_II kw.2023'!BB40 -> 547
A41: 6 | B41: De Lage Landen Leasing Polska S.A. | C41: ='Leasing_I-II kw.2023 (2)'!C41+'Pożyczki_I_II kw.2023'!C41 -> 30 | D41: ='Leasing_I-II kw.2023 (2)'!D41+'Pożyczki_I_II kw.2023'!D41 -> 3 | E41: ='Leasing_I-II kw.2023 (2)'!E41+'Pożyczki_I_II kw.2023'!E41 -> 0 | F41: ='Leasing_I-II kw.2023 (2)'!F41+'Pożyczki_I_II kw.2023'!F41 -> 0 | G41: ='Leasing_I-II kw.2023 (2)'!G41+'Pożyczki_I_II kw.2023'!G41 -> 0 | H41: ='Leasing_I-II kw.2023 (2)'!H41+'Pożyczki_I_II kw.2023'!H41 -> 0 | I41: ='Leasing_I-II kw.2023 (2)'!I41+'Pożyczki_I_II kw.2023'!I41 -> 0 | J41: ='Leasing_I-II kw.2023 (2)'!J41+'Pożyczki_I_II kw.2023'!J41 -> 0 | ... BB41: ='Leasing_I-II kw.2023 (2)'!BB41+'Pożyczki_I_II kw.2023'!BB41 -> 1227
A42: 7 | B42: Deutsche Leasing Polska S.A. | C42: ='Leasing_I-II kw.2023 (2)'!C42+'Pożyczki_I_II kw.2023'!C42 -> 1342 | D42: ='Leasing_I-II kw.2023 (2)'!D42+'Pożyczki_I_II kw.2023'!D42 -> 6 | E42: ='Leasing_I-II kw.2023 (2)'!E42+'Pożyczki_I_II kw.2023'!E42 -> 0 | F42: ='Leasing_I-II kw.2023 (2)'!F42+'Pożyczki_I_II kw.2023'!F42 -> 0 | G42: ='Leasing_I-II kw.2023 (2)'!G42+'Pożyczki_I_II kw.2023'!G42 -> 1 | H42: ='Leasing_I-II kw.2023 (2)'!H42+'Pożyczki_I_II kw.2023'!H42 -> 1 | I42: ='Leasing_I-II kw.2023 (2)'!I42+'Pożyczki_I_II kw.2023'!I42 -> 0 | J42: ='Leasing_I-II kw.2023 (2)'!J42+'Pożyczki_I_II kw.2023'!J42 -> 0 | ... BB42: ='Leasing_I-II kw.2023 (2)'!BB42+'Pożyczki_I_II kw.2023'!BB42 -> 3136
A43: 8 | B43: Europejski Fundusz Leasingowy S.A. | C43: ='Leasing_I-II kw.2023 (2)'!C43+'Pożyczki_I_II kw.2023'!C43 -> 15576 | D43: ='Leasing_I-II kw.2023 (2)'!D43+'Pożyczki_I_II kw.2023'!D43 -> 7466 | E43: ='Leasing_I-II kw.2023 (2)'!E43+'Pożyczki_I_II kw.2023'!E43 -> 169 | F43: ='Leasing_I-II kw.2023 (2)'!F43+'Pożyczki_I_II kw.2023'!F43 -> 66 | G43: ='Leasing_I-II kw.2023 (2)'!G43+'Pożyczki_I_II kw.2023'!G43 -> 3586 | H43: ='Leasing_I-II kw.2023 (2)'!H43+'Pożyczki_I_II kw.2023'!H43 -> 2620 | I43: ='Leasing_I-II kw.2023 (2)'!I43+'Pożyczki_I_II kw.2023'!I43 -> 100 | J43: ='Leasing_I-II kw.2023 (2)'!J43+'Pożyczki_I_II kw.2023'!J43 -> 0 | ... BB43: ='Leasing_I-II kw.2023 (2)'!BB43+'Pożyczki_I_II kw.2023'!BB43 -> 24281
A44: 9 | B44: Grupa VB Leasing | C44: ='Leasing_I-II kw.2023 (2)'!C44+'Pożyczki_I_II kw.2023'!C44 -> 6480 | D44: ='Leasing_I-II kw.2023 (2)'!D44+'Pożyczki_I_II kw.2023'!D44 -> 2812 | E44: ='Leasing_I-II kw.2023 (2)'!E44+'Pożyczki_I_II kw.2023'!E44 -> 49 | F44: ='Leasing_I-II kw.2023 (2)'!F44+'Pożyczki_I_II kw.2023'!F44 -> 330 | G44: ='Leasing_I-II kw.2023 (2)'!G44+'Pożyczki_I_II kw.2023'!G44 -> 1231 | H44: ='Leasing_I-II kw.2023 (2)'!H44+'Pożyczki_I_II kw.2023'!H44 -> 899 | I44: ='Leasing_I-II kw.2023 (2)'!I44+'Pożyczki_I_II kw.2023'!I44 -> 3 | J44: ='Leasing_I-II kw.2023 (2)'!J44+'Pożyczki_I_II kw.2023'!J44 -> 4 | ... BB44: ='Leasing_I-II kw.2023 (2)'!BB44+'Pożyczki_I_II kw.2023'!BB44 -> 8939
A45: 10 | B45: Impuls-Leasing Polska Sp. z o. o. | C45: ='Leasing_I-II kw.2023 (2)'!C45+'Pożyczki_I_II kw.2023'!C45 -> 2649 | D45: ='Leasing_I-II kw.2023 (2)'!D45+'Pożyczki_I_II kw.2023'!D45 -> 1434 | E45: ='Leasing_I-II kw.2023 (2)'!E45+'Pożyczki_I_II kw.2023'!E45 -> 37 | F45: ='Leasing_I-II kw.2023 (2)'!F45+'Pożyczki_I_II kw.2023'!F45 -> 12 | G45: ='Leasing_I-II kw.2023 (2)'!G45+'Pożyczki_I_II kw.2023'!G45 -> 422 | H45: ='Leasing_I-II kw.2023 (2)'!H45+'Pożyczki_I_II kw.2023'!H45 -> 367 | I45: ='Leasing_I-II kw.2023 (2)'!I45+'Pożyczki_I_II kw.2023'!I45 -> 3 | J45: ='Leasing_I-II kw.2023 (2)'!J45+'Pożyczki_I_II kw.2023'!J45 -> 0 | ... BB45: ='Leasing_I-II kw.2023 (2)'!BB45+'Pożyczki_I_II kw.2023'!BB45 -> 3332
A46: 11 | B46: ING Lease (Polska) Sp. z o.o. | C46: ='Leasing_I-II kw.2023 (2)'!C46+'Pożyczki_I_II kw.2023'!C46 -> 10274 | D46: ='Leasing_I-II kw.2023 (2)'!D46+'Pożyczki_I_II kw.2023'!D46 -> 5477 | E46: ='Leasing_I-II kw.2023 (2)'!E46+'Pożyczki_I_II kw.2023'!E46 -> 188 | F46: ='Leasing_I-II kw.2023 (2)'!F46+'Pożyczki_I_II kw.2023'!F46 -> 87 | G46: ='Leasing_I-II kw.2023 (2)'!G46+'Pożyczki_I_II kw.2023'!G46 -> 2049 | H46: ='Leasing_I-II kw.2023 (2)'!H46+'Pożyczki_I_II kw.2023'!H46 -> 1648 | I46: ='Leasing_I-II kw.2023 (2)'!I46+'Pożyczki_I_II kw.2023'!I46 -> 28 | J46: ='Leasing_I-II kw.2023 (2)'!J46+'Pożyczki_I_II kw.2023'!J46 -> 0 | ... BB46: ='Leasing_I-II kw.2023 (2)'!BB46+'Pożyczki_I_II kw.2023'!BB46 -> 13790
A47: 12 | B47: Leasing Polski Sp. z o. o. | C47: ='Leasing_I-II kw.2023 (2)'!C47+'Pożyczki_I_II kw.2023'!C47 -> 780 | D47: ='Leasing_I-II kw.2023 (2)'!D47+'Pożyczki_I_II kw.2023'!D47 -> 159 | E47: ='Leasing_I-II kw.2023 (2)'!E47+'Pożyczki_I_II kw.2023'!E47 -> 1 | F47: ='Leasing_I-II kw.2023 (2)'!F47+'Pożyczki_I_II kw.2023'!F47 -> 12 | G47: ='Leasing_I-II kw.2023 (2)'!G47+'Pożyczki_I_II kw.2023'!G47 -> 192 | H47: ='Leasing_I-II kw.2023 (2)'!H47+'Pożyczki_I_II kw.2023'!H47 -> 132 | I47: ='Leasing_I-II kw.2023 (2)'!I47+'Pożyczki_I_II kw.2023'!I47 -> 0 | J47: ='Leasing_I-II kw.2023 (2)'!J47+'Pożyczki_I_II kw.2023'!J47 -> 0 | ... BB47: ='Leasing_I-II kw.2023 (2)'!BB47+'Pożyczki_I_II kw.2023'!BB47 -> 854
... A58: 23 | B58: Siemens Finance Sp. z o.o. | C58: ='Leasing_I-II kw.2023 (2)'!C58+'Pożyczki_I_II kw.2023'!C58 -> 17 | D58: ='Leasing_I-II kw.2023 (2)'!D58+'Pożyczki_I_II kw.2023'!D58 -> 5 | E58: ='Leasing_I-II kw.2023 (2)'!E58+'Pożyczki_I_II kw.2023'!E58 -> 0 | F58: ='Leasing_I-II kw.2023 (2)'!F58+'Pożyczki_I_II kw.2023'!F58 -> 0 | G58: ='Leasing_I-II kw.2023 (2)'!G58+'Pożyczki_I_II kw.2023'!G58 -> 10 | H58: ='Leasing_I-II kw.2023 (2)'!H58+'Pożyczki_I_II kw.2023'!H58 -> 2 | I58: ='Leasing_I-II kw.2023 (2)'!I58+'Pożyczki_I_II kw.2023'!I58 -> 0 | J58: ='Leasing_I-II kw.2023 (2)'!J58+'Pożyczki_I_II kw.2023'!J58 -> 0 | ... BB58: ='Leasing_I-II kw.2023 (2)'!BB58+'Pożyczki_I_II kw.2023'!BB58 -> 4570
B59: Razem | C59: ='Leasing_I-II kw.2023 (2)'!C59+'Pożyczki_I_II kw.2023'!C59 -> 137214 | D59: ='Leasing_I-II kw.2023 (2)'!D59+'Pożyczki_I_II kw.2023'!D59 -> 82983 | E59: ='Leasing_I-II kw.2023 (2)'!E59+'Pożyczki_I_II kw.2023'!E59 -> 1863 | F59: ='Leasing_I-II kw.2023 (2)'!F59+'Pożyczki_I_II kw.2023'!F59 -> 1012 | G59: ='Leasing_I-II kw.2023 (2)'!G59+'Pożyczki_I_II kw.2023'!G59 -> 21466 | H59: ='Leasing_I-II kw.2023 (2)'!H59+'Pożyczki_I_II kw.2023'!H59 -> 17157 | I59: ='Leasing_I-II kw.2023 (2)'!I59+'Pożyczki_I_II kw.2023'!I59 -> 314 | J59: ='Leasing_I-II kw.2023 (2)'!J59+'Pożyczki_I_II kw.2023'!J59 -> 5 | ... BB59: ='Leasing_I-II kw.2023 (2)'!BB59+'Pożyczki_I_II kw.2023'!BB59 -> 200990
B62: Warszawa, 2024.01.23
