Workbook

Sheet Leasing_I-II kw.2023  (2)
A1: Związek Polskiego Leasingu
A3: Wartość środków oddanych w leasing- netto w tys. PLN
C4: 01.01.2023-30.06.2023
A6: Lp. | B6: Spółka | C6: POJAZDY | D6: Osobowe | E6: osobowe - zeroemisyjne | F6: osobowe - hybryda plug-in | G6: Cięzarowe: | H6: o masie do 3,5 tony | I6: o masie do 3,5 tony - zeroemisyjne | J6: o masie do 3,5 tony - hybryda plug-in | K6: o masie powyzej 3,5 tony | L6: o masie powyżej 3,5 tony - zeroemisyjne | M6: o masie powyżej 3,5 tony - hybryda plug-in | N6: ciagniki siodlowe | O6: ciągniki siodłowe - zeroemisyjne | P6: ciągniki siodłowe - hybryda plug-in | Q6: naczepy / przyczepy | R6: autobusy | S6: autobusy - zeroemisyjne | T6: autobusy - hybryda plug-in | U6: inne | V6: inne - zeroemisyjne | W6: inne - hybryda plug-in | X6: MiU | Y6: Sprzęt Budowlany | Z6: Maszyny Rolnicze | AA6: Maszyny Poligraf. | AB6: maszyny do produkcji tworzyw sztucznych | AC6: maszyny i urządzenia do obróbki metali | AD6: maszyny dla przemysłu spożywczego | AE6: Sprzęt Medyczny | AF6: Sprzęt Gastronom. | AG6: Wózki Widłowe | AH6: fotowoltaika | AI6: wiatraki i turbiny wiatrowe | AJ6: stacje ładowania pojazdów elektrycznych (na użytek własny i komercyjny) | AK6: inne MiU | AL6: IT | AM6: Sprzęt | AN6: Oprogram. | AO6: inne IT | AP6: POZOSTAŁE ŚRODKI TRANSPORTU | AQ6: Powietrzne | AR6: Wodne | AS6: Kolejowe | AT6: Inne ruchomości | AU6: RUCHOMOŚCI | AV6: Nieruchomości | AW6: budynki przemysłowe | AX6: obiekty handlowe i usługowe | AY6: obiekty biurowe | AZ6: hotele i obiekty rekreacyjne | BA6: inne | BB6: OGÓŁEM
A7: 1 | B7: Alior Leasing Sp. z o. o. | C7: 1058882.8 | D7: 412839.84 | G7: 209577.64 | H7: 120494.8 | K7: 89082.843 | N7: 230531.58 | Q7: 130386.46 | R7: 56650.94 | U7: 18896.338 | X7: 169436.26 | Y7: 66555.957 | Z7: 34235.979 | AA7: 2266.6714 | AB7: 2703.7542 | AC7: 24311.692 | AD7: 3383.0062 | AE7: 3174.5054 | AF7: 13.78 | AG7: 3497.3283 | AH7: 2006.7404 | AK7: 27286.847 | AL7: 4290.7698 | AM7: 4290.7698 | AP7: 26835.697 | AS7: 26835.697 | AU7: 1259445.5 | AV7: 0 | BB7: 1259445.5
A8: 2 | B8: BNP Paribas Lease Group Sp. z o.o. | C8: 1223206.9 | D8: 811292.7 | E8: 31817.326 | F8: 0 | G8: 219629.88 | H8: 157975.25 | I8: 3373.1642 | J8: 0 | K8: 61654.622 | L8: 0 | M8: 0 | N8: 127126.94 | O8: 0 | P8: 0 | Q8: 49759.575 | R8: 3228.7 | S8: 0 | T8: 0 | U8: 12169.095 | V8: 121.82936 | W8: 0 | X8: 621140.35 | Y8: 110786.88 | Z8: 87959.618 | AA8: 3342.089 | AB8: 7603.7688 | AC8: 9165.9081 | AD8: 25733.323 | AE8: 4630.6902 | AF8: 1444.4152 | AG8: 80217.766 | AH8: 12916.225 | AI8: 0 | AJ8: 615.68552 | AK8: 276723.98 | AL8: 39021.059 | AM8: 22359.178 | AN8: 1846.2413 | AO8: 14815.64 | AP8: 40.65041 | AQ8: 0 | AR8: 40.65041 | AS8: 0 | AU8: 1883409 | AV8: 87459.593 | AW8: 716.4019 | AX8: 86743.191 | AY8: 0 | AZ8: 0 | BA8: 0 | BB8: 1970868.5
A9: 3 | B9: BOŚ Leasing - EKO Profit S.A. | C9: 25658.37 | D9: 4445.07 | G9: 2957.9 | H9: 1294.3 | K9: 1663.6 | N9: 3229.52 | Q9: 5807.95 | R9: 1438.16 | U9: 7779.77 | X9: 56825.61 | Y9: 6507.84 | Z9: 4642.94 | AA9: 748.14 | AB9: 5137.46 | AC9: 2191.04 | AD9: 591.94 | AE9: 831.63 | AG9: 1486.31 | AH9: 7950.26 | AK9: 26738.05 | AL9: 203.5 | AM9: 203.5 | AP9: 8624.7 | AQ9: 8041.94 | AR9: 582.76 | AS9: 0 | AU9: 91312.18 | AV9: 0 | BB9: 91312.18
A10: 4 | B10: BPS Leasing Spółka Akcyjna (BPS Leasing S.A.) | C10: 106466.14 | D10: 30044.38 | E10: 734.59 | F10: 11638.79 | G10: 20880.46 | H10: 5041.01 | K10: 15839.45 | N10: 32070 | Q10: 13750.89 | R10: 7906.92 | U10: 1813.49 | X10: 15007.23 | Y10: 5243.48 | Z10: 959.15 | AA10: 753.17 | AB10: 448.16 | AC10: 703.27 | AD10: 2395.76 | AE10: 465.59 | AG10: 209.85 | AH10: 804.81 | AK10: 3023.99 | AL10: 110.39 | AM10: 110.39 | AP10: 598.55 | AR10: 598.55 | AT10: 3644.26 | AU10: 125826.57 | AV10: 0 | BB10: 125826.57
A11: 5 | B11: Caterpillar Financial Services Poland Sp. z o.o. | C11: 0 | G11: 0 | X11: 241225.8 | Y11: 241225.8 | AL11: 0 | AP11: 0 | AU11: 241225.8 | AV11: 0 | BB11: 241225.8
A12: 6 | B12: De Lage Landen Leasing Polska S.A. | C12: 2518 | G12: 0 | N12: 2282 | U12: 236 | X12: 27051 | Y12: 2601 | Z12: 12403 | AE12: 874 | AG12: 6645 | AH12: 680 | AK12: 3848 | AL12: 6288 | AM12: 6288 | AP12: 0 | AU12: 35857 | AV12: 0 | BB12: 35857
A13: 7 | B13: Deutsche Leasing Polska S.A. | C13: 155453 | D13: 1180 | G13: 0 | N13: 27138 | Q13: 127135 | X13: 337090 | Y13: 3132 | Z13: 5474 | AA13: 3053 | AB13: 1739 | AC13: 45866 | AD13: 12836 | AE13: 1582 | AF13: 0 | AG13: 188746 | AK13: 74662 | AL13: 0 | AP13: 0 | AU13: 492543 | AV13: 0 | BB13: 492543
A14: 8 | B14: Europejski Fundusz Leasingowy S.A. | C14: 2690333.5 | D14: 1081223.5 | E14: 44018.193 | F14: 14056.506 | G14: 672956.17 | H14: 341522.99 | I14: 23547.481 | K14: 331433.17 | N14: 551047.35 | Q14: 321859.34 | R14: 43641.618 | U14: 19605.527 | V14: 162.34958 | X14: 1094969.9 | Y14: 397795.94 | Z14: 135717.54 | AA14: 17912.271 | AB14: 27817.568 | AC14: 80199.753 | AD14: 15196.066 | AE14: 9454.0629 | AF14: 40853.04 | AG14: 28814.56 | AH14: 58855.536 | AI14: 0 | AJ14: 152.01997 | AK14: 282201.55 | AL14: 68178.569 | AM14: 30262.942 | AN14: 9082.9571 | AO14: 28832.67 | AP14: 12190.472 | AQ14: 4119.8802 | AR14: 8070.5917 | AU14: 3865672.5 | AV14: 0 | BB14: 3865672.5
A15: 9 | B15: Grupa VB Leasing | C15: 793917.13 | D15: 286581.06 | E15: 10357.403 | F15: 49811.825 | G15: 142537.68 | H15: 84372.409 | I15: 401.93089 | K15: 58165.267 | M15: 4378.9852 | N15: 196828.55 | P15: 17571.656 | Q15: 112968.02 | R15: 23693.591 | T15: 295 | U15: 31308.238 | X15: 201867.89 | Y15: 50395.604 | Z15: 89159.335 | AA15: 3157.2172 | AB15: 3383.994 | AC15: 9261.1997 | AD15: 3612.3635 | AE15: 7623.516 | AF15: 1893.779 | AG15: 4931.3932 | AH15: 8925.8617 | AK15: 19523.622 | AL15: 2307.3335 | AM15: 970.2551 | AO15: 1337.0784 | AP15: 8200.6164 | AR15: 8200.6164 | AT15: 14761.235 | AU15: 1021054.2 | AV15: 0 | BB15: 1021054.2
A16: 10 | B16: Impuls-Leasing Polska Sp. z o. o. | C16: 436933.46 | D16: 216285.23 | E16: 6116.62 | F16: 1860.72 | G16: 63905.28 | H16: 47385.3 | I16: 257 | K16: 16519.98 | N16: 90542.41 | Q16: 58612.46 | R16: 3103.26 | U16: 4484.82 | V16: 43.21 | X16: 102018.83 | Y16: 25296.26 | Z16: 12512.4 | AA16: 2590.84 | AB16: 5501.93 | AC16: 10596.41 | AE16: 1462.87 | AF16: 3014.94 | AG16: 8210.61 | AK16: 32832.57 | AL16: 665.67 | AM16: 665.67 | AP16: 657.04 | AR16: 657.04 | AU16: 540275 | AV16: 0 | BB16: 540275
A17: 11 | B17: ING Lease (Polska) Sp. z o.o. | C17: 1975726 | D17: 788304 | E17: 37601 | F17: 21155 | G17: 384447 | H17: 212116 | I17: 5352 | J17: 0 | K17: 172331 | L17: 0 | M17: 0 | N17: 452985 | O17: 0 | P17: 0 | Q17: 247061 | R17: 41803 | S17: 0 | T17: 0 | U17: 61126 | V17: 1341 | W17: 0 | X17: 1002006 | Y17: 143470 | Z17: 19168 | AA17: 32487 | AB17: 245260 | AC17: 82824 | AD17: 74411 | AE17: 16965 | AF17: 17345 | AG17: 74506 | AH17: 24237 | AI17: 0 | AJ17: 724 | AK17: 270609 | AL17: 33226 | AM17: 33226 | AN17: 0 | AO17: 0 | AP17: 86039 | AQ17: 0 | AR17: 872 | AS17: 85167 | AT17: 76402 | AU17: 3173399 | AV17: 33808 | AW17: 0 | AX17: 0 | AY17: 33808 | AZ17: 0 | BA17: 0 | BB17: 3207207
A18: 12 | B18: Leasing Polski Sp. z o. o. | C18: 87663.348 | D18: 15345.714 | E18: 240.44797 | F18: 1135.7087 | G18: 18603.912 | H18: 10069.115 | I18: 0 | J18: 0 | K18: 8534.7976 | L18: 0 | M18: 0 | N18: 28178.025 | O18: 0 | P18: 0 | Q18: 9954.637 | R18: 3722.675 | S18: 0 | T18: 0 | U18: 11858.385 | X18: 12360.458 | Y18: 8713.3076 | Z18: 3258.25 | AC18: 0 | AG18: 388.9 | AK18: 0 | AL18: 0 | AP18: 97.56098 | AR18: 97.56098 | AS18: 0 | AT18: 0 | AU18: 100121.37 | AV18: 635.7 | AX18: 0 | AZ18: 445.7 | BA18: 190 | BB18: 100757.07
A19: 13 | B19: Millennium Leasing Sp. z o.o. | C19: 991197.11 | D19: 414234.32 | E19: 21204.286 | F19: 4647.1956 | G19: 130419.76 | H19: 73699.314 | I19: 1642.7534 | K19: 56720.442 | N19: 257334.83 | O19: 853.73305 | Q19: 164612.4 | R19: 2840.5224 | T19: 1928 | U19: 21755.28 | V19: 26.82927 | X19: 506888.74 | Y19: 85555.093 | Z19: 3210.4512 | AA19: 45129.3 | AB19: 85357.317 | AD19: 54883.655 | AE19: 5994.5343 | AG19: 49432.842 | AH19: 57142.81 | AK19: 120182.74 | AL19: 6344.9993 | AM19: 6344.9993 | AP19: 14195.8 | AQ19: 479.57848 | AR19: 6079.2217 | AS19: 7637 | AU19: 1518626.6 | AV19: 61944.482 | BA19: 61944.482 | BB19: 1580571.1
A20: 14 | B20: mLeasing Sp. z o.o. | C20: 2576126.6 | D20: 1962776.8 | G20: 243498.36 | H20: 154748.84 | K20: 88749.528 | N20: 187990.76 | Q20: 108489.21 | R20: 29647.239 | U20: 43724.25 | X20: 568114.9 | Y20: 92916.249 | Z20: 24148.705 | AA20: 21237.89 | AB20: 30016.592 | AC20: 81257.818 | AD20: 18950.779 | AE20: 5387.6936 | AF20: 2040.5324 | AG20: 39916.119 | AK20: 252242.52 | AL20: 18274.247 | AM20: 18269.182 | AN20: 5.0643465 | AP20: 86228.91 | AQ20: 10832.394 | AR20: 54313.215 | AS20: 21083.301 | AT20: 44002.087 | AU20: 3292746.8 | AV20: 51189.665 | AX20: 51189.665 | BB20: 3343936.4
A21: 15 | B21: PEAC (Poland) Sp. z o.o. | C21: 55887 | D21: 13697 | G21: 2722 | H21: 2168 | K21: 554 | N21: 10671 | Q21: 11740 | R21: 16385 | U21: 672 | V21: 407 | X21: 67998 | Y21: 4587 | Z21: 12483 | AA21: 2458 | AB21: 13845 | AC21: 2019 | AD21: 636 | AE21: 6137 | AF21: 63 | AG21: 529 | AH21: 324 | AK21: 24917 | AL21: 2052 | AM21: 2052 | AP21: 170 | AR21: 170 | AU21: 126107 | AV21: 0 | BB21: 126107
A22: 16 | B22: PEKAO Leasing Sp. z o.o. | C22: 1824755.5 | D22: 637863.08 | E22: 24778.234 | F22: 9483.6065 | G22: 252136.57 | H22: 102234.33 | I22: 1433.5604 | J22: 0 | K22: 149902.25 | L22: 279.43089 | M22: 0 | N22: 530985.97 | O22: 0 | P22: 0 | Q22: 231180.31 | R22: 136283.26 | S22: 0 | T22: 0 | U22: 36306.277 | V22: 193.56669 | W22: 0 | X22: 864263.82 | Y22: 117773.24 | Z22: 36703.62 | AA22: 61344.186 | AB22: 29237.135 | AC22: 147222.02 | AD22: 56802.403 | AE22: 4565.4826 | AF22: 2638.1587 | AG22: 36832.587 | AH22: 49944.042 | AI22: 0 | AJ22: 97.52111 | AK22: 321103.43 | AL22: 31662.054 | AM22: 31662.054 | AN22: 0 | AO22: 0 | AP22: 130734.1 | AQ22: 10672.158 | AR22: 31927.606 | AS22: 88134.333 | AT22: 37727.775 | AU22: 2889143.2 | AV22: 18069.221 | AW22: 0 | AX22: 17259.157 | AY22: 0 | AZ22: 0 | BA22: 810.06419 | BB22: 2907212.4
A23: 17 | B23: PKO Leasing S.A. | C23: 4224395.6 | D23: 2299300.4 | E23: 149147.32 | F23: 31552.655 | G23: 673220.22 | H23: 413909.68 | I23: 19080.781 | J23: 243.90244 | K23: 259310.54 | L23: 1989 | N23: 721310.98 | Q23: 424294.75 | R23: 66030.015 | S23: 3500 | U23: 40239.214 | V23: 1196.5809 | X23: 1194242.3 | Y23: 248812.03 | Z23: 122200.01 | AA23: 33395.22 | AB23: 34621.729 | AC23: 161896.01 | AD23: 67671.173 | AE23: 26598.441 | AF23: 5649.7801 | AG23: 46883.608 | AH23: 36119.253 | AK23: 410395.01 | AL23: 56379.966 | AM23: 42000.505 | AN23: 791.747 | AO23: 13587.715 | AP23: 265884.54 | AQ23: 15419.708 | AR23: 8250.6819 | AS23: 242214.15 | AU23: 5740902.4 | AV23: 0 | BB23: 5740902.4
A24: 18 | B24: Santander Consumer Multirent Sp.z o.o. | C24: 887015.63 | D24: 749170.74 | G24: 115807.96 | H24: 115807.96 | U24: 22036.93 | X24: 0 | AL24: 0 | AP24: 0 | AU24: 887015.63 | AV24: 0 | BB24: 887015.63
A25: 19 | B25: Santander Leasing S.A. | C25: 1933628.4 | D25: 1126703.7 | E25: 58998.264 | F25: 39017.397 | G25: 329464.13 | H25: 218950.32 | I25: 6080.421 | J25: 0 | K25: 110513.82 | L25: 272.503 | M25: 0 | N25: 328106.91 | O25: 0 | P25: 0 | Q25: 124078.6 | R25: 12400.826 | S25: 0 | T25: 0 | U25: 12874.18 | V25: 662.804 | W25: 0 | X25: 702929.45 | Y25: 92984.985 | Z25: 71136.853 | AA25: 25957.288 | AB25: 38779.249 | AC25: 53123.491 | AD25: 24093.568 | AE25: 18540.092 | AF25: 6417.782 | AG25: 63342.707 | AH25: 38426.874 | AI25: 0 | AJ25: 850.439 | AK25: 269276.12 | AL25: 12769.934 | AM25: 12769.934 | AN25: 0 | AO25: 0 | AP25: 30080.428 | AQ25: 24142.786 | AR25: 5475.205 | AS25: 462.437 | AT25: 0 | AU25: 2679408.2 | AV25: 0 | AW25: 0 | AX25: 0 | AY25: 0 | AZ25: 0 | BA25: 0 | BB25: 2679408.2
A26: 20 | B26: Scania Finance Polska Sp. z o.o. | C26: 777389 | D26: 1955 | G26: 70005 | H26: 11105 | K26: 58900 | L26: 1147 | N26: 653522 | Q26: 43349 | R26: 8208 | U26: 350 | X26: 0 | AL26: 0 | AP26: 0 | AU26: 777389 | AV26: 0 | BB26: 777389
A27: 21 | B27: SG Equipment Leasing Polska Sp. z o.o. | C27: 87002.999 | D27: 3798.07 | G27: 23166.693 | H27: 1123.0168 | K27: 22043.676 | N27: 34969.93 | Q27: 22837.904 | U27: 2230.4022 | X27: 65028.151 | Y27: 39937.973 | Z27: 7832.149 | AA27: 856.9104 | AB27: 0 | AC27: 7376.8029 | AD27: 271.8 | AE27: 0 | AF27: 0 | AG27: 2492.0204 | AH27: 649.82002 | AK27: 5610.6747 | AL27: 9794.0824 | AM27: 9794.0824 | AP27: 13061.79 | AQ27: 13061.79 | AU27: 174887.02 | AV27: 0 | BB27: 174887.02
A28: 22 | B28: SGB Leasing Sp. z o.o. | C28: 21169 | D28: 10177 | E28: 120 | G28: 5389 | H28: 2758 | K28: 2631 | N28: 2398 | Q28: 1816 | R28: 220 | U28: 1169 | V28: 0 | W28: 0 | X28: 18629 | Y28: 3435 | Z28: 5190 | AB28: 362 | AC28: 423 | AD28: 530 | AE28: 36 | AF28: 223 | AG28: 125 | AH28: 3004 | AK28: 5301 | AL28: 0 | AP28: 15000 | AS28: 15000 | AU28: 54798 | AV28: 0 | BB28: 54798
A29: 23 | B29: Siemens Finance Sp. z o.o. | C29: 17621 | D29: 1210 | G29: 14554 | H29: 458 | K29: 14096 | Q29: 1857 | X29: 382334 | Y29: 57454 | Z29: 9170 | AA29: 18533 | AB29: 927 | AC29: 62704 | AD29: 471 | AE29: 195734 | AG29: 2627 | AH29: 45 | AK29: 34669 | AL29: 25414 | AM29: 22461 | AN29: 2953 | AP29: 0 | AU29: 425369 | AV29: 0 | BB29: 425369
B30: Razem | C30: 21952946 | D30: 10868428 | E30: 385133.69 | F30: 184359.4 | G30: 3595879.6 | H30: 2077233.6 | I30: 61169.092 | J30: 243.90244 | K30: 1518646 | L30: 3687.9339 | M30: 4378.9852 | N30: 4469249.7 | O30: 853.73305 | P30: 17571.656 | Q30: 2211550.5 | R30: 457203.73 | S30: 3500 | T30: 2223 | U30: 350635.2 | V30: 4155.1698 | W30: 0 | X30: 8251427.7 | Y30: 1805179.6 | Z30: 697564.99 | AA30: 275222.19 | AB30: 532741.66 | AC30: 781141.41 | AD30: 362469.84 | AE30: 310057.11 | AF30: 81597.208 | AG30: 639834.6 | AH30: 302032.23 | AI30: 0 | AJ30: 2439.6656 | AK30: 2461147.1 | AL30: 316982.57 | AM30: 243730.46 | AN30: 14679.01 | AO30: 58573.103 | AP30: 698639.86 | AQ30: 86770.236 | AR30: 125335.7 | AS30: 486533.92 | AT30: 176537.36 | AU30: 31396534 | AV30: 253106.66 | AW30: 716.4019 | AX30: 155192.01 | AY30: 33808 | AZ30: 445.7 | BA30: 62944.546 | BB30: 31649641
A32: Ilość środków oddanych w leasing w szt. | C32: 01.01.2023-30.06.2023
A35: Lp. | B35: Spółka | C35: POJAZDY | D35: Osobowe | E35: osobowe - zeroemisyjne | F35: osobowe - hybryda plug-in | G35: Cięzarowe: | H35: o masie do 3,5 tony | I35: o masie do 3,5 tony - zeroemisyjne | J35: o masie do 3,5 tony - hybryda plug-in | K35: o masie powyzej 3,5 tony | L35: o masie powyżej 3,5 tony - zeroemisyjne | M35: o masie powyżej 3,5 tony - hybryda plug-in | N35: ciagniki siodlowe | O35: ciągniki siodłowe - zeroemisyjne | P35: ciągniki siodłowe - hybryda plug-in | Q35: naczepy / przyczepy | R35: autobusy | S35: autobusy - zeroemisyjne | T35: autobusy - hybryda plug-in | U35: inne | V35: inne - zeroemisyjne | W35: inne - hybryda plug-in | X35: MiU | Y35: Sprzęt Budowlany | Z35: Maszyny Rolnicze | AA35: Maszyny Poligraf. | AB35: maszyny do produkcji tworzyw sztucznych | AC35: maszyny i urządzenia do obróbki metali | AD35: maszyny dla przemysłu spożywczego | AE35: Sprzęt Medyczny | AF35: Sprzęt Gastronom. | AG35: Wózki Widłowe | AH35: fotowoltaika | AI35: wiatraki i turbiny wiatrowe | AJ35: stacje ładowania pojazdów elektrycznych (na użytek własny i komercyjny) | AK35: inne MiU | AL35: IT | AM35: Sprzęt | AN35: Oprogram. | AO35: inne IT | AP35: POZOSTAŁE ŚRODKI TRANSPORTU | AQ35: Powietrzne | AR35: Wodne | AS35: Kolejowe | AT35: Inne ruchomości | AU35: RUCHOMOŚCI | AV35: Nieruchomości | AW35: budynki przemysłowe | AX35: obiekty handlowe i usługowe | AY35: obiekty biurowe | AZ35: hotele i obiekty rekreacyjne | BA35: inne | BB35: OGÓŁEM
A36: 1 | B36: Alior Leasing Sp. z o. o. | C36: 6818 | D36: 3145 | G36: 1551 | H36: 1232 | K36: 319 | N36: 844 | Q36: 964 | R36: 159 | U36: 155 | X36: 1179 | Y36: 357 | Z36: 182 | AA36: 18 | AB36: 36 | AC36: 129 | AD36: 39 | AE36: 80 | AF36: 1 | AG36: 41 | AH36: 19 | AK36: 277 | AL36: 14 | AM36: 14 | AP36: 49 | AS36: 49 | AU36: 8060 | AV36: 0 | BB36: 8060
A37: 2 | B37: BNP Paribas Lease Group Sp. z o.o. | C37: 8200 | D37: 6270 | E37: 169 | F37: 0 | G37: 1198 | H37: 997 | I37: 18 | J37: 0 | K37: 201 | L37: 0 | M37: 0 | N37: 273 | O37: 0 | P37: 0 | Q37: 244 | R37: 7 | S37: 0 | T37: 0 | U37: 208 | V37: 3 | W37: 0 | X37: 1977 | Y37: 369 | Z37: 195 | AA37: 3 | AB37: 3 | AC37: 16 | AD37: 12 | AE37: 47 | AF37: 9 | AG37: 646 | AH37: 75 | AI37: 0 | AJ37: 2 | AK37: 600 | AL37: 452 | AM37: 199 | AN37: 8 | AO37: 245 | AP37: 1 | AQ37: 0 | AR37: 1 | AS37: 0 | AU37: 10630 | AV37: 5 | AW37: 1 | AX37: 4 | AY37: 0 | AZ37: 0 | BA37: 0 | BB37: 10635
A38: 3 | B38: BOŚ Leasing - EKO Profit S.A. | C38: 115 | D38: 24 | G38: 20 | H38: 13 | K38: 7 | N38: 12 | Q38: 41 | R38: 4 | U38: 14 | X38: 153 | Y38: 22 | Z38: 9 | AA38: 2 | AB38: 2 | AC38: 4 | AD38: 11 | AE38: 3 | AG38: 15 | AH38: 42 | AK38: 43 | AL38: 1 | AM38: 1 | AP38: 5 | AQ38: 1 | AR38: 4 | AS38: 0 | AU38: 274 | AV38: 0 | BB38: 274
A39: 4 | B39: BPS Leasing Spółka Akcyjna (BPS Leasing S.A.) | C39: 499 | D39: 245 | E39: 3 | F39: 83 | G39: 82 | H39: 45 | K39: 37 | N39: 83 | Q39: 63 | R39: 20 | U39: 6 | X39: 51 | Y39: 18 | Z39: 4 | AA39: 1 | AB39: 1 | AC39: 2 | AD39: 7 | AE39: 2 | AG39: 2 | AH39: 7 | AK39: 7 | AL39: 1 | AM39: 1 | AP39: 3 | AR39: 3 | AT39: 20 | AU39: 574 | AV39: 0 | BB39: 574
A40: 5 | B40: Caterpillar Financial Services Poland Sp. z o.o. | C40: 0 | G40: 0 | X40: 487 | Y40: 487 | AL40: 0 | AP40: 0 | AU40: 487 | AV40: 0 | BB40: 487
A41: 6 | B41: De Lage Landen Leasing Polska S.A. | C41: 6 | G41: 0 | N41: 5 | U41: 1 | X41: 106 | Y41: 16 | Z41: 24 | AE41: 16 | AG41: 30 | AH41: 8 | AK41: 12 | AL41: 84 | AM41: 84 | AP41: 0 | AU41: 196 | AV41: 0 | BB41: 196
A42: 7 | B42: Deutsche Leasing Polska S.A. | C42: 1070 | D42: 5 | G42: 0 | N42: 58 | Q42: 1007 | X42: 1733 | Y42: 6 | Z42: 9 | AA42: 4 | AB42: 2 | AC42: 46 | AD42: 2 | AE42: 1 | AF42: 0 | AG42: 1611 | AK42: 52 | AL42: 0 | AP42: 0 | AU42: 2803 | AV42: 0 | BB42: 2803
A43: 8 | B43: Europejski Fundusz Leasingowy S.A. | C43: 15250 | D43: 7343 | E43: 166 | F43: 66 | G43: 3543 | H43: 2581 | I43: 99 | K43: 962 | N43: 1633 | Q43: 2215 | R43: 80 | U43: 436 | V43: 6 | X43: 6902 | Y43: 1895 | Z43: 727 | AA43: 91 | AB43: 86 | AC43: 292 | AD43: 86 | AE43: 124 | AF43: 663 | AG43: 289 | AH43: 435 | AI43: 0 | AJ43: 2 | AK43: 2212 | AL43: 718 | AM43: 371 | AN43: 142 | AO43: 205 | AP43: 43 | AQ43: 10 | AR43: 33 | AU43: 22913 | AV43: 0 | BB43: 22913
A44: 9 | B44: Grupa VB Leasing | C44: 5461 | D44: 2441 | E44: 43 | F44: 298 | G44: 1081 | H44: 820 | I44: 3 | K44: 261 | M44: 16 | N44: 731 | P44: 52 | Q44: 807 | R44: 89 | T44: 2 | U44: 312 | X44: 1089 | Y44: 240 | Z44: 253 | AA44: 31 | AB44: 17 | AC44: 32 | AD44: 39 | AE44: 134 | AF44: 31 | AG44: 47 | AH44: 89 | AK44: 176 | AL44: 33 | AM44: 25 | AO44: 8 | AP44: 26 | AR44: 26 | AT44: 184 | AU44: 6793 | AV44: 0 | BB44: 6793
A45: 10 | B45: Impuls-Leasing Polska Sp. z o. o. | C45: 2410 | D45: 1339 | E45: 26 | F45: 11 | G45: 403 | H45: 349 | I45: 2 | K45: 54 | N45: 216 | Q45: 357 | R45: 10 | U45: 85 | V45: 1 | X45: 615 | Y45: 100 | Z45: 102 | AA45: 17 | AB45: 9 | AC45: 18 | AE45: 38 | AF45: 40 | AG45: 75 | AK45: 216 | AL45: 20 | AM45: 20 | AP45: 2 | AR45: 2 | AU45: 3047 | AV45: 0 | BB45: 3047
A46: 11 | B46: ING Lease (Polska) Sp. z o.o. | C46: 10155 | D46: 5358 | E46: 188 | F46: 87 | G46: 2049 | H46: 1648 | I46: 28 | J46: 0 | K46: 401 | L46: 1 | M46: 0 | N46: 1153 | O46: 0 | P46: 0 | Q46: 1329 | R46: 43 | S46: 0 | T46: 0 | U46: 223 | V46: 13 | W46: 0 | X46: 2829 | Y46: 397 | Z46: 55 | AA46: 85 | AB46: 388 | AC46: 85 | AD46: 111 | AE46: 109 | AF46: 93 | AG46: 592 | AH46: 168 | AI46: 0 | AJ46: 3 | AK46: 743 | AL46: 125 | AM46: 125 | AN46: 0 | AO46: 0 | AP46: 170 | AQ46: 0 | AR46: 1 | AS46: 169 | AT46: 372 | AU46: 13651 | AV46: 2 | AW46: 0 | AX46: 0 | AY46: 2 | AZ46: 0 | BA46: 0 | BB46: 13653
A47: 12 | B47: Leasing Polski Sp. z o. o. | C47: 780 | D47: 159 | E47: 1 | F47: 12 | G47: 192 | H47: 132 | I47: 0 | J47: 0 | K47: 60 | L47: 0 | M47: 0 | N47: 197 | O47: 0 | P47: 0 | Q47: 133 | R47: 30 | S47: 0 | T47: 0 | U47: 69 | X47: 68 | Y47: 46 | Z47: 16 | AC47: 0 | AG47: 6 | AK47: 0 | AL47: 0 | AP47: 1 | AR47: 1 | AS47: 0 | AT47: 0 | AU47: 849 | AV47: 5 | AX47: 0 | AZ47: 4 | BA47: 1 | BB47: 854
A48: 13 | B48: Millennium Leasing Sp. z o.o. | C48: 5111 | D48: 2599 | E48: 87 | F48: 37 | G48: 741 | H48: 575 | I48: 9 | K48: 166 | N48: 692 | O48: 2 | Q48: 970 | R48: 3 | T48: 1 | U48: 106 | V48: 1 | X48: 1807 | Y48: 253 | Z48: 22 | AA48: 68 | AB48: 171 | AD48: 67 | AE48: 55 | AG48: 234 | AH48: 492 | AK48: 445 | AL48: 35 | AM48: 35 | AP48: 20 | AQ48: 1 | AR48: 17 | AS48: 2 | AU48: 6973 | AV48: 1 | BA48: 1 | BB48: 6974
A49: 14 | B49: mLeasing Sp. z o.o. | C49: 14672 | D49: 11857 | G49: 1640 | H49: 1429 | K49: 211 | N49: 491 | Q49: 579 | R49: 45 | U49: 60 | X49: 2833 | Y49: 241 | Z49: 37 | AA49: 53 | AB49: 100 | AC49: 144 | AD49: 19 | AE49: 107 | AF49: 91 | AG49: 431 | AK49: 1610 | AL49: 511 | AM49: 510 | AN49: 1 | AP49: 88 | AQ49: 4 | AR49: 60 | AS49: 24 | AT49: 603 | AU49: 18707 | AV49: 2 | AX49: 2 | BB49: 18709
A50: 15 | B50: PEAC (Poland) Sp. z o.o. | C50: 322 | D50: 180 | G50: 21 | H50: 17 | K50: 4 | N50: 25 | Q50: 76 | R50: 16 | U50: 4 | V50: 1 | X50: 506 | Y50: 19 | Z50: 25 | AA50: 9 | AB50: 11 | AC50: 58 | AD50: 3 | AE50: 74 | AF50: 3 | AG50: 9 | AH50: 2 | AK50: 293 | AL50: 31 | AM50: 31 | AP50: 1 | AR50: 1 | AU50: 860 | AV50: 0 | BB50: 860
A51: 16 | B51: PEKAO Leasing Sp. z o.o. | C51: 7589 | D51: 3731 | E51: 115 | F51: 43 | G51: 1027 | H51: 724 | I51: 8 | J51: 0 | K51: 303 | L51: 1 | M51: 0 | N51: 1274 | O51: 0 | P51: 0 | Q51: 1245 | R51: 176 | S51: 0 | T51: 0 | U51: 136 | V51: 11 | W51: 0 | X51: 2446 | Y51: 274 | Z51: 74 | AA51: 49 | AB51: 72 | AC51: 183 | AD51: 96 | AE51: 57 | AF51: 37 | AG51: 281 | AH51: 262 | AI51: 0 | AJ51: 2 | AK51: 1059 | AL51: 277 | AM51: 277 | AN51: 0 | AO51: 0 | AP51: 73 | AQ51: 6 | AR51: 36 | AS51: 31 | AT51: 136 | AU51: 10521 | AV51: 2 | AW51: 0 | AX51: 1 | AY51: 0 | AZ51: 0 | BA51: 1 | BB51: 10523
A52: 17 | B52: PKO Leasing S.A. | C52: 25193 | D52: 16140 | E52: 758 | F52: 127 | G52: 3915 | H52: 3314 | I52: 111 | J52: 1 | K52: 601 | L52: 1 | N52: 1787 | Q52: 2562 | R52: 114 | S52: 2 | U52: 675 | V52: 50 | X52: 7175 | Y52: 921 | Z52: 477 | AA52: 110 | AB52: 73 | AC52: 361 | AD52: 591 | AE52: 282 | AF52: 234 | AG52: 397 | AH52: 354 | AK52: 3375 | AL52: 4770 | AM52: 3105 | AN52: 6 | AO52: 1659 | AP52: 137 | AQ52: 7 | AR52: 17 | AS52: 113 | AU52: 37275 | AV52: 0 | BB52: 37275
A53: 18 | B53: Santander Consumer Multirent Sp.z o.o. | C53: 7408 | D53: 5878 | G53: 1030 | H53: 1030 | U53: 500 | X53: 0 | AL53: 0 | AP53: 0 | AU53: 7408 | AV53: 0 | BB53: 7408
A54: 19 | B54: Santander Leasing S.A. | C54: 10518 | D54: 6672 | E54: 259 | F54: 186 | G54: 1871 | H54: 1542 | I54: 33 | J54: 0 | K54: 329 | L54: 1 | M54: 0 | N54: 856 | O54: 0 | P54: 0 | Q54: 792 | R54: 22 | S54: 0 | T54: 0 | U54: 305 | V54: 34 | W54: 0 | X54: 4044 | Y54: 357 | Z54: 275 | AA54: 105 | AB54: 47 | AC54: 117 | AD54: 29 | AE54: 286 | AF54: 270 | AG54: 587 | AH54: 284 | AI54: 0 | AJ54: 7 | AK54: 1680 | AL54: 363 | AM54: 363 | AN54: 0 | AO54: 0 | AP54: 21 | AQ54: 6 | AR54: 6 | AS54: 9 | AT54: 0 | AU54: 14946 | AV54: 0 | AW54: 0 | AX54: 0 | AY54: 0 | AZ54: 0 | BA54: 0 | BB54: 14946
A55: 20 | B55: Scania Finance Polska Sp. z o.o. | C55: 1624 | D55: 7 | G55: 122 | H55: 15 | K55: 107 | L55: 1 | N55: 1236 | Q55: 239 | R55: 15 | U55: 5 | X55: 0 | AL55: 0 | AP55: 0 | AU55: 1624 | AV55: 0 | BB55: 1624
A56: 21 | B56: SG Equipment Leasing Polska Sp. z o.o. | C56: 332 | D56: 32 | G56: 52 | H56: 8 | K56: 44 | N56: 88 | Q56: 158 | U56: 2 | X56: 312 | Y56: 185 | Z56: 25 | AA56: 2 | AB56: 0 | AC56: 37 | AD56: 2 | AE56: 0 | AF56: 0 | AG56: 27 | AH56: 6 | AK56: 28 | AL56: 23 | AM56: 23 | AP56: 5 | AQ56: 5 | AU56: 672 | AV56: 0 | BB56: 672
A57: 22 | B57: SGB Leasing Sp. z o.o. | C57: 129 | D57: 66 | E57: 1 | G57: 30 | H57: 23 | K57: 7 | N57: 9 | Q57: 15 | R57: 2 | U57: 7 | W57: 0 | X57: 81 | Y57: 19 | Z57: 14 | AB57: 1 | AC57: 4 | AD57: 3 | AE57: 1 | AF57: 2 | AG57: 3 | AH57: 13 | AK57: 21 | AL57: 0 | AP57: 3 | AS57: 3 | AU57: 213 | AV57: 0 | BB57: 213
A58: 23 | B58: Siemens Finance Sp. z o.o. | C58: 17 | D58: 5 | G58: 10 | H58: 2 | K58: 8 | Q58: 2 | X58: 1303 | Y58: 42 | Z58: 15 | AA58: 8 | AB58: 3 | AC58: 55 | AD58: 1 | AE58: 727 | AG58: 7 | AH58: 2 | AK58: 443 | AL58: 3250 | AM58: 3216 | AN58: 34 | AP58: 0 | AU58: 4570 | AV58: 0 | BB58: 4570
B59: Razem | C59: 123679 | D59: 73496 | E59: 1816 | F59: 950 | G59: 20578 | H59: 16496 | I59: 311 | J59: 1 | K59: 4082 | L59: 5 | M59: 16 | N59: 11663 | O59: 2 | P59: 52 | Q59: 13798 | R59: 835 | S59: 2 | T59: 3 | U59: 3309 | V59: 120 | W59: 0 | X59: 37696 | Y59: 6264 | Z59: 2540 | AA59: 656 | AB59: 1022 | AC59: 1583 | AD59: 1118 | AE59: 2143 | AF59: 1474 | AG59: 5330 | AH59: 2258 | AI59: 0 | AJ59: 16 | AK59: 13292 | AL59: 10708 | AM59: 8400 | AN59: 191 | AO59: 2117 | AP59: 648 | AQ59: 40 | AR59: 208 | AS59: 400 | AT59: 1315 | AU59: 174046 | AV59: 17 | AW59: 1 | AX59: 7 | AY59: 2 | AZ59: 4 | BA59: 3 | BB59: 174063
A61: Średnia wartość środków oddanych w leasing (tys. PLN)
C62: 01.01.2023-30.06.2023
A64: Lp. | B64: Spółka | C64: POJAZDY | D64: Osobowe | E64: osobowe - zeroemisyjne | F64: osobowe - hybryda plug-in | G64: Cięzarowe: | H64: o masie do 3,5 tony | I64: o masie do 3,5 tony - zeroemisyjne | J64: o masie do 3,5 tony - hybryda plug-in | K64: o masie powyzej 3,5 tony | L64: o masie powyżej 3,5 tony - zeroemisyjne | M64: o masie powyżej 3,5 tony - hybryda plug-in | N64: ciagniki siodlowe | O64: ciągniki siodłowe - zeroemisyjne | P64: ciągniki siodłowe - hybryda plug-in | Q64: naczepy / przyczepy | R64: autobusy | S64: autobusy - zeroemisyjne | T64: autobusy - hybryda plug-in | U64: inne | V64: inne - zeroemisyjne | W64: inne - hybryda plug-in | X64: MiU | Y64: Sprzęt Budowlany | Z64: Maszyny Rolnicze | AA64: Maszyny Poligraf. | AB64: maszyny do produkcji tworzyw sztucznych | AC64: maszyny i urządzenia do obróbki metali | AD64: maszyny dla przemysłu spożywczego | AE64: Sprzęt Medyczny | AF64: Sprzęt Gastronom. | AG64: Wózki Widłowe | AH64: fotowoltaika | AI64: wiatraki i turbiny wiatrowe | AJ64: stacje ładowania pojazdów elektrycznych (na użytek własny i komercyjny) | AK64: inne MiU | AL64: IT | AM64: Sprzęt | AN64: Oprogram. | AO64: inne IT | AP64: POZOSTAŁE ŚRODKI TRANSPORTU | AQ64: Powietrzne | AR64: Wodne | AS64: Kolejowe | AT64: Inne ruchomości | AU64: RUCHOMOŚCI | AV64: Nieruchomości | AW64: budynki przemysłowe | AX64: obiekty handlowe i usługowe | AY64: obiekty biurowe | AZ64: hotele i obiekty rekreacyjne | BA64: inne | BB64: OGÓŁEM
A65: 1 | B65: Alior Leasing Sp. z o. o. | C65: 155.30695 | D65: 131.26863 | G65: 135.1242 | H65: 97.804217 | K65: 279.25656 | N65: 273.14168 | Q65: 135.25566 | R65: 356.29522 | U65: 121.91186 | X65: 143.71184 | Y65: 186.43125 | Z65: 188.10977 | AA65: 125.92619 | AB65: 75.104284 | AC65: 188.46273 | AD65: 86.743749 | AE65: 39.681317 | AF65: 13.78 | AG65: 85.30069 | AH65: 105.61791 | AK65: 98.508473 | AL65: 306.48356 | AM65: 306.48356 | AP65: 547.66729 | AS65: 547.66729 | AU65: 156.25875 | BB65: 156.25875
A66: 2 | B66: BNP Paribas Lease Group Sp. z o.o. | C66: 149.17157 | D66: 129.39278 | E66: 188.2682 | G66: 183.33045 | H66: 158.45061 | I66: 187.39801 | K66: 306.73941 | N66: 465.66644 | Q66: 203.93268 | R66: 461.24286 | U66: 58.505267 | V66: 40.609787 | X66: 314.18328 | Y66: 300.23545 | Z66: 451.07497 | AA66: 1114.0297 | AB66: 2534.5896 | AC66: 572.86926 | AD66: 2144.4436 | AE66: 98.525324 | AF66: 160.49058 | AG66: 124.17611 | AH66: 172.21633 | AJ66: 307.84276 | AK66: 461.20664 | AL66: 86.329776 | AM66: 112.35768 | AN66: 230.78016 | AO66: 60.471999 | AP66: 40.65041 | AR66: 40.65041 | AU66: 177.17864 | AV66: 17491.919 | AW66: 716.4019 | AX66: 21685.798 | BB66: 185.31909
A67: 3 | B67: BOŚ Leasing - EKO Profit S.A. | C67: 223.11626 | D67: 185.21125 | G67: 147.895 | H67: 99.561538 | K67: 237.65714 | N67: 269.12667 | Q67: 141.65732 | R67: 359.54 | U67: 555.69786 | X67: 371.40922 | Y67: 295.81091 | Z67: 515.88222 | AA67: 374.07 | AB67: 2568.73 | AC67: 547.76 | AD67: 53.812727 | AE67: 277.21 | AG67: 99.087333 | AH67: 189.2919 | AK67: 621.81512 | AL67: 203.5 | AM67: 203.5 | AP67: 1724.94 | AQ67: 8041.94 | AR67: 145.69 | AU67: 333.25613 | BB67: 333.25613
A68: 4 | B68: BPS Leasing Spółka Akcyjna (BPS Leasing S.A.) | C68: 213.359 | D68: 122.63012 | E68: 244.86333 | F68: 140.22639 | G68: 254.63976 | H68: 112.02244 | K68: 428.09324 | N68: 386.38554 | Q68: 218.2681 | R68: 395.346 | U68: 302.24833 | X68: 294.25941 | Y68: 291.30444 | Z68: 239.7875 | AA68: 753.17 | AB68: 448.16 | AC68: 351.635 | AD68: 342.25143 | AE68: 232.795 | AG68: 104.925 | AH68: 114.97286 | AK68: 431.99857 | AL68: 110.39 | AM68: 110.39 | AP68: 199.51667 | AR68: 199.51667 | AT68: 182.213 | AU68: 219.21005 | BB68: 219.21005
A69: 5 | B69: Caterpillar Financial Services Poland Sp. z o.o. | X69: 495.33019 | Y69: 495.33019 | AU69: 495.33019 | BB69: 495.33019
A70: 6 | B70: De Lage Landen Leasing Polska S.A. | C70: 419.66667 | N70: 456.4 | U70: 236 | X70: 255.19811 | Y70: 162.5625 | Z70: 516.79167 | AE70: 54.625 | AG70: 221.5 | AH70: 85 | AK70: 320.66667 | AL70: 74.857143 | AM70: 74.857143 | AU70: 182.94388 | BB70: 182.94388
A71: 7 | B71: Deutsche Leasing Polska S.A. | C71: 145.28318 | D71: 236 | N71: 467.89655 | Q71: 126.25124 | X71: 194.51241 | Y71: 522 | Z71: 608.22222 | AA71: 763.25 | AB71: 869.5 | AC71: 997.08696 | AD71: 6418 | AE71: 1582 | AG71: 117.16077 | AK71: 1435.8077 | AU71: 175.71994 | BB71: 175.71994
A72: 8 | B72: Europejski Fundusz Leasingowy S.A. | C72: 176.41531 | D72: 147.24548 | E72: 265.16984 | F72: 212.97737 | G72: 189.93965 | H72: 132.32197 | I72: 237.85334 | K72: 344.52513 | N72: 337.44479 | Q72: 145.30896 | R72: 545.52022 | U72: 44.966806 | V72: 27.058263 | X72: 158.64531 | Y72: 209.9187 | Z72: 186.68162 | AA72: 196.83815 | AB72: 323.46009 | AC72: 274.65669 | AD72: 176.69844 | AE72: 76.242443 | AF72: 61.618462 | AG72: 99.704361 | AH72: 135.30008 | AJ72: 76.009985 | AK72: 127.57755 | AL72: 94.956225 | AM72: 81.571273 | AN72: 63.964487 | AO72: 140.64717 | AP72: 283.49935 | AQ72: 411.98802 | AR72: 244.56339 | AU72: 168.71088 | BB72: 168.71088
A73: 9 | B73: Grupa VB Leasing | C73: 145.37944 | D73: 117.40314 | E73: 240.86985 | F73: 167.15378 | G73: 131.85724 | H73: 102.89318 | I73: 133.97696 | K73: 222.85543 | M73: 273.68658 | N73: 269.2593 | P73: 337.91646 | Q73: 139.98515 | R73: 266.22013 | T73: 147.5 | U73: 100.34692 | X73: 185.36996 | Y73: 209.98168 | Z73: 352.40844 | AA73: 101.84572 | AB73: 199.05847 | AC73: 289.41249 | AD73: 92.624704 | AE73: 56.89191 | AF73: 61.089644 | AG73: 104.92326 | AH73: 100.29058 | AK73: 110.92967 | AL73: 69.919198 | AM73: 38.810204 | AO73: 167.1348 | AP73: 315.40832 | AR73: 315.40832 | AT73: 80.224105 | AU73: 150.30976 | BB73: 150.30976
A74: 10 | B74: Impuls-Leasing Polska Sp. z o. o. | C74: 181.30019 | D74: 161.52743 | E74: 235.25462 | F74: 169.15636 | G74: 158.5739 | H74: 135.7745 | I74: 128.5 | K74: 305.92556 | N74: 419.17782 | Q74: 164.18056 | R74: 310.326 | U74: 52.762588 | V74: 43.21 | X74: 165.88428 | Y74: 252.9626 | Z74: 122.67059 | AA74: 152.40235 | AB74: 611.32556 | AC74: 588.68944 | AE74: 38.496579 | AF74: 75.3735 | AG74: 109.4748 | AK74: 152.00264 | AL74: 33.2835 | AM74: 33.2835 | AP74: 328.52 | AR74: 328.52 | AU74: 177.31375 | BB74: 177.31375
A75: 11 | B75: ING Lease (Polska) Sp. z o.o. | C75: 194.55697 | D75: 147.12654 | E75: 200.00532 | F75: 243.16092 | G75: 187.62665 | H75: 128.71117 | I75: 191.14286 | K75: 429.75312 | L75: 0 | N75: 392.87511 | Q75: 185.89992 | R75: 972.16279 | U75: 274.10762 | V75: 103.15385 | X75: 354.19088 | Y75: 361.38539 | Z75: 348.50909 | AA75: 382.2 | AB75: 632.1134 | AC75: 974.4 | AD75: 670.36937 | AE75: 155.6422 | AF75: 186.50538 | AG75: 125.85473 | AH75: 144.26786 | AJ75: 241.33333 | AK75: 364.21131 | AL75: 265.808 | AM75: 265.808 | AP75: 506.11176 | AR75: 872 | AS75: 503.94675 | AT75: 205.38172 | AU75: 232.46641 | AV75: 16904 | AY75: 16904 | BB75: 234.90859
A76: 12 | B76: Leasing Polski Sp. z o. o. | C76: 112.38891 | D76: 96.513925 | E76: 240.44797 | F76: 94.642392 | G76: 96.895376 | H76: 76.281171 | K76: 142.24663 | N76: 143.03566 | Q76: 74.846894 | R76: 124.08917 | U76: 171.86065 | X76: 181.77144 | Y76: 189.41973 | Z76: 203.64062 | AG76: 64.816667 | AP76: 97.56098 | AR76: 97.56098 | AU76: 117.92858 | AV76: 127.14 | AZ76: 111.425 | BA76: 190 | BB76: 117.98251
A77: 13 | B77: Millennium Leasing Sp. z o.o. | C77: 193.93408 | D77: 159.38219 | E77: 243.72742 | F77: 125.59988 | G77: 176.00507 | H77: 128.17272 | I77: 182.52815 | K77: 341.68941 | N77: 371.87114 | O77: 426.86652 | Q77: 169.70351 | R77: 946.84079 | T77: 1928 | U77: 205.23849 | V77: 26.82927 | X77: 280.51397 | Y77: 338.16242 | Z77: 145.9296 | AA77: 663.66618 | AB77: 499.1656 | AD77: 819.15902 | AE77: 108.99153 | AG77: 211.25146 | AH77: 116.14392 | AK77: 270.07357 | AL77: 181.28569 | AM77: 181.28569 | AP77: 709.79001 | AQ77: 479.57848 | AR77: 357.60128 | AS77: 3818.5 | AU77: 217.7867 | AV77: 61944.482 | BA77: 61944.482 | BB77: 226.63767
A78: 14 | B78: mLeasing Sp. z o.o. | C78: 175.58115 | D78: 165.53739 | G78: 148.47461 | H78: 108.2917 | K78: 420.61388 | N78: 382.87325 | Q78: 187.37342 | R78: 658.82754 | U78: 728.73751 | X78: 200.53473 | Y78: 385.5446 | Z78: 652.66769 | AA78: 400.71491 | AB78: 300.16592 | AC78: 564.2904 | AD78: 997.40941 | AE78: 50.352276 | AF78: 22.423433 | AG78: 92.612806 | AK78: 156.67238 | AL78: 35.761735 | AM78: 35.821926 | AN78: 5.0643465 | AP78: 979.87398 | AQ78: 2708.0985 | AR78: 905.22025 | AS78: 878.47087 | AT78: 72.971951 | AU78: 176.01683 | AV78: 25594.832 | AX78: 25594.832 | BB78: 178.73411
A79: 15 | B79: PEAC (Poland) Sp. z o.o. | C79: 173.56211 | D79: 76.094444 | G79: 129.61905 | H79: 127.52941 | K79: 138.5 | N79: 426.84 | Q79: 154.47368 | R79: 1024.0625 | U79: 168 | V79: 407 | X79: 134.3834 | Y79: 241.42105 | Z79: 499.32 | AA79: 273.11111 | AB79: 1258.6364 | AC79: 34.810345 | AD79: 212 | AE79: 82.932432 | AF79: 21 | AG79: 58.777778 | AH79: 162 | AK79: 85.040956 | AL79: 66.193548 | AM79: 66.193548 | AP79: 170 | AR79: 170 | AU79: 146.63605 | BB79: 146.63605
A80: 16 | B80: PEKAO Leasing Sp. z o.o. | C80: 240.44742 | D80: 170.96303 | E80: 215.46291 | F80: 220.54899 | G80: 245.50786 | H80: 141.20763 | I80: 179.19505 | K80: 494.72689 | L80: 279.43089 | N80: 416.78648 | Q80: 185.687 | R80: 774.33673 | U80: 266.95792 | V80: 17.596972 | X80: 353.33762 | Y80: 429.82934 | Z80: 495.99487 | AA80: 1251.9222 | AB80: 406.07132 | AC80: 804.4919 | AD80: 591.6917 | AE80: 80.096186 | AF80: 71.301587 | AG80: 131.07682 | AH80: 190.62612 | AJ80: 48.760555 | AK80: 303.21381 | AL80: 114.30344 | AM80: 114.30344 | AP80: 1790.878 | AQ80: 1778.6931 | AR80: 886.87794 | AS80: 2843.043 | AT80: 277.41011 | AU80: 274.60728 | AV80: 9034.6104 | AX80: 17259.157 | BA80: 810.06419 | BB80: 276.27221
A81: 17 | B81: PKO Leasing S.A. | C81: 167.68132 | D81: 142.45975 | E81: 196.76428 | F81: 248.4461 | G81: 171.95919 | H81: 124.89731 | I81: 171.89892 | J81: 243.90244 | K81: 431.46512 | L81: 1989 | N81: 403.64352 | Q81: 165.61075 | R81: 579.21066 | S81: 1750 | U81: 59.61365 | V81: 23.931619 | X81: 166.44491 | Y81: 270.15421 | Z81: 256.1845 | AA81: 303.59291 | AB81: 474.27025 | AC81: 448.4654 | AD81: 114.50283 | AE81: 94.320712 | AF81: 24.144359 | AG81: 118.09473 | AH81: 102.03179 | AK81: 121.59852 | AL81: 11.819699 | AM81: 13.526733 | AN81: 131.95783 | AO81: 8.1903043 | AP81: 1940.7631 | AQ81: 2202.8155 | AR81: 485.33423 | AS81: 2143.4881 | AU81: 154.01482 | BB81: 154.01482
A82: 18 | B82: Santander Consumer Multirent Sp.z o.o. | C82: 119.73753 | D82: 127.45334 | G82: 112.43491 | H82: 112.43491 | U82: 44.07386 | AU82: 119.73753 | BB82: 119.73753
A83: 19 | B83: Santander Leasing S.A. | C83: 183.83993 | D83: 168.87046 | E83: 227.79253 | F83: 209.77095 | G83: 176.08986 | H83: 141.99113 | I83: 184.25518 | K83: 335.90825 | L83: 272.503 | N83: 383.30246 | Q83: 156.6649 | R83: 563.67391 | U83: 42.210426 | V83: 19.494235 | X83: 173.82034 | Y83: 260.46214 | Z83: 258.67947 | AA83: 247.21227 | AB83: 825.0904 | AC83: 454.04693 | AD83: 830.81269 | AE83: 64.825497 | AF83: 23.769563 | AG83: 107.90921 | AH83: 135.30589 | AJ83: 121.49129 | AK83: 160.28341 | AL83: 35.178882 | AM83: 35.178882 | AP83: 1432.4013 | AQ83: 4023.7977 | AR83: 912.53417 | AS83: 51.381889 | AU83: 179.27259 | BB83: 179.27259
A84: 20 | B84: Scania Finance Polska Sp. z o.o. | C84: 478.68781 | D84: 279.28571 | G84: 573.81148 | H84: 740.33333 | K84: 550.46729 | L84: 1147 | N84: 528.73948 | Q84: 181.37657 | R84: 547.2 | U84: 70 | AU84: 478.68781 | BB84: 478.68781
A85: 21 | B85: SG Equipment Leasing Polska Sp. z o.o. | C85: 262.05723 | D85: 118.68969 | G85: 445.51333 | H85: 140.3771 | K85: 500.99264 | N85: 397.38557 | Q85: 144.5437 | U85: 1115.2011 | X85: 208.42356 | Y85: 215.88094 | Z85: 313.28596 | AA85: 428.4552 | AC85: 199.37305 | AD85: 135.9 | AG85: 92.297051 | AH85: 108.30334 | AK85: 200.38124 | AL85: 425.82967 | AM85: 425.82967 | AP85: 2612.3581 | AQ85: 2612.3581 | AU85: 260.24855 | BB85: 260.24855
A86: 22 | B86: SGB Leasing Sp. z o.o. | C86: 164.10078 | D86: 154.19697 | E86: 120 | G86: 179.63333 | H86: 119.91304 | K86: 375.85714 | N86: 266.44444 | Q86: 121.06667 | R86: 110 | U86: 167 | X86: 229.98765 | Y86: 180.78947 | Z86: 370.71429 | AB86: 362 | AC86: 105.75 | AD86: 176.66667 | AE86: 36 | AF86: 111.5 | AG86: 41.666667 | AH86: 231.07692 | AK86: 252.42857 | AP86: 5000 | AS86: 5000 | AU86: 257.26761 | BB86: 257.26761
A87: 23 | B87: Siemens Finance Sp. z o.o. | C87: 1036.5294 | D87: 242 | G87: 1455.4 | H87: 229 | K87: 1762 | Q87: 928.5 | X87: 293.42594 | Y87: 1367.9524 | Z87: 611.33333 | AA87: 2316.625 | AB87: 309 | AC87: 1140.0727 | AD87: 471 | AE87: 269.23521 | AG87: 375.28571 | AH87: 22.5 | AK87: 78.259594 | AL87: 7.8196923 | AM87: 6.9841418 | AN87: 86.852941 | AU87: 93.078556 | BB87: 93.078556
B88: Razem | C88: 177.49939 | D88: 147.87781 | E88: 212.07802 | F88: 194.06253 | G88: 174.74388 | H88: 125.92347 | I88: 196.68518 | J88: 243.90244 | K88: 372.03478 | L88: 737.58678 | M88: 273.68658 | N88: 383.19898 | O88: 426.86652 | P88: 337.91646 | Q88: 160.28051 | R88: 547.54938 | S88: 1750 | T88: 741 | U88: 105.9641 | V88: 34.626415 | X88: 218.89399 | Y88: 288.18321 | Z88: 274.63189 | AA88: 419.54603 | AB88: 521.27364 | AC88: 493.45636 | AD88: 324.21273 | AE88: 144.68367 | AF88: 55.357672 | AG88: 120.04402 | AH88: 133.76095 | AJ88: 152.4791 | AK88: 185.16003 | AL88: 29.602407 | AM88: 29.015531 | AN88: 76.853454 | AO88: 27.667975 | AP88: 1078.1479 | AQ88: 2169.2559 | AR88: 602.57548 | AS88: 1216.3348 | AT88: 134.24894 | AU88: 180.39216 | AV88: 14888.627 | AW88: 716.4019 | AX88: 22170.287 | AY88: 16904 | AZ88: 111.425 | BA88: 20981.515 | BB88: 181.82865
A90: Struktura wartościowa umów (ruchomości) | C90: 01.01.2023-30.06.2023
A93: Lp. | B93: Spółka | C93: POJAZDY | D93: Osobowe | E93: osobowe - zeroemisyjne | F93: osobowe - hybryda plug-in | G93: Cięzarowe: | H93: o masie do 3,5 tony | I93: o masie do 3,5 tony - zeroemisyjne | J93: o masie do 3,5 tony - hybryda plug-in | K93: o masie powyzej 3,5 tony | L93: o masie powyżej 3,5 tony - zeroemisyjne | M93: o masie powyżej 3,5 tony - hybryda plug-in | N93: ciagniki siodlowe | O93: ciągniki siodłowe - zeroemisyjne | P93: ciągniki siodłowe - hybryda plug-in | Q93: naczepy / przyczepy | R93: autobusy | S93: autobusy - zeroemisyjne | T93: autobusy - hybryda plug-in | U93: inne | V93: inne - zeroemisyjne | W93: inne - hybryda plug-in | X93: MiU | Y93: Sprzęt Budowlany | Z93: Maszyny Rolnicze | AA93: Maszyny Poligraf. | AB93: maszyny do produkcji tworzyw sztucznych | AC93: maszyny i urządzenia do obróbki metali | AD93: maszyny dla przemysłu spożywczego | AE93: Sprzęt Medyczny | AF93: Sprzęt Gastronom. | AG93: Wózki Widłowe | AH93: fotowoltaika | AI93: wiatraki i turbiny wiatrowe | AJ93: stacje ładowania pojazdów elektrycznych (na użytek własny i komercyjny) | AK93: inne MiU | AL93: IT | AM93: Sprzęt | AN93: Oprogram. | AO93: inne IT | AP93: POZOSTAŁE ŚRODKI TRANSPORTU | AQ93: Powietrzne | AR93: Wodne | AS93: Kolejowe | AT93: Inne ruchomości | AU93: RUCHOMOŚCI | AV93: Nieruchomości | AW93: budynki przemysłowe | AX93: obiekty handlowe i usługowe | AY93: obiekty biurowe | AZ93: hotele i obiekty rekreacyjne | BA93: inne | BB93: OGÓŁEM
A94: 1 | B94: Alior Leasing Sp. z o. o. | C94: 0.84075315 | D94: 0.32779492 | G94: 0.16640469 | H94: 0.095672892 | K94: 0.070731795 | N94: 0.18304212 | Q94: 0.10352687 | R94: 0.044980858 | U94: 0.015003696 | X94: 0.13453243 | Y94: 0.052845443 | Z94: 0.027183374 | AA94: 0.0017997376 | AB94: 0.0021467814 | AC94: 0.019303489 | AD94: 0.0026861076 | AE94: 0.0025205579 | AF94: 1.0941323e-05 | AG94: 0.0027768794 | AH94: 0.0015933523 | AK94: 0.021665762 | AL94: 0.0034068721 | AM94: 0.0034068721 | AP94: 0.021307549 | AS94: 0.021307549 | AU94: 1 | AV94: 0 | BB94: 1
A95: 2 | B95: BNP Paribas Lease Group Sp. z o.o. | C95: 0.64946431 | D95: 0.43075759 | E95: 0.016893477 | F95: 0 | G95: 0.11661295 | H95: 0.083877298 | I95: 0.0017909887 | J95: 0 | K95: 0.032735653 | L95: 0 | M95: 0 | N95: 0.067498319 | O95: 0 | P95: 0 | Q95: 0.026419952 | R95: 0.0017142852 | S95: 0 | T95: 0 | U95: 0.0064612072 | V95: 6.4685558e-05 | W95: 0 | X95: 0.3297958 | Y95: 0.058822532 | Z95: 0.046702347 | AA95: 0.0017744893 | AB95: 0.0040372372 | AC95: 0.0048666585 | AD95: 0.013663163 | AE95: 0.0024586749 | AF95: 0.00076691534 | AG95: 0.042591794 | AH95: 0.0068578971 | AI95: 0 | AJ95: 0.00032689954 | AK95: 0.14692719 | AL95: 0.020718314 | AM95: 0.011871653 | AN95: 0.00098026574 | AO95: 0.0078663956 | AP95: 2.1583422e-05 | AQ95: 0 | AR95: 2.1583422e-05 | AS95: 0 | AU95: 1 | AV95: 0.046436857 | AW95: 0.00038037512 | AX95: 0.046056482 | AY95: 0 | AZ95: 0 | BA95: 0 | BB95: 1.0464369
A96: 3 | B96: BOŚ Leasing - EKO Profit S.A. | C96: 0.28099614 | D96: 0.048679924 | G96: 0.032393269 | H96: 0.014174451 | K96: 0.018218818 | N96: 0.035367899 | Q96: 0.063605425 | R96: 0.015749925 | U96: 0.085199696 | X96: 0.62232235 | Y96: 0.071270229 | Z96: 0.050846886 | AA96: 0.0081932115 | AB96: 0.056262593 | AC96: 0.023995046 | AD96: 0.0064825963 | AE96: 0.0091075473 | AG96: 0.016277237 | AH96: 0.087066808 | AK96: 0.29282019 | AL96: 0.0022286184 | AM96: 0.0022286184 | AP96: 0.094452898 | AQ96: 0.088070836 | AR96: 0.0063820621 | AS96: 0 | AU96: 1 | AV96: 0 | BB96: 1
A97: 4 | B97: BPS Leasing Spółka Akcyjna (BPS Leasing S.A.) | C97: 0.84613401 | D97: 0.23877612 | E97: 0.0058381151 | F97: 0.092498667 | G97: 0.16594635 | H97: 0.04006316 | K97: 0.12588319 | N97: 0.25487463 | Q97: 0.10928447 | R97: 0.062839828 | U97: 0.014412616 | X97: 0.11926917 | Y97: 0.04167228 | Z97: 0.0076227938 | AA97: 0.0059857787 | AB97: 0.0035617279 | AC97: 0.0055892011 | AD97: 0.019040176 | AE97: 0.0037002519 | AG97: 0.0016677718 | AH97: 0.0063961848 | AK97: 0.024033 | AL97: 0.00087731868 | AM97: 0.00087731868 | AP97: 0.0047569444 | AR97: 0.0047569444 | AT97: 0.028962563 | AU97: 1 | AV97: 0 | BB97: 1
A98: 5 | B98: Caterpillar Financial Services Poland Sp. z o.o. | C98: 0 | G98: 0 | X98: 1 | Y98: 1 | AL98: 0 | AP98: 0 | AU98: 1 | AV98: 0 | BB98: 1
A99: 6 | B99: De Lage Landen Leasing Polska S.A. | C99: 0.070223387 | G99: 0 | N99: 0.063641688 | U99: 0.0065816995 | X99: 0.75441336 | Y99: 0.072538138 | Z99: 0.34590178 | AE99: 0.024374599 | AG99: 0.18531946 | AH99: 0.018964219 | AK99: 0.10731517 | AL99: 0.17536325 | AM99: 0.17536325 | AP99: 0 | AU99: 1 | AV99: 0 | BB99: 1
A100: 7 | B100: Deutsche Leasing Polska S.A. | C100: 0.31561305 | D100: 0.0023957299 | G100: 0 | N100: 0.055097728 | Q100: 0.2581196 | X100: 0.68438695 | Y100: 0.0063588357 | Z100: 0.01111375 | AA100: 0.0061984436 | AB100: 0.0035306562 | AC100: 0.093120804 | AD100: 0.026060669 | AE100: 0.0032119023 | AF100: 0 | AG100: 0.38320715 | AK100: 0.15158473 | AL100: 0 | AP100: 0 | AU100: 1 | AV100: 0 | BB100: 1
A101: 8 | B101: Europejski Fundusz Leasingowy S.A. | C101: 0.69595486 | D101: 0.27969869 | E101: 0.011386943 | F101: 0.0036362383 | G101: 0.17408515 | H101: 0.088347628 | I101: 0.006091432 | K101: 0.085737521 | N101: 0.1425489 | Q101: 0.083260892 | R101: 0.011289528 | U101: 0.005071699 | V101: 4.1997759e-05 | X101: 0.2832547 | Y101: 0.10290472 | Z101: 0.03510839 | AA101: 0.0046336754 | AB101: 0.0071960488 | AC101: 0.02074665 | AD101: 0.0039310278 | AE101: 0.0024456451 | AF101: 0.010568159 | AG101: 0.007453958 | AH101: 0.015225174 | AI101: 0 | AJ101: 3.9325621e-05 | AK101: 0.073001929 | AL101: 0.017636923 | AM101: 0.0078286358 | AN101: 0.0023496448 | AO101: 0.0074586428 | AP101: 0.0031535191 | AQ101: 0.0010657603 | AR101: 0.0020877588 | AU101: 1 | AV101: 0 | BB101: 1
A102: 9 | B102: Grupa VB Leasing | C102: 0.77754651 | D102: 0.28067174 | E102: 0.010143833 | F102: 0.048784702 | G102: 0.13959854 | H102: 0.082632644 | I102: 0.00039364305 | K102: 0.056965895 | M102: 0.0042886903 | N102: 0.19276993 | P102: 0.017209327 | Q102: 0.11063861 | R102: 0.023205028 | T102: 0.00028891708 | U102: 0.03066266 | X102: 0.19770536 | Y102: 0.049356443 | Z102: 0.087320864 | AA102: 0.0030921152 | AB102: 0.0033142159 | AC102: 0.0090702332 | AD102: 0.0035378763 | AE102: 0.0074663186 | AF102: 0.0018547291 | AG102: 0.0048297076 | AH102: 0.0087418099 | AK102: 0.019121044 | AL102: 0.0022597562 | AM102: 0.00095024838 | AO102: 0.0013095078 | AP102: 0.0080315192 | AR102: 0.0080315192 | AT102: 0.014456858 | AU102: 1 | AV102: 0 | BB102: 1
A103: 10 | B103: Impuls-Leasing Polska Sp. z o. o. | C103: 0.80872419 | D103: 0.40032433 | E103: 0.011321309 | F103: 0.0034440239 | G103: 0.11828287 | H103: 0.087705891 | I103: 0.00047568368 | K103: 0.030576984 | N103: 0.16758579 | Q103: 0.10848634 | R103: 0.0057438527 | U103: 0.0083009949 | V103: 7.9977789e-05 | X103: 0.1888276 | Y103: 0.046821082 | Z103: 0.023159317 | AA103: 0.0047954097 | AB103: 0.010183573 | AC103: 0.019612993 | AE103: 0.0027076396 | AF103: 0.0055803804 | AG103: 0.015197094 | AK103: 0.060770108 | AL103: 0.0012320948 | AM103: 0.0012320948 | AP103: 0.0012161214 | AR103: 0.0012161214 | AU103: 1 | AV103: 0 | BB103: 1
A104: 11 | B104: ING Lease (Polska) Sp. z o.o. | C104: 0.62258985 | D104: 0.24840999 | E104: 0.011848809 | F104: 0.0066663536 | G104: 0.12114676 | H104: 0.066841894 | I104: 0.0016865197 | J104: 0 | K104: 0.054304864 | L104: 0 | M104: 0 | N104: 0.14274442 | O104: 0 | P104: 0 | Q104: 0.077853746 | R104: 0.013172942 | S104: 0 | T104: 0 | U104: 0.019261996 | V104: 0.00042257529 | W104: 0 | X104: 0.31575166 | Y104: 0.045210199 | Z104: 0.0060402111 | AA104: 0.010237288 | AB104: 0.077286216 | AC104: 0.02609946 | AD104: 0.023448359 | AE104: 0.0053460028 | AF104: 0.0054657482 | AG104: 0.023478296 | AH104: 0.007637552 | AI104: 0 | AJ104: 0.00022814654 | AK104: 0.085274181 | AL104: 0.010470161 | AM104: 0.010470161 | AN104: 0 | AO104: 0 | AP104: 0.027112569 | AQ104: 0 | AR104: 0.00027478423 | AS104: 0.026837785 | AT104: 0.024075762 | AU104: 1 | AV104: 0.010653561 | AW104: 0 | AX104: 0 | AY104: 0.010653561 | AZ104: 0 | BA104: 0 | BB104: 1.0106536
A105: 12 | B105: Leasing Polski Sp. z o. o. | C105: 0.87557083 | D105: 0.15327112 | E105: 0.002401565 | F105: 0.01134332 | G105: 0.18581361 | H105: 0.10056909 | I105: 0 | J105: 0 | K105: 0.085244518 | L105: 0 | M105: 0 | N105: 0.28143868 | O105: 0 | P105: 0 | Q105: 0.0994257 | R105: 0.037181624 | S105: 0 | T105: 0 | U105: 0.1184401 | X105: 0.12345474 | Y105: 0.087027454 | Z105: 0.032543004 | AC105: 0 | AG105: 0.0038842858 | AK105: 0 | AL105: 0 | AP105: 0.00097442717 | AR105: 0.00097442717 | AS105: 0 | AT105: 0 | AU105: 1 | AV105: 0.0063492941 | AX105: 0 | AZ105: 0.0044515972 | BA105: 0.0018976968 | BB105: 1.0063493
A106: 13 | B106: Millennium Leasing Sp. z o.o. | C106: 0.65269308 | D106: 0.27276903 | E106: 0.013962804 | F106: 0.0030601304 | G106: 0.085880066 | H106: 0.048530239 | I106: 0.0010817362 | K106: 0.037349827 | N106: 0.16945233 | O106: 0.00056217441 | Q106: 0.10839557 | R106: 0.0018704547 | T106: 0.0012695681 | U106: 0.014325628 | V106: 1.7666798e-05 | X106: 0.33378101 | Y106: 0.056337147 | Z106: 0.002114049 | AA106: 0.029717179 | AB106: 0.056206914 | AD106: 0.036140321 | AE106: 0.003947339 | AG106: 0.032551017 | AH106: 0.037627952 | AK106: 0.079139096 | AL106: 0.0041781167 | AM106: 0.0041781167 | AP106: 0.0093477882 | AQ106: 0.00031579749 | AR106: 0.0040031049 | AS106: 0.0050288858 | AU106: 1 | AV106: 0.040789803 | BA106: 0.040789803 | BB106: 1.0407898
A107: 14 | B107: mLeasing Sp. z o.o. | C107: 0.78236403 | D107: 0.59609102 | G107: 0.073949921 | H107: 0.046996883 | K107: 0.026953038 | N107: 0.057092385 | Q107: 0.032947936 | R107: 0.0090038019 | U107: 0.013278959 | X107: 0.17253526 | Y107: 0.028218462 | Z107: 0.0073339089 | AA107: 0.0064499009 | AB107: 0.0091159736 | AC107: 0.024677822 | AD107: 0.0057553102 | AE107: 0.0016362308 | AF107: 0.00061970525 | AG107: 0.012122438 | AK107: 0.076605504 | AL107: 0.0055498488 | AM107: 0.0055483108 | AN107: 1.538031e-06 | AP107: 0.026187532 | AQ107: 0.0032897744 | AR107: 0.016494805 | AS107: 0.0064029524 | AT107: 0.013363338 | AU107: 1 | AV107: 0.015546189 | AX107: 0.015546189 | BB107: 1.0155462
A108: 15 | B108: PEAC (Poland) Sp. z o.o. | C108: 0.44317128 | D108: 0.10861411 | G108: 0.021584845 | H108: 0.01719175 | K108: 0.0043930948 | N108: 0.084618618 | Q108: 0.093095546 | R108: 0.12992935 | U108: 0.0053288081 | V108: 0.003227418 | X108: 0.53920877 | Y108: 0.036373873 | Z108: 0.098987368 | AA108: 0.019491384 | AB108: 0.10978772 | AC108: 0.016010214 | AD108: 0.0050433362 | AE108: 0.048665023 | AF108: 0.00049957576 | AG108: 0.0041948504 | AH108: 0.0025692468 | AK108: 0.19758618 | AL108: 0.016271896 | AM108: 0.016271896 | AP108: 0.0013480616 | AR108: 0.0013480616 | AU108: 1 | AV108: 0 | BB108: 1
A109: 16 | B109: PEKAO Leasing Sp. z o.o. | C109: 0.63159052 | D109: 0.22077932 | E109: 0.0085763261 | F109: 0.0032824979 | G109: 0.087270361 | H109: 0.03538569 | I109: 0.00049618876 | J109: 0 | K109: 0.051884671 | L109: 9.6717562e-05 | M109: 0 | N109: 0.18378666 | O109: 0 | P109: 0 | Q109: 0.08001691 | R109: 0.047170823 | S109: 0 | T109: 0 | U109: 0.012566451 | V109: 6.6997956e-05 | W109: 0 | X109: 0.29914191 | Y109: 0.040764071 | Z109: 0.012703981 | AA109: 0.021232656 | AB109: 0.010119656 | AC109: 0.050956982 | AD109: 0.019660639 | AE109: 0.0015802202 | AF109: 0.0009131284 | AG109: 0.012748619 | AH109: 0.0172868 | AI109: 0 | AJ109: 3.3754336e-05 | AK109: 0.1111414 | AL109: 0.010958977 | AM109: 0.010958977 | AN109: 0 | AO109: 0 | AP109: 0.045250127 | AQ109: 0.0036938834 | AR109: 0.011050891 | AS109: 0.030505353 | AT109: 0.013058465 | AU109: 1 | AV109: 0.0062541796 | AW109: 0 | AX109: 0.0059737975 | AY109: 0 | AZ109: 0 | BA109: 0.00028038215 | BB109: 1.0062542
A110: 17 | B110: PKO Leasing S.A. | C110: 0.73584174 | D110: 0.40051202 | E110: 0.02597977 | F110: 0.0054961142 | G110: 0.11726732 | H110: 0.072098366 | I110: 0.0033236553 | J110: 4.2485035e-05 | K110: 0.045168951 | L110: 0.00034646121 | N110: 0.12564418 | Q110: 0.073907327 | R110: 0.011501679 | S110: 0.00060966025 | U110: 0.0070092141 | V110: 0.00020843081 | X110: 0.20802344 | Y110: 0.04334023 | Z110: 0.021285853 | AA110: 0.0058170681 | AB110: 0.0060307119 | AC110: 0.028200446 | AD110: 0.01178755 | AE110: 0.0046331463 | AF110: 0.00098412753 | AG110: 0.0081665921 | AH110: 0.0062915636 | AK110: 0.071486151 | AL110: 0.0098207499 | AM110: 0.0073160109 | AN110: 0.00013791334 | AO110: 0.0023668256 | AP110: 0.046314068 | AQ110: 0.0026859381 | AR110: 0.0014371751 | AS110: 0.042190955 | AU110: 1 | AV110: 0 | BB110: 1
...

Sheet Pożyczki_I_II kw.2023
A1: Związek Polskiego Leasingu
A3: Wartość środków - pożyczki - netto w tys. PLN
C4: 01.01.2023-30.06.2023
A6: Lp. | B6: Spółka | C6: POJAZDY | D6: Osobowe | E6: osobowe - zeroemisyjne | F6: osobowe - hybryda plug-in | G6: Cięzarowe: | H6: o masie do 3,5 tony | I6: o masie do 3,5 tony - zeroemisyjne | J6: o masie do 3,5 tony - hybryda plug-in | K6: o masie powyzej 3,5 tony | L6: o masie powyżej 3,5 tony - zeroemisyjne | M6: o masie powyżej 3,5 tony - hybryda plug-in | N6: ciagniki siodlowe | O6: ciągniki siodłowe - zeroemisyjne | P6: ciągniki siodłowe - hybryda plug-in | Q6: naczepy / przyczepy | R6: autobusy | S6: autobusy - zeroemisyjne | T6: autobusy - hybryda plug-in | U6: inne | V6: inne - zeroemisyjne | W6: inne - hybryda plug-in | X6: MiU | Y6: Sprzęt Budowlany | Z6: Maszyny Rolnicze | AA6: Maszyny Poligraf. | AB6: maszyny do produkcji tworzyw sztucznych | AC6: maszyny i urządzenia do obróbki metali | AD6: maszyny dla przemysłu spożywczego | AE6: Sprzęt Medyczny | AF6: Sprzęt Gastronom. | AG6: Wózki Widłowe | AH6: fotowoltaika | AI6: wiatraki i turbiny wiatrowe | AJ6: stacje ładowania pojazdów elektrycznych (na użytek własny i komercyjny) | AK6: inne MiU | AL6: IT | AM6: Sprzęt | AN6: Oprogram. | AO6: inne IT | AP6: POZOSTAŁE ŚRODKI TRANSPORTU | AQ6: Powietrzne | AR6: Wodne | AS6: Kolejowe | AT6: Inne ruchomości | AU6: RUCHOMOŚCI | AV6: Nieruchomości | AW6: budynki przemysłowe | AX6: obiekty handlowe i usługowe | AY6: obiekty biurowe | AZ6: hotele i obiekty rekreacyjne | BA6: inne | BB6: OGÓŁEM
A7: 1 | B7: Alior Leasing Sp. z o. o. | C7: 127848.13 | D7: 75179.469 | G7: 13986.217 | H7: 9758.8807 | K7: 4227.3367 | N7: 23626.938 | Q7: 11768.141 | R7: 456.28177 | U7: 2831.0793 | X7: 29997.495 | Y7: 3371.9712 | Z7: 9514.7747 | AA7: 115 | AB7: 1058.59 | AC7: 816.54084 | AD7: 111.53 | AE7: 11803.055 | AG7: 168.49832 | AH7: 207.50427 | AK7: 2830.031 | AL7: 4563.2961 | AM7: 4563.2961 | AP7: 0 | AU7: 162408.92 | AV7: 0 | BB7: 162408.92
A8: 2 | B8: BNP Paribas Lease Group Sp. z o.o. | C8: 60555.358 | D8: 7860.6725 | E8: 156.13959 | F8: 0 | G8: 27359.76 | H8: 12459.052 | I8: 0 | J8: 0 | K8: 14900.708 | L8: 0 | M8: 0 | N8: 13407.938 | O8: 0 | P8: 0 | Q8: 11887.39 | R8: 0 | S8: 0 | T8: 0 | U8: 39.5978 | V8: 0 | W8: 0 | X8: 637391.16 | Y8: 14401.394 | Z8: 572859.92 | AA8: 23.502 | AB8: 0 | AC8: 763.6668 | AD8: 1474.9652 | AE8: 15272.35 | AF8: 0 | AG8: 1133.3125 | AH8: 4665.8335 | AI8: 0 | AJ8: 0 | AK8: 26796.215 | AL8: 10567.811 | AM8: 359.82581 | AN8: 9773.5673 | AO8: 434.4181 | AP8: 0 | AQ8: 0 | AR8: 0 | AS8: 0 | AT8: 0 | AU8: 708514.33 | AV8: 0 | AW8: 0 | AX8: 0 | AY8: 0 | AZ8: 0 | BA8: 0 | BB8: 708514.33
A9: 3 | B9: BOŚ Leasing - EKO Profit S.A. | C9: 66.32 | G9: 0 | U9: 66.32 | X9: 1832.25 | Z9: 1000.72 | AE9: 149.99 | AH9: 564.55 | AK9: 116.99 | AL9: 0 | AP9: 0 | AU9: 1898.57 | AV9: 0 | BB9: 1898.57
A10: 4 | B10: BPS Leasing Spółka Akcyjna (BPS Leasing S.A.) | C10: 0 | G10: 0 | X10: 0 | AL10: 0 | AP10: 0 | AU10: 0 | AV10: 0 | BB10: 0
A11: 5 | B11: Caterpillar Financial Services Poland Sp. z o.o. | C11: 0 | G11: 0 | X11: 22968.815 | Y11: 22968.815 | AL11: 0 | AP11: 0 | AU11: 22968.815 | AV11: 0 | BB11: 22968.815
A12: 6 | B12: De Lage Landen Leasing Polska S.A. | C12: 3899 | D12: 615 | G12: 0 | N12: 544 | Q12: 2740 | X12: 328822 | Y12: 5194 | Z12: 305877 | AE12: 10830 | AH12: 2038 | AK12: 4883 | AL12: 13152 | AM12: 4585 | AN12: 8567 | AP12: 0 | AU12: 345873 | AV12: 0 | BB12: 345873
A13: 7 | B13: Deutsche Leasing Polska S.A. | C13: 49482 | D13: 205 | G13: 314 | H13: 314 | N13: 9779 | Q13: 39184 | X13: 38024 | Y13: 1279 | Z13: 32671 | AA13: 0 | AB13: 843 | AC13: 840 | AK13: 2391 | AL13: 0 | AP13: 0 | AU13: 87506 | AV13: 0 | BB13: 87506
A14: 8 | B14: Europejski Fundusz Leasingowy S.A. | C14: 55583.512 | D14: 15491.678 | E14: 629.40651 | G14: 8451.3201 | H14: 7584.3201 | I14: 269.5935 | K14: 867 | N14: 17002.092 | Q14: 14193.422 | R14: 445 | X14: 378891.87 | Y14: 14186.85 | Z14: 328395.44 | AA14: 112.28534 | AB14: 931.03316 | AC14: 2027.8795 | AD14: 11304.779 | AE14: 9022.1111 | AF14: 576.93737 | AG14: 1375.8111 | AH14: 2884.3328 | AK14: 8074.4144 | AL14: 1521.0479 | AM14: 305.0758 | AN14: 1046.8725 | AO14: 169.09963 | AP14: 2930.6137 | AR14: 2930.6137 | AU14: 438927.04 | AV14: 0 | BB14: 438927.04
A15: 9 | B15: Grupa VB Leasing | C15: 148034.58 | D15: 39205.98 | E15: 723.38556 | F15: 4278.1786 | G15: 23655.513 | H15: 7416.5281 | J15: 429.93182 | K15: 16238.985 | M15: 261.77792 | N15: 47476.265 | P15: 3383.4579 | Q15: 32581.226 | R15: 2109.1946 | U15: 3006.3973 | W15: 104.5 | X15: 169689.39 | Y15: 9534.3729 | Z15: 127719.21 | AA15: 442.72696 | AB15: 7.62331 | AC15: 5024.7539 | AD15: 1417.4186 | AE15: 16162.315 | AF15: 542.74709 | AG15: 351.41572 | AH15: 1481.8998 | AK15: 7004.9041 | AL15: 88.76335 | AM15: 88.76335 | AP15: 7745.6064 | AQ15: 21.945 | AR15: 7723.6614 | AS15: 0 | AT15: 3525.6852 | AU15: 329084.02 | AV15: 0 | BB15: 329084.02
A16: 10 | B16: Impuls-Leasing Polska Sp. z o. o. | C16: 59885.05 | D16: 20647.57 | E16: 2476.64 | F16: 235.8 | G16: 4786.06 | H16: 4460.6 | I16: 124.72 | K16: 325.46 | N16: 21196.52 | Q16: 12588.5 | R16: 290 | U16: 376.4 | X16: 10201.97 | Y16: 3410.79 | Z16: 972.34 | AA16: 284.35 | AC16: 1324.81 | AE16: 1544.61 | AG16: 504.88 | AK16: 2160.19 | AL16: 0 | AP16: 0 | AU16: 70087.02 | AV16: 0 | BB16: 70087.02
A17: 11 | B17: ING Lease (Polska) Sp. z o.o. | C17: 11140 | D17: 11140 | G17: 0 | H17: 0 | K17: 0 | N17: 0 | Q17: 0 | R17: 0 | U17: 0 | X17: 47086 | Y17: 0 | Z17: 0 | AA17: 30098 | AB17: 1369 | AC17: 448 | AD17: 0 | AE17: 10711 | AF17: 0 | AG17: 0 | AH17: 0 | AK17: 4460 | AL17: 0 | AM17: 0 | AN17: 0 | AO17: 0 | AP17: 0 | AQ17: 0 | AR17: 0 | AS17: 0 | AT17: 0 | AU17: 58226 | AV17: 0 | AW17: 0 | AX17: 0 | AY17: 0 | AZ17: 0 | BA17: 0 | BB17: 58226
A18: 12 | B18: Leasing Polski Sp. z o. o. | C18: 0 | G18: 0 | X18: 0 | AL18: 0 | AP18: 0 | AU18: 0 | AV18: 0 | BB18: 0
A19: 13 | B19: Millennium Leasing Sp. z o.o. | C19: 0 | G19: 0 | X19: 0 | AL19: 0 | AP19: 0 | AU19: 0 | AV19: 0 | BB19: 0
A20: 14 | B20: mLeasing Sp. z o.o. | C20: 45829.438 | G20: 9480.0237 | K20: 9480.0237 | N20: 26323.64 | Q20: 6283.0339 | R20: 325.95 | U20: 3416.7899 | X20: 218647.09 | Y20: 2175.4887 | Z20: 4511.246 | AA20: 107.8218 | AB20: 32055.362 | AC20: 12039.252 | AD20: 8253.0347 | AE20: 82857.803 | AF20: 109.02187 | AG20: 563.71936 | AK20: 75974.339 | AL20: 927.50719 | AM20: 927.50719 | AP20: 7764.6419 | AQ20: 514.42082 | AR20: 7250.2211 | AT20: 23470.645 | AU20: 296639.32 | AV20: 0 | BB20: 296639.32
A21: 15 | B21: PEAC (Poland) Sp. z o.o. | C21: 13619 | D21: 4589 | G21: 2116 | H21: 2116 | Q21: 6262 | U21: 652 | X21: 15481 | Y21: 546 | Z21: 8422 | AC21: 281 | AE21: 58 | AG21: 246 | AK21: 5928 | AL21: 0 | AP21: 0 | AU21: 29100 | AV21: 0 | BB21: 29100
A22: 16 | B22: PEKAO Leasing Sp. z o.o. | C22: 143038.72 | D22: 43292.651 | E22: 263.76848 | F22: 0 | G22: 5468.142 | H22: 2772.3616 | I22: 0 | J22: 0 | K22: 2695.7804 | L22: 0 | M22: 0 | N22: 72688.67 | O22: 0 | P22: 0 | Q22: 16228.854 | R22: 0 | S22: 0 | T22: 0 | U22: 5360.4034 | V22: 0 | W22: 0 | X22: 297000.71 | Y22: 21132.805 | Z22: 73147.759 | AA22: 8362.941 | AB22: 25268.488 | AC22: 61465.687 | AD22: 19622.438 | AE22: 4502.1929 | AF22: 0 | AG22: 1866.8395 | AH22: 3203.8856 | AI22: 0 | AJ22: 0 | AK22: 78427.673 | AL22: 6066.6854 | AM22: 5991.5211 | AN22: 75.16432 | AO22: 0 | AP22: 1657.2693 | AQ22: 0 | AR22: 1657.2693 | AS22: 0 | AT22: 0 | AU22: 447763.38 | AV22: 3049.06 | AW22: 221.154 | AX22: 2827.906 | AY22: 0 | AZ22: 0 | BA22: 0 | BB22: 450812.44
A23: 17 | B23: PKO Leasing S.A. | C23: 354509.7 | D23: 163131.31 | E23: 1669.4559 | F23: 832.5 | G23: 28916.887 | H23: 13937.819 | I23: 325.4211 | K23: 14979.068 | N23: 90831.473 | Q23: 48205.562 | R23: 22765.392 | U23: 659.0716 | X23: 437274.16 | Y23: 14642.947 | Z23: 222409.45 | AA23: 3066.7034 | AB23: 18932.398 | AC23: 26535.975 | AD23: 10016.927 | AE23: 36861.862 | AG23: 2585.4986 | AH23: 37169.551 | AK23: 65052.845 | AL23: 387.44091 | AM23: 13.457471 | AN23: 369.41466 | AO23: 4.5687856 | AP23: 244.43601 | AR23: 244.43601 | AU23: 792415.73 | AV23: 0 | BB23: 792415.73
A24: 18 | B24: Santander Consumer Multirent Sp.z o.o. | C24: 271826.02 | D24: 255934.52 | G24: 15364.3 | H24: 15364.3 | U24: 527.2 | X24: 0 | AL24: 0 | AP24: 0 | AU24: 271826.02 | AV24: 0 | BB24: 271826.02
A25: 19 | B25: Santander Leasing S.A. | C25: 259402.27 | D25: 154974.74 | E25: 3219.146 | F25: 4452.039 | G25: 25154.773 | H25: 11810.717 | I25: 0 | J25: 0 | K25: 13344.056 | L25: 0 | M25: 0 | N25: 50114.948 | O25: 0 | P25: 0 | Q25: 24230.947 | R25: 2368.36 | S25: 0 | T25: 0 | U25: 2558.495 | V25: 61.088 | W25: 0 | X25: 808338.65 | Y25: 12448.692 | Z25: 518336.5 | AA25: 14977.004 | AB25: 28116.478 | AC25: 36290.712 | AD25: 340.183 | AE25: 47219.265 | AF25: 229.893 | AG25: 1281.571 | AH25: 55111.477 | AI25: 0 | AJ25: 0 | AK25: 93986.876 | AL25: 20143.849 | AM25: 20143.849 | AN25: 0 | AO25: 0 | AP25: 6333.605 | AQ25: 5511.255 | AR25: 822.35 | AS25: 0 | AT25: 592.3 | AU25: 1094810.7 | AV25: 9407.046 | AW25: 0 | AX25: 0 | AY25: 0 | AZ25: 0 | BA25: 9407.046 | BB25: 1104217.7
A26: 20 | B26: Scania Finance Polska Sp. z o.o. | C26: 30091 | D26: 260 | G26: 0 | N26: 29223 | Q26: 608 | X26: 0 | AL26: 0 | AP26: 0 | AU26: 30091 | AV26: 0 | BB26: 30091
A27: 21 | B27: SG Equipment Leasing Polska Sp. z o.o. | C27: 2597.5185 | D27: 0 | G27: 0 | N27: 1504.1162 | Q27: 1093.4023 | X27: 48528.437 | Y27: 7970.2301 | Z27: 31898.408 | AE27: 132.594 | AG27: 3656.6377 | AH27: 215.68 | AK27: 4654.8867 | AL27: 44831.81 | AM27: 39463.01 | AN27: 5368.8 | AP27: 0 | AU27: 95957.765 | AV27: 0 | BB27: 95957.765
A28: 22 | B28: SGB Leasing Sp. z o.o. | C28: 7404 | D28: 1979 | F28: 288 | G28: 4872 | H28: 4872 | Q28: 553 | X28: 24665 | Y28: 1003 | Z28: 16430 | AE28: 1094 | AH28: 3562 | AK28: 2576 | AL28: 26 | AN28: 26 | AP28: 0 | AU28: 32095 | AV28: 0 | BB28: 32095
A29: 23 | B29: Siemens Finance Sp. z o.o. | C29: 0 | G29: 0 | X29: 0 | AL29: 0 | AP29: 0 | AU29: 0 | AV29: 0 | BB29: 0
B30: Razem | C30: 1644811.6 | D30: 794506.6 | E30: 9137.942 | F30: 10086.518 | G30: 169925 | H30: 92866.578 | I30: 719.7346 | J30: 429.93182 | K30: 77058.418 | L30: 0 | M30: 261.77792 | N30: 403718.6 | O30: 0 | P30: 3383.4579 | Q30: 228407.48 | R30: 28760.179 | S30: 0 | T30: 0 | U30: 19493.754 | V30: 61.088 | W30: 104.5 | X30: 3514840 | Y30: 134266.36 | Z30: 2254165.8 | AA30: 57590.335 | AB30: 108581.97 | AC30: 147858.28 | AD30: 52541.276 | AE30: 248221.15 | AF30: 1458.5993 | AG30: 13734.184 | AH30: 111104.71 | AI30: 0 | AJ30: 0 | AK30: 385317.36 | AL30: 102276.21 | AM30: 76441.306 | AN30: 25226.819 | AO30: 608.08652 | AP30: 26676.172 | AQ30: 6047.6208 | AR30: 20628.552 | AS30: 0 | AT30: 27588.63 | AU30: 5316192.6 | AV30: 12456.106 | AW30: 221.154 | AX30: 2827.906 | AY30: 0 | AZ30: 0 | BA30: 9407.046 | BB30: 5328648.7
A32: Ilość środków - pożyczki - w szt. | C32: 01.01.2023-30.06.2023
A35: Lp. | B35: Spółka | C35: POJAZDY | D35: Osobowe | E35: osobowe - zeroemisyjne | F35: osobowe - hybryda plug-in | G35: Cięzarowe: | H35: o masie do 3,5 tony | I35: o masie do 3,5 tony - zeroemisyjne | J35: o masie do 3,5 tony - hybryda plug-in | K35: o masie powyzej 3,5 tony | L35: o masie powyżej 3,5 tony - zeroemisyjne | M35: o masie powyżej 3,5 tony - hybryda plug-in | N35: ciagniki siodlowe | O35: ciągniki siodłowe - zeroemisyjne | P35: ciągniki siodłowe - hybryda plug-in | Q35: naczepy / przyczepy | R35: autobusy | S35: autobusy - zeroemisyjne | T35: autobusy - hybryda plug-in | U35: inne | V35: inne - zeroemisyjne | W35: inne - hybryda plug-in | X35: MiU | Y35: Sprzęt Budowlany | Z35: Maszyny Rolnicze | AA35: Maszyny Poligraf. | AB35: maszyny do produkcji tworzyw sztucznych | AC35: maszyny i urządzenia do obróbki metali | AD35: maszyny dla przemysłu spożywczego | AE35: Sprzęt Medyczny | AF35: Sprzęt Gastronom. | AG35: Wózki Widłowe | AH35: fotowoltaika | AI35: wiatraki i turbiny wiatrowe | AJ35: stacje ładowania pojazdów elektrycznych (na użytek własny i komercyjny) | AK35: inne MiU | AL35: IT | AM35: Sprzęt | AN35: Oprogram. | AO35: inne IT | AP35: POZOSTAŁE ŚRODKI TRANSPORTU | AQ35: Powietrzne | AR35: Wodne | AS35: Kolejowe | AT35: Inne ruchomości | AU35: RUCHOMOŚCI | AV35: Nieruchomości | AW35: budynki przemysłowe | AX35: obiekty handlowe i usługowe | AY35: obiekty biurowe | AZ35: hotele i obiekty rekreacyjne | BA35: inne | BB35: OGÓŁEM
A36: 1 | B36: Alior Leasing Sp. z o. o. | C36: 1079 | D36: 706 | G36: 155 | H36: 131 | K36: 24 | N36: 86 | Q36: 106 | R36: 3 | U36: 23 | X36: 161 | Y36: 20 | Z36: 45 | AA36: 1 | AB36: 3 | AC36: 11 | AD36: 6 | AE36: 47 | AG36: 2 | AH36: 2 | AK36: 24 | AL36: 1 | AM36: 1 | AP36: 0 | AU36: 1241 | AV36: 0 | BB36: 1241
A37: 2 | B37: BNP Paribas Lease Group Sp. z o.o. | C37: 290 | D37: 84 | E37: 1 | F37: 0 | G37: 97 | H37: 62 | I37: 0 | J37: 0 | K37: 35 | L37: 0 | M37: 0 | N37: 30 | O37: 0 | P37: 0 | Q37: 77 | R37: 0 | S37: 0 | T37: 0 | U37: 2 | V37: 0 | W37: 0 | X37: 2047 | Y37: 44 | Z37: 1672 | AA37: 1 | AB37: 0 | AC37: 1 | AD37: 2 | AE37: 238 | AF37: 0 | AG37: 9 | AH37: 36 | AI37: 0 | AJ37: 0 | AK37: 44 | AL37: 148 | AM37: 1 | AN37: 143 | AO37: 4 | AP37: 0 | AQ37: 0 | AR37: 0 | AS37: 0 | AT37: 0 | AU37: 2485 | AV37: 0 | AW37: 0 | AX37: 0 | AY37: 0 | AZ37: 0 | BA37: 0 | BB37: 2485
A38: 3 | B38: BOŚ Leasing - EKO Profit S.A. | C38: 1 | G38: 0 | U38: 1 | X38: 7 | Z38: 3 | AE38: 1 | AH38: 2 | AK38: 1 | AL38: 0 | AP38: 0 | AU38: 8 | AV38: 0 | BB38: 8
A39: 4 | B39: BPS Leasing Spółka Akcyjna (BPS Leasing S.A.) | C39: 0 | G39: 0 | X39: 0 | AL39: 0 | AP39: 0 | AU39: 0 | AV39: 0 | BB39: 0
A40: 5 | B40: Caterpillar Financial Services Poland Sp. z o.o. | C40: 0 | G40: 0 | X40: 60 | Y40: 60 | AL40: 0 | AP40: 0 | AU40: 60 | AV40: 0 | BB40: 60
A41: 6 | B41: De Lage Landen Leasing Polska S.A. | C41: 24 | D41: 3 | G41: 0 | N41: 1 | Q41: 20 | X41: 998 | Y41: 15 | Z41: 853 | AE41: 104 | AH41: 18 | AK41: 8 | AL41: 9 | AM41: 3 | AN41: 6 | AP41: 0 | AU41: 1031 | AV41: 0 | BB41: 1031
A42: 7 | B42: Deutsche Leasing Polska S.A. | C42: 272 | D42: 1 | G42: 1 | H42: 1 | N42: 21 | Q42: 249 | X42: 61 | Y42: 2 | Z42: 52 | AA42: 0 | AB42: 1 | AC42: 1 | AK42: 5 | AL42: 0 | AP42: 0 | AU42: 333 | AV42: 0 | BB42: 333
A43: 8 | B43: Europejski Fundusz Leasingowy S.A. | C43: 326 | D43: 123 | E43: 3 | G43: 43 | H43: 39 | I43: 1 | K43: 4 | N43: 64 | Q43: 95 | R43: 1 | X43: 994 | Y43: 73 | Z43: 686 | AA43: 3 | AB43: 3 | AC43: 10 | AD43: 5 | AE43: 97 | AF43: 11 | AG43: 7 | AH43: 21 | AK43: 78 | AL43: 31 | AM43: 8 | AN43: 14 | AO43: 9 | AP43: 17 | AR43: 17 | AU43: 1368 | AV43: 0 | BB43: 1368
A44: 9 | B44: Grupa VB Leasing | C44: 1019 | D44: 371 | E44: 6 | F44: 32 | G44: 150 | H44: 79 | J44: 4 | K44: 71 | M44: 2 | N44: 190 | P44: 12 | Q44: 257 | R44: 9 | U44: 42 | W44: 1 | X44: 1033 | Y44: 44 | Z44: 676 | AA44: 3 | AB44: 1 | AC44: 13 | AD44: 13 | AE44: 185 | AF44: 7 | AG44: 7 | AH44: 14 | AK44: 70 | AL44: 4 | AM44: 4 | AP44: 37 | AQ44: 1 | AR44: 36 | AS44: 0 | AT44: 53 | AU44: 2146 | AV44: 0 | BB44: 2146
A45: 10 | B45: Impuls-Leasing Polska Sp. z o. o. | C45: 239 | D45: 95 | E45: 11 | F45: 1 | G45: 19 | H45: 18 | I45: 1 | K45: 1 | N45: 46 | Q45: 74 | R45: 1 | U45: 4 | X45: 46 | Y45: 4 | Z45: 6 | AA45: 7 | AC45: 1 | AE45: 12 | AG45: 2 | AK45: 14 | AL45: 0 | AP45: 0 | AU45: 285 | AV45: 0 | BB45: 285
A46: 11 | B46: ING Lease (Polska) Sp. z o.o. | C46: 119 | D46: 119 | G46: 0 | H46: 0 | K46: 0 | N46: 0 | Q46: 0 | R46: 0 | U46: 0 | X46: 18 | Y46: 0 | Z46: 0 | AA46: 4 | AB46: 1 | AC46: 1 | AD46: 0 | AE46: 6 | AF46: 0 | AG46: 0 | AH46: 0 | AK46: 6 | AL46: 0 | AM46: 0 | AN46: 0 | AO46: 0 | AP46: 0 | AQ46: 0 | AR46: 0 | AS46: 0 | AT46: 0 | AU46: 137 | AV46: 0 | AW46: 0 | AX46: 0 | AY46: 0 | AZ46: 0 | BA46: 0 | BB46: 137
A47: 12 | B47: Leasing Polski Sp. z o. o. | C47: 0 | G47: 0 | X47: 0 | AL47: 0 | AP47: 0 | AU47: 0 | AV47: 0 | BB47: 0
A48: 13 | B48: Millennium Leasing Sp. z o.o. | C48: 0 | G48: 0 | X48: 0 | AL48: 0 | AP48: 0 | AU48: 0 | AV48: 0 | BB48: 0
A49: 14 | B49: mLeasing Sp. z o.o. | C49: 95 | G49: 14 | K49: 14 | N49: 51 | Q49: 28 | R49: 1 | U49: 1 | X49: 632 | Y49: 8 | Z49: 2 | AA49: 1 | AB49: 6 | AC49: 8 | AD49: 5 | AE49: 519 | AF49: 1 | AG49: 4 | AK49: 78 | AL49: 25 | AM49: 25 | AP49: 5 | AQ49: 1 | AR49: 4 | AT49: 63 | AU49: 820 | AV49: 0 | BB49: 820
A50: 15 | B50: PEAC (Poland) Sp. z o.o. | C50: 84 | D50: 38 | G50: 15 | H50: 15 | Q50: 29 | U50: 2 | X50: 120 | Y50: 3 | Z50: 55 | AC50: 1 | AE50: 1 | AG50: 1 | AK50: 59 | AL50: 0 | AP50: 0 | AU50: 204 | AV50: 0 | BB50: 204
A51: 16 | B51: PEKAO Leasing Sp. z o.o. | C51: 619 | D51: 339 | E51: 1 | F51: 0 | G51: 24 | H51: 19 | I51: 0 | J51: 0 | K51: 5 | L51: 0 | M51: 0 | N51: 157 | O51: 0 | P51: 0 | Q51: 96 | R51: 0 | S51: 0 | T51: 0 | U51: 3 | V51: 0 | W51: 0 | X51: 396 | Y51: 28 | Z51: 167 | AA51: 3 | AB51: 17 | AC51: 34 | AD51: 13 | AE51: 24 | AF51: 0 | AG51: 2 | AH51: 14 | AI51: 0 | AJ51: 0 | AK51: 94 | AL51: 4 | AM51: 3 | AN51: 1 | AO51: 0 | AP51: 1 | AQ51: 0 | AR51: 1 | AS51: 0 | AT51: 0 | AU51: 1020 | AV51: 5 | AW51: 1 | AX51: 4 | AY51: 0 | AZ51: 0 | BA51: 0 | BB51: 1025
A52: 17 | B52: PKO Leasing S.A. | C52: 2291 | D52: 1220 | E52: 6 | F52: 4 | G52: 115 | H52: 75 | I52: 1 | K52: 40 | N52: 380 | Q52: 459 | R52: 108 | U52: 9 | X52: 1603 | Y52: 41 | Z52: 925 | AA52: 4 | AB52: 20 | AC52: 30 | AD52: 27 | AE52: 315 | AG52: 15 | AH52: 31 | AK52: 195 | AL52: 8 | AM52: 2 | AN52: 5 | AO52: 1 | AP52: 1 | AR52: 1 | AU52: 3903 | AV52: 0 | BB52: 3903
A53: 18 | B53: Santander Consumer Multirent Sp.z o.o. | C53: 5223 | D53: 5104 | G53: 108 | H53: 108 | U53: 11 | X53: 0 | AL53: 0 | AP53: 0 | AU53: 5223 | AV53: 0 | BB53: 5223
A54: 19 | B54: Santander Leasing S.A. | C54: 1735 | D54: 1273 | E54: 19 | F54: 24 | G54: 118 | H54: 85 | I54: 0 | J54: 0 | K54: 33 | L54: 0 | M54: 0 | N54: 115 | O54: 0 | P54: 0 | Q54: 137 | R54: 8 | S54: 0 | T54: 0 | U54: 84 | V54: 3 | W54: 0 | X54: 4408 | Y54: 45 | Z54: 2854 | AA54: 4 | AB54: 13 | AC54: 22 | AD54: 5 | AE54: 834 | AF54: 18 | AG54: 12 | AH54: 251 | AI54: 0 | AJ54: 0 | AK54: 350 | AL54: 61 | AM54: 61 | AN54: 0 | AO54: 0 | AP54: 8 | AQ54: 2 | AR54: 6 | AS54: 0 | AT54: 18 | AU54: 6230 | AV54: 19 | AW54: 0 | AX54: 0 | AY54: 0 | AZ54: 0 | BA54: 19 | BB54: 6249
A55: 20 | B55: Scania Finance Polska Sp. z o.o. | C55: 63 | D55: 1 | G55: 0 | N55: 58 | Q55: 4 | X55: 0 | AL55: 0 | AP55: 0 | AU55: 63 | AV55: 0 | BB55: 63
A56: 21 | B56: SG Equipment Leasing Polska Sp. z o.o. | C56: 14 | D56: 0 | G56: 0 | N56: 5 | Q56: 9 | X56: 142 | Y56: 24 | Z56: 99 | AE56: 1 | AG56: 3 | AH56: 1 | AK56: 14 | AL56: 71 | AM56: 69 | AN56: 2 | AP56: 0 | AU56: 227 | AV56: 0 | BB56: 227
A57: 22 | B57: SGB Leasing Sp. z o.o. | C57: 42 | D57: 10 | F57: 1 | G57: 29 | H57: 29 | Q57: 3 | X57: 76 | Y57: 3 | Z57: 54 | AE57: 7 | AH57: 7 | AK57: 5 | AL57: 1 | AN57: 1 | AP57: 0 | AU57: 119 | AV57: 0 | BB57: 119
A58: 23 | B58: Siemens Finance Sp. z o.o. | C58: 0 | G58: 0 | X58: 0 | AL58: 0 | AP58: 0 | AU58: 0 | AV58: 0 | BB58: 0
B59: Razem | C59: 13535 | D59: 9487 | E59: 47 | F59: 62 | G59: 888 | H59: 661 | I59: 3 | J59: 4 | K59: 227 | L59: 0 | M59: 2 | N59: 1204 | O59: 0 | P59: 12 | Q59: 1643 | R59: 131 | S59: 0 | T59: 0 | U59: 182 | V59: 3 | W59: 1 | X59: 12802 | Y59: 414 | Z59: 8149 | AA59: 31 | AB59: 65 | AC59: 133 | AD59: 76 | AE59: 2391 | AF59: 37 | AG59: 64 | AH59: 397 | AI59: 0 | AJ59: 0 | AK59: 1045 | AL59: 363 | AM59: 177 | AN59: 172 | AO59: 14 | AP59: 69 | AQ59: 4 | AR59: 65 | AS59: 0 | AT59: 134 | AU59: 26903 | AV59: 24 | AW59: 1 | AX59: 4 | AY59: 0 | AZ59: 0 | BA59: 19 | BB59: 26927
A61: Średnia wartość środków - pożyczki - (tys. PLN)
C62: 01.01.2023-30.06.2023
A64: Lp. | B64: Spółka | C64: POJAZDY | D64: Osobowe | E64: osobowe - zeroemisyjne | F64: osobowe - hybryda plug-in | G64: Cięzarowe: | H64: o masie do 3,5 tony | I64: o masie do 3,5 tony - zeroemisyjne | J64: o masie do 3,5 tony - hybryda plug-in | K64: o masie powyzej 3,5 tony | L64: o masie powyżej 3,5 tony - zeroemisyjne | M64: o masie powyżej 3,5 tony - hybryda plug-in | N64: ciagniki siodlowe | O64: ciągniki siodłowe - zeroemisyjne | P64: ciągniki siodłowe - hybryda plug-in | Q64: naczepy / przyczepy | R64: autobusy | S64: autobusy - zeroemisyjne | T64: autobusy - hybryda plug-in | U64: inne | V64: inne - zeroemisyjne | W64: inne - hybryda plug-in | X64: MiU | Y64: Sprzęt Budowlany | Z64: Maszyny Rolnicze | AA64: Maszyny Poligraf. | AB64: maszyny do produkcji tworzyw sztucznych | AC64: maszyny i urządzenia do obróbki metali | AD64: maszyny dla przemysłu spożywczego | AE64: Sprzęt Medyczny | AF64: Sprzęt Gastronom. | AG64: Wózki Widłowe | AH64: fotowoltaika | AI64: wiatraki i turbiny wiatrowe | AJ64: stacje ładowania pojazdów elektrycznych (na użytek własny i komercyjny) | AK64: inne MiU | AL64: IT | AM64: Sprzęt | AN64: Oprogram. | AO64: inne IT | AP64: POZOSTAŁE ŚRODKI TRANSPORTU | AQ64: Powietrzne | AR64: Wodne | AS64: Kolejowe | AT64: Inne ruchomości | AU64: RUCHOMOŚCI | AV64: Nieruchomości | AW64: budynki przemysłowe | AX64: obiekty handlowe i usługowe | AY64: obiekty biurowe | AZ64: hotele i obiekty rekreacyjne | BA64: inne | BB64: OGÓŁEM
A65: 1 | B65: Alior Leasing Sp. z o. o. | C65: 118.48761 | D65: 106.4865 | G65: 90.233661 | H65: 74.495273 | K65: 176.13903 | N65: 274.73183 | Q65: 111.0202 | R65: 152.09392 | U65: 123.0904 | X65: 186.31985 | Y65: 168.59856 | Z65: 211.43944 | AA65: 115 | AB65: 352.86333 | AC65: 74.230985 | AD65: 18.588333 | AE65: 251.12883 | AG65: 84.24916 | AH65: 103.75213 | AK65: 117.91796 | AL65: 4563.2961 | AM65: 4563.2961 | AU65: 130.86939 | BB65: 130.86939
A66: 2 | B66: BNP Paribas Lease Group Sp. z o.o. | C66: 208.81158 | D66: 93.579434 | E66: 156.13959 | G66: 282.05938 | H66: 200.95245 | K66: 425.73452 | N66: 446.93128 | Q66: 154.38168 | U66: 19.7989 | X66: 311.37819 | Y66: 327.3044 | Z66: 342.61957 | AA66: 23.502 | AC66: 763.6668 | AD66: 737.48262 | AE66: 64.169536 | AG66: 125.92362 | AH66: 129.60648 | AK66: 609.00488 | AL66: 71.404129 | AM66: 359.82581 | AN66: 68.346624 | AO66: 108.60452 | AU66: 285.11643 | BB66: 285.11643
A67: 3 | B67: BOŚ Leasing - EKO Profit S.A. | C67: 66.32 | U67: 66.32 | X67: 261.75 | Z67: 333.57333 | AE67: 149.99 | AH67: 282.275 | AK67: 116.99 | AU67: 237.32125 | BB67: 237.32125
A68: 4 | B68: BPS Leasing Spółka Akcyjna (BPS Leasing S.A.)
A69: 5 | B69: Caterpillar Financial Services Poland Sp. z o.o. | X69: 382.81359 | Y69: 382.81359 | AU69: 382.81359 | BB69: 382.81359
A70: 6 | B70: De Lage Landen Leasing Polska S.A. | C70: 162.45833 | D70: 205 | N70: 544 | Q70: 137 | X70: 329.48096 | Y70: 346.26667 | Z70: 358.58968 | AE70: 104.13462 | AH70: 113.22222 | AK70: 610.375 | AL70: 1461.3333 | AM70: 1528.3333 | AN70: 1427.8333 | AU70: 335.47333 | BB70: 335.47333
A71: 7 | B71: Deutsche Leasing Polska S.A. | C71: 181.91912 | D71: 205 | G71: 314 | H71: 314 | N71: 465.66667 | Q71: 157.36546 | X71: 623.34426 | Y71: 639.5 | Z71: 628.28846 | AB71: 843 | AC71: 840 | AK71: 478.2 | AU71: 262.78078 | BB71: 262.78078
A72: 8 | B72: Europejski Fundusz Leasingowy S.A. | C72: 170.50157 | D72: 125.9486 | E72: 209.80217 | G72: 196.54233 | H72: 194.46975 | I72: 269.5935 | K72: 216.75 | N72: 265.65769 | Q72: 149.40444 | R72: 445 | X72: 381.17894 | Y72: 194.34041 | Z72: 478.71055 | AA72: 37.428447 | AB72: 310.34439 | AC72: 202.78795 | AD72: 2260.9559 | AE72: 93.011455 | AF72: 52.448852 | AG72: 196.54444 | AH72: 137.34918 | AK72: 103.51813 | AL72: 49.066062 | AM72: 38.134475 | AN72: 74.776606 | AO72: 18.788848 | AP72: 172.38904 | AR72: 172.38904 | AU72: 320.8531 | BB72: 320.8531
A73: 9 | B73: Grupa VB Leasing | C73: 145.27436 | D73: 105.6765 | E73: 120.56426 | F73: 133.69308 | G73: 157.70342 | H73: 93.880103 | J73: 107.48296 | K73: 228.71809 | M73: 130.88896 | N73: 249.87508 | P73: 281.95483 | Q73: 126.7752 | R73: 234.35495 | U73: 71.580887 | W73: 104.5 | X73: 164.26853 | Y73: 216.69029 | Z73: 188.93374 | AA73: 147.57565 | AB73: 7.62331 | AC73: 386.51953 | AD73: 109.0322 | AE73: 87.363866 | AF73: 77.535299 | AG73: 50.202246 | AH73: 105.84998 | AK73: 100.07006 | AL73: 22.190838 | AM73: 22.190838 | AP73: 209.34071 | AQ73: 21.945 | AR73: 214.54615 | AT73: 66.522362 | AU73: 153.34763 | BB73: 153.34763
A74: 10 | B74: Impuls-Leasing Polska Sp. z o. o. | C74: 250.56506 | D74: 217.34284 | E74: 225.14909 | F74: 235.8 | G74: 251.89789 | H74: 247.81111 | I74: 124.72 | K74: 325.46 | N74: 460.79391 | Q74: 170.11486 | R74: 290 | U74: 94.1 | X74: 221.78196 | Y74: 852.6975 | Z74: 162.05667 | AA74: 40.621429 | AC74: 1324.81 | AE74: 128.7175 | AG74: 252.44 | AK74: 154.29929 | AU74: 245.91937 | BB74: 245.91937
A75: 11 | B75: ING Lease (Polska) Sp. z o.o. | C75: 93.613445 | D75: 93.613445 | X75: 2615.8889 | AA75: 7524.5 | AB75: 1369 | AC75: 448 | AE75: 1785.1667 | AK75: 743.33333 | AU75: 425.0073 | BB75: 425.0073
A76: 12 | B76: Leasing Polski Sp. z o. o.
A77: 13 | B77: Millennium Leasing Sp. z o.o.
A78: 14 | B78: mLeasing Sp. z o.o. | C78: 482.41513 | G78: 677.14455 | K78: 677.14455 | N78: 516.14981 | Q78: 224.39407 | R78: 325.95 | U78: 3416.7899 | X78: 345.96058 | Y78: 271.93609 | Z78: 2255.623 | AA78: 107.8218 | AB78: 5342.5603 | AC78: 1504.9065 | AD78: 1650.6069 | AE78: 159.64895 | AF78: 109.02187 | AG78: 140.92984 | AK78: 974.02999 | AL78: 37.100288 | AM78: 37.100288 | AP78: 1552.9284 | AQ78: 514.42082 | AR78: 1812.5553 | AT78: 372.54992 | AU78: 361.75527 | BB78: 361.75527
A79: 15 | B79: PEAC (Poland) Sp. z o.o. | C79: 162.13095 | D79: 120.76316 | G79: 141.06667 | H79: 141.06667 | Q79: 215.93103 | U79: 326 | X79: 129.00833 | Y79: 182 | Z79: 153.12727 | AC79: 281 | AE79: 58 | AG79: 246 | AK79: 100.47458 | AU79: 142.64706 | BB79: 142.64706
A80: 16 | B80: PEKAO Leasing Sp. z o.o. | C80: 231.08032 | D80: 127.70693 | E80: 263.76848 | G80: 227.83925 | H80: 145.91377 | K80: 539.15608 | N80: 462.98516 | Q80: 169.05056 | U80: 1786.8011 | X80: 750.00179 | Y80: 754.74304 | Z80: 438.01053 | AA80: 2787.647 | AB80: 1486.3816 | AC80: 1807.8143 | AD80: 1509.4183 | AE80: 187.59137 | AG80: 933.41975 | AH80: 228.84897 | AK80: 834.33695 | AL80: 1516.6713 | AM80: 1997.1737 | AN80: 75.16432 | AP80: 1657.2693 | AR80: 1657.2693 | AU80: 438.98371 | AV80: 609.812 | AW80: 221.154 | AX80: 706.9765 | BB80: 439.81702
A81: 17 | B81: PKO Leasing S.A. | C81: 154.74016 | D81: 133.71419 | E81: 278.24265 | F81: 208.125 | G81: 251.45119 | H81: 185.83758 | I81: 325.4211 | K81: 374.47671 | N81: 239.03019 | Q81: 105.02301 | R81: 210.79067 | U81: 73.230178 | X81: 272.78488 | Y81: 357.14505 | Z81: 240.44265 | AA81: 766.67585 | AB81: 946.61988 | AC81: 884.53249 | AD81: 370.99728 | AE81: 117.02178 | AG81: 172.36657 | AH81: 1199.0178 | AK81: 333.60433 | AL81: 48.430114 | AM81: 6.7287356 | AN81: 73.882931 | AO81: 4.5687856 | AP81: 244.43601 | AR81: 244.43601 | AU81: 203.02735 | BB81: 203.02735
A82: 18 | B82: Santander Consumer Multirent Sp.z o.o. | C82: 52.04404 | D82: 50.143911 | G82: 142.26204 | H82: 142.26204 | U82: 47.927273 | AU82: 52.04404 | BB82: 52.04404
A83: 19 | B83: Santander Leasing S.A. | C83: 149.51139 | D83: 121.73978 | E83: 169.42874 | F83: 185.50162 | G83: 213.17604 | H83: 138.94961 | K83: 404.36533 | N83: 435.78216 | Q83: 176.86823 | R83: 296.045 | U83: 30.458274 | V83: 20.362667 | X83: 183.37991 | Y83: 276.6376 | Z83: 181.61755 | AA83: 3744.251 | AB83: 2162.806 | AC83: 1649.5778 | AD83: 68.0366 | AE83: 56.617824 | AF83: 12.771833 | AG83: 106.79758 | AH83: 219.56764 | AK83: 268.53393 | AL83: 330.22703 | AM83: 330.22703 | AP83: 791.70062 | AQ83: 2755.6275 | AR83: 137.05833 | AT83: 32.905556 | AU83: 175.73205 | AV83: 495.10768 | BA83: 495.10768 | BB83: 176.70311
A84: 20 | B84: Scania Finance Polska Sp. z o.o. | C84: 477.63492 | D84: 260 | N84: 503.84483 | Q84: 152 | AU84: 477.63492 | BB84: 477.63492
A85: 21 | B85: SG Equipment Leasing Polska Sp. z o.o. | C85: 185.53704 | N85: 300.82324 | Q85: 121.48915 | X85: 341.74955 | Y85: 332.09292 | Z85: 322.20614 | AE85: 132.594 | AG85: 1218.8792 | AH85: 215.68 | AK85: 332.4919 | AL85: 631.43394 | AM85: 571.92768 | AN85: 2684.4 | AU85: 422.72143 | BB85: 422.72143
A86: 22 | B86: SGB Leasing Sp. z o.o. | C86: 176.28571 | D86: 197.9 | F86: 288 | G86: 168 | H86: 168 | Q86: 184.33333 | X86: 324.53947 | Y86: 334.33333 | Z86: 304.25926 | AE86: 156.28571 | AH86: 508.85714 | AK86: 515.2 | AL86: 26 | AN86: 26 | AU86: 269.70588 | BB86: 269.70588
A87: 23 | B87: Siemens Finance Sp. z o.o.
B88: Razem | C88: 121.52284 | D88: 83.746874 | E88: 194.4243 | F88: 162.68577 | G88: 191.35698 | H88: 140.49407 | I88: 239.91153 | J88: 107.48296 | K88: 339.4644 | M88: 130.88896 | N88: 335.31445 | P88: 281.95483 | Q88: 139.01855 | R88: 219.54335 | U88: 107.10854 | V88: 20.362667 | W88: 104.5 | X88: 274.55397 | Y88: 324.31487 | Z88: 276.6187 | AA88: 1857.7527 | AB88: 1670.4919 | AC88: 1111.7164 | AD88: 691.33258 | AE88: 103.81478 | AF88: 39.421603 | AG88: 214.59662 | AH88: 279.86074 | AK88: 368.72475 | AL88: 281.75265 | AM88: 431.87178 | AN88: 146.66755 | AO88: 43.434751 | AP88: 386.61119 | AQ88: 1511.9052 | AR88: 317.36233 | AT88: 205.8853 | AU88: 197.60594 | AV88: 519.00442 | AW88: 221.154 | AX88: 706.9765 | BA88: 495.10768 | BB88: 197.8924
A90: Struktura wartościowa umów (ruchomości) | C90: 01.01.2023-30.06.2023
A93: Lp. | B93: Spółka | C93: POJAZDY | D93: Osobowe | E93: osobowe - zeroemisyjne | F93: osobowe - hybryda plug-in | G93: Cięzarowe: | H93: o masie do 3,5 tony | I93: o masie do 3,5 tony - zeroemisyjne | J93: o masie do 3,5 tony - hybryda plug-in | K93: o masie powyzej 3,5 tony | L93: o masie powyżej 3,5 tony - zeroemisyjne | M93: o masie powyżej 3,5 tony - hybryda plug-in | N93: ciagniki siodlowe | O93: ciągniki siodłowe - zeroemisyjne | P93: ciągniki siodłowe - hybryda plug-in | Q93: naczepy / przyczepy | R93: autobusy | S93: autobusy - zeroemisyjne | T93: autobusy - hybryda plug-in | U93: inne | V93: inne - zeroemisyjne | W93: inne - hybryda plug-in | X93: MiU | Y93: Sprzęt Budowlany | Z93: Maszyny Rolnicze | AA93: Maszyny Poligraf. | AB93: maszyny do produkcji tworzyw sztucznych | AC93: maszyny i urządzenia do obróbki metali | AD93: maszyny dla przemysłu spożywczego | AE93: Sprzęt Medyczny | AF93: Sprzęt Gastronom. | AG93: Wózki Widłowe | AH93: fotowoltaika | AI93: wiatraki i turbiny wiatrowe | AJ93: stacje ładowania pojazdów elektrycznych (na użytek własny i komercyjny) | AK93: inne MiU | AL93: IT | AM93: Sprzęt | AN93: Oprogram. | AO93: inne IT | AP93: POZOSTAŁE ŚRODKI TRANSPORTU | AQ93: Powietrzne | AR93: Wodne | AS93: Kolejowe | AT93: Inne ruchomości | AU93: RUCHOMOŚCI | AV93: Nieruchomości | AW93: budynki przemysłowe | AX93: obiekty handlowe i usługowe | AY93: obiekty biurowe | AZ93: hotele i obiekty rekreacyjne | BA93: inne | BB93: OGÓŁEM
A94: 1 | B94: Alior Leasing Sp. z o. o. | C94: 0.78719893 | D94: 0.46290235 | G94: 0.0861173 | H94: 0.060088331 | K94: 0.026028969 | N94: 0.14547808 | Q94: 0.072459944 | R94: 0.0028094625 | U94: 0.017431797 | X94: 0.1847035 | Y94: 0.02076223 | Z94: 0.058585297 | AA94: 0.0007080892 | AB94: 0.0065180534 | AC94: 0.0050276848 | AD94: 0.00068672338 | AE94: 0.072674919 | AG94: 0.0010374943 | AH94: 0.0012776655 | AK94: 0.017425343 | AL94: 0.028097571 | AM94: 0.028097571 | AP94: 0 | AU94: 1 | AV94: 0 | BB94: 1
A95: 2 | B95: BNP Paribas Lease Group Sp. z o.o. | C95: 0.085468079 | D95: 0.011094585 | E95: 0.00022037605 | F95: 0 | G95: 0.038615677 | H95: 0.017584757 | I95: 0 | J95: 0 | K95: 0.02103092 | L95: 0 | M95: 0 | N95: 0.018924019 | O95: 0 | P95: 0 | Q95: 0.01677791 | R95: 0 | S95: 0 | T95: 0 | U95: 5.5888496e-05 | V95: 0 | W95: 0 | X95: 0.89961647 | Y95: 0.020326185 | Z95: 0.80853682 | AA95: 3.3170818e-05 | AB95: 0 | AC95: 0.0010778424 | AD95: 0.0020817719 | AE95: 0.021555456 | AF95: 0 | AG95: 0.0015995619 | AH95: 0.0065853763 | AI95: 0 | AJ95: 0 | AK95: 0.037820286 | AL95: 0.014915452 | AM95: 0.0005078596 | AN95: 0.013794452 | AO95: 0.00061313947 | AP95: 0 | AQ95: 0 | AR95: 0 | AS95: 0 | AT95: 0 | AU95: 1 | AV95: 0 | AW95: 0 | AX95: 0 | AY95: 0 | AZ95: 0 | BA95: 0 | BB95: 1
A96: 3 | B96: BOŚ Leasing - EKO Profit S.A. | C96: 0.034931554 | G96: 0 | U96: 0.034931554 | X96: 0.96506845 | Z96: 0.52709144 | AE96: 0.079001564 | AH96: 0.29735538 | AK96: 0.061620061 | AL96: 0 | AP96: 0 | AU96: 1 | AV96: 0 | BB96: 1
A97: 4 | B97: BPS Leasing Spółka Akcyjna (BPS Leasing S.A.)
A98: 5 | B98: Caterpillar Financial Services Poland Sp. z o.o. | C98: 0 | G98: 0 | X98: 1 | Y98: 1 | AL98: 0 | AP98: 0 | AU98: 1 | AV98: 0 | BB98: 1
A99: 6 | B99: De Lage Landen Leasing Polska S.A. | C99: 0.011272924 | D99: 0.0017781093 | G99: 0 | N99: 0.0015728316 | Q99: 0.0079219829 | X99: 0.95070156 | Y99: 0.015017073 | Z99: 0.88436218 | AE99: 0.031312071 | AH99: 0.0058923362 | AK99: 0.014117899 | AL99: 0.038025518 | AM99: 0.013256311 | AN99: 0.024769207 | AP99: 0 | AU99: 1 | AV99: 0 | BB99: 1
A100: 7 | B100: Deutsche Leasing Polska S.A. | C100: 0.5654698 | D100: 0.0023426965 | G100: 0.0035883254 | H100: 0.0035883254 | N100: 0.11175234 | Q100: 0.44778644 | X100: 0.4345302 | Y100: 0.014616141 | Z100: 0.37335726 | AA100: 0 | AB100: 0.0096336251 | AC100: 0.0095993418 | AK100: 0.027323841 | AL100: 0 | AP100: 0 | AU100: 1 | AV100: 0 | BB100: 1
A101: 8 | B101: Europejski Fundusz Leasingowy S.A. | C101: 0.12663497 | D101: 0.035294426 | E101: 0.0014339661 | G101: 0.019254499 | H101: 0.017279227 | I101: 0.00061421027 | K101: 0.0019752713 | N101: 0.038735576 | Q101: 0.03233663 | R101: 0.0010138359 | X101: 0.86322289 | Y101: 0.032321659 | Z101: 0.74817772 | AA101: 0.00025581778 | AB101: 0.002121157 | AC101: 0.0046200832 | AD101: 0.025755486 | AE101: 0.020554922 | AF101: 0.0013144266 | AG101: 0.0031344869 | AH101: 0.0065713262 | AK101: 0.018395801 | AL101: 0.0034653775 | AM101: 0.00069504899 | AN101: 0.0023850717 | AO101: 0.0003852568 | AP101: 0.0066767673 | AR101: 0.0066767673 | AU101: 1 | AV101: 0 | BB101: 1
A102: 9 | B102: Grupa VB Leasing | C102: 0.44983824 | D102: 0.11913669 | E102: 0.002198179 | F102: 0.013000263 | G102: 0.071882898 | H102: 0.022536883 | J102: 0.00130645 | K102: 0.049346014 | M102: 0.00079547443 | N102: 0.14426792 | P102: 0.010281441 | Q102: 0.0990058 | R102: 0.006409289 | U102: 0.0091356526 | W102: 0.00031754809 | X102: 0.51564153 | Y102: 0.028972458 | Z102: 0.38810517 | AA102: 0.0013453311 | AB102: 2.3165239e-05 | AC102: 0.015268909 | AD102: 0.0043071633 | AE102: 0.049113036 | AF102: 0.001649266 | AG102: 0.0010678602 | AH102: 0.0045031046 | AK102: 0.021286066 | AL102: 0.00026972854 | AM102: 0.00026972854 | AP102: 0.023536866 | AQ102: 6.6685098e-05 | AR102: 0.023470181 | AS102: 0 | AT102: 0.010713632 | AU102: 1 | AV102: 0 | BB102: 1
A103: 10 | B103: Impuls-Leasing Polska Sp. z o. o. | C103: 0.85443853 | D103: 0.29459906 | E103: 0.035336643 | F103: 0.003364389 | G103: 0.068287395 | H103: 0.063643739 | I103: 0.0017795021 | K103: 0.0046436558 | N103: 0.30243146 | Q103: 0.17961243 | R103: 0.0041377134 | U103: 0.0053704666 | X103: 0.14556147 | Y103: 0.048665074 | Z103: 0.013873325 | AA103: 0.0040570993 | AC103: 0.018902359 | AE103: 0.02203846 | AG103: 0.0072036163 | AK103: 0.030821542 | AL103: 0 | AP103: 0 | AU103: 1 | AV103: 0 | BB103: 1
A104: 11 | B104: ING Lease (Polska) Sp. z o.o. | C104: 0.19132346 | D104: 0.19132346 | G104: 0 | H104: 0 | K104: 0 | N104: 0 | Q104: 0 | R104: 0 | U104: 0 | X104: 0.80867654 | Y104: 0 | Z104: 0 | AA104: 0.51691684 | AB104: 0.023511833 | AC104: 0.0076941572 | AD104: 0 | AE104: 0.18395562 | AF104: 0 | AG104: 0 | AH104: 0 | AK104: 0.076598083 | AL104: 0 | AM104: 0 | AN104: 0 | AO104: 0 | AP104: 0 | AQ104: 0 | AR104: 0 | AS104: 0 | AT104: 0 | AU104: 1 | AV104: 0 | AW104: 0 | AX104: 0 | AY104: 0 | AZ104: 0 | BA104: 0 | BB104: 1
A105: 12 | B105: Leasing Polski Sp. z o. o.
A106: 13 | B106: Millennium Leasing Sp. z o.o.
A107: 14 | B107: mLeasing Sp. z o.o. | C107: 0.15449549 | G107: 0.031958082 | K107: 0.031958082 | N107: 0.088739551 | Q107: 0.021180718 | R107: 0.0010988092 | U107: 0.011518331 | X107: 0.7370806 | Y107: 0.007333784 | Z107: 0.015207849 | AA107: 0.00036347777 | AB107: 0.10806174 | AC107: 0.04058549 | AD107: 0.027821783 | AE107: 0.27932171 | AF107: 0.00036752331 | AG107: 0.0019003528 | AK107: 0.25611689 | AL107: 0.0031267169 | AM107: 0.0031267169 | AP107: 0.026175363 | AQ107: 0.0017341626 | AR107: 0.0244412 | AT107: 0.079121826 | AU107: 1 | AV107: 0 | BB107: 1
A108: 15 | B108: PEAC (Poland) Sp. z o.o. | C108: 0.46800687 | D108: 0.15769759 | G108: 0.072714777 | H108: 0.072714777 | Q108: 0.215189 | U108: 0.022405498 | X108: 0.53199313 | Y108: 0.018762887 | Z108: 0.28941581 | AC108: 0.0096563574 | AE108: 0.0019931271 | AG108: 0.0084536082 | AK108: 0.20371134 | AL108: 0 | AP108: 0 | AU108: 1 | AV108: 0 | BB108: 1
A109: 16 | B109: PEKAO Leasing Sp. z o.o. | C109: 0.31945158 | D109: 0.096686448 | E109: 0.00058908006 | F109: 0 | G109: 0.012212124 | H109: 0.0061915772 | I109: 0 | J109: 0 | K109: 0.0060205468 | L109: 0 | M109: 0 | N109: 0.16233724 | O109: 0 | P109: 0 | Q109: 0.036244263 | R109: 0 | S109: 0 | T109: 0 | U109: 0.011971509 | V109: 0 | W109: 0 | X109: 0.66329834 | Y109: 0.047196368 | Z109: 0.16336253 | AA109: 0.018677144 | AB109: 0.05643268 | AC109: 0.1372727 | AD109: 0.043823231 | AE109: 0.010054848 | AF109: 0 | AG109: 0.0041692545 | AH109: 0.0071553095 | AI109: 0 | AJ109: 0 | AK109: 0.17515428 | AL109: 0.013548864 | AM109: 0.013380998 | AN109: 0.00016786616 | AO109: 0 | AP109: 0.0037012167 | AQ109: 0 | AR109: 0.0037012167 | AS109: 0 | AT109: 0 | AU109: 1 | AV109: 0.0068095341 | AW109: 0.00049390819 | AX109: 0.0063156259 | AY109: 0 | AZ109: 0 | BA109: 0 | BB109: 1.0068095
A110: 17 | B110: PKO Leasing S.A. | C110: 0.44737842 | D110: 0.20586582 | E110: 0.002106793 | F110: 0.0010505849 | G110: 0.036492066 | H110: 0.017589023 | I110: 0.00041066966 | K110: 0.018903043 | N110: 0.11462603 | Q110: 0.060833676 | R110: 0.028729102 | U110: 0.00083172453 | X110: 0.55182417 | Y110: 0.01847887 | Z110: 0.28067268 | AA110: 0.0038700688 | AB110: 0.023892001 | AC110: 0.033487441 | AD110: 0.012640999 | AE110: 0.046518337 | AG110: 0.0032628057 | AH110: 0.046906629 | AK110: 0.082094338 | AL110: 0.00048893642 | AM110: 1.6982842e-05 | AN110: 0.00046618794 | AO110: 5.7656422e-06 | AP110: 0.00030846941 | AR110: 0.00030846941 | AU110: 1 | AV110: 0 | BB110: 1
...

Sheet Suma (L+P)_I-II kw.2023 
A1: Związek Polskiego Leasingu
A3: Wartość środków oddanych w leasing- netto w tys. PLN
C4: 01.01.2023-30.06.2023
A6: Lp. | B6: Spółka | C6: POJAZDY | D6: Osobowe | E6: osobowe - zeroemisyjne | F6: osobowe - hybryda plug-in | G6: Cięzarowe: | H6: o masie do 3,5 tony | I6: o masie do 3,5 tony - zeroemisyjne | J6: o masie do 3,5 tony - hybryda plug-in | K6: o masie powyzej 3,5 tony | L6: o masie powyżej 3,5 tony - zeroemisyjne | M6: o masie powyżej 3,5 tony - hybryda plug-in | N6: ciagniki siodlowe | O6: ciągniki siodłowe - zeroemisyjne | P6: ciągniki siodłowe - hybryda plug-in | Q6: naczepy / przyczepy | R6: autobusy | S6: autobusy - zeroemisyjne | T6: autobusy - hybryda plug-in | U6: inne | V6: inne - zeroemisyjne | W6: inne - hybryda plug-in | X6: MiU | Y6: Sprzęt Budowlany | Z6: Maszyny Rolnicze | AA6: Maszyny Poligraf. | AB6: maszyny do produkcji tworzyw sztucznych | AC6: maszyny i urządzenia do obróbki metali | AD6: maszyny dla przemysłu spożywczego | AE6: Sprzęt Medyczny | AF6: Sprzęt Gastronom. | AG6: Wózki Widłowe | AH6: fotowoltaika | AI6: wiatraki i turbiny wiatrowe | AJ6: stacje ładowania pojazdów elektrycznych (na użytek własny i komercyjny) | AK6: inne MiU | AL6: IT | AM6: Sprzęt | AN6: Oprogram. | AO6: inne IT | AP6: POZOSTAŁE ŚRODKI TRANSPORTU | AQ6: Powietrzne | AR6: Wodne | AS6: Kolejowe | AT6: Inne ruchomości | AU6: RUCHOMOŚCI | AV6: Nieruchomości | AW6: budynki przemysłowe | AX6: obiekty handlowe i usługowe | AY6: obiekty biurowe | AZ6: hotele i obiekty rekreacyjne | BA6: inne | BB6: OGÓŁEM
A7: 1 | B7: Alior Leasing Sp. z o. o. | C7: ='Leasing_I-II kw.2023 (2)'!C7+'Pożyczki_I_II kw.2023'!C7 -> 1186730.9 | D7: ='Leasing_I-II kw.2023 (2)'!D7+'Pożyczki_I_II kw.2023'!D7 -> 488019.31 | E7: ='Leasing_I-II kw.2023 (2)'!E7+'Pożyczki_I_II kw.2023'!E7 -> 0 | F7: ='Leasing_I-II kw.2023 (2)'!F7+'Pożyczki_I_II kw.2023'!F7 -> 0 | G7: ='Leasing_I-II kw.2023 (2)'!G7+'Pożyczki_I_II kw.2023'!G7 -> 223563.86 | H7: ='Leasing_I-II kw.2023 (2)'!H7+'Pożyczki_I_II kw.2023'!H7 -> 130253.68 | I7: ='Leasing_I-II kw.2023 (2)'!I7+'Pożyczki_I_II kw.2023'!I7 -> 0 | J7: ='Leasing_I-II kw.2023 (2)'!J7+'Pożyczki_I_II kw.2023'!J7 -> 0 | ... BB7: ='Leasing_I-II kw.2023 (2)'!BB7+'Pożyczki_I_II kw.2023'!BB7 -> 1421854.4
A8: 2 | B8: BNP Paribas Lease Group Sp. z o.o. | C8: ='Leasing_I-II kw.2023 (2)'!C8+'Pożyczki_I_II kw.2023'!C8 -> 1283762.2 | D8: ='Leasing_I-II kw.2023 (2)'!D8+'Pożyczki_I_II kw.2023'!D8 -> 819153.38 | E8: ='Leasing_I-II kw.2023 (2)'!E8+'Pożyczki_I_II kw.2023'!E8 -> 31973.465 | F8: ='Leasing_I-II kw.2023 (2)'!F8+'Pożyczki_I_II kw.2023'!F8 -> 0 | G8: ='Leasing_I-II kw.2023 (2)'!G8+'Pożyczki_I_II kw.2023'!G8 -> 246989.64 | H8: ='Leasing_I-II kw.2023 (2)'!H8+'Pożyczki_I_II kw.2023'!H8 -> 170434.31 | I8: ='Leasing_I-II kw.2023 (2)'!I8+'Pożyczki_I_II kw.2023'!I8 -> 3373.1642 | J8: ='Leasing_I-II kw.2023 (2)'!J8+'Pożyczki_I_II kw.2023'!J8 -> 0 | ... BB8: ='Leasing_I-II kw.2023 (2)'!BB8+'Pożyczki_I_II kw.2023'!BB8 -> 2679382.9
A9: 3 | B9: BOŚ Leasing - EKO Profit S.A. | C9: ='Leasing_I-II kw.2023 (2)'!C9+'Pożyczki_I_II kw.2023'!C9 -> 25724.69 | D9: ='Leasing_I-II kw.2023 (2)'!D9+'Pożyczki_I_II kw.2023'!D9 -> 4445.07 | E9: ='Leasing_I-II kw.2023 (2)'!E9+'Pożyczki_I_II kw.2023'!E9 -> 0 | F9: ='Leasing_I-II kw.2023 (2)'!F9+'Pożyczki_I_II kw.2023'!F9 -> 0 | G9: ='Leasing_I-II kw.2023 (2)'!G9+'Pożyczki_I_II kw.2023'!G9 -> 2957.9 | H9: ='Leasing_I-II kw.2023 (2)'!H9+'Pożyczki_I_II kw.2023'!H9 -> 1294.3 | I9: ='Leasing_I-II kw.2023 (2)'!I9+'Pożyczki_I_II kw.2023'!I9 -> 0 | J9: ='Leasing_I-II kw.2023 (2)'!J9+'Pożyczki_I_II kw.2023'!J9 -> 0 | ... BB9: ='Leasing_I-II kw.2023 (2)'!BB9+'Pożyczki_I_II kw.2023'!BB9 -> 93210.75
A10: 4 | B10: BPS Leasing Spółka Akcyjna (BPS Leasing S.A.) | C10: ='Leasing_I-II kw.2023 (2)'!C10+'Pożyczki_I_II kw.2023'!C10 -> 106466.14 | D10: ='Leasing_I-II kw.2023 (2)'!D10+'Pożyczki_I_II kw.2023'!D10 -> 30044.38 | E10: ='Leasing_I-II kw.2023 (2)'!E10+'Pożyczki_I_II kw.2023'!E10 -> 734.59 | F10: ='Leasing_I-II kw.2023 (2)'!F10+'Pożyczki_I_II kw.2023'!F10 -> 11638.79 | G10: ='Leasing_I-II kw.2023 (2)'!G10+'Pożyczki_I_II kw.2023'!G10 -> 20880.46 | H10: ='Leasing_I-II kw.2023 (2)'!H10+'Pożyczki_I_II kw.2023'!H10 -> 5041.01 | I10: ='Leasing_I-II kw.2023 (2)'!I10+'Pożyczki_I_II kw.2023'!I10 -> 0 | J10: ='Leasing_I-II kw.2023 (2)'!J10+'Pożyczki_I_II kw.2023'!J10 -> 0 | ... BB10: ='Leasing_I-II kw.2023 (2)'!BB10+'Pożyczki_I_II kw.2023'!BB10 -> 125826.57
A11: 5 | B11: Caterpillar Financial Services Poland Sp. z o.o. | C11: ='Leasing_I-II kw.2023 (2)'!C11+'Pożyczki_I_II kw.2023'!C11 -> 0 | D11: ='Leasing_I-II kw.2023 (2)'!D11+'Pożyczki_I_II kw.2023'!D11 -> 0 | E11: ='Leasing_I-II kw.2023 (2)'!E11+'Pożyczki_I_II kw.2023'!E11 -> 0 | F11: ='Leasing_I-II kw.2023 (2)'!F11+'Pożyczki_I_II kw.2023'!F11 -> 0 | G11: ='Leasing_I-II kw.2023 (2)'!G11+'Pożyczki_I_II kw.2023'!G11 -> 0 | H11: ='Leasing_I-II kw.2023 (2)'!H11+'Pożyczki_I_II kw.2023'!H11 -> 0 | I11: ='Leasing_I-II kw.2023 (2)'!I11+'Pożyczki_I_II kw.2023'!I11 -> 0 | J11: ='Leasing_I-II kw.2023 (2)'!J11+'Pożyczki_I_II kw.2023'!J11 -> 0 | ... BB11: ='Leasing_I-II kw.2023 (2)'!BB11+'Pożyczki_I_II kw.2023'!BB11 -> 264194.62
A12: 6 | B12: De Lage Landen Leasing Polska S.A. | C12: ='Leasing_I-II kw.2023 (2)'!C12+'Pożyczki_I_II kw.2023'!C12 -> 6417 | D12: ='Leasing_I-II kw.2023 (2)'!D12+'Pożyczki_I_II kw.2023'!D12 -> 615 | E12: ='Leasing_I-II kw.2023 (2)'!E12+'Pożyczki_I_II kw.2023'!E12 -> 0 | F12: ='Leasing_I-II kw.2023 (2)'!F12+'Pożyczki_I_II kw.2023'!F12 -> 0 | G12: ='Leasing_I-II kw.2023 (2)'!G12+'Pożyczki_I_II kw.2023'!G12 -> 0 | H12: ='Leasing_I-II kw.2023 (2)'!H12+'Pożyczki_I_II kw.2023'!H12 -> 0 | I12: ='Leasing_I-II kw.2023 (2)'!I12+'Pożyczki_I_II kw.2023'!I12 -> 0 | J12: ='Leasing_I-II kw.2023 (2)'!J12+'Pożyczki_I_II kw.2023'!J12 -> 0 | ... BB12: ='Leasing_I-II kw.2023 (2)'!BB12+'Pożyczki_I_II kw.2023'!BB12 -> 381730
A13: 7 | B13: Deutsche Leasing Polska S.A. | C13: ='Leasing_I-II kw.2023 (2)'!C13+'Pożyczki_I_II kw.2023'!C13 -> 204935 | D13: ='Leasing_I-II kw.2023 (2)'!D13+'Pożyczki_I_II kw.2023'!D13 -> 1385 | E13: ='Leasing_I-II kw.2023 (2)'!E13+'Pożyczki_I_II kw.2023'!E13 -> 0 | F13: ='Leasing_I-II kw.2023 (2)'!F13+'Pożyczki_I_II kw.2023'!F13 -> 0 | G13: ='Leasing_I-II kw.2023 (2)'!G13+'Pożyczki_I_II kw.2023'!G13 -> 314 | H13: ='Leasing_I-II kw.2023 (2)'!H13+'Pożyczki_I_II kw.2023'!H13 -> 314 | I13: ='Leasing_I-II kw.2023 (2)'!I13+'Pożyczki_I_II kw.2023'!I13 -> 0 | J13: ='Leasing_I-II kw.2023 (2)'!J13+'Pożyczki_I_II kw.2023'!J13 -> 0 | ... BB13: ='Leasing_I-II kw.2023 (2)'!BB13+'Pożyczki_I_II kw.2023'!BB13 -> 580049
A14: 8 | B14: Europejski Fundusz Leasingowy S.A. | C14: ='Leasing_I-II kw.2023 (2)'!C14+'Pożyczki_I_II kw.2023'!C14 -> 2745917 | D14: ='Leasing_I-II kw.2023 (2)'!D14+'Pożyczki_I_II kw.2023'!D14 -> 1096715.2 | E14: ='Leasing_I-II kw.2023 (2)'!E14+'Pożyczki_I_II kw.2023'!E14 -> 44647.6 | F14: ='Leasing_I-II kw.2023 (2)'!F14+'Pożyczki_I_II kw.2023'!F14 -> 14056.506 | G14: ='Leasing_I-II kw.2023 (2)'!G14+'Pożyczki_I_II kw.2023'!G14 -> 681407.49 | H14: ='Leasing_I-II kw.2023 (2)'!H14+'Pożyczki_I_II kw.2023'!H14 -> 349107.31 | I14: ='Leasing_I-II kw.2023 (2)'!I14+'Pożyczki_I_II kw.2023'!I14 -> 23817.074 | J14: ='Leasing_I-II kw.2023 (2)'!J14+'Pożyczki_I_II kw.2023'!J14 -> 0 | ... BB14: ='Leasing_I-II kw.2023 (2)'!BB14+'Pożyczki_I_II kw.2023'!BB14 -> 4304599.5
A15: 9 | B15: Grupa VB Leasing | C15: ='Leasing_I-II kw.2023 (2)'!C15+'Pożyczki_I_II kw.2023'!C15 -> 941951.71 | D15: ='Leasing_I-II kw.2023 (2)'!D15+'Pożyczki_I_II kw.2023'!D15 -> 325787.04 | E15: ='Leasing_I-II kw.2023 (2)'!E15+'Pożyczki_I_II kw.2023'!E15 -> 11080.789 | F15: ='Leasing_I-II kw.2023 (2)'!F15+'Pożyczki_I_II kw.2023'!F15 -> 54090.004 | G15: ='Leasing_I-II kw.2023 (2)'!G15+'Pożyczki_I_II kw.2023'!G15 -> 166193.19 | H15: ='Leasing_I-II kw.2023 (2)'!H15+'Pożyczki_I_II kw.2023'!H15 -> 91788.937 | I15: ='Leasing_I-II kw.2023 (2)'!I15+'Pożyczki_I_II kw.2023'!I15 -> 401.93089 | J15: ='Leasing_I-II kw.2023 (2)'!J15+'Pożyczki_I_II kw.2023'!J15 -> 429.93182 | ... BB15: ='Leasing_I-II kw.2023 (2)'!BB15+'Pożyczki_I_II kw.2023'!BB15 -> 1350138.2
A16: 10 | B16: Impuls-Leasing Polska Sp. z o. o. | C16: ='Leasing_I-II kw.2023 (2)'!C16+'Pożyczki_I_II kw.2023'!C16 -> 496818.51 | D16: ='Leasing_I-II kw.2023 (2)'!D16+'Pożyczki_I_II kw.2023'!D16 -> 236932.8 | E16: ='Leasing_I-II kw.2023 (2)'!E16+'Pożyczki_I_II kw.2023'!E16 -> 8593.26 | F16: ='Leasing_I-II kw.2023 (2)'!F16+'Pożyczki_I_II kw.2023'!F16 -> 2096.52 | G16: ='Leasing_I-II kw.2023 (2)'!G16+'Pożyczki_I_II kw.2023'!G16 -> 68691.34 | H16: ='Leasing_I-II kw.2023 (2)'!H16+'Pożyczki_I_II kw.2023'!H16 -> 51845.9 | I16: ='Leasing_I-II kw.2023 (2)'!I16+'Pożyczki_I_II kw.2023'!I16 -> 381.72 | J16: ='Leasing_I-II kw.2023 (2)'!J16+'Pożyczki_I_II kw.2023'!J16 -> 0 | ... BB16: ='Leasing_I-II kw.2023 (2)'!BB16+'Pożyczki_I_II kw.2023'!BB16 -> 610362.02
A17: 11 | B17: ING Lease (Polska) Sp. z o.o. | C17: ='Leasing_I-II kw.2023 (2)'!C17+'Pożyczki_I_II kw.2023'!C17 -> 1986866 | D17: ='Leasing_I-II kw.2023 (2)'!D17+'Pożyczki_I_II kw.2023'!D17 -> 799444 | E17: ='Leasing_I-II kw.2023 (2)'!E17+'Pożyczki_I_II kw.2023'!E17 -> 37601 | F17: ='Leasing_I-II kw.2023 (2)'!F17+'Pożyczki_I_II kw.2023'!F17 -> 21155 | G17: ='Leasing_I-II kw.2023 (2)'!G17+'Pożyczki_I_II kw.2023'!G17 -> 384447 | H17: ='Leasing_I-II kw.2023 (2)'!H17+'Pożyczki_I_II kw.2023'!H17 -> 212116 | I17: ='Leasing_I-II kw.2023 (2)'!I17+'Pożyczki_I_II kw.2023'!I17 -> 5352 | J17: ='Leasing_I-II kw.2023 (2)'!J17+'Pożyczki_I_II kw.2023'!J17 -> 0 | ... BB17: ='Leasing_I-II kw.2023 (2)'!BB17+'Pożyczki_I_II kw.2023'!BB17 -> 3265433
A18: 12 | B18: Leasing Polski Sp. z o. o. | C18: ='Leasing_I-II kw.2023 (2)'!C18+'Pożyczki_I_II kw.2023'!C18 -> 87663.348 | D18: ='Leasing_I-II kw.2023 (2)'!D18+'Pożyczki_I_II kw.2023'!D18 -> 15345.714 | E18: ='Leasing_I-II kw.2023 (2)'!E18+'Pożyczki_I_II kw.2023'!E18 -> 240.44797 | F18: ='Leasing_I-II kw.2023 (2)'!F18+'Pożyczki_I_II kw.2023'!F18 -> 1135.7087 | G18: ='Leasing_I-II kw.2023 (2)'!G18+'Pożyczki_I_II kw.2023'!G18 -> 18603.912 | H18: ='Leasing_I-II kw.2023 (2)'!H18+'Pożyczki_I_II kw.2023'!H18 -> 10069.115 | I18: ='Leasing_I-II kw.2023 (2)'!I18+'Pożyczki_I_II kw.2023'!I18 -> 0 | J18: ='Leasing_I-II kw.2023 (2)'!J18+'Pożyczki_I_II kw.2023'!J18 -> 0 | ... BB18: ='Leasing_I-II kw.2023 (2)'!BB18+'Pożyczki_I_II kw.2023'!BB18 -> 100757.07
... A29: 23 | B29: Siemens Finance Sp. z o.o. | C29: ='Leasing_I-II kw.2023 (2)'!C29+'Pożyczki_I_II kw.2023'!C29 -> 17621 | D29: ='Leasing_I-II kw.2023 (2)'!D29+'Pożyczki_I_II kw.2023'!D29 -> 1210 | E29: ='Leasing_I-II kw.2023 (2)'!E29+'Pożyczki_I_II kw.2023'!E29 -> 0 | F29: ='Leasing_I-II kw.2023 (2)'!F29+'Pożyczki_I_II kw.2023'!F29 -> 0 | G29: ='Leasing_I-II kw.2023 (2)'!G29+'Pożyczki_I_II kw.2023'!G29 -> 14554 | H29: ='Leasing_I-II kw.2023 (2)'!H29+'Pożyczki_I_II kw.2023'!H29 -> 458 | I29: ='Leasing_I-II kw.2023 (2)'!I29+'Pożyczki_I_II kw.2023'!I29 -> 0 | J29: ='Leasing_I-II kw.2023 (2)'!J29+'Pożyczki_I_II kw.2023'!J29 -> 0 | ... BB29: ='Leasing_I-II kw.2023 (2)'!BB29+'Pożyczki_I_II kw.2023'!BB29 -> 425369
B30: Razem | C30: ='Leasing_I-II kw.2023 (2)'!C30+'Pożyczki_I_II kw.2023'!C30 -> 23597758 | D30: ='Leasing_I-II kw.2023 (2)'!D30+'Pożyczki_I_II kw.2023'!D30 -> 11662934 | E30: ='Leasing_I-II kw.2023 (2)'!E30+'Pożyczki_I_II kw.2023'!E30 -> 394271.63 | F30: ='Leasing_I-II kw.2023 (2)'!F30+'Pożyczki_I_II kw.2023'!F30 -> 194445.92 | G30: ='Leasing_I-II kw.2023 (2)'!G30+'Pożyczki_I_II kw.2023'!G30 -> 3765804.6 | H30: ='Leasing_I-II kw.2023 (2)'!H30+'Pożyczki_I_II kw.2023'!H30 -> 2170100.2 | I30: ='Leasing_I-II kw.2023 (2)'!I30+'Pożyczki_I_II kw.2023'!I30 -> 61888.826 | J30: ='Leasing_I-II kw.2023 (2)'!J30+'Pożyczki_I_II kw.2023'!J30 -> 673.83426 | ... BB30: ='Leasing_I-II kw.2023 (2)'!BB30+'Pożyczki_I_II kw.2023'!BB30 -> 36978289
A32: Ilość środków oddanych w leasing w szt. | C32: 01.01.2023-30.06.2023
A35: Lp. | B35: Spółka | C35: POJAZDY | D35: Osobowe | E35: osobowe - zeroemisyjne | F35: osobowe - hybryda plug-in | G35: Cięzarowe: | H35: o masie do 3,5 tony | I35: o masie do 3,5 tony - zeroemisyjne | J35: o masie do 3,5 tony - hybryda plug-in | K35: o masie powyzej 3,5 tony | L35: o masie powyżej 3,5 tony - zeroemisyjne | M35: o masie powyżej 3,5 tony - hybryda plug-in | N35: ciagniki siodlowe | O35: ciągniki siodłowe - zeroemisyjne | P35: ciągniki siodłowe - hybryda plug-in | Q35: naczepy / przyczepy | R35: autobusy | S35: autobusy - zeroemisyjne | T35: autobusy - hybryda plug-in | U35: inne | V35: inne - zeroemisyjne | W35: inne - hybryda plug-in | X35: MiU | Y35: Sprzęt Budowlany | Z35: Maszyny Rolnicze | AA35: Maszyny Poligraf. | AB35: maszyny do produkcji tworzyw sztucznych | AC35: maszyny i urządzenia do obróbki metali | AD35: maszyny dla przemysłu spożywczego | AE35: Sprzęt Medyczny | AF35: Sprzęt Gastronom. | AG35: Wózki Widłowe | AH35: fotowoltaika | AI35: wiatraki i turbiny wiatrowe | AJ35: stacje ładowania pojazdów elektrycznych (na użytek własny i komercyjny) | AK35: inne MiU | AL35: IT | AM35: Sprzęt | AN35: Oprogram. | AO35: inne IT | AP35: POZOSTAŁE ŚRODKI TRANSPORTU | AQ35: Powietrzne | AR35: Wodne | AS35: Kolejowe | AT35: Inne ruchomości | AU35: RUCHOMOŚCI | AV35: Nieruchomości | AW35: budynki przemysłowe | AX35: obiekty handlowe i usługowe | AY35: obiekty biurowe | AZ35: hotele i obiekty rekreacyjne | BA35: inne | BB35: OGÓŁEM
A36: 1 | B36: Alior Leasing Sp. z o. o. | C36: ='Leasing_I-II kw.2023 (2)'!C36+'Pożyczki_I_II kw.2023'!C36 -> 7897 | D36: ='Leasing_I-II kw.2023 (2)'!D36+'Pożyczki_I_II kw.2023'!D36 -> 3851 | E36: ='Leasing_I-II kw.2023 (2)'!E36+'Pożyczki_I_II kw.2023'!E36 -> 0 | F36: ='Leasing_I-II kw.2023 (2)'!F36+'Pożyczki_I_II kw.2023'!F36 -> 0 | G36: ='Leasing_I-II kw.2023 (2)'!G36+'Pożyczki_I_II kw.2023'!G36 -> 1706 | H36: ='Leasing_I-II kw.2023 (2)'!H36+'Pożyczki_I_II kw.2023'!H36 -> 1363 | I36: ='Leasing_I-II kw.2023 (2)'!I36+'Pożyczki_I_II kw.2023'!I36 -> 0 | J36: ='Leasing_I-II kw.2023 (2)'!J36+'Pożyczki_I_II kw.2023'!J36 -> 0 | ... BB36: ='Leasing_I-II kw.2023 (2)'!BB36+'Pożyczki_I_II kw.2023'!BB36 -> 9301
A37: 2 | B37: BNP Paribas Lease Group Sp. z o.o. | C37: ='Leasing_I-II kw.2023 (2)'!C37+'Pożyczki_I_II kw.2023'!C37 -> 8490 | D37: ='Leasing_I-II kw.2023 (2)'!D37+'Pożyczki_I_II kw.2023'!D37 -> 6354 | E37: ='Leasing_I-II kw.2023 (2)'!E37+'Pożyczki_I_II kw.2023'!E37 -> 170 | F37: ='Leasing_I-II kw.2023 (2)'!F37+'Pożyczki_I_II kw.2023'!F37 -> 0 | G37: ='Leasing_I-II kw.2023 (2)'!G37+'Pożyczki_I_II kw.2023'!G37 -> 1295 | H37: ='Leasing_I-II kw.2023 (2)'!H37+'Pożyczki_I_II kw.2023'!H37 -> 1059 | I37: ='Leasing_I-II kw.2023 (2)'!I37+'Pożyczki_I_II kw.2023'!I37 -> 18 | J37: ='Leasing_I-II kw.2023 (2)'!J37+'Pożyczki_I_II kw.2023'!J37 -> 0 | ... BB37: ='Leasing_I-II kw.2023 (2)'!BB37+'Pożyczki_I_II kw.2023'!BB37 -> 13120
A38: 3 | B38: BOŚ Leasing - EKO Profit S.A. | C38: ='Leasing_I-II kw.2023 (2)'!C38+'Pożyczki_I_II kw.2023'!C38 -> 116 | D38: ='Leasing_I-II kw.2023 (2)'!D38+'Pożyczki_I_II kw.2023'!D38 -> 24 | E38: ='Leasing_I-II kw.2023 (2)'!E38+'Pożyczki_I_II kw.2023'!E38 -> 0 | F38: ='Leasing_I-II kw.2023 (2)'!F38+'Pożyczki_I_II kw.2023'!F38 -> 0 | G38: ='Leasing_I-II kw.2023 (2)'!G38+'Pożyczki_I_II kw.2023'!G38 -> 20 | H38: ='Leasing_I-II kw.2023 (2)'!H38+'Pożyczki_I_II kw.2023'!H38 -> 13 | I38: ='Leasing_I-II kw.2023 (2)'!I38+'Pożyczki_I_II kw.2023'!I38 -> 0 | J38: ='Leasing_I-II kw.2023 (2)'!J38+'Pożyczki_I_II kw.2023'!J38 -> 0 | ... BB38: ='Leasing_I-II kw.2023 (2)'!BB38+'Pożyczki_I_II kw.2023'!BB38 -> 282
A39: 4 | B39: BPS Leasing Spółka Akcyjna (BPS Leasing S.A.) | C39: ='Leasing_I-II kw.2023 (2)'!C39+'Pożyczki_I_II kw.2023'!C39 -> 499 | D39: ='Leasing_I-II kw.2023 (2)'!D39+'Pożyczki_I_II kw.2023'!D39 -> 245 | E39: ='Leasing_I-II kw.2023 (2)'!E39+'Pożyczki_I_II kw.2023'!E39 -> 3 | F39: ='Leasing_I-II kw.2023 (2)'!F39+'Pożyczki_I_II kw.2023'!F39 -> 83 | G39: ='Leasing_I-II kw.2023 (2)'!G39+'Pożyczki_I_II kw.2023'!G39 -> 82 | H39: ='Leasing_I-II kw.2023 (2)'!H39+'Pożyczki_I_II kw.2023'!H39 -> 45 | I39: ='Leasing_I-II kw.2023 (2)'!I39+'Pożyczki_I_II kw.2023'!I39 -> 0 | J39: ='Leasing_I-II kw.2023 (2)'!J39+'Pożyczki_I_II kw.2023'!J39 -> 0 | ... BB39: ='Leasing_I-II kw.2023 (2)'!BB39+'Pożyczki_I_II kw.2023'!BB39 -> 574
A40: 5 | B40: Caterpillar Financial Services Poland Sp. z o.o. | C40: ='Leasing_I-II kw.2023 (2)'!C40+'Pożyczki_I_II kw.2023'!C40 -> 0 | D40: ='Leasing_I-II kw.2023 (2)'!D40+'Pożyczki_I_II kw.2023'!D40 -> 0 | E40: ='Leasing_I-II kw.2023 (2)'!E40+'Pożyczki_I_II kw.2023'!E40 -> 0 | F40: ='Leasing_I-II kw.2023 (2)'!F40+'Pożyczki_I_II kw.2023'!F40 -> 0 | G40: ='Leasing_I-II kw.2023 (2)'!G40+'Pożyczki_I_II kw.2023'!G40 -> 0 | H40: ='Leasing_I-II kw.2023 (2)'!H40+'Pożyczki_I_II kw.2023'!H40 -> 0 | I40: ='Leasing_I-II kw.2023 (2)'!I40+'Pożyczki_I_II kw.2023'!I40 -> 0 | J40: ='Leasing_I-II kw.2023 (2)'!J40+'Pożyczki_I_II kw.2023'!J40 -> 0 | ... BB40: ='Leasing_I-II kw.2023 (2)'!BB40+'Pożyczki_I_II kw.2023'!BB40 -> 547
A41: 6 | B41: De Lage Landen Leasing Polska S.A. | C41: ='Leasing_I-II kw.2023 (2)'!C41+'Pożyczki_I_II kw.2023'!C41 -> 30 | D41: ='Leasing_I-II kw.2023 (2)'!D41+'Pożyczki_I_II kw.2023'!D41 -> 3 | E41: ='Leasing_I-II kw.2023 (2)'!E41+'Pożyczki_I_II kw.2023'!E41 -> 0 | F41: ='Leasing_I-II kw.2023 (2)'!F41+'Pożyczki_I_II kw.2023'!F41 -> 0 | G41: ='Leasing_I-II kw.2023 (2)'!G41+'Pożyczki_I_II kw.2023'!G41 -> 0 | H41: ='Leasing_I-II kw.2023 (2)'!H41+'Pożyczki_I_II kw.2023'!H41 -> 0 | I41: ='Leasing_I-II kw.2023 (2)'!I41+'Pożyczki_I_II kw.2023'!I41 -> 0 | J41: ='Leasing_I-II kw.2023 (2)'!J41+'Pożyczki_I_II kw.2023'!J41 -> 0 | ... BB41: ='Leasing_I-II kw.2023 (2)'!BB41+'Pożyczki_I_II kw.2023'!BB41 -> 1227
A42: 7 | B42: Deutsche Leasing Polska S.A. | C42: ='Leasing_I-II kw.2023 (2)'!C42+'Pożyczki_I_II kw.2023'!C42 -> 1342 | D42: ='Leasing_I-II kw.2023 (2)'!D42+'Pożyczki_I_II kw.2023'!D42 -> 6 | E42: ='Leasing_I-II kw.2023 (2)'!E42+'Pożyczki_I_II kw.2023'!E42 -> 0 | F42: ='Leasing_I-II kw.2023 (2)'!F42+'Pożyczki_I_II kw.2023'!F42 -> 0 | G42: ='Leasing_I-II kw.2023 (2)'!G42+'Pożyczki_I_II kw.2023'!G42 -> 1 | H42: ='Leasing_I-II kw.2023 (2)'!H42+'Pożyczki_I_II kw.2023'!H42 -> 1 | I42: ='Leasing_I-II kw.2023 (2)'!I42+'Pożyczki_I_II kw.2023'!I42 -> 0 | J42: ='Leasing_I-II kw.2023 (2)'!J42+'Pożyczki_I_II kw.2023'!J42 -> 0 | ... BB42: ='Leasing_I-II kw.2023 (2)'!BB42+'Pożyczki_I_II kw.2023'!BB42 -> 3136
A43: 8 | B43: Europejski Fundusz Leasingowy S.A. | C43: ='Leasing_I-II kw.2023 (2)'!C43+'Pożyczki_I_II kw.2023'!C43 -> 15576 | D43: ='Leasing_I-II kw.2023 (2)'!D43+'Pożyczki_I_II kw.2023'!D43 -> 7466 | E43: ='Leasing_I-II kw.2023 (2)'!E43+'Pożyczki_I_II kw.2023'!E43 -> 169 | F43: ='Leasing_I-II kw.2023 (2)'!F43+'Pożyczki_I_II kw.2023'!F43 -> 66 | G43: ='Leasing_I-II kw.2023 (2)'!G43+'Pożyczki_I_II kw.2023'!G43 -> 3586 | H43: ='Leasing_I-II kw.2023 (2)'!H43+'Pożyczki_I_II kw.2023'!H43 -> 2620 | I43: ='Leasing_I-II kw.2023 (2)'!I43+'Pożyczki_I_II kw.2023'!I43 -> 100 | J43: ='Leasing_I-II kw.2023 (2)'!J43+'Pożyczki_I_II kw.2023'!J43 -> 0 | ... BB43: ='Leasing_I-II kw.2023 (2)'!BB43+'Pożyczki_I_II kw.2023'!BB43 -> 24281
A44: 9 | B44: Grupa VB Leasing | C44: ='Leasing_I-II kw.2023 (2)'!C44+'Pożyczki_I_II kw.2023'!C44 -> 6480 | D44: ='Leasing_I-II kw.2023 (2)'!D44+'Pożyczki_I_II kw.2023'!D44 -> 2812 | E44: ='Leasing_I-II kw.2023 (2)'!E44+'Pożyczki_I_II kw.2023'!E44 -> 49 | F44: ='Leasing_I-II kw.2023 (2)'!F44+'Pożyczki_I_II kw.2023'!F44 -> 330 | G44: ='Leasing_I-II kw.2023 (2)'!G44+'Pożyczki_I_II kw.2023'!G44 -> 1231 | H44: ='Leasing_I-II kw.2023 (2)'!H44+'Pożyczki_I_II kw.2023'!H44 -> 899 | I44: ='Leasing_I-II kw.2023 (2)'!I44+'Pożyczki_I_II kw.2023'!I44 -> 3 | J44: ='Leasing_I-II kw.2023 (2)'!J44+'Pożyczki_I_II kw.2023'!J44 -> 4 | ... BB44: ='Leasing_I-II kw.2023 (2)'!BB44+'Pożyczki_I_II kw.2023'!BB44 -> 8939
A45: 10 | B45: Impuls-Leasing Polska Sp. z o. o. | C45: ='Leasing_I-II kw.2023 (2)'!C45+'Pożyczki_I_II kw.2023'!C45 -> 2649 | D45: ='Leasing_I-II kw.2023 (2)'!D45+'Pożyczki_I_II kw.2023'!D45 -> 1434 | E45: ='Leasing_I-II kw.2023 (2)'!E45+'Pożyczki_I_II kw.2023'!E45 -> 37 | F45: ='Leasing_I-II kw.2023 (2)'!F45+'Pożyczki_I_II kw.2023'!F45 -> 12 | G45: ='Leasing_I-II kw.2023 (2)'!G45+'Pożyczki_I_II kw.2023'!G45 -> 422 | H45: ='Leasing_I-II kw.2023 (2)'!H45+'Pożyczki_I_II kw.2023'!H45 -> 367 | I45: ='Leasing_I-II kw.2023 (2)'!I45+'Pożyczki_I_II kw.2023'!I45 -> 3 | J45: ='Leasing_I-II kw.2023 (2)'!J45+'Pożyczki_I_II kw.2023'!J45 -> 0 | ... BB45: ='Leasing_I-II kw.2023 (2)'!BB45+'Pożyczki_I_II kw.2023'!BB45 -> 3332
A46: 11 | B46: ING Lease (Polska) Sp. z o.o. | C46: ='Leasing_I-II kw.2023 (2)'!C46+'Pożyczki_I_II kw.2023'!C46 -> 10274 | D46: ='Leasing_I-II kw.2023 (2)'!D46+'Pożyczki_I_II kw.2023'!D46 -> 5477 | E46: ='Leasing_I-II kw.2023 (2)'!E46+'Pożyczki_I_II kw.2023'!E46 -> 188 | F46: ='Leasing_I-II kw.2023 (2)'!F46+'Pożyczki_I_II kw.2023'!F46 -> 87 | G46: ='Leasing_I-II kw.2023 (2)'!G46+'Pożyczki_I_II kw.2023'!G46 -> 2049 | H46: ='Leasing_I-II kw.2023 (2)'!H46+'Pożyczki_I_II kw.2023'!H46 -> 1648 | I46: ='Leasing_I-II kw.2023 (2)'!I46+'Pożyczki_I_II kw.2023'!I46 -> 28 | J46: ='Leasing_I-II kw.2023 (2)'!J46+'Pożyczki_I_II kw.2023'!J46 -> 0 | ... BB46: ='Leasing_I-II kw.2023 (2)'!BB46+'Pożyczki_I_II kw.2023'!BB46 -> 13790
A47: 12 | B47: Leasing Polski Sp. z o. o. | C47: ='Leasing_I-II kw.2023 (2)'!C47+'Pożyczki_I_II kw.2023'!C47 -> 780 | D47: ='Leasing_I-II kw.2023 (2)'!D47+'Pożyczki_I_II kw.2023'!D47 -> 159 | E47: ='Leasing_I-II kw.2023 (2)'!E47+'Pożyczki_I_II kw.2023'!E47 -> 1 | F47: ='Leasing_I-II kw.2023 (2)'!F47+'Pożyczki_I_II kw.2023'!F47 -> 12 | G47: ='Leasing_I-II kw.2023 (2)'!G47+'Pożyczki_I_II kw.2023'!G47 -> 192 | H47: ='Leasing_I-II kw.2023 (2)'!H47+'Pożyczki_I_II kw.2023'!H47 -> 132 | I47: ='Leasing_I-II kw.2023 (2)'!I47+'Pożyczki_I_II kw.2023'!I47 -> 0 | J47: ='Leasing_I-II kw.2023 (2)'!J47+'Pożyczki_I_II kw.2023'!J47 -> 0 | ... BB47: ='Leasing_I-II kw.2023 (2)'!BB47+'Pożyczki_I_II kw.2023'!BB47 -> 854
... A58: 23 | B58: Siemens Finance Sp. z o.o. | C58: ='Leasing_I-II kw.2023 (2)'!C58+'Pożyczki_I_II kw.2023'!C58 -> 17 | D58: ='Leasing_I-II kw.2023 (2)'!D58+'Pożyczki_I_II kw.2023'!D58 -> 5 | E58: ='Leasing_I-II kw.2023 (2)'!E58+'Pożyczki_I_II kw.2023'!E58 -> 0 | F58: ='Leasing_I-II kw.2023 (2)'!F58+'Pożyczki_I_II kw.2023'!F58 -> 0 | G58: ='Leasing_I-II kw.2023 (2)'!G58+'Pożyczki_I_II kw.2023'!G58 -> 10 | H58: ='Leasing_I-II kw.2023 (2)'!H58+'Pożyczki_I_II kw.2023'!H58 -> 2 | I58: ='Leasing_I-II kw.2023 (2)'!I58+'Pożyczki_I_II kw.2023'!I58 -> 0 | J58: ='Leasing_I-II kw.2023 (2)'!J58+'Pożyczki_I_II kw.2023'!J58 -> 0 | ... BB58: ='Leasing_I-II kw.2023 (2)'!BB58+'Pożyczki_I_II kw.2023'!BB58 -> 4570
B59: Razem | C59: ='Leasing_I-II kw.2023 (2)'!C59+'Pożyczki_I_II kw.2023'!C59 -> 137214 | D59: ='Leasing_I-II kw.2023 (2)'!D59+'Pożyczki_I_II kw.2023'!D59 -> 82983 | E59: ='Leasing_I-II kw.2023 (2)'!E59+'Pożyczki_I_II kw.2023'!E59 -> 1863 | F59: ='Leasing_I-II kw.2023 (2)'!F59+'Pożyczki_I_II kw.2023'!F59 -> 1012 | G59: ='Leasing_I-II kw.2023 (2)'!G59+'Pożyczki_I_II kw.2023'!G59 -> 21466 | H59: ='Leasing_I-II kw.2023 (2)'!H59+'Pożyczki_I_II kw.2023'!H59 -> 17157 | I59: ='Leasing_I-II kw.2023 (2)'!I59+'Pożyczki_I_II kw.2023'!I59 -> 314 | J59: ='Leasing_I-II kw.2023 (2)'!J59+'Pożyczki_I_II kw.2023'!J59 -> 5 | ... BB59: ='Leasing_I-II kw.2023 (2)'!BB59+'Pożyczki_I_II kw.2023'!BB59 -> 200990
B62: Warszawa, 2024.01.23
